{"text_format":"2","workbook":"xlsx","n_sheets":22,"sheets":["공임단가","표지","갑지","내역서","원가계산서(당초)","4.부대공사","2.부대공사","1.소화설비공사 (3)","3.위생배관","4.환기설비","5.가스설비","9.부산시교육청 폼","6.관급자재설치에 따른기타공사","양치시설견적서","작업부산물","폐기물처리","관급자재집계","물탱크구매","1.전기히터펌프구매설치","공기순환기 구매설치","일위대가목록(21년 하반기)","일위대가(21년하반기)"],"not_rendered":{"charts":0,"images":0,"macros":0,"external_links":0,"defined_names":30483,"comments":2,"pivot_tables":0},"unopened":[],"bounds":{"document_bytes":16777216,"sheet_cells":100000,"run_cost":"one","rows_first":2000,"rows_last":500,"rows_between":2000,"halvings":0,"cell_chars":16384,"cell_head_chars":4096},"cells_cut":0,"cells_raw":0,"read":"whole","date_system":"1900"}

{"sheet":"공임단가","index":0,"n_rows":281,"n_cols":7,"rows_kept":281,"cut":false,"hidden":true,"merged":[]}
[null,"2009년 상반기 노임단가",null,null,"2009년 상반기 노임단가"]
[null,"철공",111574,null,"플랜트용접공",143061]
[null,"철판공",98616,null,"플랜트배관공",137627]
[null,"비계공",116264,null,"플랜트제관공",121065]
[null,"조적공",89437,null,"내선전공",94191]
[null,"미장공",93579,null,"계장공",113833]
[null,"방수공",75703,null,"목도공",90995]
[null,"콘크리트공",98735,null,"특별인부",84686]
[null,"보일러공",90556,null,"보통인부",66622]
[null,"배관공",87372,null,"중기운전공(운반차)",79737]
[null,"위생공",81777,null,"윈치원전공(기계)",69388]
[null,"보온공",85836,null,"기계설치공",85723]
[null,"도장공",93734,null,"함석공",98591]
[null,"착암공",77924,null,"용접공",102522]
[null,"시험관련기사(시험사1급)",72502,null,"닥트공",85692]
[null,"시험관련산업기사(2급)",62979,null,"할석공 ",100194]
[null,"시험보조수",59227,null,"작업반장",90786,"71번"]
[null,"플랜트기계설치공",123613,null,"플랜트특수용접공",163473]
[]
[null,"2008년 하반기 노임단가",null,null,"2008년 하반기 노임단가"]
[null,"철공",107740,null,"플랜트용접공",131501]
[null,"철판공",101619,null,"플랜트배관공",125221]
[null,"비계공",114640,null,"플랜트제관공",112215]
[null,"조적공",91518,null,"내선전공",91062]
[null,"미장공",93122,null,"계장공",107457]
[null,"방수공",76896,null,"목도공",92895]
[null,"콘크리트공",99880,null,"특별인부",81596]
[null,"보일러공",86214,null,"보통인부",63530]
[null,"배관공",86717,null,"중기운전공(운반차)",73110]
[null,"위생공",82511,null,"윈치원전공(기계)",4444]
[null,"보온공",84692,null,"기계설치공",85043]
[null,"도장공",90721,null,"함석공",91429]
[null,"착암공",77435,null,"용접공",101790]
[null,"시험관련기사(시험사1급)",64129,null,"닥트공",86792]
[null,"시험관련산업기사(2급)",54730,null,"할석공 ",93989]
[null,"시험보조수",54318,null,"작업반장",85203,"71번"]
[null,"플랜트기계설치공",115352,null,"플랜트특수용접공",154662]
[null,"2008년 상반기 노임단가",null,null,"2008년 상반기 노임단가"]
[null,"철공",103303,null,"플랜트용접공",121942]
[null,"철판공",95595,null,"플랜트배관공",117001]
[null,"비계공",107592,null,"플랜트제관공",102841]
[null,"조적공",86508,null,"내선전공",88317]
[null,"미장공",89567,null,"계장공",100234]
[null,"방수공",76130,null,"목도공",86378]
[null,"콘크리트공",97531,null,"특별인부",80531]
[null,"보일러공",81886,null,"보통인부",60547]
[null,"배관공",83392,null,"중기운전공(운반차)",70950]
[null,"위생공",78195,null,"윈치원전공(기계)",65671]
[null,"보온공",81730,null,"기계설치공",81846]
[null,"도장공",91764,null,"함석공",87658]
[null,"착암공",71432,null,"용접공",97714]
[null,"시험관련기사(시험사1급)",64129,null,"닥트공",82269]
[null,"시험관련산업기사(2급)",54730,null,"할석공 ",91324]
[null,"시험보조수",54318,null,"작업반장",80830]
[null,"플랜트기계설치공",106830,null,"플랜트특수용접공",140351]
[]
[null,"2007년 하반기 노임단가",null,null,"2007년 하반기 노임단가"]
[null,"철공",93962,null,"플랜트용접공",118206]
[null,"철판공",93464,null,"플랜트배관공",109815]
[null,"비계공",104231,null,"플랜트제관공",98678]
[null,"조적공",87829,null,"내선전공",85734]
[null,"미장공",88702,null,"계장공",101057]
[null,"방수공",69549,null,"목도공",82424]
[null,"콘크리트공",94550,null,"특별인부",77522]
[null,"보일러공",77939,null,"보통인부",58883]
[null,"배관공",79781,null,"중기운전공(운반차)",68903]
[null,"위생공",74533,null,"윈치원전공(기계)",67088]
[null,"보온공",78823,null,"기계설치공",79763]
[null,"도장공",88520,null,"함석공",84839]
[null,"착암공",71788,null,"용접공",96295]
[null,"시험관련기사(시험사1급)",64499,null,"닥트공",78099]
[null,"시험관련산업기사(2급)",55000,null,"할석공 ",90279]
[null,"시험보조수",52364]
[null,"2007년 상반기 노임단가",null,null,"2007년 상반기 노임단가"]
[null,"철공",97539,null,"플랜트용접공",107520]
[null,"철판공",95084,null,"플랜트배관공",104371]
[null,"비계공",103867,null,"플랜트제관공",93412]
[null,"조적공",87613,null,"내선전공",83961]
[null,"미장공",88300,null,"계장공",95669]
[null,"방수공",72274,null,"목도공",78738]
[null,"콘크리트공",93109,null,"특별인부",74230]
[null,"보일러공",72717,null,"보통인부",57820]
[null,"배관공",78893,null,"중기운전공(운반차)",67192]
[null,"위생공",73771,null,"윈치원전공(기계)",64667]
[null,"보온공",82684,null,"기계설치공",81608]
[null,"도장공",88603,null,"함석공",78814]
[null,"착암공",68984,null,"용접공",92456]
[null,"시험관련기사(시험사1급)",62273,null,"닥트공",75664]
[null,"시험관련산업기사(2급)",55319,null,"할석공 ",88493]
[null,"시험보조수",48936]
[]
[null,"2006년 하반기 노임단가",null,null,"2006년 하반기 노임단가"]
[null,"철공",92135,null,"플랜트용접공",103978]
[null,"철판공",89096,null,"플랜트배관공",104831]
[null,"비계공",101854,null,"플랜트제관공",91288]
[null,"조적공",83561,null,"내선전공",81852]
[null,"미장공",86273,null,"계장공",95188]
[null,"방수공",69384,null,"목도공",77108]
[null,"콘크리트공",91208,null,"특별인부",72914]
[null,"보일러공",73557,null,"보통인부",56822]
[null,"배관공",76816,null,"중기운전공(운반차)",68230]
[null,"위생공",75542,null,"윈치원전공(기계)",62728]
[null,"보온공",82701,null,"기계설치공",79538]
[null,"도장공",83825,null,"함석공",76455]
[null,"착암공",70899,null,"용접공",90337]
[null,"시험관련기사(시험사1급)",60962,null,"닥트공",77596]
[null,"시험관련산업기사(2급)",55319,null,"할석공 ",91816]
[null,"시험보조수",43818]
[]
[null,"2005년 하반기 노임단가",null,null,"2005년 하반기 노임단가"]
[null,"철공",93202,null,"플랜트용접공",94966]
[null,"철판공",87581,null,"플랜트배관공",95256]
[null,"비계공",97356,null,"플랜트제관공",83153]
[null,"조적공",84806,null,"내선전공",79955]
[null,"미장공",86978,null,"계장공",89203]
[null,"방수공",69892,null,"목도공",72756]
[null,"콘크리트공",88759,null,"특별인부",67570]
[null,"보일러공",71069,null,"보통인부",53090]
[null,"배관공",76209,null,"중기운전공(운반차)",65442]
[null,"위생공",73151,null,"윈치원전공(기계)",61373]
[null,"보온공",77097,null,"기계설치공",72782]
[null,"도장공",82503,null,"함석공",75000]
[null,"착암공",66437,null,"용접공",89071]
[null,"시험관련기사(시험사1급)",59551,null,"닥트공",77757]
[null,"시험관련산업기사(2급)",53040,null,"할석공 ",90225]
[null,"시험보조수",43581]
[null,"2005년 상반기 노임단가",null,null,"2005년 상반기 노임단가"]
[null,"철공",94502,null,"플랜트용접공",94448]
[null,"철판공",86533,null,"플랜트배관공",94685]
[null,"비계공",95622,null,"플랜트제관공",82689]
[null,"조적공",85554,null,"내선전공",81196]
[null,"미장공",88863,null,"계장공",88927]
[null,"방수공",70360,null,"목도공",74772]
[null,"콘크리트공",90480,null,"특별인부",66422]
[null,"보일러공",70093,null,"보통인부",52585]
[null,"배관공",75046,null,"중기운전공(운반차)",65086]
[null,"위생공",73974,null,"윈치원전공(기계)",62252]
[null,"보온공",76656,null,"기계설치공",71841]
[null,"도장공",81720,null,"함석공",73732]
[null,"착암공",66491,null,"용접공",87854]
[null,"시험관련기사(시험사1급)",61181,null,"닥트공",76871]
[null,"시험관련산업기사(2급)",53040,null,"할석공 ",89794]
[null,"시험보조수",43360]
[]
[null,"2004년 하반기 노임단가",null,null,"2004년 하반기 노임단가"]
[null,"철공",94778,null,"플랜트용접공",91065]
[null,"철판공",87376,null,"플랜트배관공",93458]
[null,"비계공",95541,null,"플랜트제관공",81260]
[null,"조적공",85568,null,"내선전공",81127]
[null,"미장공",89016,null,"계장공",86342]
[null,"방수공",70655,null,"목도공",73434]
[null,"콘크리트공",90529,null,"특별인부",66586]
[null,"보일러공",69773,null,"보통인부",52565]
[null,"배관공",74921,null,"중기운전공(운반차)",65217]
[null,"위생공",74058,null,"윈치원전공(기계)",62251]
[null,"보온공",76164,null,"기계설치공",72326]
[null,"도장공",81436,null,"함석공",75930]
[null,"착암공",66640,null,"용접공",87771]
[null,"시험관련기사(시험사1급)",61469,null,"닥트공",77834]
[null,"시험관련산업기사(2급)",52027,null,"할석공 ",91529]
[null,"시험보조수",42308]
[null,"2004년 상반기 노임단가",null,null,"2004년 상반기 노임단가"]
[null,"철공",90908,null,"플랜트용접공",92780]
[null,"철판공",83753,null,"플랜트배관공",94175]
[null,"비계공",97360,null,"플랜트제관공",82426]
[null,"조적공",85904,null,"내선전공",77372]
[null,"미장공",87223,null,"계장공",83629]
[null,"방수공",70788,null,"목도공",75609]
[null,"콘크리트공",88153,null,"특별인부",66051]
[null,"보일러공",65972,null,"보통인부",52374]
[null,"배관공",73508,null,"중기운전공(운반차)",63443]
[null,"위생공",73589,null,"윈치원전공(기계)",61525]
[null,"보온공",72946,null,"기계설치공",69484]
[null,"도장공",82782,null,"함석공",74277]
[null,"착암공",68402,null,"용접공",82490]
[null,"시험관련기사(시험사1급)",59796,null,"닥트공",77551]
[null,"시험관련산업기사(2급)",52266,null,"할석공 ",87655]
[null,"시험보조수",40673]
[]
[null,"2003년 하반기 노임단가",null,null,"2003년 하반기 노임단가"]
[null,"철공",85952,null,"플랜트용접공",88116]
[null,"철판공",79446,null,"플랜트배관공",90775]
[null,"비계공",97513,null,"플랜트제관공",79159]
[null,"조적공",83302,null,"내선전공",74199]
[null,"미장공",87975,null,"계장공",82768]
[null,"방수공",66538,null,"목도공",79926]
[null,"콘크리트공",87613,null,"특별인부",67141]
[null,"보일러공",64560,null,"보통인부",52483]
[null,"배관공",73514,null,"중기운전공(운반차)",64701]
[null,"위생공",69137,null,"윈치원전공(기계)",60879]
[null,"보온공",73286,null,"기계설치공",68477]
[null,"도장공",77382,null,"함석공",71725]
[null,"착암공",65785,null,"용접공",81112]
[null,"시험관련기사(시험사1급)",58923,null,"닥트공",71982]
[null,"시험관련산업기사(2급)",50133,null,"할석공 ",89000]
[null,"시험보조수",37789]
[null,"2003년 상반기 노임단가",null,null,"2003년 상반기 노임단가"]
[null,"철공",85754,null,"플랜트용접공",88312]
[null,"철판공",81995,null,"플랜트배관공",89935]
[null,"비계공",93650,null,"플랜트제관공",75035]
[null,"조적공",83651,null,"내선전공",72268]
[null,"미장공",89051,null,"계장공",79270]
[null,"방수공",69668,null,"목도공",77076]
[null,"콘크리트공",90048,null,"특별인부",65734]
[null,"보일러공",62087,null,"보통인부",50683]
[null,"배관공",76823,null,"중기운전공(운반차)",61857]
[null,"위생공",67979,null,"윈치원전공(기계)",59707]
[null,"보온공",71545,null,"기계설치공",67007]
[null,"도장공",79956,null,"함석공",69049]
[null,"착암공",62427,null,"용접공",79947]
[null,"시험관련기사(시험사1급)",57903,null,"닥트공",70033]
[null,"시험관련산업기사(2급)",47331,null,"할석공 ",86271]
[null,"시험보조수",37789]
[]
[null,"2002년 하반기 노임단가",null,null,"2002년 하반기 노임단가"]
[null,"철공",75336,null,"플랜트용접공",77855]
[null,"철판공",76518,null,"플랜트배관공",77614]
[null,"비계공",80461,null,"플랜트제관공",67334]
[null,"조적공",74460,null,"내선전공",66042]
[null,"미장공",78939,null,"계장공",73834]
[null,"방수공",57461,null,"목도공",70798]
[null,"콘크리트공",77157,null,"특별인부",62902]
[null,"보일러공",52274,null,"보통인부",45031]
[null,"배관공",64676,null,"중기운전공(운반차)",55729]
[null,"위생공",59941,null,"윈치원전공(기계)",53154]
[null,"보온공",67013,null,"기계설치공",66078]
[null,"도장공",70380,null,"함석공",61893]
[null,"착암공",58322,null,"용접공",69775]
[null,"시험관련기사(시험사2급)",52618,null,"닥트공",60059]
[null,"시험관련산업기사(2급)",41970,null,"할석공 ",78884]
[null,"시험보조수",36480]
[]
[null,"2001년 하반기 노임단가",null,null,"2001년 하반기 노임단가"]
[null," 철    공",64286,null," 플랜트 용접공",62286]
[null," 철 판 공",59175,null," 플랜트 배관공",63034]
[null," 비 계 공",71272,null," 플랜트 제관공",53497]
[null," 조 적 공",61286,null," 내선전공",53401]
[null," 미 장 공",62196,null," 계 장 공",57107]
[null," 방 수 공",52636,null," 목 도 공",65052]
[null," 콘크리트공",67489,null," 특별인부",52788]
[null," 보일러공",48864,null," 보통인부",38932]
[null," 배 관 공",54533,null," 중기운전공(운반차)",55534]
[null," 위 생 공",53112,null," 윈치원전공(기  계)",48859]
[null," 보 온 공",55637,null," 기계설치공",54468]
[null," 도 장 공",57454,null," 함 석 공",61305]
[null," 착 암 공",54280,null," 용 접 공",60389]
[null,"시험관련기사(시험사2급)",46634,null," 닥 트 공",51634]
[null,"시험관련산업기사(2급)",36671,null," 할 석 공 ",68036]
[null,"2001년 상반기 노임단가",null,null,"2001년 상반기 노임단가"]
[null," 철    공",65845,null," 플랜트 용접공",61599]
[null," 철 판 공",61903,null," 플랜트 배관공",63723]
[null," 비 계 공",68645,null," 플랜트 제관공",53665]
[null," 조 적 공",57592,null," 내선전공",51165]
[null," 미 장 공",59187,null," 계 장 공",56122]
[null," 방 수 공",50753,null," 목 도 공",65769]
[null," 콘크리트공",63355,null," 특별인부",52232]
[null," 보일러공",47570,null," 보통인부",37483]
[null," 배 관 공",51272,null," 중기운전공(운반차)",54064]
[null," 위 생 공",51626,null," 윈치원전공(기  계)",47406]
[null," 보 온 공",52961,null," 기계설치공",54111]
[null," 도 장 공",57502,null," 함 석 공",62933]
[null," 착 암 공",50430,null," 용 접 공",58758]
[{"$nulls":4}," 닥 트 공",47697]
[{"$nulls":4}," 할 석 공 ",66464]
[]
[null,"2000년 하반기 노임단가",null,null,"2000년 하반기 노임단가"]
[null," 철    공",68851,null," 플랜트 용접공",60712]
[null," 철 판 공",59039,null," 플랜트 배관공",63923]
[null," 비 계 공",67640,null," 플랜트 제관공",57994]
[null," 조 적 공",56969,null," 내선전공",49969]
[null," 미 장 공",58263,null," 계 장 공",59029]
[null," 방 수 공",48704,null," 목 도 공",65233]
[null," 콘크리트공",64308,null," 특별인부",51490]
[null," 보일러공",47931,null," 보통인부",37052]
[null," 배 관 공",49542,null," 중기운전공(운반차)",53094]
[null," 위 생 공",48198,null," 윈치원전공(기  계)",47371]
[null," 보 온 공",50900,null," 기계설치공",54218]
[null," 도 장 공",56361,null," 함 석 공",60061]
[null," 착 암 공",52647,null," 용 접 공",60370]
[{"$nulls":4}," 닥 트 공",48494]
[{"$nulls":4}," 할 석 공 ",64153]

{"sheet":"표지","index":1,"n_rows":260,"n_cols":3,"rows_kept":260,"cut":false,"hidden":true,"merged":[[61,0,61,12],[30,0,30,12],[32,0,32,12],[34,2,35,10],[41,0,41,12],[46,0,46,12],[5,0,5,12],[7,0,7,12],[9,2,10,10],[16,0,16,12],[21,0,21,12],[93,2,94,10],[100,0,100,12],[105,0,105,12],[117,0,117,12],[63,0,63,12],[65,2,66,10],[72,0,72,12],[77,0,77,12],[89,0,89,12],[91,0,91,12],[117,14,117,27],[119,0,119,12],[199,0,199,12],[128,0,128,12],[133,0,133,12],[145,0,145,12],[147,0,147,12],[149,2,150,10],[156,0,156,12],[161,0,161,12],[183,0,183,12],[185,0,185,12],[187,2,188,10],[194,0,194,12],[121,2,122,10],[245,0,245,12],[247,2,248,10],[254,0,254,12],[259,0,259,12],[210,0,210,12],[212,0,212,12],[214,2,215,10],[221,0,221,12],[226,0,226,12],[243,0,243,12]]}
[]
[]
[]
[]
[]
["내      역      서"]
[]
["[ 공사명 : 감포초등학교 급식소 증축기계설비공사 ]"]
[]
[null,null,"(  기 계 설 비  )"]
[]
[]
[]
[]
[]
[]
["2019. 11"]
[]
[]
[]
[]
["발주처 : 경상북도 경주교육지원청"]
{"$rows_empty":8}
["내      역      서"]
[]
[{"$f":"A8","v":"[ 공사명 : 감포초등학교 급식소 증축기계설비공사 ]"}]
[]
[null,null,"(  관 급 자 재  )"]
[]
[]
[]
[]
[]
[]
[{"$f":"A17","v":"2019. 11"}]
[]
[]
[]
[]
[{"$f":"A22","v":"발주처 : 경상북도 경주교육지원청"}]
{"$rows_empty":14}
["일   위   대   가"]
[]
[{"$f":"A33","v":"[ 공사명 : 감포초등학교 급식소 증축기계설비공사 ]"}]
[]
[null,null,{"$f":"C10","v":"(  기 계 설 비  )"}]
[]
[]
[]
[]
[]
[]
[{"$f":"A42","v":"2019. 11"}]
[]
[]
[]
[]
[{"$f":"A22","v":"발주처 : 경상북도 경주교육지원청"}]
{"$rows_empty":11}
["단  가  대  비  표"]
[]
[{"$f":"A8","v":"[ 공사명 : 감포초등학교 급식소 증축기계설비공사 ]"}]
[]
[null,null,{"$f":"C10","v":"(  기 계 설 비  )"}]
[]
[]
[]
[]
[]
[]
[{"$f":"A17","v":"2019. 11"}]
[]
[]
[]
[]
[{"$f":"A22","v":"발주처 : 경상북도 경주교육지원청"}]
{"$rows_empty":11}
["노 임 집 계 표"]
[]
[{"$f":"A8","v":"[ 공사명 : 감포초등학교 급식소 증축기계설비공사 ]"}]
[]
[null,null,{"$f":"C10","v":"(  기 계 설 비  )"}]
[]
[]
[]
[]
[]
[]
[{"$f":"A17","v":"2019. 11"}]
[]
[]
[]
[]
[{"$f":"A22","v":"발주처 : 경상북도 경주교육지원청"}]
{"$rows_empty":11}
["공 종 별 집 계 표"]
[]
[{"$f":"A186","v":"[ 공사명 : 감포초등학교 급식소 증축기계설비공사 ]"}]
[]
[null,null,{"$f":"C188","v":"(  기 계 설 비  )"}]
[]
[]
[]
[]
[]
[]
[{"$f":"A195","v":"2019. 11"}]
[]
[]
[]
[]
[{"$f":"A200","v":"발주처 : 경상북도 경주교육지원청"}]
{"$rows_empty":21}
["산 출 근 거"]
[]
[{"$f":"A8","v":"[ 공사명 : 감포초등학교 급식소 증축기계설비공사 ]"}]
[]
[null,null,{"$f":"C10","v":"(  기 계 설 비  )"}]
[]
[]
[]
[]
[]
[]
[{"$f":"A129","v":"2019. 11"}]
[]
[]
[]
[]
[{"$f":"A22","v":"발주처 : 경상북도 경주교육지원청"}]
{"$rows_empty":10}
["산 출 근 거"]
[]
[]
[]
[null,null,"( 작 업 부 산 물)"]
{"$rows_empty":28}
["견      적      서"]
[]
[{"$f":"A186","v":"[ 공사명 : 감포초등학교 급식소 증축기계설비공사 ]"}]
[]
[null,null,{"$f":"C10","v":"(  기 계 설 비  )"}]
[]
[]
[]
[]
[]
[]
[{"$f":"A195","v":"2019. 11"}]
[]
[]
[]
[]
[{"$f":"A200","v":"발주처 : 경상북도 경주교육지원청"}]

{"sheet":"갑지","index":2,"n_rows":19,"n_cols":10,"rows_kept":19,"cut":false,"hidden":true,"merged":[[10,6,10,7],[12,8,12,9],[16,8,16,9],[18,8,18,9],[14,8,14,9]]}
[null,"설  계  서  용  지 (갑 지)"]
[null,"과 장",null,"팀  장",null,"심사자",null,"설계자",null,"   2021  년    12  월      일       설계"]
[]
[null,null,"2 0 2 1 년 도"]
[]
[null,null,null,{"$f":"'원가계산서(당초)'!B6","v":"##공사명 : 부산맹학교 스프링클러설치 소화설비 공사"}]
[]
[null,null,null,"공 사 개 요 :",null,"스프링클러 설치에 따른 기계소방 및 전기소방공사"]
[]
[]
[null,null,null,"총 공 사 비 :",null," ￦",{"$f":"I19","v":1866461000},null,{"$f":"\"(일금\"&NUMBERSTRING(G11,1)&\"원정)\"","v":"(일금일십팔억육천육백사십육만일천원정)"}]
[]
[null,null,null,"기 계 소 방 :",null,null,"1 식"," ￦",{"$f":"'원가계산서(당초)'!E31","v":1580865000}]
[]
[null,null,null,"전 기 소 방 :",null,null,"1 식"," ￦",285596000]
[]
[null,null,null,"관 급 자 재 :",null,null,"1 식"," ￦",{"$f":"'원가계산서(당초)'!E32","v":0}]
[]
[null,null,null,"    계     :",null,null,null," ￦",{"$f":"I13+I17+I15","v":1866461000}]

{"sheet":"내역서","index":3,"n_rows":9,"n_cols":12,"rows_kept":9,"cut":false,"hidden":false,"merged":[[8,0,8,1],[1,8,1,9],[1,10,2,10],[1,11,2,11],[1,0,2,0],[1,1,2,1],[1,2,2,2],[1,3,2,3],[1,4,1,5],[1,6,1,7]]}
["에너지경제연구원 냉난방시설(GHP) 실외기 구매",{"$nulls":10},"(금액단위 : 원, 부가가치세 포함)"]
["품 명","규 격","단위","수량","재료비",null,"노무비",null,"경비",null,"합 계","비 고"]
[{"$nulls":4},"단가","금액","단가","금액","단가","금액"]
[]
["실외기"]
[" - GHP실외기(20HP)","가스엔진히트펌프, 냉방56/난방63kw","대",4,{"$nulls":7},"하차도"]
[" - GHP실외기(25HP)","가스엔진히트펌프, 냉방71/난방80kw","대",10,{"$nulls":7},"하차도"]
[" - 배기가스 저감장치",null,"대",14,{"$nulls":7},"GHP 실외기와 1:1 Pair로 운영"]
["합 계",{"$nulls":10},"vat포함"]

{"sheet":"원가계산서(당초)","index":4,"n_rows":36,"n_cols":12,"rows_kept":36,"cut":false,"hidden":true,"merged":[[25,1,25,3],[6,5,6,8],[7,1,24,1],[7,2,9,2],[10,2,12,2],[13,2,23,2],[32,1,32,3],[33,1,33,3],[26,1,26,3],[27,1,27,3],[28,1,28,3],[29,1,29,3],[30,1,30,3],[31,1,31,3]]}
[]
[]
[null,"공 사 원 가 계 산 서"]
[]
[]
[null,"##공사명 : 부산맹학교 스프링클러설치 소화설비 공사"]
[null,"  비  목",null,"  구  분","금    액","구  성  비",null,null,null,"비  고"]
[null,"순  공  사  원  가","재료비","재 료 비",{"$f":"#REF!","v":{"$error":"#REF!"}}]
[null,null,null,"부 산 물"]
[null,null,null,"소      계",585329019]
[null,null,"노무비","직접노무비",{"$f":"#REF!","v":{"$error":"#REF!"}}]
[null,null,null,"간접노무비",56800151,{"$f":"E11","v":{"$error":"#REF!"}},"x",13,"%"]
[null,null,null,"소     계",493724396]
[null,null,"경    비","기 계 경 비",{"$f":"#REF!","v":{"$error":"#REF!"}},null,null," "]
[null,null,null,"산재보험료",18267802,{"$f":"$E$13","v":493724396},"x",3.7,"%","노무비"]
[null,null,null,"안전관리비",29952020,{"$f":"$E$8+$E$11","v":{"$error":"#REF!"}},"x",2.93,"%","재+직노",null,"총공사금액 2천만원이상"]
[null,null,null,"기  타  경  비",62585098,{"$f":"$E$10+$E$13","v":1079053415},"x",5.8,"%","(전기,수도,\n기타 광열비 포함)"]
[null,null,null,"고용보험료",4986616,{"$f":"$E$13","v":493724396},"x",1.01,"%","노무비"]
[null,null,null,"환경보전비",null,{"$f":"$E$10+$E$11+$E$14","v":{"$error":"#REF!"}},"x",0.5,"%","재+직노+기경",null,"소방시설공사는 제외"]
[null,null,null,"퇴직공제부금",10049257,{"$f":"$E$11","v":{"$error":"#REF!"}},"x",2.2999999999999998,"%","직노",null,"1억이상시 해당☞ "]
[null,null,null,"연금보험료",19661591,{"$f":"$E$11","v":{"$error":"#REF!"}},"x",4.5,"%","직노",null,"공사기간1개월이상 해당"]
[null,null,null,"건강보험료",14986501,{"$f":"$E$11","v":{"$error":"#REF!"}},"x",3.4950000000000001,"%","직노",null,"공사기간1개월이상 해당"]
[null,null,null,"노인장기요양\n보험료",1726444,{"$f":"$E$22","v":14986501},"x",12.27,"%","건강보험료",null,"공사기간1개월이상 해당"]
[null,null,null,"소     계",171932468]
[null,null,"합      계",null,1250985883]
[null,"일 반 관 리 비",null,null,75059152,{"$f":"E25","v":1250985883},"x",6,"%","재+직노+경비"]
[null,"누          계",null,null,1326045035]
[null,"이          윤",null,null,111104965,{"$f":"E13+E24+E26","v":740716016},"x",15,"%","노무비+경비+일관"]
[null,"총    원    가",null,null,1437150000]
[null,"부 가 가 치 세",null,null,143715000]
[null,"합          계",null,null,1580865000]
[null,"물탱크 구매. 설치"]
[null,"시 설 분 담 금"]
[null,"총    합    계"]
[]
[null,null,null,"당초금액",1608336100]

{"sheet":"4.부대공사","index":5,"n_rows":24,"n_cols":13,"rows_kept":24,"cut":false,"hidden":true,"merged":[[3,0,4,0],[3,1,4,1],[3,2,4,2],[3,3,4,3],[3,12,4,12]]}
[]
[{"$f":"#REF!","v":{"$error":"#REF!"}},{"$nulls":4}," "]
[{"$f":"#REF!","v":{"$error":"#REF!"}}]
["품      명","규      격","수량","단위","재   료   비",null,"노   무   비",null,"경        비",null,"합        계",null,"비 고"]
[{"$nulls":4},"단  가","금   액","단  가","금   액","단  가","금   액","단  가","금   액"]
[{"$nulls":5},{"$f":"TRUNC($C6*E6)","v":0},null,{"$f":"TRUNC($C6*G6)","v":0},null,{"$f":"TRUNC($C6*I6)","v":0},{"$f":"I6+G6+E6","v":0},{"$f":"TRUNC($C6*K6)","v":0}]
[{"$nulls":5},0,null,0,null,0,0,0]
[{"$nulls":5},0,null,0,null,0,0,0]
[{"$nulls":5},0,null,0,null,0,{"$f":"I9+G9+E9","v":0},{"$f":"TRUNC($C9*K9)","v":0}]
[{"$nulls":5},0,null,0,null,0,0,0]
[{"$nulls":5},0,null,0,null,0,0,0]
[{"$nulls":5},0,null,0,null,0,0,0]
[{"$nulls":5},0,null,0,null,0,0,0]
[{"$nulls":5},{"$f":"TRUNC($C14*E14)","v":0},null,{"$f":"TRUNC($C14*G14)","v":0},null,{"$f":"TRUNC($C14*I14)","v":0},{"$f":"I14+G14+E14","v":0},{"$f":"TRUNC($C14*K14)","v":0}]
[{"$nulls":5},0,null,0,null,0,0,0]
[{"$nulls":5},0,null,0,null,0,0,0]
[{"$nulls":5},0,null,0,null,0,{"$f":"I17+G17+E17","v":0},{"$f":"TRUNC($C17*K17)","v":0}]
[{"$nulls":5},0,null,0,null,0,0,0]
[{"$nulls":5},0,null,0,null,0,0,0]
[{"$nulls":5},0,null,0,null,0,0,0]
[{"$nulls":5},0,null,0,null,0,0,0]
[{"$nulls":5},0,null,0,null,0,{"$f":"I22+G22+E22","v":0},{"$f":"TRUNC($C22*K22)","v":0}]
[{"$nulls":5},{"$f":"TRUNC($C23*E23)","v":0},{"$nulls":4},0,0]
["소       계",null," ",null,null,{"$f":"SUM(F6:F23)","v":0},null,{"$f":"SUM(H6:H23)","v":0},null,{"$f":"SUM(J6:J23)","v":0},null,{"$f":"SUM(L6:L23)","v":0}]

{"sheet":"2.부대공사","index":6,"n_rows":7,"n_cols":13,"rows_kept":7,"cut":false,"hidden":true,"merged":[[3,0,4,0],[3,1,4,1],[3,2,4,2],[3,3,4,3],[3,12,4,12]]}
[]
[{"$f":"#REF!","v":{"$error":"#REF!"}},{"$nulls":4}," "]
[{"$f":"#REF!","v":{"$error":"#REF!"}}]
["품      명","규      격","수량","단위","재   료   비",null,"노   무   비",null,"경        비",null,"합        계",null,"비 고"]
[{"$nulls":4},"단  가","금   액","단  가","금   액","단  가","금   액","단  가","금   액"]
[{"$nulls":5},{"$f":"TRUNC($C6*E6)","v":0},null,{"$f":"TRUNC($C6*G6)","v":0},null,{"$f":"TRUNC($C6*I6)","v":0},{"$f":"I6+G6+E6","v":0},{"$f":"TRUNC($C6*K6)","v":0}]
["소       계",null," ",null,null,{"$f":"SUM(F6:F6)","v":0},null,{"$f":"SUM(H6:H6)","v":0},null,{"$f":"SUM(J6:J6)","v":0},null,{"$f":"SUM(L6:L6)","v":0}]

{"sheet":"1.소화설비공사 (3)","index":7,"n_rows":181,"n_cols":14,"rows_kept":181,"cut":false,"hidden":true,"merged":[[3,0,4,0],[3,1,4,1],[3,2,4,2],[3,3,4,3],[3,12,4,12]]}
[]
[{"$f":"'원가계산서(당초)'!B6","v":"##공사명 : 부산맹학교 스프링클러설치 소화설비 공사"},{"$nulls":4}," "]
[{"$f":"#REF!","v":{"$error":"#REF!"}}]
["품      명","규      격","수량","단위","재   료   비",null,"노   무   비",null,"경        비",null,"합        계",null,"비 고"]
[{"$nulls":4},"단  가","금   액","단  가","금   액","단  가","금   액","단  가","금   액"]
[" 스프링클러 주펌프(전동,수직다단)","100A* 37KW,듀크 XRF95-3-1동등이상품",1,"조",{"$f":"#REF!","v":{"$error":"#REF!"}},{"$f":"TRUNC($C6*E6)","v":{"$error":"#REF!"}},null,0,null,0,{"$f":"I6+G6+E6","v":{"$error":"#REF!"}},{"$error":"#REF!"}]
[" 스프링클러 주펌프(엔진,수직다단)","100A* 37KW,듀크 XRF95-3-1동등이상품",1,"조",{"$f":"#REF!","v":{"$error":"#REF!"}},{"$error":"#REF!"},null,0,null,0,{"$f":"I7+G7+E7","v":{"$error":"#REF!"}},{"$error":"#REF!"}]
[" 스프링클러 충압펌프"," 수직다단, 32A* 3.7KW",1,"조",{"$f":"#REF!","v":{"$error":"#REF!"}},{"$error":"#REF!"},null,0,null,0,{"$error":"#REF!"},{"$error":"#REF!"}]
[" 전자식 압력스위치"," 10KG",1,"대",{"$f":"#REF!","v":{"$error":"#REF!"}},{"$error":"#REF!"},null,0,null,0,{"$error":"#REF!"},{"$error":"#REF!"}]
[" 스텐레스 관"," 150A x 3.5t",138,"M",{"$f":"#REF!","v":{"$error":"#REF!"}},{"$error":"#REF!"},null,0,null,0,{"$error":"#REF!"},{"$error":"#REF!"}]
[" 스텐레스 관"," 125A x 3.5t",894,"M",{"$f":"#REF!","v":{"$error":"#REF!"}},{"$error":"#REF!"},null,0,null,0,{"$error":"#REF!"},{"$error":"#REF!"}]
[" 스텐레스 관"," 100A x 3.0t",468,"M",{"$f":"#REF!","v":{"$error":"#REF!"}},{"$error":"#REF!"},null,0,null,0,{"$error":"#REF!"},{"$error":"#REF!"}]
[" 스텐레스 관","  80A x 3.0t",78,"M",{"$f":"#REF!","v":{"$error":"#REF!"}},{"$error":"#REF!"},null,0,null,0,{"$error":"#REF!"},{"$error":"#REF!"}]
[" 스텐레스 관","  65A x 3.0t",42,"M",{"$f":"#REF!","v":{"$error":"#REF!"}},{"$error":"#REF!"},null,0,null,0,{"$error":"#REF!"},{"$error":"#REF!"}]
[" 스텐레스 관","  50A x 2.5t",270,"M",{"$f":"#REF!","v":{"$error":"#REF!"}},{"$error":"#REF!"},null,0,null,0,{"$error":"#REF!"},{"$error":"#REF!"}]
[" 스텐레스 관","  40A x 2.5t",918,"M",{"$f":"#REF!","v":{"$error":"#REF!"}},{"$error":"#REF!"},null,0,null,0,{"$error":"#REF!"},{"$error":"#REF!"}]
[" 스텐레스 관","  32A x 2.5t",1266,"M",{"$f":"#REF!","v":{"$error":"#REF!"}},{"$error":"#REF!"},null,0,null,0,{"$error":"#REF!"},{"$error":"#REF!"}]
[" 스텐레스 관","  25A x 2.5t",3648,"M",{"$f":"#REF!","v":{"$error":"#REF!"}},{"$error":"#REF!"},null,0,null,0,{"$error":"#REF!"},{"$error":"#REF!"}]
[" 스텐렌스 엘보"," 150A  용접식 S10S ",30,"EA",{"$f":"#REF!","v":{"$error":"#REF!"}},{"$error":"#REF!"},null,0,null,0,{"$error":"#REF!"},{"$error":"#REF!"}]
[" 스텐렌스 엘보"," 100A  용접식 S10S ",11,"EA",{"$f":"#REF!","v":{"$error":"#REF!"}},{"$error":"#REF!"},null,0,null,0,{"$error":"#REF!"},{"$error":"#REF!"}]
[" 스텐렌스 엘보","  65A  용접식 S10S ",8,"EA",{"$f":"#REF!","v":{"$error":"#REF!"}},{"$error":"#REF!"},null,0,null,0,{"$error":"#REF!"},{"$error":"#REF!"}]
[" 스텐렌스 엘보","  50A  용접식 S10S ",5,"EA",{"$f":"#REF!","v":{"$error":"#REF!"}},{"$error":"#REF!"},null,0,null,0,{"$error":"#REF!"},{"$error":"#REF!"}]
[" 스텐렌스 엘보","  25A  용접식 S10S ",2,"EA",{"$f":"#REF!","v":{"$error":"#REF!"}},{"$error":"#REF!"},null,0,null,0,{"$error":"#REF!"},{"$error":"#REF!"}]
[" 스텐렌스 티이"," 150A  용접식 S10S ",20,"EA",{"$f":"#REF!","v":{"$error":"#REF!"}},{"$error":"#REF!"},null,0,null,0,{"$error":"#REF!"},{"$error":"#REF!"}]
[" 스텐렌스 티이","  50A  용접식 S10S ",3,"EA",{"$f":"#REF!","v":{"$error":"#REF!"}},{"$error":"#REF!"},null,0,null,0,{"$error":"#REF!"},{"$error":"#REF!"}]
[" 스텐렌스 레듀셔"," 100A x  40A  용접식 S10S ",1,"EA",{"$f":"#REF!","v":{"$error":"#REF!"}},{"$error":"#REF!"},null,0,null,0,{"$error":"#REF!"},{"$error":"#REF!"}]
[" 스텐렌스 레듀셔","  50A x  32A  용접식 S10S ",1,"EA",{"$f":"#REF!","v":{"$error":"#REF!"}},{"$error":"#REF!"},null,0,null,0,{"$error":"#REF!"},{"$error":"#REF!"}]
[" 스텐레스 캡"," 150A  용접식 S10S ",2,"EA",{"$f":"#REF!","v":{"$error":"#REF!"}},{"$error":"#REF!"},null,0,null,0,{"$error":"#REF!"},{"$error":"#REF!"}]
[" 스텐렌스 엘보","  50A  나사식",8,"EA",{"$f":"#REF!","v":{"$error":"#REF!"}},{"$error":"#REF!"},null,0,null,0,{"$error":"#REF!"},{"$error":"#REF!"}]
[" 스텐렌스 엘보","  40A  나사식",16,"EA",{"$f":"#REF!","v":{"$error":"#REF!"}},{"$error":"#REF!"},null,0,null,0,{"$error":"#REF!"},{"$error":"#REF!"}]
[" 스텐렌스 엘보","  25A  나사식",25,"EA",{"$f":"#REF!","v":{"$error":"#REF!"}},{"$error":"#REF!"},null,0,null,0,{"$error":"#REF!"},{"$error":"#REF!"}]
[" 스텐레스 티이","  50A  나사식",4,"EA",{"$f":"#REF!","v":{"$error":"#REF!"}},{"$error":"#REF!"},null,0,null,0,{"$error":"#REF!"},{"$error":"#REF!"}]
[" 스텐레스 티이","  25A  나사식",5,"EA",{"$f":"#REF!","v":{"$error":"#REF!"}},{"$error":"#REF!"},null,0,null,0,{"$error":"#REF!"},{"$error":"#REF!"}]
[" 스텐레스 니플","  50A  나사식",1,"EA",{"$f":"#REF!","v":{"$error":"#REF!"}},{"$error":"#REF!"},null,0,null,0,{"$error":"#REF!"},{"$error":"#REF!"}]
[" 스텐레스 니플","  25A  나사식",6,"EA",{"$f":"#REF!","v":{"$error":"#REF!"}},{"$error":"#REF!"},null,0,null,0,{"$error":"#REF!"},{"$error":"#REF!"}]
[" 스텐레스 캡","  50A  나사식",1,"EA",{"$f":"#REF!","v":{"$error":"#REF!"}},{"$error":"#REF!"},null,0,null,0,{"$error":"#REF!"},{"$error":"#REF!"}]
[" 스텐레스 유니온","  25A  나사식",6,"EA",{"$f":"#REF!","v":{"$error":"#REF!"}},{"$error":"#REF!"},null,0,null,0,{"$error":"#REF!"},{"$error":"#REF!"}]
[" 스텐렌스 레듀셔","  25A  나사식",95,"EA",{"$f":"#REF!","v":{"$error":"#REF!"}},{"$error":"#REF!"},null,0,null,0,{"$error":"#REF!"},{"$error":"#REF!"}]
[" 스텐렌스 레듀셔","  50A  나사식",1,"EA",{"$f":"#REF!","v":{"$error":"#REF!"}},{"$error":"#REF!"},null,0,null,0,{"$error":"#REF!"},{"$error":"#REF!"}]
[" 스텐레스 후렌지"," 150A  (합)10KG",23,"EA",{"$f":"'일위대가목록(21년 하반기)'!$F$155","v":62278},1432394,{"$f":"'일위대가목록(21년 하반기)'!$G$155","v":53293},1225739,{"$f":"'일위대가목록(21년 하반기)'!$H$155","v":1065},24495,116636,2682628,{"$f":"'일위대가목록(21년 하반기)'!$B$155","v":"150호표"}]
[" 스텐레스 후렌지"," 125A  (합)10KG",8,"EA",{"$f":"'일위대가목록(21년 하반기)'!$F$154","v":50549},404392,{"$f":"'일위대가목록(21년 하반기)'!$G$154","v":45910},367280,{"$f":"'일위대가목록(21년 하반기)'!$H$154","v":918},7344,97377,779016,{"$f":"'일위대가목록(21년 하반기)'!$B$154","v":"149호표"}]
[" 스텐레스 후렌지"," 100A  (합)10KG",14,"EA",{"$f":"'일위대가목록(21년 하반기)'!$F$153","v":32558},455812,{"$f":"'일위대가목록(21년 하반기)'!$G$153","v":38527},539378,{"$f":"'일위대가목록(21년 하반기)'!$H$153","v":770},10780,71855,1005970,{"$f":"'일위대가목록(21년 하반기)'!$B$153","v":"148호표"}]
[" 스텐레스 후렌지","  65A  (합)10KG",12,"EA",{"$f":"'일위대가목록(21년 하반기)'!$F$151","v":22217},266604,{"$f":"'일위대가목록(21년 하반기)'!$G$151","v":27454},329448,{"$f":"'일위대가목록(21년 하반기)'!$H$151","v":549},6588,50220,602640,{"$f":"'일위대가목록(21년 하반기)'!$B$151","v":"146호표"}]
[" 스텐레스 후렌지","  50A  (합)10KG",7,"EA",{"$f":"'일위대가목록(21년 하반기)'!$F$150","v":16178},113246,{"$f":"'일위대가목록(21년 하반기)'!$G$150","v":22839},159873,{"$f":"'일위대가목록(21년 하반기)'!$H$150","v":456},3192,39473,276311,{"$f":"'일위대가목록(21년 하반기)'!$B$150","v":"145호표"}]
[" 스텐레스 후렌지","  65A  (조)10KG",2,"조",{"$f":"'일위대가목록(21년 하반기)'!$F$166","v":42079},84158,{"$f":"'일위대가목록(21년 하반기)'!$G$166","v":54908},109816,{"$f":"'일위대가목록(21년 하반기)'!$H$166","v":1098},2196,98085,196170,{"$f":"'일위대가목록(21년 하반기)'!$B$166","v":"161호표"}]
[" 스 텐 레 스 알 곤 용 접"," 150A  ",122,"개소",{"$f":"'일위대가목록(21년 하반기)'!$F$70","v":12008},1464976,{"$f":"'일위대가목록(21년 하반기)'!$G$70","v":53293},6501746,{"$f":"'일위대가목록(21년 하반기)'!$H$70","v":1065},129930,66366,8096652,{"$f":"'일위대가목록(21년 하반기)'!$B$70","v":"65호표"}]
[" 스 텐 레 스 알 곤 용 접"," 100A  ",26,"개소",{"$f":"'일위대가목록(21년 하반기)'!$F$68","v":6381},165906,{"$f":"'일위대가목록(21년 하반기)'!$G$68","v":38527},1001702,{"$f":"'일위대가목록(21년 하반기)'!$H$68","v":770},20020,45678,1187628,{"$f":"'일위대가목록(21년 하반기)'!$B$68","v":"63호표"}]
[" 스 텐 레 스 알 곤 용 접","  65A  ",16,"개소",{"$f":"'일위대가목록(21년 하반기)'!$F$66","v":3287},52592,{"$f":"'일위대가목록(21년 하반기)'!$G$66","v":27454},439264,{"$f":"'일위대가목록(21년 하반기)'!$H$66","v":549},8784,31290,500640,{"$f":"'일위대가목록(21년 하반기)'!$B$66","v":"61호표"}]
[" 스 텐 레 스 알 곤 용 접","  50A  ",21,"개소",{"$f":"'일위대가목록(21년 하반기)'!$F$65","v":1692},35532,{"$f":"'일위대가목록(21년 하반기)'!$G$65","v":22839},479619,{"$f":"'일위대가목록(21년 하반기)'!$H$65","v":456},9576,24987,524727,{"$f":"'일위대가목록(21년 하반기)'!$B$65","v":"60호표"}]
[" 스 텐 레 스 알 곤 용 접","  32A  ",1,"개소",{"$f":"'일위대가목록(21년 하반기)'!$F$63","v":934},934,{"$f":"'일위대가목록(21년 하반기)'!$G$63","v":17764},17764,{"$f":"'일위대가목록(21년 하반기)'!$H$63","v":355},355,19053,19053,{"$f":"'일위대가목록(21년 하반기)'!$B$63","v":"58호표"}]
[" 스 텐 레 스 알 곤 용 접","  25A  ",7,"개소",{"$f":"'일위대가목록(21년 하반기)'!$F$62","v":769},5383,{"$f":"'일위대가목록(21년 하반기)'!$G$62","v":15226},106582,{"$f":"'일위대가목록(21년 하반기)'!$H$62","v":304},2128,16299,114093,{"$f":"'일위대가목록(21년 하반기)'!$B$62","v":"57호표"}]
[" 스 텐 레 스 알 곤 용 접","  20A  ",1,"개소",{"$f":"'일위대가목록(21년 하반기)'!$F$61","v":547},547,{"$f":"'일위대가목록(21년 하반기)'!$G$61","v":13150},13150,{"$f":"'일위대가목록(21년 하반기)'!$H$61","v":263},263,13960,13960,{"$f":"'일위대가목록(21년 하반기)'!$B$61","v":"56호표"}]
[" 스 텐 레 스 알 곤 용 접","  15A  ",3,"개소",{"$f":"'일위대가목록(21년 하반기)'!$F$60","v":349},1047,{"$f":"'일위대가목록(21년 하반기)'!$G$60","v":11535},34605,{"$f":"'일위대가목록(21년 하반기)'!$H$60","v":230},690,12114,36342,{"$f":"'일위대가목록(21년 하반기)'!$B$60","v":"55호표"}]
[" 스텐렌스 엘보"," 150A   그루브 식",30,"EA",{"$f":"#REF!","v":{"$error":"#REF!"}},{"$error":"#REF!"},null,0,null,0,{"$error":"#REF!"},{"$error":"#REF!"}]
[" 스텐렌스 엘보"," 125A   그루브 식",17,"EA",{"$f":"#REF!","v":{"$error":"#REF!"}},{"$error":"#REF!"},null,0,null,0,{"$error":"#REF!"},{"$error":"#REF!"}]
[" 스텐렌스 엘보"," 100A   그루브 식",9,"EA",{"$f":"#REF!","v":{"$error":"#REF!"}},{"$error":"#REF!"},null,0,null,0,{"$error":"#REF!"},{"$error":"#REF!"}]
[" 스텐렌스 엘보","  80A   그루브 식",4,"EA",{"$f":"#REF!","v":{"$error":"#REF!"}},{"$error":"#REF!"},null,0,null,0,{"$error":"#REF!"},{"$error":"#REF!"}]
[" 스텐렌스 엘보","  65A   그루브 식",1,"EA",{"$f":"#REF!","v":{"$error":"#REF!"}},{"$error":"#REF!"},null,0,null,0,{"$error":"#REF!"},{"$error":"#REF!"}]
[" 스텐렌스 엘보","  50A   그루브 식",6,"EA",{"$f":"#REF!","v":{"$error":"#REF!"}},{"$error":"#REF!"},null,0,null,0,{"$error":"#REF!"},{"$error":"#REF!"}]
[" 스텐렌스 엘보","  40A   그루브 식",2,"EA",{"$f":"#REF!","v":{"$error":"#REF!"}},{"$error":"#REF!"},null,0,null,0,{"$error":"#REF!"},{"$error":"#REF!"}]
[" 스텐렌스 엘보","  25A   그루브 식",2455,"EA",{"$f":"#REF!","v":{"$error":"#REF!"}},{"$error":"#REF!"},null,0,null,0,{"$error":"#REF!"},{"$error":"#REF!"}]
[" 스텐렌스 티이"," 150A   그루브 식",15,"EA",{"$f":"#REF!","v":{"$error":"#REF!"}},{"$error":"#REF!"},null,0,null,0,{"$error":"#REF!"},{"$error":"#REF!"}]
[" 스텐렌스 티이"," 125A   그루브 식",301,"EA",{"$f":"#REF!","v":{"$error":"#REF!"}},{"$error":"#REF!"},null,0,null,0,{"$error":"#REF!"},{"$error":"#REF!"}]
[" 스텐렌스 티이"," 100A   그루브 식",94,"EA",{"$f":"#REF!","v":{"$error":"#REF!"}},{"$error":"#REF!"},null,0,null,0,{"$error":"#REF!"},{"$error":"#REF!"}]
[" 스텐렌스 티이","  80A   그루브 식",17,"EA",{"$f":"#REF!","v":{"$error":"#REF!"}},{"$error":"#REF!"},null,0,null,0,{"$error":"#REF!"},{"$error":"#REF!"}]
[" 스텐렌스 티이","  65A   그루브 식",5,"EA",{"$f":"#REF!","v":{"$error":"#REF!"}},{"$error":"#REF!"},null,0,null,0,{"$error":"#REF!"},{"$error":"#REF!"}]
[" 스텐렌스 티이","  50A   그루브 식",41,"EA",{"$f":"#REF!","v":{"$error":"#REF!"}},{"$error":"#REF!"},null,0,null,0,{"$error":"#REF!"},{"$error":"#REF!"}]
[" 스텐렌스 티이","  40A   그루브 식",184,"EA",{"$f":"#REF!","v":{"$error":"#REF!"}},{"$error":"#REF!"},null,0,null,0,{"$error":"#REF!"},{"$error":"#REF!"}]
[" 스텐렌스 티이","  32A   그루브 식",288,"EA",{"$f":"#REF!","v":{"$error":"#REF!"}},{"$error":"#REF!"},null,0,null,0,{"$error":"#REF!"},{"$f":"TRUNC($C69*K69)","v":{"$error":"#REF!"}}]
[" 스텐렌스 티이","  25A   그루브 식",770,"EA",{"$f":"#REF!","v":{"$error":"#REF!"}},{"$f":"TRUNC($C70*E70)","v":{"$error":"#REF!"}},null,0,null,0,{"$error":"#REF!"},{"$error":"#REF!"}]
[" 스텐렌스 레듀셔"," 100A   그루브 식",1,"EA",{"$f":"#REF!","v":{"$error":"#REF!"}},{"$error":"#REF!"},null,0,null,0,{"$f":"I71+G71+E71","v":{"$error":"#REF!"}},{"$error":"#REF!"}]
[" 스텐렌스 레듀셔","  50A   그루브 식",18,"EA",{"$f":"#REF!","v":{"$error":"#REF!"}},{"$error":"#REF!"},null,0,null,0,{"$error":"#REF!"},{"$error":"#REF!"}]
[" 스텐렌스 레듀셔","  40A   그루브 식",151,"EA",{"$f":"#REF!","v":{"$error":"#REF!"}},{"$error":"#REF!"},null,0,null,0,{"$error":"#REF!"},{"$error":"#REF!"}]
[" 스텐렌스 레듀셔","  32A   그루브 식",290,"EA",{"$f":"#REF!","v":{"$error":"#REF!"}},{"$error":"#REF!"},null,0,null,0,{"$error":"#REF!"},{"$error":"#REF!"}]
[" 스텐레스 캡"," 150A   그루브 식",5,"EA",{"$f":"#REF!","v":{"$error":"#REF!"}},{"$error":"#REF!"},null,0,null,0,{"$error":"#REF!"},{"$error":"#REF!"}]
[" 스텐레스 캡","  25A   그루브 식",417,"EA",{"$f":"#REF!","v":{"$error":"#REF!"}},{"$error":"#REF!"},null,0,null,0,{"$error":"#REF!"},{"$error":"#REF!"}]
[" 스텐레스 후렌지"," 150A  그루브(합)10KG",20,"조",{"$f":"'일위대가목록(21년 하반기)'!$F$516","v":{"$error":"#REF!"}},{"$error":"#REF!"},{"$f":"'일위대가목록(21년 하반기)'!$G$516","v":0},0,{"$f":"'일위대가목록(21년 하반기)'!$H$516","v":0},0,{"$error":"#REF!"},{"$error":"#REF!"},{"$f":"'일위대가목록(21년 하반기)'!$B$516","v":"511호표"}]
[" 스텐레스 후렌지"," 125A  그루브(합)10KG",14,"조",{"$f":"'일위대가목록(21년 하반기)'!$F$517","v":{"$error":"#REF!"}},{"$error":"#REF!"},{"$f":"'일위대가목록(21년 하반기)'!$G$517","v":0},0,{"$f":"'일위대가목록(21년 하반기)'!$H$517","v":0},0,{"$error":"#REF!"},{"$error":"#REF!"},{"$f":"'일위대가목록(21년 하반기)'!$B$517","v":"512호표"}]
[" 스텐레스 후렌지"," 100A  그루브(합)10KG",3,"조",{"$f":"'일위대가목록(21년 하반기)'!$F$518","v":{"$error":"#REF!"}},{"$error":"#REF!"},{"$f":"'일위대가목록(21년 하반기)'!$G$518","v":0},0,{"$f":"'일위대가목록(21년 하반기)'!$H$518","v":0},0,{"$error":"#REF!"},{"$error":"#REF!"},{"$f":"'일위대가목록(21년 하반기)'!$B$518","v":"513호표"}]
[" 스텐레스 후렌지","  80A  그루브(합)10KG",2,"조",{"$f":"'일위대가목록(21년 하반기)'!$F$519","v":{"$error":"#REF!"}},{"$error":"#REF!"},{"$f":"'일위대가목록(21년 하반기)'!$G$519","v":0},0,{"$f":"'일위대가목록(21년 하반기)'!$H$519","v":0},0,{"$error":"#REF!"},{"$error":"#REF!"},{"$f":"'일위대가목록(21년 하반기)'!$B$519","v":"514호표"}]
[" 스텐레스 후렌지","  65A  그루브(합)10KG",1,"조",{"$f":"'일위대가목록(21년 하반기)'!$F$520","v":{"$error":"#REF!"}},{"$error":"#REF!"},{"$f":"'일위대가목록(21년 하반기)'!$G$520","v":0},0,{"$f":"'일위대가목록(21년 하반기)'!$H$520","v":0},0,{"$error":"#REF!"},{"$error":"#REF!"},{"$f":"'일위대가목록(21년 하반기)'!$B$520","v":"515호표"}]
[" 스텐레스 후렌지","  50A  그루브(합)10KG",1,"조",{"$f":"'일위대가목록(21년 하반기)'!$F$521","v":{"$error":"#REF!"}},{"$error":"#REF!"},{"$f":"'일위대가목록(21년 하반기)'!$G$521","v":0},0,{"$f":"'일위대가목록(21년 하반기)'!$H$521","v":0},0,{"$error":"#REF!"},{"$error":"#REF!"},{"$f":"'일위대가목록(21년 하반기)'!$B$521","v":"516호표"}]
[" 스텐레스 후렌지","  40A  그루브(합)10KG",1,"조",{"$f":"'일위대가목록(21년 하반기)'!$F$522","v":{"$error":"#REF!"}},{"$error":"#REF!"},{"$f":"'일위대가목록(21년 하반기)'!$G$522","v":0},0,{"$f":"'일위대가목록(21년 하반기)'!$H$522","v":0},0,{"$error":"#REF!"},{"$error":"#REF!"},{"$f":"'일위대가목록(21년 하반기)'!$B$522","v":"517호표"}]
[" 스텐레스 글루브 죠인트"," 150A  ",95,"EA",{"$f":"#REF!","v":{"$error":"#REF!"}},{"$error":"#REF!"},null,0,null,0,{"$error":"#REF!"},{"$error":"#REF!"}]
[" 스텐레스 글루브 죠인트"," 125A  ",687,"EA",{"$f":"#REF!","v":{"$error":"#REF!"}},{"$error":"#REF!"},null,0,null,0,{"$error":"#REF!"},{"$error":"#REF!"}]
[" 스텐레스 글루브 죠인트"," 100A  ",251,"EA",{"$f":"#REF!","v":{"$error":"#REF!"}},{"$error":"#REF!"},null,0,null,0,{"$error":"#REF!"},{"$error":"#REF!"}]
[" 스텐레스 글루브 죠인트","  80A  ",44,"EA",{"$f":"#REF!","v":{"$error":"#REF!"}},{"$error":"#REF!"},null,0,null,0,{"$error":"#REF!"},{"$error":"#REF!"}]
[" 스텐레스 글루브 죠인트","  65A  ",13,"EA",{"$f":"#REF!","v":{"$error":"#REF!"}},{"$error":"#REF!"},null,0,null,0,{"$error":"#REF!"},{"$error":"#REF!"}]
[" 스텐레스 글루브 죠인트","  50A  ",139,"EA",{"$f":"#REF!","v":{"$error":"#REF!"}},{"$error":"#REF!"},null,0,null,0,{"$error":"#REF!"},{"$error":"#REF!"}]
[" 스텐레스 글루브 죠인트","  40A  ",687,"EA",{"$f":"#REF!","v":{"$error":"#REF!"}},{"$error":"#REF!"},null,0,null,0,{"$error":"#REF!"},{"$error":"#REF!"}]
[" 스텐레스 글루브 죠인트","  32A  ",1157,"EA",{"$f":"#REF!","v":{"$error":"#REF!"}},{"$error":"#REF!"},null,0,null,0,{"$error":"#REF!"},{"$error":"#REF!"}]
[" 스텐레스 글루브 죠인트","  25A  ",9384,"EA",{"$f":"#REF!","v":{"$error":"#REF!"}},{"$error":"#REF!"},null,0,null,0,{"$error":"#REF!"},{"$error":"#REF!"}]
[" 백 강관(KSD-3507)"," 100A  ",18,"M",{"$f":"#REF!","v":{"$error":"#REF!"}},{"$error":"#REF!"},null,0,null,0,{"$error":"#REF!"},{"$error":"#REF!"},null,"연도"]
[" 백 엘보"," 100A  용접용",2,"EA",{"$f":"#REF!","v":{"$error":"#REF!"}},{"$error":"#REF!"},null,0,null,0,{"$error":"#REF!"},{"$error":"#REF!"},null,"연도"]
[" 강 후렌지"," 100A  (합) 10㎏",1,"조",{"$f":"'일위대가목록(21년 하반기)'!$F$97","v":12056},12056,{"$f":"'일위대가목록(21년 하반기)'!$G$97","v":35067},35067,{"$f":"'일위대가목록(21년 하반기)'!$H$97","v":701},701,47824,47824,{"$f":"'일위대가목록(21년 하반기)'!$B$97","v":"92호표"},"연도"]
[" 강 관 용 접"," 100A  ",4,"개소",{"$f":"'일위대가목록(21년 하반기)'!$F$40","v":833},3332,{"$f":"'일위대가목록(21년 하반기)'!$G$40","v":35067},140268,{"$f":"'일위대가목록(21년 하반기)'!$H$40","v":701},2804,36601,146404,{"$f":"'일위대가목록(21년 하반기)'!$B$40","v":"35호표"}]
[" 실내 배관보온"," 150A x 40t 가교발포",122,"M",{"$f":"'일위대가목록(21년 하반기)'!$F$266","v":16082},1962004,{"$f":"'일위대가목록(21년 하반기)'!$G$266","v":28500},3477000,{"$f":"'일위대가목록(21년 하반기)'!$H$266","v":570},69540,45152,5508544,{"$f":"'일위대가목록(21년 하반기)'!$B$266","v":"261호표"}]
[" 실내 배관보온"," 125A x 40t 가교발포",812,"M",{"$f":"'일위대가목록(21년 하반기)'!$F$265","v":13204},10721648,{"$f":"'일위대가목록(21년 하반기)'!$G$265","v":24511},19902932,{"$f":"'일위대가목록(21년 하반기)'!$H$265","v":490},397880,38205,31022460,{"$f":"'일위대가목록(21년 하반기)'!$B$265","v":"260호표"}]
[" 실내 배관보온"," 100A x 40t 가교발포",397,"M",{"$f":"'일위대가목록(21년 하반기)'!$F$264","v":10281},4081557,{"$f":"'일위대가목록(21년 하반기)'!$G$264","v":20378},8090066,{"$f":"'일위대가목록(21년 하반기)'!$H$264","v":407},161579,31066,12333202,{"$f":"'일위대가목록(21년 하반기)'!$B$264","v":"259호표"}]
[" 실내 배관보온","  80A x 25t 가교발포",70,"M",{"$f":"'일위대가목록(21년 하반기)'!$F$250","v":5297},370790,{"$f":"'일위대가목록(21년 하반기)'!$G$250","v":13537},947590,{"$f":"'일위대가목록(21년 하반기)'!$H$250","v":270},18900,19104,1337280,{"$f":"'일위대가목록(21년 하반기)'!$B$250","v":"245호표"}]
[" 실내 배관보온","  65A x 25t 가교발포",36,"M",{"$f":"'일위대가목록(21년 하반기)'!$F$249","v":4825},173700,{"$f":"'일위대가목록(21년 하반기)'!$G$249","v":11523},414828,{"$f":"'일위대가목록(21년 하반기)'!$H$249","v":230},8280,16578,596808,{"$f":"'일위대가목록(21년 하반기)'!$B$249","v":"244호표"}]
[" 실내 배관보온","  50A x 25t 가교발포",221,"M",{"$f":"'일위대가목록(21년 하반기)'!$F$248","v":4041},893061,{"$f":"'일위대가목록(21년 하반기)'!$G$248","v":9548},2110108,{"$f":"'일위대가목록(21년 하반기)'!$H$248","v":190},41990,13779,3045159,{"$f":"'일위대가목록(21년 하반기)'!$B$248","v":"243호표"}]
[" 실내 배관보온","  40A x 25t 가교발포",833,"M",{"$f":"'일위대가목록(21년 하반기)'!$F$247","v":3634},3027122,{"$f":"'일위대가목록(21년 하반기)'!$G$247","v":8122},6765626,{"$f":"'일위대가목록(21년 하반기)'!$H$247","v":162},134946,11918,9927694,{"$f":"'일위대가목록(21년 하반기)'!$B$247","v":"242호표"}]
[" 실내 배관보온","  32A x 25t 가교발포",1149,"M",{"$f":"'일위대가목록(21년 하반기)'!$F$246","v":3351},3850299,{"$f":"'일위대가목록(21년 하반기)'!$G$246","v":7023},8069427,{"$f":"'일위대가목록(21년 하반기)'!$H$246","v":140},160860,10514,12080586,{"$f":"'일위대가목록(21년 하반기)'!$B$246","v":"241호표"}]
[" 실내 배관보온","  25A x 25t 가교발포",3275,"M",{"$f":"'일위대가목록(21년 하반기)'!$F$245","v":3015},9874125,{"$f":"'일위대가목록(21년 하반기)'!$G$245","v":5964},19532100,{"$f":"'일위대가목록(21년 하반기)'!$H$245","v":119},389725,9098,29795950,{"$f":"'일위대가목록(21년 하반기)'!$B$245","v":"240호표"}]
[" 내 화 충 진 재"," 실리콘RTV폼",8,"KG",{"$f":"#REF!","v":{"$error":"#REF!"}},{"$error":"#REF!"},null,0,null,0,{"$error":"#REF!"},{"$error":"#REF!"}]
[" 코 아 구 멍 뚫 기(바 닥)"," 150A  ",4,"개소",{"$f":"'일위대가목록(21년 하반기)'!$F$411","v":0},0,{"$f":"'일위대가목록(21년 하반기)'!$G$411","v":66918},267672,{"$f":"'일위대가목록(21년 하반기)'!$H$411","v":381},1524,67299,269196,{"$f":"'일위대가목록(21년 하반기)'!$B$411","v":"406호표"}]
[" 코 아 구 멍 뚫 기(바 닥)","  50A",5,"개소",{"$f":"'일위대가목록(21년 하반기)'!$F$408","v":0},0,{"$f":"'일위대가목록(21년 하반기)'!$G$408","v":37920},189600,{"$f":"'일위대가목록(21년 하반기)'!$H$408","v":159},795,38079,190395,{"$f":"'일위대가목록(21년 하반기)'!$B$408","v":"403호표"}]
[" 코 아 구 멍 뚫 기(벽 체)"," 150A  ",12,"개소",{"$f":"'일위대가목록(21년 하반기)'!$F$420","v":0},0,{"$f":"'일위대가목록(21년 하반기)'!$G$420","v":85400},1024800,{"$f":"'일위대가목록(21년 하반기)'!$H$420","v":489},5868,85889,1030668,{"$f":"'일위대가목록(21년 하반기)'!$B$420","v":"415호표"}]
[" 코 아 구 멍 뚫 기(벽 체)"," 100A  ",13,"개소",{"$f":"'일위대가목록(21년 하반기)'!$F$419","v":0},0,{"$f":"'일위대가목록(21년 하반기)'!$G$419","v":67236},874068,{"$f":"'일위대가목록(21년 하반기)'!$H$419","v":344},4472,67580,878540,{"$f":"'일위대가목록(21년 하반기)'!$B$419","v":"414호표"}]
[" 코 아 구 멍 뚫 기(벽 체)","  50A",194,"개소",{"$f":"'일위대가목록(21년 하반기)'!$F$417","v":0},0,{"$f":"'일위대가목록(21년 하반기)'!$G$417","v":48436},9396584,{"$f":"'일위대가목록(21년 하반기)'!$H$417","v":203},39382,48639,9435966,{"$f":"'일위대가목록(21년 하반기)'!$B$417","v":"412호표"}]
[" 코 아 구 멍 뚫 기(벽 체)","  25A",94,"개소",{"$f":"'일위대가목록(21년 하반기)'!$F$416","v":0},0,{"$f":"'일위대가목록(21년 하반기)'!$G$416","v":39194},3684236,{"$f":"'일위대가목록(21년 하반기)'!$H$416","v":133},12502,39327,3696738,{"$f":"'일위대가목록(21년 하반기)'!$B$416","v":"411호표"}]
[" 배  관  행  가"," 100(일 반)  ",5,"개소",{"$f":"'일위대가목록(21년 하반기)'!$F$183","v":2121},10605,{"$f":"'일위대가목록(21년 하반기)'!$G$183","v":0},0,{"$f":"'일위대가목록(21년 하반기)'!$H$183","v":0},0,null,0,{"$f":"'일위대가목록(21년 하반기)'!$B$183","v":"178호표"}]
[" 배  관  행  가"," 150(절 연)  ",27,"개소",{"$f":"'일위대가목록(21년 하반기)'!$F$200","v":5571},150417,{"$f":"'일위대가목록(21년 하반기)'!$G$200","v":0},0,{"$f":"'일위대가목록(21년 하반기)'!$H$200","v":0},0,5571,150417,{"$f":"'일위대가목록(21년 하반기)'!$B$200","v":"195호표"}]
[" 배  관  행  가"," 125(절 연)  ",203,"개소",{"$f":"'일위대가목록(21년 하반기)'!$F$199","v":4071},826413,{"$f":"'일위대가목록(21년 하반기)'!$G$199","v":0},0,{"$f":"'일위대가목록(21년 하반기)'!$H$199","v":0},0,4071,826413,{"$f":"'일위대가목록(21년 하반기)'!$B$199","v":"194호표"}]
[" 배  관  행  가"," 100(절 연)  ",105,"개소",{"$f":"'일위대가목록(21년 하반기)'!$F$198","v":3171},332955,{"$f":"'일위대가목록(21년 하반기)'!$G$198","v":0},0,{"$f":"'일위대가목록(21년 하반기)'!$H$198","v":0},0,3171,332955,{"$f":"'일위대가목록(21년 하반기)'!$B$198","v":"193호표"}]
[" 배  관  행  가","  80(절 연)  ",22,"개소",{"$f":"'일위대가목록(21년 하반기)'!$F$197","v":2821},62062,{"$f":"'일위대가목록(21년 하반기)'!$G$197","v":0},0,{"$f":"'일위대가목록(21년 하반기)'!$H$197","v":0},0,2821,62062,{"$f":"'일위대가목록(21년 하반기)'!$B$197","v":"192호표"}]
[" 배  관  행  가","  65(절 연)",12,"개소",{"$f":"'일위대가목록(21년 하반기)'!$F$196","v":2221},26652,{"$f":"'일위대가목록(21년 하반기)'!$G$196","v":0},0,{"$f":"'일위대가목록(21년 하반기)'!$H$196","v":0},0,2221,26652,{"$f":"'일위대가목록(21년 하반기)'!$B$196","v":"191호표"}]
[" 배  관  행  가","  50(절 연)",84,"개소",{"$f":"'일위대가목록(21년 하반기)'!$F$195","v":2021},169764,{"$f":"'일위대가목록(21년 하반기)'!$G$195","v":0},0,{"$f":"'일위대가목록(21년 하반기)'!$H$195","v":0},0,2021,169764,{"$f":"'일위대가목록(21년 하반기)'!$B$195","v":"190호표"}]
[" 배  관  행  가","  40(절 연)",490,"개소",{"$f":"'일위대가목록(21년 하반기)'!$F$194","v":1771},867790,{"$f":"'일위대가목록(21년 하반기)'!$G$194","v":0},0,{"$f":"'일위대가목록(21년 하반기)'!$H$194","v":0},0,1771,867790,{"$f":"'일위대가목록(21년 하반기)'!$B$194","v":"189호표"}]
[" 배  관  행  가","  32(절 연)",719,"개소",{"$f":"'일위대가목록(21년 하반기)'!$F$193","v":1721},1237399,{"$f":"'일위대가목록(21년 하반기)'!$G$193","v":0},0,{"$f":"'일위대가목록(21년 하반기)'!$H$193","v":0},0,1721,1237399,{"$f":"'일위대가목록(21년 하반기)'!$B$193","v":"188호표"}]
[" 배  관  행  가","  25(절 연)",1422,"개소",{"$f":"'일위대가목록(21년 하반기)'!$F$192","v":1621},2305062,{"$f":"'일위대가목록(21년 하반기)'!$G$192","v":0},0,{"$f":"'일위대가목록(21년 하반기)'!$H$192","v":0},0,1621,2305062,{"$f":"'일위대가목록(21년 하반기)'!$B$192","v":"187호표"}]
[" U 볼트 & 너 트(절 연)"," 150A  ",4,"개소",{"$f":"'일위대가목록(21년 하반기)'!$F$402","v":2904},11616,{"$f":"'일위대가목록(21년 하반기)'!$G$402","v":0},0,{"$f":"'일위대가목록(21년 하반기)'!$H$402","v":0},0,2904,11616,{"$f":"'일위대가목록(21년 하반기)'!$B$402","v":"397호표"}]
[" U 볼트 & 너 트(절 연)","  50A",6,"개소",{"$f":"'일위대가목록(21년 하반기)'!$F$397","v":724},4344,{"$f":"'일위대가목록(21년 하반기)'!$G$397","v":0},0,{"$f":"'일위대가목록(21년 하반기)'!$H$397","v":0},0,724,4344,{"$f":"'일위대가목록(21년 하반기)'!$B$397","v":"392호표"}]
[" 가 대 설 치(STS)"," 300x300",4,"조",{"$f":"'일위대가목록(21년 하반기)'!$F$539","v":{"$error":"#REF!"}},{"$error":"#REF!"},{"$f":"'일위대가목록(21년 하반기)'!$G$539","v":{"$error":"#REF!"}},{"$error":"#REF!"},{"$f":"'일위대가목록(21년 하반기)'!$H$539","v":{"$error":"#REF!"}},{"$error":"#REF!"},{"$error":"#REF!"},{"$error":"#REF!"},{"$f":"'일위대가목록(21년 하반기)'!$B$539","v":"534호표"}]
[" 앵 글(STS)"," 50x50x4t",800,"KG",{"$f":"#REF!","v":{"$error":"#REF!"}},{"$error":"#REF!"},null,0,null,0,{"$error":"#REF!"},{"$error":"#REF!"}]
[" 잡 철 물 제 작 설 치"," 간 단 (스텐)",800,"KG",{"$f":"'일위대가목록(21년 하반기)'!$F$336/1000","v":256.75299999999999},205402,{"$f":"'일위대가목록(21년 하반기)'!$G$336/1000","v":6415.5339999999997},5132427,{"$f":"'일위대가목록(21년 하반기)'!$H$336/1000","v":130.24700000000001},104197,6802.5339999999997,5442027,{"$f":"'일위대가목록(21년 하반기)'!$B$336","v":"331호표"}]
[" 버 터 플 라 이 밸 브"," 150A STS 10KG(LEVER)  ",9,"EA",{"$f":"#REF!","v":{"$error":"#REF!"}},{"$error":"#REF!"},null,0,null,0,{"$error":"#REF!"},{"$error":"#REF!"}]
[" 버 터 플 라 이 밸 브"," 125A STS 10KG(LEVER)  ",1,"EA",{"$f":"#REF!","v":{"$error":"#REF!"}},{"$error":"#REF!"},null,0,null,0,{"$error":"#REF!"},{"$error":"#REF!"}]
[" 버 터 플 라 이 밸 브","  50A STS 10KG(LEVER)",2,"EA",{"$f":"#REF!","v":{"$error":"#REF!"}},{"$error":"#REF!"},null,0,null,0,{"$error":"#REF!"},{"$error":"#REF!"}]
[" 볼 밸 브","  25A STS 10KG(S)",6,"EA",{"$f":"#REF!","v":{"$error":"#REF!"}},{"$error":"#REF!"},null,0,null,0,{"$error":"#REF!"},{"$error":"#REF!"}]
[" 글 로 브 밸 브"," 100A STS 10KG",4,"EA",{"$f":"#REF!","v":{"$error":"#REF!"}},{"$error":"#REF!"},null,0,null,0,{"$error":"#REF!"},{"$error":"#REF!"}]
[" 스 트 레 너"," 150A STS 10KG(F)  ",2,"EA",{"$f":"#REF!","v":{"$error":"#REF!"}},{"$error":"#REF!"},null,0,null,0,{"$error":"#REF!"},{"$f":"TRUNC($C133*K133)","v":{"$error":"#REF!"}}]
[" 스 트 레 너","  50A STS 10KG(S)",1,"EA",{"$f":"#REF!","v":{"$error":"#REF!"}},{"$f":"TRUNC($C134*E134)","v":{"$error":"#REF!"}},null,0,null,0,{"$error":"#REF!"},{"$error":"#REF!"}]
[" 스모렌스키 체크밸브 "," 150A STS 10KG(F)  ",2,"EA",{"$f":"#REF!","v":{"$error":"#REF!"}},{"$error":"#REF!"},null,0,null,0,{"$f":"I135+G135+E135","v":{"$error":"#REF!"}},{"$error":"#REF!"}]
[" 스모렌스키 체크밸브 "," 100A STS 10KG(F)  ",1,"EA",{"$f":"#REF!","v":{"$error":"#REF!"}},{"$error":"#REF!"},null,0,null,0,{"$error":"#REF!"},{"$error":"#REF!"}]
[" 스모렌스키 체크밸브 ","  65A STS 10KG(F)",2,"EA",{"$f":"#REF!","v":{"$error":"#REF!"}},{"$error":"#REF!"},null,0,null,0,{"$error":"#REF!"},{"$error":"#REF!"}]
[" 스모렌스키 체크밸브 ","  50A STS 10KG(S)",1,"EA",{"$f":"#REF!","v":{"$error":"#REF!"}},{"$error":"#REF!"},null,0,null,0,{"$error":"#REF!"},{"$error":"#REF!"}]
[" 후 렉 시 블 조 인 트"," 150A STS 10KG(F)  ",5,"EA",{"$f":"#REF!","v":{"$error":"#REF!"}},{"$error":"#REF!"},null,0,null,0,{"$error":"#REF!"},{"$error":"#REF!"}]
[" 후 렉 시 블 조 인 트","  65A STL 10KG(F)",2,"EA",{"$f":"#REF!","v":{"$error":"#REF!"}},{"$error":"#REF!"},null,0,null,0,{"$error":"#REF!"},{"$error":"#REF!"}]
[" 후 렉 시 블 조 인 트","  50A STL 10KG(F)",2,"EA",{"$f":"#REF!","v":{"$error":"#REF!"}},{"$error":"#REF!"},null,0,null,0,{"$error":"#REF!"},{"$error":"#REF!"}]
[" W. H. C "," 150A  10KG(F)  ",7,"EA",{"$f":"#REF!","v":{"$error":"#REF!"}},{"$error":"#REF!"},null,0,null,0,{"$error":"#REF!"},{"$error":"#REF!"}]
[" W. H. C "," 125A  10KG(F)  ",10,"EA",{"$f":"#REF!","v":{"$error":"#REF!"}},{"$error":"#REF!"},null,0,null,0,{"$error":"#REF!"},{"$error":"#REF!"}]
[" W. H. C "," 100A  10KG(F)  ",3,"EA",{"$f":"#REF!","v":{"$error":"#REF!"}},{"$error":"#REF!"},null,0,null,0,{"$error":"#REF!"},{"$error":"#REF!"}]
[" W. H. C ","  80A  10KG(F)  ",2,"EA",{"$f":"#REF!","v":{"$error":"#REF!"}},{"$error":"#REF!"},null,0,null,0,{"$error":"#REF!"},{"$error":"#REF!"}]
[" W. H. C ","  65A  10KG(F)",1,"EA",{"$f":"#REF!","v":{"$error":"#REF!"}},{"$error":"#REF!"},null,0,null,0,{"$error":"#REF!"},{"$error":"#REF!"}]
[" W. H. C ","  50A  10KG(F)",2,"EA",{"$f":"#REF!","v":{"$error":"#REF!"}},{"$error":"#REF!"},null,0,null,0,{"$error":"#REF!"},{"$error":"#REF!"}]
[" W. H. C ","  40A  10KG(F)",1,"EA",{"$f":"#REF!","v":{"$error":"#REF!"}},{"$error":"#REF!"},null,0,null,0,{"$error":"#REF!"},{"$error":"#REF!"}]
[" 소 방 유 량 계"," 100A  ",2,"EA",{"$f":"#REF!","v":{"$error":"#REF!"}},{"$error":"#REF!"},null,0,null,0,{"$error":"#REF!"},{"$error":"#REF!"}]
[" 환 기 캡"," 100A STS  ",1,"EA",{"$f":"#REF!","v":{"$error":"#REF!"}},{"$error":"#REF!"},null,0,null,0,{"$error":"#REF!"},{"$error":"#REF!"}]
[" 옥 내 소 화 전 함 (노 출)"," 노출형, STS 1.2T",1,"EA",{"$f":"#REF!","v":{"$error":"#REF!"}},{"$error":"#REF!"},null,0,null,0,{"$error":"#REF!"},{"$error":"#REF!"}]
[" 시 험 밸 브 함"," 300x 500x 180",5,"EA",{"$f":"#REF!","v":{"$error":"#REF!"}},{"$error":"#REF!"},null,0,null,0,{"$error":"#REF!"},{"$error":"#REF!"}]
[" 소 방 앵 글 밸 브","  40A",17,"EA",{"$f":"#REF!","v":{"$error":"#REF!"}},{"$error":"#REF!"},null,0,null,0,{"$error":"#REF!"},{"$error":"#REF!"}]
[" 소 방 호 스, 단 일 피","  40Ax 15M",2,"EA",{"$f":"#REF!","v":{"$error":"#REF!"}},{"$error":"#REF!"},null,0,null,0,{"$error":"#REF!"},{"$error":"#REF!"}]
[" 소 방 노 즐","  40A",1,"EA",{"$f":"#REF!","v":{"$error":"#REF!"}},{"$error":"#REF!"},null,0,null,0,{"$error":"#REF!"},{"$error":"#REF!"}]
[" 스프링클러 헤드"," 폐쇄, 환형, 하향, 72℃",5,"EA",{"$f":"#REF!","v":{"$error":"#REF!"}},{"$error":"#REF!"},null,0,null,0,{"$error":"#REF!"},{"$error":"#REF!"}]
[" 스프링클러 헤드(조기반응형)"," 플러쉬 형, 하향,72℃",1122,"EA",{"$f":"#REF!","v":{"$error":"#REF!"}},{"$error":"#REF!"},null,0,null,0,{"$error":"#REF!"},{"$error":"#REF!"}]
[" 스프링클러 헤드(조기반응형)"," 플러쉬 형, 하향,105℃",8,"EA",{"$f":"#REF!","v":{"$error":"#REF!"}},{"$error":"#REF!"},null,0,null,0,{"$error":"#REF!"},{"$error":"#REF!"}]
[" 스프링클러 헤드(조기반응형)"," 플러쉬 형, 상향,72℃",75,"EA",{"$f":"#REF!","v":{"$error":"#REF!"}},{"$error":"#REF!"},null,0,null,0,{"$error":"#REF!"},{"$error":"#REF!"}]
[" 스프링클러 헤드(조기반응형)"," 플러쉬 형, 상향,105℃",20,"EA",{"$f":"E158","v":{"$error":"#REF!"}},{"$error":"#REF!"},null,0,null,0,{"$error":"#REF!"},{"$error":"#REF!"}]
[" 드라이팬던트 헤드(조기반응형)"," 플러쉬 형, 하향,72℃",47,"EA",{"$f":"#REF!","v":{"$error":"#REF!"}},{"$error":"#REF!"},null,0,null,0,{"$error":"#REF!"},{"$error":"#REF!"}]
[" 알 람 밸 브"," 150A  ",4,"EA",{"$f":"#REF!","v":{"$error":"#REF!"}},{"$error":"#REF!"},null,0,null,0,{"$error":"#REF!"},{"$error":"#REF!"}]
[" 알 람 밸 브"," 125A  ",1,"EA",{"$f":"#REF!","v":{"$error":"#REF!"}},{"$error":"#REF!"},null,0,null,0,{"$error":"#REF!"},{"$error":"#REF!"}]
[" SP 조인트"," 1,500L * 0.6T",1177,"EA",{"$f":"#REF!","v":{"$error":"#REF!"}},{"$error":"#REF!"},null,0,null,0,{"$error":"#REF!"},{"$error":"#REF!"}]
[" 쌍 구 형 연 결 송 수 구"," 100x 65x 65, 노 출 형",1,"EA",{"$f":"#REF!","v":{"$error":"#REF!"}},{"$error":"#REF!"},null,0,null,0,{"$error":"#REF!"},{"$error":"#REF!"}]
[" 연 결 송 수 구 명 판"," 동 판(銅)",1,"EA",{"$f":"#REF!","v":{"$error":"#REF!"}},{"$error":"#REF!"},null,0,null,0,{"$error":"#REF!"},{"$error":"#REF!"}]
[" 오 토 드 립 밸 브"," 20A",1,"EA",{"$f":"#REF!","v":{"$error":"#REF!"}},{"$error":"#REF!"},null,0,null,0,{"$error":"#REF!"},{"$error":"#REF!"}]
[" 안 전 밸 브"," 25A",2,"EA",{"$f":"#REF!","v":{"$error":"#REF!"}},{"$error":"#REF!"},null,0,null,0,{"$error":"#REF!"},{"$error":"#REF!"}]
[" 탬 프 스 위 치"," 자석식",10,"EA",{"$f":"#REF!","v":{"$error":"#REF!"}},{"$error":"#REF!"},null,0,null,0,{"$error":"#REF!"},{"$error":"#REF!"}]
[" 은 분 페 인 트 칠"," 2  회",6,"M2",{"$f":"'일위대가목록(21년 하반기)'!$F$360","v":1036},6216,{"$f":"'일위대가목록(21년 하반기)'!$G$360","v":11724},70344,{"$f":"'일위대가목록(21년 하반기)'!$H$360","v":234},1404,12994,77964,{"$f":"'일위대가목록(21년 하반기)'!$B$360","v":"355호표"}]
[" 압 력 계 설 치",null,8,"개소",{"$f":"'일위대가목록(21년 하반기)'!$F$363","v":13110},104880,{"$f":"'일위대가목록(21년 하반기)'!$G$363","v":10110},80880,{"$f":"'일위대가목록(21년 하반기)'!$H$363","v":202},1616,23422,187376,{"$f":"'일위대가목록(21년 하반기)'!$B$363","v":"358호표"}]
[" 창문 패쇄 후 철판작업"," 1,500*900",1,"개소",{"$f":"#REF!","v":{"$error":"#REF!"}},{"$error":"#REF!"},null,0,null,0,{"$error":"#REF!"},{"$error":"#REF!"}]
[" 작 업 부 산 물"," 고 철",6,"KG",{"$f":"#REF!","v":{"$error":"#REF!"}},{"$error":"#REF!"},null,0,null,0,{"$error":"#REF!"},{"$error":"#REF!"}]
[null," 고 스텐",3060,"KG",{"$f":"#REF!","v":{"$error":"#REF!"}},{"$error":"#REF!"},null,0,null,0,{"$error":"#REF!"},{"$error":"#REF!"}]
[" 잡자재비"," 관의  2%",1,"식",{"$f":"TRUNC(F10+F11+F12+F13+F14+F15+F16+F17+F18+F93)*2%","v":{"$error":"#REF!"}},{"$error":"#REF!"},null,0,null,0,{"$error":"#REF!"},{"$error":"#REF!"}]
["인 건 비"," 기 계 설 비 공",11,"인",null,0,{"$f":"#REF!","v":{"$error":"#REF!"}},{"$error":"#REF!"},null,0,{"$error":"#REF!"},{"$error":"#REF!"}]
[null," 배    관    공",838,"인",null,0,{"$f":"#REF!","v":{"$error":"#REF!"}},{"$error":"#REF!"},null,0,{"$error":"#REF!"},{"$error":"#REF!"}]
[null," 덕    트    공",1,"인",null,0,{"$f":"#REF!","v":{"$error":"#REF!"}},{"$error":"#REF!"},null,0,{"$error":"#REF!"},{"$error":"#REF!"}]
[null," 보  통  인  부",355,"인",null,0,{"$f":"#REF!","v":{"$error":"#REF!"}},{"$error":"#REF!"},null,0,{"$error":"#REF!"},{"$error":"#REF!"}]
["공구손료"," 인건비의  2%",1,"식",null,0,null,0,{"$f":"TRUNC(H179+H178+H177+H176)*2%","v":{"$error":"#REF!"}},{"$error":"#REF!"},{"$error":"#REF!"},{"$error":"#REF!"}]
["소       계",null," ",null,null,{"$f":"SUM(F6:F180)","v":{"$error":"#REF!"}},null,{"$f":"SUM(H6:H180)","v":{"$error":"#REF!"}},null,{"$f":"SUM(J6:J180)","v":{"$error":"#REF!"}},null,{"$f":"SUM(L6:L180)","v":{"$error":"#REF!"}}]

{"sheet":"3.위생배관","index":8,"n_rows":136,"n_cols":14,"rows_kept":136,"cut":false,"hidden":true,"merged":[[3,0,4,0],[3,1,4,1],[3,2,4,2],[3,3,4,3],[3,12,4,12]]}
[]
[{"$f":"#REF!","v":{"$error":"#REF!"}},{"$nulls":4}," "]
[" 3.위생배관공사"]
["품      명","규      격","수량","단위","재   료   비",null,"노   무   비",null,"경        비",null,"합        계",null,"비 고"]
[{"$nulls":4},"단  가","금   액","단  가","금   액","단  가","금   액","단  가","금   액"]
[" 스텐레스 관(K-TYPE)"," 50A",162,"M",{"$f":"#REF!","v":{"$error":"#REF!"}},{"$f":"TRUNC($C6*E6)","v":{"$error":"#REF!"}},null,{"$f":"TRUNC($C6*G6)","v":0},null,{"$f":"TRUNC($C6*I6)","v":0},{"$f":"I6+G6+E6","v":{"$error":"#REF!"}},{"$f":"TRUNC($C6*K6)","v":{"$error":"#REF!"}}]
[" 스텐레스 관(K-TYPE)"," 30A",60,"M",{"$f":"#REF!","v":{"$error":"#REF!"}},{"$f":"TRUNC($C7*E7)","v":{"$error":"#REF!"}},null,0,null,0,{"$f":"I7+G7+E7","v":{"$error":"#REF!"}},{"$f":"TRUNC($C7*K7)","v":{"$error":"#REF!"}}]
[" 스텐레스 관(K-TYPE)"," 25A",144,"M",{"$f":"#REF!","v":{"$error":"#REF!"}},{"$error":"#REF!"},null,0,null,0,{"$error":"#REF!"},{"$error":"#REF!"}]
[" 스텐레스 관(K-TYPE)"," 20A",612,"M",{"$f":"#REF!","v":{"$error":"#REF!"}},{"$error":"#REF!"},null,0,null,0,{"$error":"#REF!"},{"$error":"#REF!"}]
[" 스텐레스 관(K-TYPE)"," 13A",6,"M",{"$f":"#REF!","v":{"$error":"#REF!"}},{"$error":"#REF!"},null,0,null,0,{"$error":"#REF!"},{"$error":"#REF!"}]
[" 스텐렌스 엘보","  50A  프레스식 ",22,"EA",{"$f":"#REF!","v":{"$error":"#REF!"}},{"$error":"#REF!"},null,0,null,0,{"$error":"#REF!"},{"$error":"#REF!"}]
[" 스텐렌스 엘보","  32A  프레스식 ",7,"EA",{"$f":"#REF!","v":{"$error":"#REF!"}},{"$error":"#REF!"},null,0,null,0,{"$error":"#REF!"},{"$error":"#REF!"}]
[" 스텐렌스 엘보","  25A  프레스식 ",39,"EA",{"$f":"#REF!","v":{"$error":"#REF!"}},{"$error":"#REF!"},null,0,null,0,{"$error":"#REF!"},{"$error":"#REF!"}]
[" 스텐렌스 엘보","  20A  프레스식 ",276,"EA",{"$f":"#REF!","v":{"$error":"#REF!"}},{"$error":"#REF!"},null,0,null,0,{"$error":"#REF!"},{"$error":"#REF!"}]
[" 스텐렌스 엘보","  13A  프레스식 ",24,"EA",{"$f":"#REF!","v":{"$error":"#REF!"}},{"$error":"#REF!"},null,0,null,0,{"$error":"#REF!"},{"$error":"#REF!"}]
[" 스텐렌스 티이","  50A  프레스식 ",67,"EA",{"$f":"#REF!","v":{"$error":"#REF!"}},{"$error":"#REF!"},null,0,null,0,{"$error":"#REF!"},{"$error":"#REF!"}]
[" 스텐렌스 티이","  32A  프레스식 ",6,"EA",{"$f":"#REF!","v":{"$error":"#REF!"}},{"$error":"#REF!"},null,0,null,0,{"$error":"#REF!"},{"$error":"#REF!"}]
[" 스텐렌스 티이","  25A  프레스식 ",40,"EA",{"$f":"#REF!","v":{"$error":"#REF!"}},{"$error":"#REF!"},null,0,null,0,{"$error":"#REF!"},{"$error":"#REF!"}]
[" 스텐렌스 티이","  20A  프레스식 ",12,"EA",{"$f":"#REF!","v":{"$error":"#REF!"}},{"$error":"#REF!"},null,0,null,0,{"$error":"#REF!"},{"$error":"#REF!"}]
[" 스텐렌스 레듀셔"," 50A x 30A 프레스식 ",2,"EA",{"$f":"#REF!","v":{"$error":"#REF!"}},{"$error":"#REF!"},null,0,null,0,{"$error":"#REF!"},{"$error":"#REF!"}]
[" 스텐렌스 레듀셔"," 50A x 20A프레스식 ",2,"EA",{"$f":"#REF!","v":{"$error":"#REF!"}},{"$error":"#REF!"},null,0,null,0,{"$error":"#REF!"},{"$error":"#REF!"}]
[" 스텐렌스 레듀셔"," 50A x 13A 프레스식 ",2,"EA",{"$f":"#REF!","v":{"$error":"#REF!"}},{"$error":"#REF!"},null,0,null,0,{"$error":"#REF!"},{"$error":"#REF!"}]
[" 스텐렌스 레듀셔"," 30A x 20A 프레스식 ",1,"EA",{"$f":"#REF!","v":{"$error":"#REF!"}},{"$error":"#REF!"},null,0,null,0,{"$error":"#REF!"},{"$error":"#REF!"}]
[" 스텐렌스 레듀셔"," 30A x 13A 프레스식 ",1,"EA",{"$f":"#REF!","v":{"$error":"#REF!"}},{"$error":"#REF!"},null,0,null,0,{"$error":"#REF!"},{"$error":"#REF!"}]
[" 스텐렌스 레듀셔"," 25A x 20A 프레스식 ",3,"EA",{"$f":"#REF!","v":{"$error":"#REF!"}},{"$error":"#REF!"},null,0,null,0,{"$error":"#REF!"},{"$error":"#REF!"}]
[" 스텐레스 캡","  50A  프레스식 ",3,"EA",{"$f":"#REF!","v":{"$error":"#REF!"}},{"$error":"#REF!"},null,0,null,0,{"$error":"#REF!"},{"$error":"#REF!"}]
[" 스텐레스 캡","  32A  프레스식 ",1,"EA",{"$f":"#REF!","v":{"$error":"#REF!"}},{"$error":"#REF!"},null,0,null,0,{"$error":"#REF!"},{"$error":"#REF!"}]
[" 스텐레스 캡","  25A  프레스식 ",2,"EA",{"$f":"#REF!","v":{"$error":"#REF!"}},{"$error":"#REF!"},null,0,null,0,{"$error":"#REF!"},{"$error":"#REF!"}]
[" 스텐레스 캡","  20A  프레스식 ",23,"EA",{"$f":"#REF!","v":{"$error":"#REF!"}},{"$error":"#REF!"},null,0,null,0,{"$error":"#REF!"},{"$error":"#REF!"}]
[" 스텐레스 유니온","  50A  프레스식 ",4,"EA",{"$f":"#REF!","v":{"$error":"#REF!"}},{"$error":"#REF!"},null,0,null,0,{"$error":"#REF!"},{"$error":"#REF!"}]
[" 스텐레스 유니온","  32A  프레스식 ",1,"EA",{"$f":"#REF!","v":{"$error":"#REF!"}},{"$error":"#REF!"},null,0,null,0,{"$error":"#REF!"},{"$error":"#REF!"}]
[" 스텐레스 유니온","  25A  프레스식 ",10,"EA",{"$f":"#REF!","v":{"$error":"#REF!"}},{"$error":"#REF!"},null,0,null,0,{"$error":"#REF!"},{"$error":"#REF!"}]
[" 스텐레스 유니온","  20A  프레스식 ",66,"EA",{"$f":"#REF!","v":{"$error":"#REF!"}},{"$error":"#REF!"},null,0,null,0,{"$error":"#REF!"},{"$error":"#REF!"}]
[" 스텐레스 유니온","  13A  프레스식 ",3,"EA",{"$f":"#REF!","v":{"$error":"#REF!"}},{"$error":"#REF!"},null,0,null,0,{"$error":"#REF!"},{"$error":"#REF!"}]
[" 스텐레스 숫아답타소켓","  50A  프레스식 ",4,"EA",{"$f":"#REF!","v":{"$error":"#REF!"}},{"$error":"#REF!"},null,0,null,0,{"$error":"#REF!"},{"$error":"#REF!"}]
[" 스텐레스 숫아답타소켓","  32A  프레스식 ",1,"EA",{"$f":"#REF!","v":{"$error":"#REF!"}},{"$error":"#REF!"},null,0,null,0,{"$error":"#REF!"},{"$error":"#REF!"}]
[" 스텐레스 숫아답타소켓","  25A  프레스식 ",10,"EA",{"$f":"#REF!","v":{"$error":"#REF!"}},{"$error":"#REF!"},null,0,null,0,{"$error":"#REF!"},{"$error":"#REF!"}]
[" 스텐레스 숫아답타소켓","  20A  프레스식 ",66,"EA",{"$f":"#REF!","v":{"$error":"#REF!"}},{"$error":"#REF!"},null,0,null,0,{"$error":"#REF!"},{"$error":"#REF!"}]
[" 스텐레스 숫아답타소켓","  13A  프레스식 ",5,"EA",{"$f":"#REF!","v":{"$error":"#REF!"}},{"$error":"#REF!"},null,0,null,0,{"$error":"#REF!"},{"$error":"#REF!"}]
[" 스텐레스 수전티이","  20A  프레스식 ",46,"EA",{"$f":"#REF!","v":{"$error":"#REF!"}},{"$error":"#REF!"},null,0,null,0,{"$error":"#REF!"},{"$error":"#REF!"}]
[" 스텐레스 수전엘보","  20A  프레스식 ",63,"EA",{"$f":"#REF!","v":{"$error":"#REF!"}},{"$error":"#REF!"},null,0,null,0,{"$error":"#REF!"},{"$error":"#REF!"}]
[" 스텐레스 소켓","  50A  프레스식 ",2,"EA",{"$f":"#REF!","v":{"$error":"#REF!"}},{"$error":"#REF!"},null,0,null,0,{"$error":"#REF!"},{"$error":"#REF!"}]
[" 스텐레스 소켓","  32A  프레스식 ",3,"EA",{"$f":"#REF!","v":{"$error":"#REF!"}},{"$error":"#REF!"},null,0,null,0,{"$error":"#REF!"},{"$error":"#REF!"}]
[" 스텐레스 소켓","  25A  프레스식 ",7,"EA",{"$f":"#REF!","v":{"$error":"#REF!"}},{"$error":"#REF!"},null,0,null,0,{"$error":"#REF!"},{"$error":"#REF!"}]
[" 스텐레스 관"," 150A x 3.5t",12,"M",{"$f":"#REF!","v":{"$error":"#REF!"}},{"$error":"#REF!"},null,0,null,0,{"$error":"#REF!"},{"$error":"#REF!"}]
[" 스텐레스 관","  80A x 3.0t",30,"M",{"$f":"#REF!","v":{"$error":"#REF!"}},{"$error":"#REF!"},null,0,null,0,{"$error":"#REF!"},{"$error":"#REF!"}]
[" 스텐레스 관","  50A x 2.5t",54,"M",{"$f":"#REF!","v":{"$error":"#REF!"}},{"$error":"#REF!"},null,0,null,0,{"$error":"#REF!"},{"$error":"#REF!"}]
[" 스텐렌스 엘보"," 150A  용접식 S10S ",1,"EA",{"$f":"#REF!","v":{"$error":"#REF!"}},{"$error":"#REF!"},null,0,null,0,{"$error":"#REF!"},{"$error":"#REF!"}]
[" 스텐렌스 엘보","  80A  용접식 S10S ",10,"EA",{"$f":"#REF!","v":{"$error":"#REF!"}},{"$error":"#REF!"},null,0,null,0,{"$error":"#REF!"},{"$error":"#REF!"}]
[" 스텐렌스 엘보","  50A  용접식 S10S ",9,"EA",{"$f":"#REF!","v":{"$error":"#REF!"}},{"$error":"#REF!"},null,0,null,0,{"$error":"#REF!"},{"$error":"#REF!"}]
[" 스 텐 레 스 알 곤 용 접"," 150A  ",5,"개소",{"$f":"#REF!","v":{"$error":"#REF!"}},{"$error":"#REF!"},{"$f":"#REF!","v":{"$error":"#REF!"}},{"$error":"#REF!"},{"$f":"#REF!","v":{"$error":"#REF!"}},{"$error":"#REF!"},{"$error":"#REF!"},{"$error":"#REF!"},{"$f":"#REF!","v":{"$error":"#REF!"}}]
[" 스 텐 레 스 알 곤 용 접","  80A  ",30,"개소",{"$f":"#REF!","v":{"$error":"#REF!"}},{"$error":"#REF!"},{"$f":"#REF!","v":{"$error":"#REF!"}},{"$error":"#REF!"},{"$f":"#REF!","v":{"$error":"#REF!"}},{"$error":"#REF!"},{"$error":"#REF!"},{"$error":"#REF!"},{"$f":"#REF!","v":{"$error":"#REF!"}}]
[" 스 텐 레 스 알 곤 용 접","  50A  ",19,"개소",{"$f":"#REF!","v":{"$error":"#REF!"}},{"$error":"#REF!"},{"$f":"#REF!","v":{"$error":"#REF!"}},{"$error":"#REF!"},{"$f":"#REF!","v":{"$error":"#REF!"}},{"$error":"#REF!"},{"$error":"#REF!"},{"$error":"#REF!"},{"$f":"#REF!","v":{"$error":"#REF!"}}]
[" A.S PIPE"," 100A ",20,"M",{"$f":"#REF!","v":{"$error":"#REF!"}},{"$error":"#REF!"},null,0,null,0,{"$error":"#REF!"},{"$error":"#REF!"}]
[" A.S PIPE","  75A ",24,"M",{"$f":"#REF!","v":{"$error":"#REF!"}},{"$error":"#REF!"},null,0,null,0,{"$error":"#REF!"},{"$error":"#REF!"}]
[" A.S PIPE","  50A ",8,"M",{"$f":"#REF!","v":{"$error":"#REF!"}},{"$error":"#REF!"},null,0,null,0,{"$error":"#REF!"},{"$error":"#REF!"}]
[" A.S 양변기엘  보"," 100A ",2,"EA",{"$f":"#REF!","v":{"$error":"#REF!"}},{"$error":"#REF!"},null,0,null,0,{"$error":"#REF!"},{"$error":"#REF!"}]
[" A.S  90'엘  보"," 100A ",2,"EA",{"$f":"#REF!","v":{"$error":"#REF!"}},{"$error":"#REF!"},null,0,null,0,{"$error":"#REF!"},{"$error":"#REF!"}]
[" A.S  90'엘  보","  75A ",5,"EA",{"$f":"#REF!","v":{"$error":"#REF!"}},{"$error":"#REF!"},null,0,null,0,{"$error":"#REF!"},{"$error":"#REF!"}]
[" A.S  90'엘  보","  50A ",4,"EA",{"$f":"#REF!","v":{"$error":"#REF!"}},{"$error":"#REF!"},null,0,null,0,{"$error":"#REF!"},{"$error":"#REF!"}]
[" A.S  45'엘  보"," 100A ",4,"EA",{"$f":"#REF!","v":{"$error":"#REF!"}},{"$error":"#REF!"},null,0,null,0,{"$error":"#REF!"},{"$error":"#REF!"}]
[" A.S  45'엘  보","  75A ",5,"EA",{"$f":"#REF!","v":{"$error":"#REF!"}},{"$error":"#REF!"},null,0,null,0,{"$error":"#REF!"},{"$error":"#REF!"}]
[" A.S  Y  관"," 100A x 100A",4,"EA",{"$f":"#REF!","v":{"$error":"#REF!"}},{"$error":"#REF!"},null,0,null,0,{"$error":"#REF!"},{"$error":"#REF!"}]
[" A.S  Y  관","  75A x  75A",4,"EA",{"$f":"#REF!","v":{"$error":"#REF!"}},{"$error":"#REF!"},null,0,null,0,{"$error":"#REF!"},{"$error":"#REF!"}]
[" A.S  Y  관","  75A x  50A",2,"EA",{"$f":"#REF!","v":{"$error":"#REF!"}},{"$error":"#REF!"},null,0,null,0,{"$error":"#REF!"},{"$error":"#REF!"}]
[" A.S  YT 관"," 100A x  50A",2,"EA",{"$f":"#REF!","v":{"$error":"#REF!"}},{"$error":"#REF!"},null,0,null,0,{"$error":"#REF!"},{"$error":"#REF!"}]
[" A.S  YT 관","  75A x  50A",1,"EA",{"$f":"#REF!","v":{"$error":"#REF!"}},{"$error":"#REF!"},null,0,null,0,{"$error":"#REF!"},{"$error":"#REF!"}]
[" A.S  소제구 "," 100A",4,"EA",{"$f":"#REF!","v":{"$error":"#REF!"}},{"$error":"#REF!"},null,0,null,0,{"$error":"#REF!"},{"$error":"#REF!"}]
[" A.S  소제구 ","  75A",4,"EA",{"$f":"#REF!","v":{"$error":"#REF!"}},{"$error":"#REF!"},null,0,null,0,{"$error":"#REF!"},{"$error":"#REF!"}]
[" A.S  P트랩 ","  75A",3,"EA",{"$f":"#REF!","v":{"$error":"#REF!"}},{"$error":"#REF!"},null,0,null,0,{"$error":"#REF!"},{"$error":"#REF!"}]
[" A.S  P트랩 ","  50A",2,"EA",{"$f":"#REF!","v":{"$error":"#REF!"}},{"$f":"TRUNC($C71*E71)","v":{"$error":"#REF!"}},null,0,null,0,{"$f":"I71+G71+E71","v":{"$error":"#REF!"}},{"$f":"TRUNC($C71*K71)","v":{"$error":"#REF!"}}]
[" P.V.C    관","  50A (VG2)",44,"M",{"$f":"#REF!","v":{"$error":"#REF!"}},{"$error":"#REF!"},null,0,null,0,{"$error":"#REF!"},{"$error":"#REF!"},null,"통기관"]
[" P.V.C    관","  75A (VG1)",4,"M",{"$f":"#REF!","v":{"$error":"#REF!"}},{"$error":"#REF!"},null,0,null,0,{"$error":"#REF!"},{"$error":"#REF!"},null,"매설배수"]
[" P.V.C    관","  50A (VG1)",4,"M",{"$f":"#REF!","v":{"$error":"#REF!"}},{"$error":"#REF!"},null,0,null,0,{"$error":"#REF!"},{"$error":"#REF!"},null,"매설배수"]
[" P.V.C  90'엘  보","  50A, 나사조임식",16,"EA",{"$f":"#REF!","v":{"$error":"#REF!"}},{"$error":"#REF!"},null,0,null,0,{"$error":"#REF!"},{"$error":"#REF!"}]
[" P.V.C  90'엘  보","  75A, DTS",3,"EA",{"$f":"#REF!","v":{"$error":"#REF!"}},{"$error":"#REF!"},null,0,null,0,{"$error":"#REF!"},{"$error":"#REF!"}]
[" P.V.C  45'엘  보","  75A, DTS",1,"EA",{"$f":"#REF!","v":{"$error":"#REF!"}},{"$error":"#REF!"},null,0,null,0,{"$error":"#REF!"},{"$error":"#REF!"}]
[" P.V.C  Y  관","  75A x  50A, DTS",3,"EA",{"$f":"#REF!","v":{"$error":"#REF!"}},{"$error":"#REF!"},null,0,null,0,{"$error":"#REF!"},{"$error":"#REF!"}]
[" P.V.C  소제구 ","  75A, DTS",1,"EA",{"$f":"#REF!","v":{"$error":"#REF!"}},{"$error":"#REF!"},null,0,null,0,{"$error":"#REF!"},{"$error":"#REF!"}]
[" 바 닥 배 수 구","  75A ,PVC(주철이중식)",8,"EA",{"$f":"#REF!","v":{"$error":"#REF!"}},{"$error":"#REF!"},null,0,null,0,{"$error":"#REF!"},{"$error":"#REF!"}]
[" 바 닥 배 수 구","  50A ,PVC(세탁겸용)",2,"EA",{"$f":"#REF!","v":{"$error":"#REF!"}},{"$error":"#REF!"},null,0,null,0,{"$error":"#REF!"},{"$error":"#REF!"}]
[" 실내 배관보온","  50A x 40t 가교발포",61,"M",{"$f":"#REF!","v":{"$error":"#REF!"}},{"$error":"#REF!"},{"$f":"#REF!","v":{"$error":"#REF!"}},{"$error":"#REF!"},{"$f":"#REF!","v":{"$error":"#REF!"}},{"$error":"#REF!"},{"$error":"#REF!"},{"$error":"#REF!"},{"$f":"#REF!","v":{"$error":"#REF!"}}]
[" 실내 배관보온","  50A x 25t 가교발포",85,"M",{"$f":"#REF!","v":{"$error":"#REF!"}},{"$error":"#REF!"},{"$f":"#REF!","v":{"$error":"#REF!"}},{"$error":"#REF!"},{"$f":"#REF!","v":{"$error":"#REF!"}},{"$error":"#REF!"},{"$error":"#REF!"},{"$error":"#REF!"},{"$f":"#REF!","v":{"$error":"#REF!"}}]
[" 실내 배관보온","  32A x 25t 가교발포",10,"M",{"$f":"#REF!","v":{"$error":"#REF!"}},{"$error":"#REF!"},{"$f":"#REF!","v":{"$error":"#REF!"}},{"$error":"#REF!"},{"$f":"#REF!","v":{"$error":"#REF!"}},{"$error":"#REF!"},{"$error":"#REF!"},{"$error":"#REF!"},{"$f":"#REF!","v":{"$error":"#REF!"}}]
[" 실내 배관보온","  25A x 25t 가교발포",99,"M",{"$f":"#REF!","v":{"$error":"#REF!"}},{"$error":"#REF!"},{"$f":"#REF!","v":{"$error":"#REF!"}},{"$error":"#REF!"},{"$f":"#REF!","v":{"$error":"#REF!"}},{"$error":"#REF!"},{"$error":"#REF!"},{"$error":"#REF!"},{"$f":"#REF!","v":{"$error":"#REF!"}}]
[" 실내 배관보온","  20A x 25t 가교발포",389,"M",{"$f":"#REF!","v":{"$error":"#REF!"}},{"$error":"#REF!"},{"$f":"#REF!","v":{"$error":"#REF!"}},{"$error":"#REF!"},{"$f":"#REF!","v":{"$error":"#REF!"}},{"$error":"#REF!"},{"$error":"#REF!"},{"$error":"#REF!"},{"$f":"#REF!","v":{"$error":"#REF!"}}]
[" 매립 배관보온","  32A x 10t 가교발포",41,"M",{"$f":"#REF!","v":{"$error":"#REF!"}},{"$error":"#REF!"},null,0,null,0,{"$error":"#REF!"},{"$error":"#REF!"}]
[" 매립 배관보온","  25A x 10t 가교발포",27,"M",{"$f":"#REF!","v":{"$error":"#REF!"}},{"$error":"#REF!"},null,0,null,0,{"$error":"#REF!"},{"$error":"#REF!"}]
[" 매립 배관보온","  20A x 10t 가교발포",52,"M",{"$f":"#REF!","v":{"$error":"#REF!"}},{"$error":"#REF!"},null,0,null,0,{"$error":"#REF!"},{"$error":"#REF!"}]
[" 코 아 구 멍 뚫 기(바 닥)"," 150A  ",1,"개소",null,0,{"$f":"#REF!","v":{"$error":"#REF!"}},{"$error":"#REF!"},{"$f":"#REF!","v":{"$error":"#REF!"}},{"$error":"#REF!"},{"$error":"#REF!"},{"$error":"#REF!"},{"$f":"#REF!","v":{"$error":"#REF!"}}]
[" 코 아 구 멍 뚫 기(바 닥)"," 100A  ",2,"개소",null,0,{"$f":"#REF!","v":{"$error":"#REF!"}},{"$error":"#REF!"},{"$f":"#REF!","v":{"$error":"#REF!"}},{"$error":"#REF!"},{"$error":"#REF!"},{"$error":"#REF!"},{"$f":"#REF!","v":{"$error":"#REF!"}}]
[" 코 아 구 멍 뚫 기(바 닥)","  75A  ",5,"개소",null,0,{"$f":"#REF!","v":{"$error":"#REF!"}},{"$error":"#REF!"},{"$f":"#REF!","v":{"$error":"#REF!"}},{"$error":"#REF!"},{"$error":"#REF!"},{"$error":"#REF!"},{"$f":"#REF!","v":{"$error":"#REF!"}}]
[" 코 아 구 멍 뚫 기(바 닥)","  50A",3,"개소",null,0,{"$f":"#REF!","v":{"$error":"#REF!"}},{"$error":"#REF!"},{"$f":"#REF!","v":{"$error":"#REF!"}},{"$error":"#REF!"},{"$error":"#REF!"},{"$error":"#REF!"},{"$f":"#REF!","v":{"$error":"#REF!"}}]
[" 코 아 구 멍 뚫 기(바 닥)","  25A",34,"개소",null,0,{"$f":"#REF!","v":{"$error":"#REF!"}},{"$error":"#REF!"},{"$f":"#REF!","v":{"$error":"#REF!"}},{"$error":"#REF!"},{"$error":"#REF!"},{"$error":"#REF!"},{"$f":"#REF!","v":{"$error":"#REF!"}}]
[" 코 아 구 멍 뚫 기(벽 체)"," 100A  ",4,"개소",null,0,{"$f":"#REF!","v":{"$error":"#REF!"}},{"$error":"#REF!"},{"$f":"#REF!","v":{"$error":"#REF!"}},{"$error":"#REF!"},{"$error":"#REF!"},{"$error":"#REF!"},{"$f":"#REF!","v":{"$error":"#REF!"}}]
[" 코 아 구 멍 뚫 기(벽 체)","  75A  ",10,"개소",null,0,{"$f":"#REF!","v":{"$error":"#REF!"}},{"$error":"#REF!"},{"$f":"#REF!","v":{"$error":"#REF!"}},{"$error":"#REF!"},{"$error":"#REF!"},{"$error":"#REF!"},{"$f":"#REF!","v":{"$error":"#REF!"}}]
[" 코 아 구 멍 뚫 기(벽 체)","  25A",3,"개소",null,0,{"$f":"#REF!","v":{"$error":"#REF!"}},{"$error":"#REF!"},{"$f":"#REF!","v":{"$error":"#REF!"}},{"$error":"#REF!"},{"$error":"#REF!"},{"$error":"#REF!"},{"$f":"#REF!","v":{"$error":"#REF!"}}]
[" 배  관  행  가"," 100(일 반)  ",11,"개소",{"$f":"#REF!","v":{"$error":"#REF!"}},{"$error":"#REF!"},null,0,null,0,{"$error":"#REF!"},{"$error":"#REF!"},{"$f":"#REF!","v":{"$error":"#REF!"}}]
[" 배  관  행  가","  80(일 반)  ",16,"개소",{"$f":"#REF!","v":{"$error":"#REF!"}},{"$error":"#REF!"},null,0,null,0,{"$error":"#REF!"},{"$error":"#REF!"},{"$f":"#REF!","v":{"$error":"#REF!"}}]
[" 배  관  행  가","  50(일 반)",42,"개소",{"$f":"#REF!","v":{"$error":"#REF!"}},{"$error":"#REF!"},null,0,null,0,{"$error":"#REF!"},{"$error":"#REF!"},{"$f":"#REF!","v":{"$error":"#REF!"}}]
[" 배  관  행  가","  50(절 연)",42,"개소",{"$f":"#REF!","v":{"$error":"#REF!"}},{"$error":"#REF!"},null,0,null,0,{"$error":"#REF!"},{"$error":"#REF!"},{"$f":"#REF!","v":{"$error":"#REF!"}}]
[" 배  관  행  가","  25(절 연)",45,"개소",{"$f":"#REF!","v":{"$error":"#REF!"}},{"$error":"#REF!"},null,0,null,0,{"$error":"#REF!"},{"$error":"#REF!"},{"$f":"#REF!","v":{"$error":"#REF!"}}]
[" 배  관  행  가","  20(절 연)",210,"개소",{"$f":"#REF!","v":{"$error":"#REF!"}},{"$error":"#REF!"},null,0,null,0,{"$error":"#REF!"},{"$error":"#REF!"},{"$f":"#REF!","v":{"$error":"#REF!"}}]
[" U 볼트 & 너 트(절 연)","  50A",2,"개소",{"$f":"#REF!","v":{"$error":"#REF!"}},{"$error":"#REF!"},null,0,null,0,{"$error":"#REF!"},{"$error":"#REF!"},{"$f":"#REF!","v":{"$error":"#REF!"}}]
[" 앵 글(STS)"," 50x50x5t",20,"KG",{"$f":"#REF!","v":{"$error":"#REF!"}},{"$error":"#REF!"},null,0,null,0,{"$error":"#REF!"},{"$error":"#REF!"}]
[" 잡 철 물 제 작 설 치"," 간 단 (스텐)",20,"KG",{"$f":"#REF!","v":{"$error":"#REF!"}},{"$error":"#REF!"},{"$f":"#REF!","v":{"$error":"#REF!"}},{"$error":"#REF!"},{"$f":"#REF!","v":{"$error":"#REF!"}},{"$error":"#REF!"},{"$error":"#REF!"},{"$error":"#REF!"},{"$f":"#REF!","v":{"$error":"#REF!"}}]
[" 게 이 트 밸 브 ","  50A STS 10KG(S)",1,"EA",{"$f":"#REF!","v":{"$error":"#REF!"}},{"$error":"#REF!"},null,0,null,0,{"$error":"#REF!"},{"$error":"#REF!"}]
[" 게 이 트 밸 브 ","  25A STS 10KG(S)",1,"EA",{"$f":"#REF!","v":{"$error":"#REF!"}},{"$error":"#REF!"},null,0,null,0,{"$error":"#REF!"},{"$error":"#REF!"}]
[" 볼 밸 브","  50A STS 10KG(S)",2,"EA",{"$f":"#REF!","v":{"$error":"#REF!"}},{"$error":"#REF!"},null,0,null,0,{"$error":"#REF!"},{"$error":"#REF!"}]
[" 볼 밸 브","  32A STS 10KG(S)",1,"EA",{"$f":"#REF!","v":{"$error":"#REF!"}},{"$error":"#REF!"},null,0,null,0,{"$error":"#REF!"},{"$error":"#REF!"}]
[" 볼 밸 브","  25A STS 10KG(S)",9,"EA",{"$f":"#REF!","v":{"$error":"#REF!"}},{"$error":"#REF!"},null,0,null,0,{"$error":"#REF!"},{"$error":"#REF!"}]
[" 볼 밸 브","  20A STS 10KG(S)",66,"EA",{"$f":"#REF!","v":{"$error":"#REF!"}},{"$error":"#REF!"},null,0,null,0,{"$error":"#REF!"},{"$error":"#REF!"}]
[" 볼 밸 브","  15A STS 10KG(S)",27,"EA",{"$f":"#REF!","v":{"$error":"#REF!"}},{"$error":"#REF!"},null,0,null,0,{"$error":"#REF!"},{"$error":"#REF!"}]
[" 스 트 레 너","  15A STS 10KG(S)",2,"EA",{"$f":"#REF!","v":{"$error":"#REF!"}},{"$error":"#REF!"},null,0,null,0,{"$error":"#REF!"},{"$error":"#REF!"}]
[" 체 크 밸 브 ","  50A STS 10KG(S)",1,"EA",{"$f":"#REF!","v":{"$error":"#REF!"}},{"$error":"#REF!"},null,0,null,0,{"$error":"#REF!"},{"$error":"#REF!"}]
[" 체 크 밸 브 ","  20A STS 10KG(S)",12,"EA",{"$f":"#REF!","v":{"$error":"#REF!"}},{"$error":"#REF!"},null,0,null,0,{"$error":"#REF!"},{"$error":"#REF!"}]
[" 밸 브 명 패",null,5,"EA",{"$f":"#REF!","v":{"$error":"#REF!"}},{"$error":"#REF!"},null,0,null,0,{"$error":"#REF!"},{"$error":"#REF!"}]
[" 자 동 공 기 변 ","  15A 물 용",2,"EA",{"$f":"#REF!","v":{"$error":"#REF!"}},{"$error":"#REF!"},null,0,null,0,{"$error":"#REF!"},{"$error":"#REF!"}]
[" 안 전 변","  25A 청 동 10KG(S)",1,"EA",{"$f":"#REF!","v":{"$error":"#REF!"}},{"$error":"#REF!"},null,0,null,0,{"$error":"#REF!"},{"$error":"#REF!"}]
[" 밸 브 박 스(STS-304)"," 200x 200x 180 (1.2T)",1,"EA",{"$f":"#REF!","v":{"$error":"#REF!"}},{"$error":"#REF!"},null,0,null,0,{"$error":"#REF!"},{"$error":"#REF!"}]
[" 환 기 캡","  50A STS  ",4,"EA",{"$f":"#REF!","v":{"$error":"#REF!"}},{"$error":"#REF!"},null,0,null,0,{"$error":"#REF!"},{"$error":"#REF!"}]
[" 압 력 계 설 치",null,1,"개소",{"$f":"#REF!","v":{"$error":"#REF!"}},{"$error":"#REF!"},{"$f":"#REF!","v":{"$error":"#REF!"}},{"$error":"#REF!"},{"$f":"#REF!","v":{"$error":"#REF!"}},{"$error":"#REF!"},{"$error":"#REF!"},{"$error":"#REF!"},{"$f":"#REF!","v":{"$error":"#REF!"}}]
[" 터 파 기"," 기계30%, 인 력 70%, ",53,"M3",{"$f":"#REF!","v":{"$error":"#REF!"}},{"$error":"#REF!"},{"$f":"#REF!","v":{"$error":"#REF!"}},{"$error":"#REF!"},{"$f":"#REF!","v":{"$error":"#REF!"}},{"$error":"#REF!"},{"$error":"#REF!"},{"$error":"#REF!"},{"$f":"#REF!","v":{"$error":"#REF!"}}]
[" 되 메 우 기"," 기계30%, 인 력 70%, ",43,"M3",{"$f":"#REF!","v":{"$error":"#REF!"}},{"$error":"#REF!"},{"$f":"#REF!","v":{"$error":"#REF!"}},{"$error":"#REF!"},{"$f":"#REF!","v":{"$error":"#REF!"}},{"$error":"#REF!"},{"$error":"#REF!"},{"$error":"#REF!"},{"$f":"#REF!","v":{"$error":"#REF!"}}]
[" 잔 토 처 리",null,10,"M3",{"$f":"#REF!","v":{"$error":"#REF!"}},{"$error":"#REF!"},{"$f":"#REF!","v":{"$error":"#REF!"}},{"$error":"#REF!"},{"$f":"#REF!","v":{"$error":"#REF!"}},{"$error":"#REF!"},{"$error":"#REF!"},{"$error":"#REF!"},{"$f":"#REF!","v":{"$error":"#REF!"}}]
[" 콘 크 리 트 포 장 깨 기"," 기계30%, 인 력 70%, ",10,"M3",{"$f":"#REF!","v":{"$error":"#REF!"}},{"$error":"#REF!"},{"$f":"#REF!","v":{"$error":"#REF!"}},{"$error":"#REF!"},{"$f":"#REF!","v":{"$error":"#REF!"}},{"$error":"#REF!"},{"$error":"#REF!"},{"$error":"#REF!"},{"$f":"#REF!","v":{"$error":"#REF!"}}]
[" 보 도 블 럭 철 거 및 포 장"," 재 사 용",48,"M2",{"$f":"#REF!","v":{"$error":"#REF!"}},{"$error":"#REF!"},{"$f":"#REF!","v":{"$error":"#REF!"}},{"$error":"#REF!"},{"$f":"#REF!","v":{"$error":"#REF!"}},{"$error":"#REF!"},{"$error":"#REF!"},{"$error":"#REF!"},{"$f":"#REF!","v":{"$error":"#REF!"}}]
[" 콘 트 리 트 타 설"," 인 력 비 빔",10,"M3",{"$f":"#REF!","v":{"$error":"#REF!"}},{"$error":"#REF!"},{"$f":"#REF!","v":{"$error":"#REF!"}},{"$error":"#REF!"},{"$f":"#REF!","v":{"$error":"#REF!"}},{"$error":"#REF!"},{"$error":"#REF!"},{"$error":"#REF!"},{"$f":"#REF!","v":{"$error":"#REF!"}}]
[" 모 래 부 설",null,10,"M3",{"$f":"#REF!","v":{"$error":"#REF!"}},{"$error":"#REF!"},{"$f":"#REF!","v":{"$error":"#REF!"}},{"$error":"#REF!"},{"$f":"#REF!","v":{"$error":"#REF!"}},{"$error":"#REF!"},{"$error":"#REF!"},{"$error":"#REF!"},{"$f":"#REF!","v":{"$error":"#REF!"}}]
[" 폐기물 상차비"," 30km",24,"ton",null,0,null,0,{"$f":"#REF!","v":{"$error":"#REF!"}},{"$error":"#REF!"},{"$error":"#REF!"},{"$error":"#REF!"}]
[" 잡자재비"," 관의  2%",1,"식",{"$f":"TRUNC(F6+F7+F8+F9+F10+F54+F55+F56+F72+F73+F74)*2%","v":{"$error":"#REF!"}},{"$error":"#REF!"},null,0,null,0,{"$error":"#REF!"},{"$error":"#REF!"}]
["인 건 비"," 배    관    공",81,"인",null,0,{"$f":"#REF!","v":{"$error":"#REF!"}},{"$error":"#REF!"},null,0,{"$error":"#REF!"},{"$error":"#REF!"}]
[null," 덕    트    공",2,"인",null,0,{"$f":"#REF!","v":{"$error":"#REF!"}},{"$error":"#REF!"},null,0,{"$error":"#REF!"},{"$error":"#REF!"}]
[null," 보  통  인  부",37,"인",null,0,{"$f":"#REF!","v":{"$error":"#REF!"}},{"$error":"#REF!"},null,0,{"$error":"#REF!"},{"$error":"#REF!"}]
["공구손료"," 인건비의  2%",1,"식",null,{"$f":"TRUNC($C135*E135)","v":0},null,{"$f":"TRUNC($C135*G135)","v":0},{"$f":"TRUNC(H134+H133+H132)*2%","v":{"$error":"#REF!"}},{"$f":"TRUNC($C135*I135)","v":{"$error":"#REF!"}},{"$f":"I135+G135+E135","v":{"$error":"#REF!"}},{"$f":"TRUNC($C135*K135)","v":{"$error":"#REF!"}}]
["소       계",null," ",null,null,{"$f":"SUM(F6:F135)","v":{"$error":"#REF!"}},null,{"$f":"SUM(H6:H135)","v":{"$error":"#REF!"}},null,{"$f":"SUM(J6:J135)","v":{"$error":"#REF!"}},null,{"$f":"SUM(L6:L135)","v":{"$error":"#REF!"}}]

{"sheet":"4.환기설비","index":9,"n_rows":41,"n_cols":13,"rows_kept":41,"cut":false,"hidden":true,"merged":[[3,0,4,0],[3,1,4,1],[3,2,4,2],[3,3,4,3],[3,12,4,12]]}
[]
[{"$f":"'3.위생배관'!A2","v":{"$error":"#REF!"}},{"$nulls":4}," "]
[" 4.환기설비공사"]
["품      명","규      격","수량","단위","재   료   비",null,"노   무   비",null,"경        비",null,"합        계",null,"비 고"]
[{"$nulls":4},"단  가","금   액","단  가","금   액","단  가","금   액","단  가","금   액"]
[" 각형덕트 제작.설치(스 텐)"," 1.0T",108,"M2",{"$f":"#REF!","v":{"$error":"#REF!"}},{"$f":"TRUNC($C6*E6)","v":{"$error":"#REF!"}},{"$f":"#REF!","v":{"$error":"#REF!"}},{"$error":"#REF!"},{"$f":"#REF!","v":{"$error":"#REF!"}},{"$error":"#REF!"},{"$f":"I6+G6+E6","v":{"$error":"#REF!"}},{"$f":"TRUNC($C6*K6)","v":{"$error":"#REF!"}},{"$f":"#REF!","v":{"$error":"#REF!"}}]
[" 각형덕트 제작.설치(스 텐)"," 0.8T",43,"M2",{"$f":"#REF!","v":{"$error":"#REF!"}},{"$error":"#REF!"},{"$f":"#REF!","v":{"$error":"#REF!"}},{"$error":"#REF!"},{"$f":"#REF!","v":{"$error":"#REF!"}},{"$error":"#REF!"},{"$f":"I7+G7+E7","v":{"$error":"#REF!"}},{"$f":"TRUNC($C7*K7)","v":{"$error":"#REF!"}},{"$f":"#REF!","v":{"$error":"#REF!"}}]
[" 각형덕트 제작.설치(스 텐)"," 0.6T",24,"M2",{"$f":"#REF!","v":{"$error":"#REF!"}},{"$error":"#REF!"},{"$f":"#REF!","v":{"$error":"#REF!"}},{"$error":"#REF!"},{"$f":"#REF!","v":{"$error":"#REF!"}},{"$error":"#REF!"},{"$error":"#REF!"},{"$error":"#REF!"},{"$f":"#REF!","v":{"$error":"#REF!"}}]
[" 덕 트 보 온"," 25T 가교발포",145,"M2",{"$f":"#REF!","v":{"$error":"#REF!"}},{"$error":"#REF!"},{"$f":"#REF!","v":{"$error":"#REF!"}},{"$error":"#REF!"},{"$f":"#REF!","v":{"$error":"#REF!"}},{"$error":"#REF!"},{"$error":"#REF!"},{"$error":"#REF!"},{"$f":"#REF!","v":{"$error":"#REF!"}}]
[" 캔 버 스 이 음",null,5,"M2",{"$f":"#REF!","v":{"$error":"#REF!"}},{"$error":"#REF!"},{"$f":"#REF!","v":{"$error":"#REF!"}},{"$error":"#REF!"},{"$f":"#REF!","v":{"$error":"#REF!"}},{"$error":"#REF!"},{"$error":"#REF!"},{"$error":"#REF!"},{"$f":"#REF!","v":{"$error":"#REF!"}}]
[" 스 텐 망",null,2,"M2",{"$f":"#REF!","v":{"$error":"#REF!"}},{"$error":"#REF!"},null,0,null,0,{"$error":"#REF!"},{"$error":"#REF!"}]
[" 스텐레스 관(K-TYPE)","  20A",12,"M",{"$f":"#REF!","v":{"$error":"#REF!"}},{"$error":"#REF!"},null,0,null,0,{"$error":"#REF!"},{"$error":"#REF!"}]
[" 스텐렌스 엘보","  20A  프레스식 ",1,"EA",{"$f":"#REF!","v":{"$error":"#REF!"}},{"$error":"#REF!"},null,0,null,0,{"$error":"#REF!"},{"$error":"#REF!"}]
[" 스텐렌스 티이","  20A  프레스식 ",1,"EA",{"$f":"#REF!","v":{"$error":"#REF!"}},{"$error":"#REF!"},null,0,null,0,{"$error":"#REF!"},{"$error":"#REF!"}]
[" 스텐레스 유니온","  20A  프레스식 ",2,"EA",{"$f":"#REF!","v":{"$error":"#REF!"}},{"$error":"#REF!"},null,0,null,0,{"$error":"#REF!"},{"$error":"#REF!"}]
[" 스텐레스 숫아답타소켓","  20A  프레스식 ",2,"EA",{"$f":"#REF!","v":{"$error":"#REF!"}},{"$error":"#REF!"},null,0,null,0,{"$error":"#REF!"},{"$error":"#REF!"}]
[" P.V.C    관"," 100A (VG2)",8,"M",{"$f":"#REF!","v":{"$error":"#REF!"}},{"$error":"#REF!"},null,0,null,0,{"$error":"#REF!"},{"$error":"#REF!"}]
[" 코 아 구 멍 뚫 기(벽 체)"," 100A  ",2,"개소",null,0,{"$f":"#REF!","v":{"$error":"#REF!"}},{"$error":"#REF!"},{"$f":"#REF!","v":{"$error":"#REF!"}},{"$error":"#REF!"},{"$error":"#REF!"},{"$error":"#REF!"},{"$f":"#REF!","v":{"$error":"#REF!"}}]
[" 배  관  행  가"," 100(일 반)  ",5,"개소",{"$f":"#REF!","v":{"$error":"#REF!"}},{"$error":"#REF!"},null,0,null,0,{"$error":"#REF!"},{"$error":"#REF!"},{"$f":"#REF!","v":{"$error":"#REF!"}}]
[" 스 텐 브 라 켓 트","  20A",2,"EA",{"$f":"#REF!","v":{"$error":"#REF!"}},{"$error":"#REF!"},null,0,null,0,{"$error":"#REF!"},{"$error":"#REF!"}]
[" U 볼트 & 너 트(절 연)","  20A",2,"개소",{"$f":"#REF!","v":{"$error":"#REF!"}},{"$error":"#REF!"},null,0,null,0,{"$error":"#REF!"},{"$error":"#REF!"},{"$f":"#REF!","v":{"$error":"#REF!"}}]
[" 볼 밸 브","  20A STS 10KG(S)",2,"EA",{"$f":"#REF!","v":{"$error":"#REF!"}},{"$error":"#REF!"},null,0,null,0,{"$error":"#REF!"},{"$error":"#REF!"}]
[" 밸 브 명 패",null,2,"EA",5000,10000,null,0,null,0,5000,10000]
[" 레 지 스 터 (STS)"," 300x 250",3,"EA",{"$f":"#REF!","v":{"$error":"#REF!"}},{"$error":"#REF!"},null,0,null,0,{"$error":"#REF!"},{"$error":"#REF!"}]
[" 환 기 캡"," 100A STS  ",2,"EA",{"$f":"#REF!","v":{"$error":"#REF!"}},{"$error":"#REF!"},null,0,null,0,{"$error":"#REF!"},{"$error":"#REF!"}]
[" STS BAND"," 200A  ",24,"EA",{"$f":"#REF!","v":{"$error":"#REF!"}},{"$error":"#REF!"},null,0,null,0,{"$error":"#REF!"},{"$error":"#REF!"}]
[" STS BAND"," 100A  ",4,"EA",{"$f":"#REF!","v":{"$error":"#REF!"}},{"$error":"#REF!"},null,0,null,0,{"$error":"#REF!"},{"$error":"#REF!"}]
[" 후 렉 시 블 덕 트 호 스"," 200A . AL. 비보온",18,"M",{"$f":"#REF!","v":{"$error":"#REF!"}},{"$error":"#REF!"},null,0,null,0,{"$error":"#REF!"},{"$error":"#REF!"}]
[" 후 렉 시 블 덕 트 호 스"," 100A . AL. 비보온",2,"M",{"$f":"#REF!","v":{"$error":"#REF!"}},{"$error":"#REF!"},null,0,null,0,{"$error":"#REF!"},{"$error":"#REF!"}]
[" 프 리 필 터(박스포함)"," 750x300x10T",1,"EA",100000,100000,null,0,null,0,100000,100000]
[" V.D (핸들포함)"," 500 x 350",1,"EA",{"$f":"#REF!","v":{"$error":"#REF!"}},{"$error":"#REF!"},null,0,null,0,{"$error":"#REF!"},{"$error":"#REF!"}]
[" V.D (핸들포함)"," 450 x 300",5,"EA",{"$f":"#REF!","v":{"$error":"#REF!"}},{"$error":"#REF!"},null,0,null,0,{"$error":"#REF!"},{"$error":"#REF!"}]
[" V.D (핸들포함)"," 350 x 300",1,"EA",{"$f":"#REF!","v":{"$error":"#REF!"}},{"$error":"#REF!"},null,0,null,0,{"$error":"#REF!"},{"$error":"#REF!"}]
[" V.D (핸들포함)"," 200A",1,"EA",{"$f":"#REF!","v":{"$error":"#REF!"}},{"$error":"#REF!"},null,0,null,0,{"$error":"#REF!"},{"$error":"#REF!"}]
[" 폐기물 상차비"," 30km",8.2000000000000003E-2,"ton",null,0,null,0,{"$f":"#REF!","v":{"$error":"#REF!"}},{"$error":"#REF!"},{"$error":"#REF!"},{"$error":"#REF!"}]
[" 잡자재비"," 관의  2%",1,"식",{"$f":"TRUNC(F12)*2%","v":{"$error":"#REF!"}},{"$error":"#REF!"},null,0,null,0,{"$error":"#REF!"},{"$error":"#REF!"}]
["인 건 비"," 배    관    공",1,"인",null,0,{"$f":"#REF!","v":{"$error":"#REF!"}},{"$error":"#REF!"},null,0,{"$error":"#REF!"},{"$error":"#REF!"}]
[null," 덕    트    공",27,"인",null,0,{"$f":"#REF!","v":{"$error":"#REF!"}},{"$error":"#REF!"},null,0,{"$error":"#REF!"},{"$error":"#REF!"}]
[null," 보  통  인  부",4,"인",null,0,{"$f":"#REF!","v":{"$error":"#REF!"}},{"$error":"#REF!"},null,0,{"$error":"#REF!"},{"$error":"#REF!"}]
[" 공구손료"," 인건비의  2%",1,"식",null,0,null,0,{"$f":"TRUNC(H39+H38+H37)*2%","v":{"$error":"#REF!"}},{"$error":"#REF!"},{"$error":"#REF!"},{"$error":"#REF!"}]
["소       계",null," ",null,null,{"$f":"SUM(F6:F40)","v":{"$error":"#REF!"}},null,{"$f":"SUM(H6:H40)","v":{"$error":"#REF!"}},null,{"$f":"SUM(J6:J40)","v":{"$error":"#REF!"}},null,{"$f":"SUM(L12:L40)","v":{"$error":"#REF!"}}]

{"sheet":"5.가스설비","index":10,"n_rows":54,"n_cols":13,"rows_kept":54,"cut":false,"hidden":true,"merged":[[3,0,4,0],[3,1,4,1],[3,2,4,2],[3,3,4,3],[3,12,4,12]]}
[]
[{"$f":"'3.위생배관'!A2","v":{"$error":"#REF!"}},{"$nulls":4}," "]
[" 5.가스설비공사"]
["품      명","규      격","수량","단위","재   료   비",null,"노   무   비",null,"경        비",null,"합        계",null,"비 고"]
[{"$nulls":4},"단  가","금   액","단  가","금   액","단  가","금   액","단  가","금   액"]
[" 가스용 백관 (KSD-3631)","  80A  ",36,"M",{"$f":"#REF!","v":{"$error":"#REF!"}},{"$f":"TRUNC($C6*E6)","v":{"$error":"#REF!"}},null,{"$f":"TRUNC($C6*G6)","v":0},null,{"$f":"TRUNC($C6*I6)","v":0},{"$f":"I6+G6+E6","v":{"$error":"#REF!"}},{"$f":"TRUNC($C6*K6)","v":{"$error":"#REF!"}}]
[" 가스용 백관 (KSD-3631)","  65A",12,"M",{"$f":"#REF!","v":{"$error":"#REF!"}},{"$error":"#REF!"},null,0,null,0,{"$f":"I7+G7+E7","v":{"$error":"#REF!"}},{"$f":"TRUNC($C7*K7)","v":{"$error":"#REF!"}}]
[" 가스용 백관 (KSD-3631)","  50A",18,"M",{"$f":"#REF!","v":{"$error":"#REF!"}},{"$error":"#REF!"},null,0,null,0,{"$error":"#REF!"},{"$error":"#REF!"}]
[" 가스용 백관 (KSD-3631)","  32A",6,"M",{"$f":"#REF!","v":{"$error":"#REF!"}},{"$error":"#REF!"},null,0,null,0,{"$error":"#REF!"},{"$error":"#REF!"}]
[" 가스용 백관 (KSD-3631)","  20A",54,"M",{"$f":"#REF!","v":{"$error":"#REF!"}},{"$error":"#REF!"},null,0,null,0,{"$error":"#REF!"},{"$error":"#REF!"}]
[" 백 엘보","  80A  용접용",5,"EA",{"$f":"#REF!","v":{"$error":"#REF!"}},{"$error":"#REF!"},null,0,null,0,{"$error":"#REF!"},{"$error":"#REF!"}]
[" 백 엘보","  65A  용접용",1,"EA",{"$f":"#REF!","v":{"$error":"#REF!"}},{"$error":"#REF!"},null,0,null,0,{"$error":"#REF!"},{"$error":"#REF!"}]
[" 백 엘보","  50A  나사용",2,"EA",{"$f":"#REF!","v":{"$error":"#REF!"}},{"$error":"#REF!"},null,0,null,0,{"$error":"#REF!"},{"$error":"#REF!"}]
[" 백 엘보","  32A  나사용",1,"EA",{"$f":"#REF!","v":{"$error":"#REF!"}},{"$error":"#REF!"},null,0,null,0,{"$error":"#REF!"},{"$error":"#REF!"}]
[" 백 티이","  80A  용접용",7,"EA",{"$f":"#REF!","v":{"$error":"#REF!"}},{"$error":"#REF!"},null,0,null,0,{"$error":"#REF!"},{"$error":"#REF!"}]
[" 백 티이","  65A  용접용",3,"EA",{"$f":"#REF!","v":{"$error":"#REF!"}},{"$error":"#REF!"},null,0,null,0,{"$error":"#REF!"},{"$error":"#REF!"}]
[" 백 티이","  50A  나사용",3,"EA",{"$f":"#REF!","v":{"$error":"#REF!"}},{"$error":"#REF!"},null,0,null,0,{"$error":"#REF!"},{"$error":"#REF!"}]
[" 백 티이","  32A  나사용",2,"EA",{"$f":"#REF!","v":{"$error":"#REF!"}},{"$error":"#REF!"},null,0,null,0,{"$error":"#REF!"},{"$error":"#REF!"}]
[" 백 레듀샤","  80A x  65A  용접용 ",1,"EA",{"$f":"#REF!","v":{"$error":"#REF!"}},{"$error":"#REF!"},null,0,null,0,{"$error":"#REF!"},{"$error":"#REF!"}]
[" 백 캡","  80A  용접용",1,"EA",{"$f":"#REF!","v":{"$error":"#REF!"}},{"$error":"#REF!"},null,0,null,0,{"$error":"#REF!"},{"$error":"#REF!"}]
[" 백 캡","  65A  용접용",1,"EA",{"$f":"#REF!","v":{"$error":"#REF!"}},{"$error":"#REF!"},null,0,null,0,{"$error":"#REF!"},{"$error":"#REF!"}]
[" 백 캡","  50A  나사용",1,"EA",{"$f":"#REF!","v":{"$error":"#REF!"}},{"$error":"#REF!"},null,0,null,{"$f":"TRUNC($C22*I22)","v":0},{"$error":"#REF!"},{"$error":"#REF!"}]
[" 백 캡","  32A  나사용",1,"EA",{"$f":"#REF!","v":{"$error":"#REF!"}},{"$error":"#REF!"},null,0,null,0,{"$error":"#REF!"},{"$error":"#REF!"}]
[" 강 후렌지","  80A  (합) 10㎏",2,"조",{"$f":"#REF!","v":{"$error":"#REF!"}},{"$error":"#REF!"},{"$f":"#REF!","v":{"$error":"#REF!"}},{"$error":"#REF!"},{"$f":"#REF!","v":{"$error":"#REF!"}},{"$error":"#REF!"},{"$error":"#REF!"},{"$error":"#REF!"},{"$f":"#REF!","v":{"$error":"#REF!"}}]
[" 강 관 용 접","  80A  ",34,"개소",{"$f":"#REF!","v":{"$error":"#REF!"}},{"$error":"#REF!"},{"$f":"#REF!","v":{"$error":"#REF!"}},{"$error":"#REF!"},{"$f":"#REF!","v":{"$error":"#REF!"}},{"$error":"#REF!"},{"$error":"#REF!"},{"$error":"#REF!"},{"$f":"#REF!","v":{"$error":"#REF!"}}]
[" 강 관 용 접","  65A",13,"개소",{"$f":"#REF!","v":{"$error":"#REF!"}},{"$error":"#REF!"},{"$f":"#REF!","v":{"$error":"#REF!"}},{"$error":"#REF!"},{"$f":"#REF!","v":{"$error":"#REF!"}},{"$error":"#REF!"},{"$error":"#REF!"},{"$error":"#REF!"},{"$f":"#REF!","v":{"$error":"#REF!"}}]
[" 주강 볼밸브","  80A  10KG(F)  ",1,"EA",{"$f":"#REF!","v":{"$error":"#REF!"}},{"$error":"#REF!"},null,0,null,0,{"$error":"#REF!"},{"$error":"#REF!"}]
[" 주강 볼밸브","  50A  10KG(F)",1,"EA",{"$f":"#REF!","v":{"$error":"#REF!"}},{"$error":"#REF!"},null,0,null,0,{"$error":"#REF!"},{"$error":"#REF!"}]
[" 황동 볼밸브","  20A  10KG(S)",12,"EA",{"$f":"#REF!","v":{"$error":"#REF!"}},{"$error":"#REF!"},null,0,null,0,{"$error":"#REF!"},{"$error":"#REF!"}]
[" 가 스 누 설 차 단 기"," SH-80 동등이상품",1,"EA",{"$f":"#REF!","v":{"$error":"#REF!"}},{"$error":"#REF!"},null,0,null,0,{"$error":"#REF!"},{"$error":"#REF!"}]
[" 가 스 누 설 경 보 기"," 공 업 용 (다 회 로)",5,"EA",{"$f":"#REF!","v":{"$error":"#REF!"}},{"$error":"#REF!"},null,0,null,0,{"$error":"#REF!"},{"$error":"#REF!"}]
[" 가 스 누 설 감 지 기"," 공 업 용 (분 리 형)",4,"EA",90000,360000,null,0,null,0,90000,360000]
[" 감 지 기 카 바",null,4,"EA",{"$f":"#REF!","v":{"$error":"#REF!"}},{"$error":"#REF!"},null,0,null,0,{"$error":"#REF!"},{"$error":"#REF!"}]
[" 금 속 후 렉 시 블 호 스","  20Ax 1000L, 가스용",12,"EA",{"$f":"#REF!","v":{"$error":"#REF!"}},{"$error":"#REF!"},null,0,null,0,{"$error":"#REF!"},{"$error":"#REF!"}]
[" 금 속 밸 브 소 켓","  20A, 가스용",12,"EA",{"$f":"#REF!","v":{"$error":"#REF!"}},{"$error":"#REF!"},null,0,null,0,{"$error":"#REF!"},{"$error":"#REF!"}]
[" 일 반 브 라 켓 트","  80A  ",11,"EA",{"$f":"#REF!","v":{"$error":"#REF!"}},{"$error":"#REF!"},null,0,null,0,{"$error":"#REF!"},{"$error":"#REF!"}]
[" 일 반 브 라 켓 트","  65A",3,"EA",{"$f":"#REF!","v":{"$error":"#REF!"}},{"$error":"#REF!"},null,0,null,0,{"$error":"#REF!"},{"$error":"#REF!"}]
[" 일 반 브 라 켓 트","  50A",4,"EA",{"$f":"#REF!","v":{"$error":"#REF!"}},{"$error":"#REF!"},null,0,null,0,{"$error":"#REF!"},{"$error":"#REF!"}]
[" 일 반 브 라 켓 트","  32A",3,"EA",{"$f":"#REF!","v":{"$error":"#REF!"}},{"$error":"#REF!"},null,0,null,0,{"$error":"#REF!"},{"$error":"#REF!"}]
[" 일 반 브 라 켓 트","  20A",27,"EA",{"$f":"#REF!","v":{"$error":"#REF!"}},{"$error":"#REF!"},null,0,null,0,{"$error":"#REF!"},{"$error":"#REF!"}]
[" U 볼트 & 너 트(일 반)","  80A  ",11,"개소",{"$f":"#REF!","v":{"$error":"#REF!"}},{"$error":"#REF!"},null,0,null,0,{"$error":"#REF!"},{"$error":"#REF!"},{"$f":"#REF!","v":{"$error":"#REF!"}}]
[" U 볼트 & 너 트(일 반)","  65A",3,"개소",{"$f":"#REF!","v":{"$error":"#REF!"}},{"$error":"#REF!"},null,0,null,0,{"$error":"#REF!"},{"$error":"#REF!"},{"$f":"#REF!","v":{"$error":"#REF!"}}]
[" U 볼트 & 너 트(일 반)","  50A",4,"개소",{"$f":"#REF!","v":{"$error":"#REF!"}},{"$error":"#REF!"},null,0,null,0,{"$error":"#REF!"},{"$error":"#REF!"},{"$f":"#REF!","v":{"$error":"#REF!"}}]
[" U 볼트 & 너 트(일 반)","  32A",3,"개소",{"$f":"#REF!","v":{"$error":"#REF!"}},{"$error":"#REF!"},null,0,null,0,{"$error":"#REF!"},{"$error":"#REF!"},{"$f":"#REF!","v":{"$error":"#REF!"}}]
[" U 볼트 & 너 트(일 반)","  20A",27,"개소",{"$f":"#REF!","v":{"$error":"#REF!"}},{"$error":"#REF!"},null,0,null,0,{"$error":"#REF!"},{"$error":"#REF!"},{"$f":"#REF!","v":{"$error":"#REF!"}}]
[" 녹막이 페인트칠"," 2  회",19,"M2",{"$f":"#REF!","v":{"$error":"#REF!"}},{"$error":"#REF!"},{"$f":"#REF!","v":{"$error":"#REF!"}},{"$error":"#REF!"},{"$f":"#REF!","v":{"$error":"#REF!"}},{"$error":"#REF!"},{"$error":"#REF!"},{"$error":"#REF!"},{"$f":"#REF!","v":{"$error":"#REF!"}}]
[" 유 성 페 인 트 칠"," 2  회",19,"M2",{"$f":"#REF!","v":{"$error":"#REF!"}},{"$error":"#REF!"},{"$f":"#REF!","v":{"$error":"#REF!"}},{"$error":"#REF!"},{"$f":"#REF!","v":{"$error":"#REF!"}},{"$error":"#REF!"},{"$error":"#REF!"},{"$error":"#REF!"},{"$f":"#REF!","v":{"$error":"#REF!"}}]
[" 강 관 나 사 접 합","  50A",10,"개소",{"$f":"#REF!","v":{"$error":"#REF!"}},{"$error":"#REF!"},{"$f":"#REF!","v":{"$error":"#REF!"}},{"$error":"#REF!"},{"$f":"#REF!","v":{"$error":"#REF!"}},{"$error":"#REF!"},{"$error":"#REF!"},{"$error":"#REF!"},{"$f":"#REF!","v":{"$error":"#REF!"}}]
[" 강 관 나 사 접 합","  32A",7,"개소",{"$f":"#REF!","v":{"$error":"#REF!"}},{"$error":"#REF!"},{"$f":"#REF!","v":{"$error":"#REF!"}},{"$error":"#REF!"},{"$f":"#REF!","v":{"$error":"#REF!"}},{"$error":"#REF!"},{"$error":"#REF!"},{"$error":"#REF!"},{"$f":"#REF!","v":{"$error":"#REF!"}}]
[" 잡자재비"," 관의  2%",1,"식",{"$f":"TRUNC(F30+F37+F38)*2%","v":{"$error":"#REF!"}},{"$error":"#REF!"},null,0,null,0,{"$error":"#REF!"},{"$error":"#REF!"}]
["인 건 비"," 배    관    공",15,"인",null,0,{"$f":"#REF!","v":{"$error":"#REF!"}},{"$error":"#REF!"},null,0,{"$error":"#REF!"},{"$error":"#REF!"}]
[null," 보  통  인  부",7,"인",null,0,{"$f":"#REF!","v":{"$error":"#REF!"}},{"$error":"#REF!"},null,0,{"$error":"#REF!"},{"$error":"#REF!"}]
[" 공구손료"," 인건비의  2%",1,"식",null,0,null,0,{"$f":"TRUNC(H52+H51)*2%","v":{"$error":"#REF!"}},{"$error":"#REF!"},{"$error":"#REF!"},{"$error":"#REF!"}]
["소       계",null," ",null,null,{"$f":"SUM(F6:F53)","v":{"$error":"#REF!"}},null,{"$f":"SUM(H6:H53)","v":{"$error":"#REF!"}},null,{"$f":"SUM(J6:J53)","v":{"$error":"#REF!"}},null,{"$f":"SUM(L10:L53)","v":{"$error":"#REF!"}}]

{"sheet":"9.부산시교육청 폼","index":11,"n_rows":75,"n_cols":11,"rows_kept":75,"cut":false,"hidden":true,"merged":[[3,0,4,0],[3,1,4,1],[3,2,4,2],[3,3,4,3],[3,10,4,10]]}
[]
["## 공 사 명 : 용암초등학교 서관개축 기계설비공사",{"$nulls":4}," "]
[" 9. 가스설비공사"]
["품      명","규      격","수량","단위","재   료   비",null,"노   무   비",null,"경        비",null,"비 고"]
[{"$nulls":4},"단  가","금   액","단  가","금   액","단  가","금   액"]
[" 백 강관(KSD-3507)"," 100A  ",6,"M",16443,{"$f":"TRUNC($C6*E6)","v":98658},null,0,null,{"$f":"TRUNC($C6*I6)","v":0}]
[" 백 강관(KSD-3507)","  50A",30,"M",6905,207150,null,0,null,0]
[" 백 강관(KSD-3507)","  40A",18,"M",4900,88200,null,0,null,0]
[" 백 강관(KSD-3507)","  25A",24,"M",3320,79680,null,0,null,0]
[" 백 강관(KSD-3507)","  20A",12,"M",2271,27252,null,0,null,0]
[" 백 엘보"," 100A  용접용",2,"EA",9850,19700,null,0,null,0]
[" 백 엘보","  50A  나사용",8,"EA",3880,31040,null,0,null,0]
[" 백 엘보","  25A  나사용",17,"EA",1390,23630,null,0,null,0]
[" 백 엘보","  20A  나사용",6,"EA",870,5220,null,0,null,0]
[" 백 티이"," 100A  용접용",1,"EA",14190,14190,null,0,null,0]
[" 백 티이","  50A  나사용",12,"EA",5050,60600,null,0,null,0]
[" 백 티이","  25A  나사용",1,"EA",1920,1920,null,0,null,0]
[" 백 캡"," 100A  용접용",1,"EA",5170,5170,null,0,null,0]
[" 백 캡","  50A  나사용",1,"EA",2880,2880,null,0,null,0]
[" 백 캡","  25A  나사용",1,"EA",920,920,null,0,null,0]
[" 강 후렌지"," 100A  (조) 10㎏",2,"EA",21023,42046,67820,135640,1356,2712,"대가3호"]
[" 강 관 용 접"," 100A  ",7,"개소",805,5635,33910,237370,678,4746,"대가2호"]
[" 강 관 용 접","  50A",1,"개소",146,146,18962,18962,379,379,"대가1호"]
[" P.E 가스관","  90A  ",27,"M",12010,324270,null,0,null,0]
[" 가스용 P.E 90'엘 보","  90A  ",5,"EA",46750,233750,null,0,null,0]
[" P.E  T/ F","  90A  ",1,"EA",62190,62190,null,0,null,0]
[" P.E  전자소켓","  90A  ",7,"EA",30400,212800,null,0,null,0]
[" 가스계량기","  G- 25(40㎥/HR)",1,"EA",1376000,1376000,null,0,null,0]
[" 도시가스온압보정기"," G-25용",1,"EA",1300000,1300000,null,0,null,0]
[" 미터기카바(STS 1.2T)"," 600*400*800(G-25용)",1,"EA",300000,300000,null,0,null,0]
[" 가 스 누 설 차 단 기"," SH-50 동등이상품",1,"EA",450000,450000,null,0,null,0]
[" 가 스 누 설 감 지 기"," 공 업 용 (분 리 형)",5,"EA",90000,450000,null,0,null,0]
[" 감 지 기 카 바",null,5,"EA",30000,150000,null,0,null,0]
[" 라 인 마 크",null,4,"EA",4000,16000,null,0,null,0]
[" 가 스 관 보 호 대",null,1,"EA",125000,125000,null,0,null,0]
[" 가 스 누 설 경 보 기"," 공 업 용 (다 회 로)",6,"회로",350000,2100000,null,0,null,0]
[" 금 속 후 렉 시 블 호 스","  25Ax 1000L, 가스용",6,"EA",30000,180000,null,0,null,0]
[" 금 속 후 렉 시 블 호 스","  20Ax 1000L, 가스용",5,"EA",20000,100000,null,0,null,0]
[" P. E 가 스 융 착","  90A",25,"개소",null,0,53999,1349975,2699,67475,"대가57호"]
[" 스 텐 브 라 켓 트"," 100A  ",1,"EA",4000,4000,null,0,null,0]
[" 스 텐 브 라 켓 트","  50A",8,"EA",2500,20000,null,0,null,0]
[" 스 텐 브 라 켓 트","  40A",6,"EA",2300,13800,null,0,null,0]
[" 스 텐 브 라 켓 트","  25A",9,"EA",1500,13500,null,0,null,0]
[" 스 텐 브 라 켓 트","  20A",3,"EA",1300,3900,null,0,null,0]
[" U 볼트 & 너 트(일 반)"," 100A  ",1,"개소",939,939,null,0,null,0]
[" U 볼트 & 너 트(일 반)","  50A",8,"개소",305,2440,null,0,null,0]
[" U 볼트 & 너 트(일 반)","  40A",6,"개소",281,1686,null,0,null,0]
[" U 볼트 & 너 트(일 반)","  25A",9,"개소",255,2295,null,0,null,0]
[" U 볼트 & 너 트(일 반)","  20A",3,"개소",244,732,null,0,null,0]
[" 주강 볼밸브"," 100A  10KG(F)  ",1,"EA",332690,332690,null,0,null,0]
[" 황동 볼밸브","  50A  10KG(S)",3,"EA",30660,91980,null,0,null,0]
[" 황동 볼밸브","  25A  10KG(S)",6,"EA",9250,55500,null,0,null,0]
[" 황동 볼밸브","  20A  10KG(S)",5,"EA",5150,25750,null,0,null,0]
[" 녹막이 페인트칠"," 2  회",10,"M2",1648,16480,6788,67880,135,1350,"대가39호"]
[" 유 성 페 인 트 칠"," 2  회",10,"M2",962,9620,9050,90500,181,1810,"대가40호"]
[" 터 파 기"," 인 력",7,"M3",null,0,27658,193606,null,0,"대가58호"]
[" 되 메 우 기"," 인 력",3,"M3",null,0,13829,41487,null,0,"대가59호"]
[" 터 파 기"," 기 계",15,"M3",422,6330,2257,33855,657,9855,"대가60호"]
[" 되 메 우 기"," 기 계",8,"M3",475,3800,4698,37584,490,3920,"대가61호"]
[" 잔 토 처 리",null,7,"M3",5334,37338,11684,81788,2989,20923,"대가62호"]
[" 콘 크 리 트 컷 팅",null,26,"M",510,13260,4876,126776,257,6682,"대가63호"]
[" 아 스 팔 트 포 장 컷 팅",null,28,"M",416,11648,1206,33768,73,2044,"대가64호"]
[" 콘 트 리 트 타 설"," 인 력 비 빔",5,"M3",77560,387800,271355,1356775,0,0,"대가66호"]
[" 아 스 콘 포 장( 인 력)"," T= 50",12,"M2",8574,102888,6044,72528,499,5988,"대가67호"]
[" 탄 성 제 포 장",null,11,"M2",100000,1100000,null,0,null,0]
[" 모 래 부 설",null,7,"M3",45600,319200,55316,387212,1106,7742,"대가69호"]
[" 기 밀 시 험",null,1,"회",null,0,34159,34159,null,0]
[" 시 험 점 화",null,1,"회",null,0,17422,17422,null,0]
[" 작 업 부 산 물"," 고 철",100,"KG",-350,-35000,null,0,null,0]
[" 잡자재비"," 관의  3%",1,"식",{"$f":"TRUNC(F6+F7+F8+F9+F10)*3%","v":15028.199999999999},{"$f":"TRUNC($C70*E70)","v":15028},null,0,null,0]
["인 건 비"," 배    관    공",6,"인",null,0,189003,1134018,null,0]
[null," 보  통  인  부",3,"인",null,0,138290,414870,null,0]
[null," 계 장 공 ",2,"인",null,0,223793,447586,null,0]
["공구손료"," 인건비의  2%",1,"식",null,0,null,0,{"$f":"TRUNC(H71+H72+H73)*2%","v":39929.480000000003},39929]
["소       계",null," ",null,null,{"$f":"SUM(F6:F74)","v":10651651},null,{"$f":"SUM(H6:H74)","v":6313761},null,{"$f":"SUM(J6:J74)","v":175555}]

{"sheet":"6.관급자재설치에 따른기타공사","index":12,"n_rows":35,"n_cols":14,"rows_kept":35,"cut":false,"hidden":true,"merged":[[3,0,4,0],[3,1,4,1],[3,2,4,2],[3,3,4,3],[3,12,4,12]]}
[]
[{"$f":"'3.위생배관'!A2","v":{"$error":"#REF!"}},{"$nulls":4}," "]
[" 6.관급자재 설치에 따른 기타공사"]
["품      명","규      격","수량","단위","재   료   비",null,"노   무   비",null,"경        비",null,"합        계",null,"비 고"]
[{"$nulls":4},"단  가","금   액","단  가","금   액","단  가","금   액","단  가","금   액"]
["6-1 히터펌프 구매설치",{"$nulls":4},{"$f":"TRUNC($C6*E6)","v":0},null,0,null,0,{"$f":"I6+G6+E6","v":0},{"$f":"TRUNC($C6*K6)","v":0}]
[" 윈드바이져 설치"," 4-WAY용",6,"SET",100000,4500000,25436,1144620,0,0,125436,5644620]
[" 천정형 냉,난방기 실외기 철거","  10HP~12HP",1,"대",null,0,{"$f":"#REF!","v":{"$error":"#REF!"}},{"$error":"#REF!"},null,0,{"$f":"I8+G8+E8","v":{"$error":"#REF!"}},{"$f":"TRUNC($C8*K8)","v":{"$error":"#REF!"}},{"$f":"#REF!","v":{"$error":"#REF!"}}]
[" 천정형 냉,난방기 실외기 철거","  24HP~30HP",1,"대",null,0,{"$f":"#REF!","v":{"$error":"#REF!"}},{"$error":"#REF!"},null,0,{"$error":"#REF!"},{"$error":"#REF!"},{"$f":"#REF!","v":{"$error":"#REF!"}}]
[" 냉,난방기 실내기 철거"," 천정형",8,"대",null,0,{"$f":"#REF!","v":{"$error":"#REF!"}},{"$error":"#REF!"},null,0,{"$error":"#REF!"},{"$error":"#REF!"},{"$f":"#REF!","v":{"$error":"#REF!"}}]
[" 냉,난방기 실내기 철거"," 스텐드형",1,"대",null,0,{"$f":"#REF!","v":{"$error":"#REF!"}},{"$error":"#REF!"},null,0,{"$error":"#REF!"},{"$error":"#REF!"},{"$f":"#REF!","v":{"$error":"#REF!"}}]
[" 스텐드형 냉난방기 이설"," 10HP",1,"대",null,0,null,0,null,0,0,0,null,"견적받아야 됨"]
[" 코 아 구 멍 뚫 기(벽 체)","  75A  ",4,"개소",null,0,{"$f":"#REF!","v":{"$error":"#REF!"}},{"$error":"#REF!"},{"$f":"#REF!","v":{"$error":"#REF!"}},{"$error":"#REF!"},{"$error":"#REF!"},{"$error":"#REF!"},{"$f":"#REF!","v":{"$error":"#REF!"}}]
[" 코 아 구 멍 뚫 기(벽 체)"," 250A  ",12,"개소",null,0,{"$f":"#REF!","v":{"$error":"#REF!"}},{"$error":"#REF!"},{"$f":"#REF!","v":{"$error":"#REF!"}},{"$error":"#REF!"},{"$error":"#REF!"},{"$error":"#REF!"},{"$f":"#REF!","v":{"$error":"#REF!"}}]
[" 반달형 캡 설치","  32A",1,"개소",{"$f":"#REF!","v":{"$error":"#REF!"}},{"$error":"#REF!"},{"$f":"#REF!","v":{"$error":"#REF!"}},{"$error":"#REF!"},null,0,{"$error":"#REF!"},{"$error":"#REF!"},{"$f":"#REF!","v":{"$error":"#REF!"}}]
[" 유선리모컨 철거",null,8,"개소",null,0,{"$f":"#REF!","v":{"$error":"#REF!"}},{"$error":"#REF!"},null,0,{"$error":"#REF!"},{"$error":"#REF!"},{"$f":"#REF!","v":{"$error":"#REF!"}}]
[" 동관철거"," 8A(9.52￠)",71,"M",null,0,{"$f":"#REF!","v":{"$error":"#REF!"}},{"$error":"#REF!"},null,0,{"$error":"#REF!"},{"$error":"#REF!"},{"$f":"#REF!","v":{"$error":"#REF!"}}]
[" 동관철거"," 10A(12.7￠)",108,"M",null,0,{"$f":"#REF!","v":{"$error":"#REF!"}},{"$error":"#REF!"},null,0,{"$error":"#REF!"},{"$error":"#REF!"},{"$f":"#REF!","v":{"$error":"#REF!"}}]
[" 동관철거"," 20A(19.05￠)",4,"M",null,0,{"$f":"#REF!","v":{"$error":"#REF!"}},{"$error":"#REF!"},null,0,{"$error":"#REF!"},{"$error":"#REF!"},{"$f":"#REF!","v":{"$error":"#REF!"}}]
[" 동관철거"," 25A(28.58￠)",37,"M",null,0,{"$f":"#REF!","v":{"$error":"#REF!"}},{"$error":"#REF!"},null,0,{"$error":"#REF!"},{"$error":"#REF!"},{"$f":"#REF!","v":{"$error":"#REF!"}}]
[" 동관철거"," 32A(34.9￠)",4,"M",null,0,{"$f":"#REF!","v":{"$error":"#REF!"}},{"$error":"#REF!"},null,0,{"$error":"#REF!"},{"$error":"#REF!"},{"$f":"#REF!","v":{"$error":"#REF!"}}]
[" 보온재 철거"," D15x10T",172,"M",null,0,{"$f":"#REF!","v":{"$error":"#REF!"}},{"$error":"#REF!"},null,0,{"$error":"#REF!"},{"$error":"#REF!"},{"$f":"#REF!","v":{"$error":"#REF!"}}]
[" 보온재 철거"," D20x10T",11,"M",null,0,{"$f":"#REF!","v":{"$error":"#REF!"}},{"$error":"#REF!"},null,0,{"$error":"#REF!"},{"$error":"#REF!"},{"$f":"#REF!","v":{"$error":"#REF!"}}]
[" 보온재 철거"," D25x10T",37,"M",null,0,{"$f":"#REF!","v":{"$error":"#REF!"}},{"$error":"#REF!"},null,0,{"$error":"#REF!"},{"$error":"#REF!"},{"$f":"#REF!","v":{"$error":"#REF!"}}]
[" 보온재 철거"," D32x10T",4,"M",null,0,{"$f":"#REF!","v":{"$error":"#REF!"}},{"$error":"#REF!"},null,0,{"$error":"#REF!"},{"$error":"#REF!"},{"$f":"#REF!","v":{"$error":"#REF!"}}]
[" 건축물 현장정리"," 보수공사시 청소 및 뒷정리",8,"M2",null,0,{"$f":"#REF!","v":{"$error":"#REF!"}},{"$error":"#REF!"},null,0,{"$error":"#REF!"},{"$error":"#REF!"},{"$f":"#REF!","v":{"$error":"#REF!"}}]
[" 트레이철거"," 300MM 이하",5,"M",null,0,{"$f":"#REF!","v":{"$error":"#REF!"}},{"$error":"#REF!"},null,0,{"$error":"#REF!"},{"$error":"#REF!"},{"$f":"#REF!","v":{"$error":"#REF!"}}]
[" 함석냉매배관 커버철거",null,2,"M2",null,0,{"$f":"#REF!","v":{"$error":"#REF!"}},{"$error":"#REF!"},null,0,{"$error":"#REF!"},{"$error":"#REF!"},{"$f":"#REF!","v":{"$error":"#REF!"}}]
[" 그릴설치"," AL. 300x200",12,"개소",{"$f":"#REF!","v":{"$error":"#REF!"}},{"$error":"#REF!"},{"$f":"#REF!","v":{"$error":"#REF!"}},{"$error":"#REF!"},null,0,{"$error":"#REF!"},{"$error":"#REF!"},{"$f":"#REF!","v":{"$error":"#REF!"}}]
[" 크레인"," 10ton",4,"시간",{"$f":"#REF!","v":{"$error":"#REF!"}},{"$error":"#REF!"},{"$f":"#REF!","v":{"$error":"#REF!"}},{"$error":"#REF!"},{"$f":"#REF!","v":{"$error":"#REF!"}},{"$error":"#REF!"},{"$error":"#REF!"},{"$error":"#REF!"},{"$f":"#REF!","v":{"$error":"#REF!"}}]
[" 폐기물 상차비"," 30km",78,"ton",null,0,null,0,{"$f":"#REF!","v":{"$error":"#REF!"}},{"$error":"#REF!"},{"$error":"#REF!"},{"$error":"#REF!"}]
["6-2 공기순환기",{"$nulls":4},0,null,0,null,0,0,0]
[" 코 아 구 멍 뚫 기(벽 체)"," 150A  ",4,"개소",null,0,{"$f":"#REF!","v":{"$error":"#REF!"}},{"$error":"#REF!"},{"$f":"#REF!","v":{"$error":"#REF!"}},{"$error":"#REF!"},{"$error":"#REF!"},{"$error":"#REF!"},{"$f":"#REF!","v":{"$error":"#REF!"}}]
[" 폐기물 상차비"," 30km",3.2000000000000001E-2,"ton",null,{"$f":"TRUNC($C34*E34)","v":0},null,{"$f":"TRUNC($C34*G34)","v":0},{"$f":"#REF!","v":{"$error":"#REF!"}},{"$f":"TRUNC($C34*I34)","v":{"$error":"#REF!"}},{"$f":"I34+G34+E34","v":{"$error":"#REF!"}},{"$f":"TRUNC($C34*K34)","v":{"$error":"#REF!"}}]
["소       계",null," ",null,null,{"$f":"SUM(F6:F34)","v":{"$error":"#REF!"}},null,{"$f":"SUM(H6:H34)","v":{"$error":"#REF!"}},null,{"$f":"SUM(J6:J34)","v":{"$error":"#REF!"}},null,{"$f":"SUM(L12:L33)","v":{"$error":"#REF!"}}]

{"sheet":"양치시설견적서","index":13,"n_rows":74,"n_cols":10,"rows_kept":74,"cut":false,"hidden":true,"merged":[[7,5,7,6],[9,0,9,6],[0,0,0,6],[2,5,2,6],[3,0,3,1],[3,5,3,6],[4,0,4,2],[5,0,5,2],[44,2,44,3],[45,2,45,3],[46,2,46,3],[7,0,7,2],[40,0,41,0],[40,6,40,7],[67,2,67,3],[68,2,68,3],[69,2,69,3],[70,2,70,3],[62,2,62,3],[63,2,63,3],[64,2,64,3],[65,2,65,3],[66,2,66,3],[57,2,57,3],[58,2,58,3],[59,2,59,3],[60,2,60,3],[61,2,61,3],[52,2,52,3],[72,2,72,3],[73,2,73,3],[41,2,41,3],[40,1,40,5],[71,2,71,3],[53,2,53,3],[54,2,54,3],[55,2,55,3],[56,2,56,3],[47,2,47,3],[48,2,48,3],[49,2,49,3],[50,2,50,3],[51,2,51,3],[42,2,42,3],[43,2,43,3]]}
["見  積  書"]
[]
[{"$nulls":5},"2021-01-11"]
["㈜기술사사무소제일기술단",null,"귀하",null,null,"라  온  스  톤"]
["윤 인구대표",{"$nulls":4},"ㅂ"]
["    下記와 如히 見積 하나이다."]
[" 공 사 명: 일체형 세면대 인조대리석 공사"]
["견적금액: 칠백이십만칠천구백이십원정",{"$nulls":4},"yongdeok7117@hanmail.net"]
["견 적 내 역","규 격","단위","수  량",null,"단   가","금   액"]
["*적용칼라:LG하이막스/롯데 스타론  "]
["양치시설","D550*L2000","M",1,null,{"$f":"639000*2","v":1278000},{"$f":"D11*F11","v":1278000}]
[null,"D550*L1900","M",1,null,{"$f":"639000*1.9","v":1214100},1214100]
[null,"D550*L1800","M",1,null,{"$f":"639000*1.8","v":1150200},1150200]
[null,"D550*L1700","M",1,null,{"$f":"639000*1.7","v":1086300},1086300]
[null,"D550*L1600","M",1,null,{"$f":"639000*1.6","v":1022400},1022400]
[null,"D550*L1500","M",1,null,{"$f":"639000*1.5","v":958500},958500]
[null,"D550*L1400","M",1,null,{"$f":"639000*1.4","v":894600},894600]
[null,"D550*L1300","M",1,null,{"$f":"639000*1.3","v":830700},830700]
[null,"D550*L1200","M",1,null,{"$f":"639000*1.2","v":766800},766800]
[null,"D550*L1100","M",1,null,{"$f":"639000*1.1","v":702900},702900]
[null,"D550*L1000","M",1,null,{"$f":"639000*1","v":639000},639000]
[null,"D550*L900","M",1,null,{"$f":"639000*0.9","v":575100},575100]
[null,"D550*L600","M",1,null,{"$f":"639000*0.6","v":383400},383400]
["합 계",{"$nulls":5},{"$f":"SUM(G11:G23)","v":11502000}]
{"$rows_empty":8}
[" 備  考 :","1. V.A.T 별도 금액."]
[null,"2. 상기 견적은 인조대리석 가,시공 포함견적이며 하부 각파이프 포함"]
[null,"3. 양치세면대 416,000/M당+ 트러스 32,500/M당 수량= 길이x4"]
[]
[]
[]
[]
[]
["규격","양치세면대",{"$nulls":4},"트러스"]
[null,"길이","단가",null,null,"금액","길이","단가","금액","합계"]
[" L= 3700",3700,416000,null,null,{"$f":"C43*(B43/1000)","v":1539200},{"$f":"4*(B43/1000)","v":14.8},32500,{"$f":"H43*G43","v":481000},{"$f":"I43+F43","v":2020200}]
[" L= 3600",3600,416000,null,null,{"$f":"C44*(B44/1000)","v":1497600},{"$f":"4*(B44/1000)","v":14.4},32500,{"$f":"H44*G44","v":468000},{"$f":"I44+F44","v":1965600}]
[" L= 3500",3500,416000,null,null,1456000,14,32500,455000,1911000]
[" L= 3400",3400,416000,null,null,1414400,13.6,32500,442000,1856400]
[" L= 3300",3300,416000,null,null,1372800,13.2,32500,429000,1801800]
[" L= 3200",3200,416000,null,null,1331200,12.8,32500,416000,1747200]
[" L= 3100",3100,416000,null,null,1289600,12.4,32500,403000,1692600]
[" L= 3000",3000,416000,null,null,1248000,12,32500,390000,1638000]
[" L= 2900",2900,416000,null,null,1206400,11.6,32500,377000,1583400]
[" L= 2800",2800,416000,null,null,1164800,11.2,32500,364000,1528800]
[" L= 2700",2700,416000,null,null,1123200,10.8,32500,351000,1474200]
[" L= 2600",2600,416000,null,null,1081600,10.4,32500,338000,1419600]
[" L= 2500",2500,416000,null,null,1040000,10,32500,325000,1365000]
[" L= 2400",2400,416000,null,null,998400,9.6,32500,312000,1310400]
[" L= 2300",2300,416000,null,null,956799.99999999988,9.1999999999999993,32500,299000,1255800]
[" L= 2200",2200,416000,null,null,915200.00000000012,8.8000000000000007,32500,286000,1201200]
[" L= 2100",2100,416000,null,null,873600,8.4,32500,273000,1146600]
[" L= 2000",2000,416000,null,null,832000,8,32500,260000,1092000]
[" L= 1900",1900,416000,null,null,790400,7.6,32500,247000,1037400]
[" L= 1800",1800,416000,null,null,748800,7.2,32500,234000,982800]
[" L= 1700",1700,416000,null,null,707200,6.8,32500,221000,928200]
[" L= 1600",1600,416000,null,null,665600,6.4,32500,208000,873600]
[" L= 1500",1500,416000,null,null,624000,6,32500,195000,819000]
[" L= 1400",1400,416000,null,null,582400,5.6,32500,182000,764400]
[" L= 1300",1300,416000,null,null,540800,5.2,32500,169000,709800]
[" L= 1200",1200,416000,null,null,499200,4.8,32500,156000,655200]
[" L= 1100",1100,416000,null,null,457600.00000000006,4.4000000000000004,32500,143000,600600]
[" L= 1000",1000,416000,null,null,416000,4,32500,130000,546000]
[" L= 900",900,416000,null,null,374400,3.6,32500,117000,491400]
[" L= 800",800,416000,null,null,332800,3.2,32500,104000,436800]
[" L= 900",700,416000,null,null,291200,2.8,32500,91000,382200]
[" L= 900",600,416000,null,null,249600,2.4,32500,78000,327600]

{"sheet":"작업부산물","index":14,"n_rows":15,"n_cols":13,"rows_kept":15,"cut":false,"hidden":true,"merged":[[3,0,4,0],[3,1,4,1],[3,2,4,2],[3,3,4,3],[3,12,4,12]]}
[]
[{"$f":"'6.관급자재설치에 따른기타공사'!A2","v":{"$error":"#REF!"}},{"$nulls":4}," "]
["■ 작업부산물"]
["품      명","규      격","수량","단위","재   료   비",null,"노   무   비",null,"경        비",null,"합        계",null,"비 고"]
[{"$nulls":4},"단  가","금   액","단  가","금   액","단  가","금   액","단  가","금   액"]
["1. 위생배관",{"$nulls":4},{"$f":"TRUNC($C6*E6)","v":0}]
[" 작 업 부 산 물"," 고 스텐",427,"KG",{"$f":"#REF!","v":{"$error":"#REF!"}},{"$error":"#REF!"}]
["2. 환기설비",{"$nulls":4},0]
[" 작 업 부 산 물"," 고 스텐",494,"KG",{"$f":"#REF!","v":{"$error":"#REF!"}},{"$error":"#REF!"}]
["3. 가스설비",{"$nulls":4},0]
[" 작 업 부 산 물"," 고 철",259,"KG",{"$f":"#REF!","v":{"$error":"#REF!"}},{"$error":"#REF!"}]
["4.기타공사(히터펌프)",{"$nulls":4},0]
[" 작 업 부 산 물"," 고 동",102,"KG",{"$f":"#REF!","v":{"$error":"#REF!"}},{"$error":"#REF!"}]
[null," 고 철",662,"KG",{"$f":"#REF!","v":{"$error":"#REF!"}},{"$error":"#REF!"}]
["소       계",null," ",null,null,{"$f":"SUM(F6:F14)","v":{"$error":"#REF!"}},null,{"$f":"SUM(H6:H14)","v":0},null,{"$f":"SUM(J6:J14)","v":0},null,{"$f":"SUM(L6:L14)","v":0}]

{"sheet":"폐기물처리","index":15,"n_rows":20,"n_cols":13,"rows_kept":20,"cut":false,"hidden":true,"merged":[[3,0,4,0],[3,1,4,1],[3,2,4,2],[3,3,4,3],[3,12,4,12]]}
[]
[{"$f":"작업부산물!A2","v":{"$error":"#REF!"}},{"$nulls":4}," "]
[" ■ 폐기물처리"]
["품      명","규      격","수량","단위","재   료   비",null,"노   무   비",null,"경        비",null,"합        계",null,"비 고"]
[{"$nulls":4},"단  가","금   액","단  가","금   액","단  가","금   액","단  가","금   액"]
["1. 위생배관"]
["폐기물처리비","혼합폐기물",0.27,"ton",null,{"$f":"TRUNC($C7*E7)","v":0},null,{"$f":"TRUNC($C7*G7)","v":0},{"$f":"#REF!","v":{"$error":"#REF!"}},{"$f":"TRUNC($C7*I7)","v":{"$error":"#REF!"}},{"$f":"I7+G7+E7","v":{"$error":"#REF!"}},{"$error":"#REF!"}]
["폐기물처리비","건설폐기물",23.4,"ton",null,{"$f":"TRUNC($C8*E8)","v":0},null,{"$f":"TRUNC($C8*G8)","v":0},{"$f":"#REF!","v":{"$error":"#REF!"}},{"$f":"TRUNC($C8*I8)","v":{"$error":"#REF!"}},{"$error":"#REF!"},{"$error":"#REF!"}]
["폐기물운반비","30km",23.707999999999998,"ton",null,{"$f":"TRUNC($C9*E9)","v":0},null,{"$f":"TRUNC($C9*G9)","v":0},11562,{"$f":"TRUNC($C9*I9)","v":274111},11562,274111]
["2. 환기설비"]
["폐기물처리비","폐콘크리트",8.2000000000000003E-2,"ton",null,{"$f":"TRUNC($C11*E11)","v":0},null,{"$f":"TRUNC($C11*G11)","v":0},{"$f":"#REF!","v":{"$error":"#REF!"}},{"$f":"TRUNC($C11*I11)","v":{"$error":"#REF!"}},{"$f":"I11+G11+E11","v":{"$error":"#REF!"}},{"$f":"J11+H11+F11","v":{"$error":"#REF!"}}]
["폐기물운반비","30km",8.2000000000000003E-2,"ton",null,{"$f":"TRUNC($C12*E12)","v":0},null,{"$f":"TRUNC($C12*G12)","v":0},11562,{"$f":"TRUNC($C12*I12)","v":948},{"$f":"I12+G12+E12","v":11562},{"$f":"J12+H12+F12","v":948}]
["3.기타공사(히터펌프)"]
["폐기물처리비","혼합폐기물",77.149000000000001,"ton",null,{"$f":"TRUNC($C14*E14)","v":0},null,{"$f":"TRUNC($C14*G14)","v":0},{"$f":"#REF!","v":{"$error":"#REF!"}},{"$f":"TRUNC($C14*I14)","v":{"$error":"#REF!"}},{"$f":"I14+G14+E14","v":{"$error":"#REF!"}},{"$error":"#REF!"}]
["폐기물처리비","건설폐기물",0.29599999999999999,"ton",null,{"$f":"TRUNC($C15*E15)","v":0},null,{"$f":"TRUNC($C15*G15)","v":0},{"$f":"#REF!","v":{"$error":"#REF!"}},{"$f":"TRUNC($C15*I15)","v":{"$error":"#REF!"}},{"$error":"#REF!"},{"$error":"#REF!"}]
["폐기물운반비","30km",77.444999999999993,"ton",null,{"$f":"TRUNC($C16*E16)","v":0},null,{"$f":"TRUNC($C16*G16)","v":0},11562,{"$f":"TRUNC($C16*I16)","v":895419},11562,895419]
["4.기타공사(공기순환기)"]
["폐기물처리비","건설폐기물",3.2000000000000001E-2,"ton",null,{"$f":"TRUNC($C18*E18)","v":0},null,{"$f":"TRUNC($C18*G18)","v":0},{"$f":"#REF!","v":{"$error":"#REF!"}},{"$f":"TRUNC($C18*I18)","v":{"$error":"#REF!"}},{"$f":"I18+G18+E18","v":{"$error":"#REF!"}},{"$f":"J18+H18+F18","v":{"$error":"#REF!"}}]
["폐기물운반비","30km",3.2000000000000001E-2,"ton",null,{"$f":"TRUNC($C19*E19)","v":0},null,{"$f":"TRUNC($C19*G19)","v":0},11562,{"$f":"TRUNC($C19*I19)","v":369},{"$f":"I19+G19+E19","v":11562},{"$f":"J19+H19+F19","v":369}]
["소       계",null," ",null,null,{"$f":"SUM(F6:F19)","v":0},null,{"$f":"SUM(H6:H19)","v":0},null,{"$f":"SUM(J6:J19)","v":{"$error":"#REF!"}},null,{"$f":"SUM(L6:L19)","v":{"$error":"#REF!"}}]

{"sheet":"관급자재집계","index":16,"n_rows":6,"n_cols":20,"rows_kept":6,"cut":false,"hidden":true,"merged":[[0,0,0,12],[1,0,1,12],[2,0,3,0],[2,1,3,1],[2,2,3,2],[2,3,3,3],[2,4,2,5],[2,6,2,7],[2,8,2,9],[2,10,2,11],[2,18,3,18],[2,19,3,19],[2,12,3,12],[2,13,3,13],[2,14,3,14],[2,15,3,15],[2,16,3,16],[2,17,3,17]]}
["공 종 별 집 계 표"]
[{"$f":"#REF!","v":{"$error":"#REF!"}}]
["품      명","규      격","단위","수량","재  료  비",null,"노  무  비",null,"경      비",null,"합      계",null,"비  고","공종코드","변수","상위공종","공종구분","공종레벨","공종소계","원가계산서 연결금액"]
[{"$nulls":4},"단  가","금  액","단  가","금  액","단  가","금  액","단  가","금  액"]
["물탱크 구매. 설치공사",null,"식",1,null,{"$f":"물탱크구매!I10","v":27471100},{"$nulls":5},{"$f":"F5+H5+J5","v":27471100}]
["[ 합           계 ]","","",null,null,{"$f":"SUM(F5:F5)","v":27471100},null,{"$f":"SUM(H5:H5)","v":0},null,{"$f":"SUM(J5:J5)","v":0},null,{"$f":"SUM(L5:L5)","v":27471100},"","0101","","01","",2,""]

{"sheet":"물탱크구매","index":17,"n_rows":19,"n_cols":10,"rows_kept":19,"cut":false,"hidden":true,"merged":[[3,5,4,5],[3,0,4,0],[3,1,4,1],[3,2,4,2],[3,3,4,3],[3,4,4,4],[5,8,6,8],[5,9,6,9],[3,6,4,6],[3,7,4,7],[3,8,4,8],[3,9,4,9]]}
[]
[{"$f":"#REF!","v":{"$error":"#REF!"}},{"$nulls":4}," "]
["물탱크 구매. 설치공사"]
["품      명","규      격","톤수","구분","물품번호","수량","단가","옵션금액","전체금액","비 고"]
[]
[" 저수탱크"," 기본품목 SI-120T-5",120,"단판",22557684,1,25134000,{"$f":"G6*F6","v":25134000},25134100,"120톤/단판/칸막이"]
[null," 옵션② 120톤/칸막이",null,"칸막이",23918716,2,100,200]
["방파패널","SIDS1010S",null,null,23307015,10,189000,null,1890000]
["방파패널","SIDS0510S",null,null,23307016,3,149000,null,447000]
["소       계",null," ",{"$nulls":5},{"$f":"SUM(I6:I9)","v":27471100}]
{"$rows_empty":8}
[{"$nulls":4},"`"]

{"sheet":"1.전기히터펌프구매설치","index":18,"n_rows":42,"n_cols":15,"rows_kept":42,"cut":false,"hidden":true,"merged":[[0,0,0,13],[2,0,3,0],[2,1,2,6],[2,7,2,12],[2,13,3,13]]}
["관 급 자 재 내 역 서"]
["공사명 : 계림중학교 급식시설현대화 기계설비공사 중 냉난방기 구매.설치"]
["품명","삼성전자(주)",{"$nulls":5},"엘지전자(주)",{"$nulls":5},"비고"]
[null,"규격","단위","수량","단가","금액","물품식별번호","규격","단위","수량","단가","금액","물품식별번호"]
["전기히트펌프","AM180NXVUHH1, 냉방52.2난방59.1KW ","대",1,9031000,{"$f":"ROUNDDOWN(D5*E5,0)","v":9031000},23477280,"RPUW18FX9V냉방52.2/난방56.7KW","대",1,9031000,{"$f":"ROUNDDOWN(J5*K5,0)","v":9031000},23461988,null,"18HP"]
["전기히트펌프","AM300NXVUHH1SY, 냉방87.0난방98.3KW ","대",1,14980900,{"$f":"ROUNDDOWN(D6*E6,0)","v":14980900},23477286,"RP-W30FX9V냉방87.0/난방97.9KW","대",1,14980900,{"$f":"ROUNDDOWN(J6*K6,0)","v":14980900},23470064,null,"30HP"]
["전기히트펌프 실내기","AM032MN1FBH1PP, 냉방3.2난방3.6KW ,1방향천장형 ","대",2,403000,{"$f":"ROUNDDOWN(D7*E7,0)","v":806000},23478167,"R-W032PC25, 냉방3.2/난방3.6KW","대",2,415000,{"$f":"ROUNDDOWN(J7*K7,0)","v":830000},23238036]
["전기히트펌프 실내기","AM145NN4DBH1PP, 냉방14.5난방16.3KW ,4방향천장형 ","대",6,800000,{"$f":"ROUNDDOWN(D8*E8,0)","v":4800000},23478377,"R-W145PT2S, 냉방14.5KW/난방16.3KW","대",6,781000,{"$f":"ROUNDDOWN(J8*K8,0)","v":4686000},23240110]
["전기히트펌프 실내기","AM145KNHDBH1PP, 냉방14.5난방16.3KW ,매립덕트형 ","대",3,750000,{"$f":"ROUNDDOWN(D9*E9,0)","v":2250000},23031174,"RNW145PB2S, 냉방14.5KW/난방16.3KW","대",3,716000,{"$f":"ROUNDDOWN(J9*K9,0)","v":2148000},23238080]
[]
[]
[]
[]
["소계",{"$nulls":4},{"$f":"SUM(F5:F13)","v":31867900},{"$nulls":5},{"$f":"SUM(L5:L13)","v":31675900}]
["냉난방공조공사","가변형히트펌프냉난방기설치, \n기본(냉매배관제외)","식",11,588700,{"$f":"ROUNDDOWN(D15*E15,0)","v":6475700},21567236,"가변형히트펌프냉난방기설치, \n기본(냉매배관제외)","식",11,588700,{"$f":"ROUNDDOWN(J15*K15,0)","v":6475700},21567236]
["냉난방공조공사","냉매관및설치,평균Φ12.7mm, \n커버없음, 1m당","M",132,6000,792000,10061680,"냉매관및설치,평균Φ12.7mm, \n커버없음, 1m당","M",132,6000,792000,10061680]
["냉난방공조공사","냉매관및설치,평균Φ15.88mm, \n커버없음, 1m당","M",25,7080,177000,10061682,"냉매관및설치,평균Φ15.88mm, \n커버없음, 1m당","M",25,7080,177000,10061682]
["냉난방공조공사","냉매관및설치,평균Φ20mm, \n커버없음, 1m당","M",31,8600,266600,10061684,"냉매관및설치,평균Φ20mm, \n커버없음, 1m당","M",31,8600,266600,10061684]
["냉난방공조공사","냉매관및설치,평균Φ25mm, \n커버없음, 1m당","M",25,10470,261750,20373317,"냉매관및설치,평균Φ25mm, \n커버없음, 1m당","M",25,10470,261750,20373317]
["냉난방공조공사","냉매관및설치,평균Φ28.58mm, \n커버없음, 1m당","M",36,11300,406800,20910814,"냉매관및설치,평균Φ28.58mm, \n커버없음, 1m당","M",36,11300,406800,20910814]
["냉난방공조공사","냉난방기용,PVC\n드레인관설치,Φ32","M",58,6000,348000,20373322,"냉난방기용,PVC\n드레인관설치,Φ32","M",58,6000,348000,20373322]
["냉난방공조공사","냉난방기용Y분기관(대)설치","EA",2,98800,{"$f":"ROUNDDOWN(D22*E22,0)","v":197600},21590439,"냉난방기용Y분기관(대)설치","EA",2,98800,{"$f":"ROUNDDOWN(J22*K22,0)","v":197600},21590439]
["냉난방공조공사","냉난방기용Y분기관설치","EA",7,52100,{"$f":"ROUNDDOWN(D23*E23,0)","v":364700},20469354,"냉난방기용Y분기관설치","EA",7,52100,{"$f":"ROUNDDOWN(J23*K23,0)","v":364700},20469354]
["히트펌프용실내기","(부품)삼성전자,                     AWR-WGOONPP,룸컨트롤러","EA",11,80000,880000,23587189,"PREMTB01P0, 룸컨트롤러 ","EA",11,70000,770000,23183812]
["냉난방공조공사","룸컨트롤러세트용,\n전선및전선관설치(커버없음)","M",77,6400,492800,10061686,"룸컨트롤러세트용,\n전선및전선관설치(커버없음)","M",77,6400,492800,10061686]
["냉난방공조공사","실내기실외기간 통신용케이블및CD관설치 ","M",151,6400,966400,22723642,"실내기실외기간 통신용케이블및CD관설치 ","M",151,6400,966400,22723642]
["전기히트펌프","받침대,평균990×830×130mm","조",2,116400,232800,20912098,"받침대,평균990×830×130mm","조",2,116400,232800,20912098]
["냉난방공조공사","실외기노출배관커버트레이","조",5,43600,{"$f":"ROUNDDOWN(D28*E28,0)","v":218000},20912089,"실외기노출배관커버트레이","조",5,43600,{"$f":"ROUNDDOWN(J28*K28,0)","v":218000},20912089]
["냉난방공조공사","냉난방기용,함석\n냉매배관커버설치","㎡",2,22100,44200,20373320,"냉난방기용,함석\n냉매배관커버설치","㎡",2,22100,44200,20373320]
["냉난방공조공사","냉난방기용덕트설치, 평균￠250mm ","식",3,1411300,4233900,21191695,"냉난방기용덕트설치, 평균￠250mm ","식",3,1411300,4233900,21191695]
["냉난방공조공사","가변형히터펌프냉난방기용덕트설치, 플렉시블평균￠200mm ","M",45,6300,283500,20912088,"가변형히터펌프냉난방기용덕트설치, 플렉시블평균￠200mm ","M",45,6300,283500,20912088]
["냉난방공조공사","가변형히터펌프냉난방기용덕트설치, 토출용챔버평균￠200mm ","개",3,86300,258900,20912091,"가변형히터펌프냉난방기용덕트설치, 토출용챔버평균￠200mm ","개",3,86300,258900,20912091]
["냉난방공조공사","가변형히터펌프냉난방기용덕트설치, 흡입용챔버평균￠200mm ","개",3,122700,368100,20912092,"가변형히터펌프냉난방기용덕트설치, 흡입용챔버평균￠200mm ","개",3,122700,368100,20912092]
["냉난방공조공사","가변형히터펌프냉난방기용덕트설치, 디퓨져평균￠200mm ","개",12,14500,174000,20912096,"가변형히터펌프냉난방기용덕트설치, 디퓨져평균￠200mm ","개",12,14500,174000,20912096]
["히트펌프용실내기","(부품)삼성전자,ACM-A202DN                  ","EA",1,112900,112900,22724063,"기능성중앙제어기","EA",1,237500,237500,22180321]
["냉난방공조공사","중앙컨트롤러세트용,\n전선및전선관설치(커버없음)","M",53,6400,339200,10061688,"중앙컨트롤러세트용,\n전선및전선관설치(커버없음)","M",53,6400,339200,10061688]
["냉난방공조공사","공기조절장치설치용\n크레인. 50톤","대",1,752700,752700,21624130,"공기조절장치설치용\n크레인. 50톤","대",1,752700,752700,21624130]
["소계",{"$nulls":4},{"$f":"SUM(F15:F37)","v":18647550},{"$nulls":5},{"$f":"SUM(L15:L37)","v":18662150}]
["히트펌프용실내기","PC4NUCK4NPP, 공기청정키트 ","EA",8,550000,4400000,23587191,"PAH-TMPOM, 공기청정키트 ","대",8,500000,{"$f":"ROUNDDOWN(J39*K39,0)","v":4000000},23392708]
["소계",{"$nulls":4},{"$f":"SUM(F39)","v":4400000},{"$nulls":5},{"$f":"SUM(L39)","v":4000000}]
["조달수수료","0.54%","식",1,{"$f":"INT(SUM(F14+F38+F40)*0.54%)","v":296543},{"$f":"ROUNDDOWN(D41*E41,0)","v":296543},null,"0.54%","식",1,{"$f":"INT(SUM(L14+L38+L40)*0.54%)","v":293425},{"$f":"ROUNDDOWN(J41*K41,0)","v":293425}]
["합계",{"$nulls":4},{"$f":"ROUNDDOWN(($F$41+$F$40+$F$38+$F$14),-3)","v":55211000},{"$nulls":5},{"$f":"ROUNDDOWN(($L$41+$L$40+$L$38+$L$14),-3)","v":54631000}]

{"sheet":"공기순환기 구매설치","index":19,"n_rows":19,"n_cols":8,"rows_kept":19,"cut":false,"hidden":true,"merged":[]}
["[공사명]","계림중학교 급식시설 현대화 기계설비공사 중 공기순환기 납품설치"]
["No.","Description","나라장터물품 식별번호","Unit","Q'ty","Unit Price","Amount","Remarks"]
["1. 공기순환기 설치공사"]
["1)","공기순환장치 150㎥/h\n(장비)폐열회수형",23646331,"대",2,450000,{"$f":"SUM(E4*F4)","v":900000}]
["2)","덕트설치기본, 평균Φ150mm",20770454,"식",2,1024000,{"$f":"SUM(E5*F5)","v":2048000}]
["3)","스파이럴덕트설치, 평균Φ200mm",20770457,"M",5,17190,{"$f":"SUM(E6*F6)","v":85950}]
["4)","플렉시블덕트설치, 평균Φ200mm",20770458,"M",4,6170,{"$f":"SUM(E7*F7)","v":24680}]
["5)","덕트보온, 평균Φ200mm",20770459,"M2",8,8070,64560]
["6)","덕트부자재(엘보), 평균Φ200mm",20770461,"EA",10,6700,{"$f":"SUM(E9*F9)","v":67000}]
["7)","덕트부자재(분기관), 평균Φ200mm",20770462,"EA",4,5700,22800]
["8)","룸콘트롤러세트및 설치",20770464,"EA",2,28500,57000]
["9)","룸콘트롤러설치용 전선 및 전선관",20770467,"M",9,4080,36720]
[null,"소 계",{"$nulls":4},{"$f":"SUM(G4:G12)","v":3306710}]
[null,"조달수수료","소계의 0.53%","식",1,null,{"$f":"G13*0.53%","v":17525.562999999998}]
[]
[]
[]
[]
[null,"합       계",{"$nulls":4},{"$f":"SUM(G13:G17)","v":3324235.5630000001}]

{"sheet":"일위대가목록(21년 하반기)","index":20,"n_rows":752,"n_cols":9,"rows_kept":752,"cut":false,"hidden":true,"merged":[[0,0,0,8],[1,0,1,8]]}
["일 위 대 가 목 록"]
["2021년 하반기 기계설비 일위대가"]
["코    드","대가번호","품          명","규       격","단위","재  료  비","노  무  비","경    비","합    계"]
["69",null,"설비공사단위가격표","",""]
["6901",null,"강판절단","",""]
["6901001","1호표","강판절단","3.2MM","m",174,1478,29,1681]
["6901002","2호표","강판절단","4.5MM","m",383,1606,32,2021]
["6901003","3호표","강판절단","6MM","m",593,1735,34,2362]
["6901004","4호표","강판절단","9MM","m",831,1909,38,2778]
["6901005","5호표","강판절단","12MM","m",1249,2249,44,3542]
["6902","6호표","강판용접(수평)","",""]
["6902001","7호표","강판용접","3.2MM","m",632,10299,205,11136]
["6902002","8호표","강판용접","4.5MM","m",1127,12277,245,13649]
["6902003","9호표","강판용접","6MM","m",1933,14897,297,17127]
["6902004","10호표","강판용접","9MM","m",3960,25856,517,30333]
["6902005","11호표","강판용접","12MM","m",6033,36715,734,43482]
["6903","12호표","강관절단","",""]
["6903001","13호표","강관절단","D25이하","개소",19,642,12,673]
["6903002","14호표","강관절단","D32","개소",22,642,12,676]
["6903003","15호표","강관절단","D40","개소",26,873,17,916]
["6903004","16호표","강관절단","D50","개소",31,873,17,921]
["6903005","17호표","강관절단","D65","개소",39,1285,25,1349]
["6903006","18호표","강관절단","D80","개소",51,1516,30,1597]
["6903007","19호표","강관절단","D100","개소",99,2801,56,2956]
["6903008","20호표","강관절단","D125","개소",182,3213,64,3459]
["6903009","21호표","강관절단","D150","개소",281,4317,86,4684]
["6903010","22호표","강관절단","D200","개소",463,5191,103,5757]
["6903011","23호표","강관절단","D250","개소",813,6476,129,7418]
["6903012","24호표","강관절단","D300","개소",1068,8635,172,9875]
["6903013","25호표","강관절단","D350","개소",1258,11667,233,13158]
["6904","26호표","강관용접","",""]
["6904001","27호표","강관용접","D15","개소",21,8305,166,8492]
["6904002","28호표","강관용접","D20","개소",39,9920,198,10157]
["6904003","29호표","강관용접","D25","개소",57,11996,239,12292]
["6904004","30호표","강관용접","D32","개소",85,14303,286,14674]
["6904005","31호표","강관용접","D40","개소",111,16149,322,16582]
["6904006","32호표","강관용접","D50","개소",151,19610,392,20153]
["6904007","33호표","강관용접","D65","개소",440,24224,484,25148]
["6904008","34호표","강관용접","D80","개소",569,27915,558,29042]
["6904009","35호표","강관용접","D100","개소",833,35067,701,36601]
["6904010","36호표","강관용접","D125","개소",1183,42449,848,44480]
["6904011","37호표","강관용접","D150","개소",1589,49832,996,52417]
["6904012","38호표","강관용접","D200","개소",1808,64828,1296,67932]
["6904013","39호표","강관용접","D250","개소",2321,79593,1591,83505]
["6904014","40호표","강관용접","D300","개소",2792,94358,1887,99037]
["6905","41호표","동관용접","",""]
["6905001","42호표","동관용접","D15","개소",193,5075,101,5369]
["6905002","43호표","동관용접","D20","개소",401,6921,138,7460]
["6905003","44호표","동관용접","D25","개소",562,8766,175,9503]
["6905004","45호표","동관용접","D32","개소",761,10381,207,11349]
["6905005","46호표","동관용접","D40","개소",998,12227,244,13469]
["6905006","47호표","동관용접","D50","개소",1474,15457,309,17240]
["6905007","48호표","동관용접","D65","개소",1956,20532,410,22898]
["6905008","49호표","동관용접","D80","개소",2691,24224,484,27399]
["6905009","50호표","동관용접","D100","개소",4515,31606,632,36753]
["6905010","51호표","동관용접","D125","개소",6436,38989,779,46204]
["6905011","52호표","동관용접","D150","개소",9445,46371,927,56743]
["6905012","53호표","동관용접","D200","개소",21370,61137,1222,83729]
["6906","54호표","스텐관용접","",""]
["6906001","55호표","스텐관용접","D15","개소",349,11535,230,12114]
["6906002","56호표","스텐관용접","D20","개소",547,13150,263,13960]
["6906003","57호표","스텐관용접","D25","개소",769,15226,304,16299]
["6906004","58호표","스텐관용접","D32","개소",934,17764,355,19053]
["6906005","59호표","스텐관용접","D40","개소",1251,19379,387,21017]
["6906006","60호표","스텐관용접","D50","개소",1692,22839,456,24987]
["6906007","61호표","스텐관용접","D65","개소",3287,27454,549,31290]
["6906008","62호표","스텐관용접","D80","개소",4146,31145,622,35913]
["6906009","63호표","스텐관용접","D100","개소",6381,38527,770,45678]
["6906010","64호표","스텐관용접","D125","개소",9497,45910,918,56325]
["6906011","65호표","스텐관용접","D150","개소",12008,53293,1065,66366]
["6906012","66호표","스텐관용접","D200","개소",20192,68058,1361,89611]
["6906013","67호표","스텐관용접","D250","개소",28852,82823,1656,113331]
["6906014","68호표","스텐관용접","D300","개소",39298,97588,1951,138837]
["6908","69호표","주철관접합 NO-HUB","",""]
["6908001","70호표","주철관접합 NO-HUB","D50","접합개소",3360,38452,769,42581]
["6908002","71호표","주철관접합 NO-HUB","D75","접합개소",3840,53214,1064,58118]
["6908003","72호표","주철관접합 NO-HUB","D100","접합개소",4560,67775,1355,73690]
["6908004","73호표","주철관접합 NO-HUB","D125","접합개소",10160,82335,1646,94141]
["6908005","74호표","주철관접합 NO-HUB","D150","접합개소",10720,97098,1941,109759]
["6908006","75호표","주철관접합 NO-HUB","D200","접합개소",19200,119545,2390,141135]
["69071","76호표","주철관접합 (후렌지)",null,""]
["6907101","77호표","주철관접합 (후렌지)","D50","접합개소",2485,42439,848,45772]
["6907102","78호표","주철관접합 (후렌지)","D75","접합개소",3150,57865,1157,62172]
["6907103","79호표","주철관접합 (후렌지)","D100","접합개소",3570,73494,1469,78533]
["6907104","80호표","주철관접합 (후렌지)","D125","접합개소",4620,88516,1770,94906]
["6907105","81호표","주철관접합 (후렌지)","D150","접합개소",6440,99465,1989,107894]
["6907106","82호표","주철관접합 (후렌지)","D200","접합개소",9350,128006,2560,139916]
["6909","83호표","용접합후렌지","",""]
["6909001","84호표","용접합후렌지","D15","개소",2399,8305,166,10870]
["6909002","85호표","용접합후렌지","D20","개소",2932,9920,198,13050]
["6909003","86호표","용접합후렌지","D25","개소",4506,11996,239,16741]
["6909004","87호표","용접합후렌지","D32","개소",5446,14303,286,20035]
["6909005","88호표","용접합후렌지","D40","개소",5946,16149,322,22417]
["6909006","89호표","용접합후렌지","D50","개소",6499,19610,392,26501]
["6909007","90호표","용접합후렌지","D65","개소",8857,24224,484,33565]
["6909008","91호표","용접합후렌지","D80","개소",10393,27915,558,38866]
["6909009","92호표","용접합후렌지","D100","개소",12056,35067,701,47824]
["6909010","93호표","용접합후렌지","D125","개소",18574,42449,848,61871]
["6909011","94호표","용접합후렌지","D150","개소",23458,49832,996,74286]
["6909012","95호표","용접합후렌지","D200","개소",28855,64828,1296,94979]
["6909013","96호표","용접합후렌지","D250","개소",45330,79593,1591,126514]
["6909014","97호표","용접합후렌지","D300","개소",51344,94358,1887,147589]
["6910","98호표","용접조후렌지","",""]
["6910001","99호표","용접조후렌지","D15","개소",4170,16610,332,21112]
["6910002","100호표","용접조후렌지","D20","개소",5221,19840,396,25457]
["6910003","101호표","용접조후렌지","D25","개소",8013,23992,478,32483]
["6910004","102호표","용접조후렌지","D32","개소",9831,28606,572,39009]
["6910005","103호표","용접조후렌지","D40","개소",10787,32298,644,43729]
["6910006","104호표","용접조후렌지","D50","개소",11780,39220,784,51784]
["6910007","105호표","용접조후렌지","D65","개소",16407,48448,968,65823]
["6910008","106호표","용접조후렌지","D80","개소",18282,55830,1116,75228]
["6910009","107호표","용접조후렌지","D100","개소",21079,70134,1402,92615]
["6910010","108호표","용접조후렌지","D125","개소",32097,84898,1696,118691]
["6910011","109호표","용접조후렌지","D150","개소",41487,99664,1992,143143]
["6910012","110호표","용접조후렌지","D200","개소",50123,129656,2592,182371]
["6910013","111호표","용접조후렌지","D250","개소",77741,159186,3182,240109]
["6910014","112호표","용접조후렌지","D300","개소",86256,188716,3774,278746]
["6911","113호표","동절연합후렌지접합","",""]
["6911001","114호표","동절연합후렌지접합","D15","개소",7350,5075,101,12526]
["6911002","115호표","동절연합후렌지접합","D20","개소",8338,6921,138,15397]
["6911003","116호표","동절연합후렌지접합","D25","개소",10183,8766,175,19124]
["6911004","117호표","동절연합후렌지접합","D32","개소",14737,10381,207,25325]
["6911005","118호표","동절연합후렌지접합","D40","개소",17076,12227,244,29547]
["6911006","119호표","동절연합후렌지접합","D50","개소",21976,15457,309,37742]
["6911007","120호표","동절연합후렌지접합","D65","개소",29561,20532,410,50503]
["6911008","121호표","동절연합후렌지접합","D80","개소",36177,24224,484,60885]
["6911009","122호표","동절연합후렌지접합","D100","개소",52871,31606,632,85109]
["6911010","123호표","동절연합후렌지접합","D125","개소",68151,38989,779,107919]
["6911011","124호표","동절연합후렌지접합","D150","개소",94192,46371,927,141490]
["6911012","125호표","동절연합후렌지접합","D200","개소",149027,61137,1222,211386]
["6912","126호표","동절연조후렌지접합","",""]
["6912001","127호표","동절연조후렌지접합","D15","개소",14072,10150,202,24424]
["6912002","128호표","동절연조후렌지접합","D20","개소",16033,13842,276,30151]
["6912003","129호표","동절연조후렌지접합","D25","개소",19367,17532,350,37249]
["6912004","130호표","동절연조후렌지접합","D32","개소",28413,20762,414,49589]
["6912005","131호표","동절연조후렌지접합","D40","개소",33047,24454,488,57989]
["6912006","132호표","동절연조후렌지접합","D50","개소",42734,30914,618,74266]
["6912007","133호표","동절연조후렌지접합","D65","개소",59597,41064,820,101481]
["6912008","134호표","동절연조후렌지접합","D80","개소",69850,48448,968,119266]
["6912009","135호표","동절연조후렌지접합","D100","개소",102709,63212,1264,167185]
["6912010","136호표","동절연조후렌지접합","D125","개소",131251,77978,1558,210787]
["6912011","137호표","동절연조후렌지접합","D150","개소",182955,92742,1854,277551]
["6912012","138호표","동절연조후렌지접합","D200","개소",290467,122274,2444,415185]
["6913","139호표","스텐용접합후렌지","",""]
["6913001","140호표","스텐용접합후렌지","D15","개소",9092,11535,230,20857]
["6913002","141호표","스텐용접합후렌지","D20","개소",9695,13150,263,23108]
["6913003","142호표","스텐용접합후렌지","D25","개소",11526,15226,304,27056]
["6913004","143호표","스텐용접합후렌지","D32","개소",12468,17764,355,30587]
["6913005","144호표","스텐용접합후렌지","D40","개소",13414,19379,387,33180]
["6913006","145호표","스텐용접합후렌지","D50","개소",16178,22839,456,39473]
["6913007","146호표","스텐용접합후렌지","D65","개소",22217,27454,549,50220]
["6913008","147호표","스텐용접합후렌지","D80","개소",26804,31145,622,58571]
["6913009","148호표","스텐용접합후렌지","D100","개소",32558,38527,770,71855]
["6913010","149호표","스텐용접합후렌지","D125","개소",50549,45910,918,97377]
["6913011","150호표","스텐용접합후렌지","D150","개소",62278,53293,1065,116636]
["6913012","151호표","스텐용접합후렌지","D200","개소",88345,68058,1361,157764]
["6913013","152호표","스텐용접합후렌지","D250","개소",142290,82823,1656,226769]
["6913014","153호표","스텐용접합후렌지","D300","개소",171316,97588,1951,270855]
["6914","154호표","스텐용접조후렌지","",""]
["6914001","155호표","스텐용접조후렌지","D15","개소",16916,23070,460,40446]
["6914002","156호표","스텐용접조후렌지","D20","개소",18107,26300,526,44933]
["6914003","157호표","스텐용접조후렌지","D25","개소",21005,30452,608,52065]
["6914004","158호표","스텐용접조후렌지","D32","개소",22827,35528,710,59065]
["6914005","159호표","스텐용접조후렌지","D40","개소",24675,38758,774,64207]
["6914006","160호표","스텐용접조후렌지","D50","개소",30090,45678,912,76680]
["6914007","161호표","스텐용접조후렌지","D65","개소",42079,54908,1098,98085]
["6914008","162호표","스텐용접조후렌지","D80","개소",48760,62290,1244,112294]
["6914009","163호표","스텐용접조후렌지","D100","개소",59739,77054,1540,138333]
["6914010","164호표","스텐용접조후렌지","D125","개소",90726,91820,1836,184382]
["6914011","165호표","스텐용접조후렌지","D150","개소",113806,106586,2130,222522]
["6914012","166호표","스텐용접조후렌지","D200","개소",161122,136116,2722,299960]
["6914013","167호표","스텐용접조후렌지","D250","개소",256292,165646,3312,425250]
["6914014","168호표","스텐용접조후렌지","D300","개소",305709,195176,3902,504787]
["6915","169호표","일반행가(달대볼트)","",""]
["6915001","170호표","일반행거(달대볼트)","D15","개소",1341,0,0,1341]
["6915002","171호표","일반행거(달대볼트)","D20","개소",1351,0,0,1351]
["6915003","172호표","일반행거(달대볼트)","D25","개소",1371,0,0,1371]
["6915004","173호표","일반행거(달대볼트)","D32","개소",1391,0,0,1391]
["6915005","174호표","일반행거(달대볼트)","D40","개소",1421,0,0,1421]
["6915006","175호표","일반행거(달대볼트)","D50","개소",1601,0,0,1601]
["6915007","176호표","일반행거(달대볼트)","D65","개소",1651,0,0,1651]
["6915008","177호표","일반행거(달대볼트)","D80","개소",1871,0,0,1871]
["6915009","178호표","일반행거(달대볼트)","D100","개소",2121,0,0,2121]
["6915010","179호표","일반행거(달대볼트)","D125","개소",3071,0,0,3071]
["6915011","180호표","일반행거(달대볼트)","D150","개소",4571,0,0,4571]
["6915012","181호표","일반행거(달대볼트)","D200","개소",5071,0,0,5071]
["6915013","182호표","일반행거(달대볼트)","D250","개소",6571,0,0,6571]
["6915014","183호표","일반행거(달대볼트)","D300","개소",9071,0,0,9071]
["6916","184호표","절연행가 (달대볼트)","",""]
["6916001","185호표","절연행가(달대볼트)","D15","개소",1521,0,0,1521]
["6916002","186호표","절연행가(달대볼트)","D20","개소",1571,0,0,1571]
["6916003","187호표","절연행가(달대볼트)","D25","개소",1621,0,0,1621]
["6916004","188호표","절연행가(달대볼트)","D32","개소",1721,0,0,1721]
["6916005","189호표","절연행가(달대볼트)","D40","개소",1771,0,0,1771]
["6916006","190호표","절연행가(달대볼트)","D50","개소",2021,0,0,2021]
["6916007","191호표","절연행가(달대볼트)","D65","개소",2221,0,0,2221]
["6916008","192호표","절연행가(달대볼트)","D80","개소",2821,0,0,2821]
["6916009","193호표","절연행가(달대볼트)","D100","개소",3171,0,0,3171]
["6916010","194호표","절연행가(달대볼트)","D125","개소",4071,0,0,4071]
["6916011","195호표","절연행가(달대볼트)","D150","개소",5571,0,0,5571]
["6916012","196호표","절연행가(달대볼트)","D200","개소",6571,0,0,6571]
["6917","197호표","강관스리브 (지수판제외)설치 - 바닥용",null,""]
["6917001","198호표","강관스리브(지수판제외)설치-바닥용","D15","개소",1291,12515,249,14055]
["6917002","199호표","강관스리브(지수판제외)설치-바닥용","D20","개소",1660,12515,249,14424]
["6917003","200호표","강관스리브(지수판제외)설치-바닥용","D25","개소",1904,12746,254,14904]
["6917004","201호표","강관스리브(지수판제외)설치-바닥용","D32","개소",2683,12746,254,15683]
["6917005","202호표","강관스리브(지수판제외)설치-바닥용","D40","개소",2683,12746,254,15683]
["6917006","203호표","강관스리브(지수판제외)설치-바닥용","D50","개소",3426,13158,262,16846]
["6917007","204호표","강관스리브(지수판제외)설치-바닥용","D65","개소",4452,16827,336,21615]
["6917008","205호표","강관스리브(지수판제외)설치-바닥용","D80","개소",6411,18112,362,24885]
["6917009","206호표","강관스리브(지수판제외)설치-바닥용","D100","개소",8546,18524,370,27440]
["6917010","207호표","강관스리브(지수판제외)설치-바닥용","D125","개소",10220,22719,454,33393]
["6917011","208호표","강관스리브(지수판제외)설치-바닥용","D150","개소",16195,23593,471,40259]
["6917012","209호표","강관스리브(지수판제외)설치-바닥용","D200","개소",23292,27970,558,51820]
["6917013","210호표","강관스리브(지수판제외)설치-바닥용","D250","개소",30411,30129,601,61141]
["6917014","211호표","강관스리브(지수판제외)설치-바닥용","D300","개소",36853,36454,728,74035]
["6917","212호표","강관스리브 (지수판제외)설치 - 벽체용",null,""]
["6917001","213호표","강관스리브(지수판제외)설치-벽체용","D15","개소",1291,14508,289,16088]
["6917002","214호표","강관스리브(지수판제외)설치-벽체용","D20","개소",1660,14508,289,16457]
["6917003","215호표","강관스리브(지수판제외)설치-벽체용","D25","개소",1904,14739,294,16937]
["6917004","216호표","강관스리브(지수판제외)설치-벽체용","D32","개소",2683,14739,294,17716]
["6917005","217호표","강관스리브(지수판제외)설치-벽체용","D40","개소",2683,14739,294,17716]
["6917006","218호표","강관스리브(지수판제외)설치-벽체용","D50","개소",3426,15151,302,18879]
["6917007","219호표","강관스리브(지수판제외)설치-벽체용","D65","개소",4452,18069,361,22882]
["6917008","220호표","강관스리브(지수판제외)설치-벽체용","D80","개소",6411,19354,387,26152]
["6917009","221호표","강관스리브(지수판제외)설치-벽체용","D100","개소",8546,19766,395,28707]
["6917010","222호표","강관스리브(지수판제외)설치-벽체용","D125","개소",10220,25694,513,36427]
["6917011","223호표","강관스리브(지수판제외)설치-벽체용","D150","개소",16195,26568,530,43293]
["6917012","224호표","강관스리브(지수판제외)설치-벽체용","D200","개소",23292,34296,685,58273]
["6917013","225호표","강관스리브(지수판제외)설치-벽체용","D250","개소",29454,28718,574,58746]
["6917014","226호표","강관스리브(지수판제외)설치-벽체용","D300","개소",36853,47143,942,84938]
["6918","227호표","강관스리브 (지수판포함)설치 - 벽체용",null,""]
["6918001","228호표","강관스리브(지수판포함)설치-벽체용","D40","개소",4143,20670,412,25225]
["6918002","229호표","강관스리브(지수판포함)설치-벽체용","D50","개소",5193,22024,438,27655]
["6918003","230호표","강관스리브(지수판포함)설치-벽체용","D65","개소",6979,26802,534,34315]
["6918004","231호표","강관스리브(지수판포함)설치-벽체용","D80","개소",11769,29972,597,42338]
["6918005","232호표","강관스리브(지수판포함)설치-벽체용","D100","개소",15106,32268,643,48017]
["6918006","233호표","강관스리브(지수판포함)설치-벽체용","D125","개소",18453,41967,836,61256]
["6918007","234호표","강관스리브(지수판포함)설치-벽체용","D150","개소",37539,46632,929,85100]
["6918008","235호표","강관스리브(지수판포함)설치-벽체용","D200","개소",49861,58128,1158,109147]
["6918008","236호표","강관스리브(지수판포함)설치-벽체용","D250","개소",61896,61868,1232,124996]
["6919","237호표","실내배관보온 (발포폴리에틸렌 25T) (내열난연 AL)",null,""]
["6919001","238호표","실내배관보온 (발포폴리에틸렌)","25TxD15","M당",2687,4682,93,7462]
["6919002","239호표","실내배관보온 (발포폴리에틸렌)","25TxD20","M당",2803,5414,108,8325]
["6919003","240호표","실내배관보온 (발포폴리에틸렌)","25TxD25","M당",3015,5964,119,9098]
["6919004","241호표","실내배관보온 (발포폴리에틸렌)","25TxD32","M당",3351,7023,140,10514]
["6919005","242호표","실내배관보온 (발포폴리에틸렌)","25TxD40","M당",3634,8122,162,11918]
["6919006","243호표","실내배관보온 (발포폴리에틸렌)","25TxD50","M당",4041,9548,190,13779]
["6919007","244호표","실내배관보온 (발포폴리에틸렌)","25TxD65","M당",4825,11523,230,16578]
["6919008","245호표","실내배관보온 (발포폴리에틸렌)","25TxD80","M당",5297,13537,270,19104]
["6919009","246호표","실내배관보온 (발포폴리에틸렌)","25TxD100","M당",6502,16244,324,23070]
["6919008","247호표","실내배관보온 (발포폴리에틸렌)","25TxD125","M당",8387,19645,392,28424]
["6919009","248호표","실내배관보온 (발포폴리에틸렌)","25TxD150","M당",10540,23085,461,34086]
["6919009","249호표","실내배관보온 (발포폴리에틸렌)","25TxD200","M당",14269,29926,598,44793]
[null,"250호표","실내배관보온 (발포폴리에틸렌 40T) (내열난연 AL)"]
["6919001","251호표","실내배관보온 (발포폴리에틸렌)","40TxD15","M당",5204,7756,155,13115]
["6919002","252호표","실내배관보온 (발포폴리에틸렌)","40TxD20","M당",5393,8854,177,14424]
["6919003","253호표","실내배관보온 (발포폴리에틸렌)","40TxD25","M당",5776,9220,184,15180]
["6919004","254호표","실내배관보온 (발포폴리에틸렌)","40TxD32","M당",6217,10791,215,17223]
["6919005","255호표","실내배관보온 (발포폴리에틸렌)","40TxD40","M당",6641,12438,248,19327]
["6919006","256호표","실내배관보온 (발포폴리에틸렌)","40TxD50","M당",7078,14597,291,21966]
["6919007","257호표","실내배관보온 (발포폴리에틸렌)","40TxD65","M당",7953,15656,313,23922]
["6919008","258호표","실내배관보온 (발포폴리에틸렌)","40TxD80","M당",8679,17853,357,26889]
["6919009","259호표","실내배관보온 (발포폴리에틸렌)","40TxD100","M당",10281,20378,407,31066]
["6919008","260호표","실내배관보온 (발포폴리에틸렌)","40TxD125","M당",13204,24511,490,38205]
["6919009","261호표","실내배관보온 (발포폴리에틸렌)","40TxD150","M당",16082,28500,570,45152]
["6919009","262호표","실내배관보온 (발포폴리에틸렌)","40TxD200","M당",22315,34060,681,57056]
["6919","263호표","실내배관보온 (유리솜 25T)","",""]
["6919001","264호표","실내배관보온 (유리솜)","25TxD15","M당",2394,6325,126,8845]
["6919002","265호표","실내배관보온 (유리솜)","25TxD20","M당",2592,7240,144,9976]
["6919003","266호표","실내배관보온 (유리솜)","25TxD25","M당",2858,8286,165,11309]
["6919004","267호표","실내배관보온 (유리솜)","25TxD32","M당",3145,9697,193,13035]
["6919005","268호표","실내배관보온 (유리솜)","25TxD40","M당",3401,11292,225,14918]
["6919006","269호표","실내배관보온 (유리솜)","25TxD50","M당",3898,13382,267,17547]
["6919007","270호표","실내배관보온 (유리솜)","25TxD65","M당",4377,16205,292,20874]
["6919008","271호표","실내배관보온 (유리솜)","25TxD80","M당",4884,19212,384,24480]
["6919009","272호표","실내배관보온 (유리솜)","25TxD100","M당",5772,23263,465,29500]
[null,"273호표","실내배관보온 (유리솜 40T)","",""]
["6919010","274호표","실내배관보온 (유리솜)","40TxD15","M당",3894,10376,207,14477]
["6919011","275호표","실내배관보온 (유리솜)","40TxD20","M당",4201,11841,236,16278]
["6919012","276호표","실내배관보온 (유리솜)","40TxD25","M당",4562,12520,250,17332]
["6919013","277호표","실내배관보온 (유리솜)","40TxD32","M당",4868,14977,299,20144]
["6919014","278호표","실내배관보온 (유리솜)","40TxD40","M당",5224,17304,346,22874]
["6919015","279호표","실내배관보온 (유리솜)","40TxD50","M당",5823,20440,408,26671]
["6919016","280호표","실내배관보온 (유리솜)","40TxD65","M당",6631,21852,437,28920]
["6919017","281호표","실내배관보온 (유리솜)","40TxD80","M당",7241,25407,508,33156]
["6919018","282호표","실내배관보온 (유리솜)","40TxD100","M당",8553,29092,581,38226]
["6919019","283호표","실내배관보온 (유리솜)","40TxD125","M당",9840,35418,708,45966]
["6919020","284호표","실내배관보온 (유리솜)","40TxD150","M당",11172,41377,827,53376]
["6919021","285호표","실내배관보온 (유리솜)","40TxD200","M당",13757,48618,972,63347]
["6920","286호표","실외배관보온(칼라함석,발포폴리에틸렌 50T,내열 난연 AL)",null,""]
["6920601","287호표","실외배관보온(칼라함석,발포폴리에틸렌)","50TxD15","M당",10980,23094,461,34535]
["6920602","288호표","실외배관보온(칼라함석,발포폴리에틸렌)","50TxD20","M당",11457,24367,487,36311]
["6920603","289호표","실외배관보온(칼라함석,발포폴리에틸렌)","50TxD25","M당",12347,26186,523,39056]
["6920604","290호표","실외배관보온(칼라함석,발포폴리에틸렌)","50TxD32","M당",12963,30001,600,43564]
["6920605","291호표","실외배관보온(칼라함석,발포폴리에틸렌)","50TxD40","M당",13533,31643,632,45808]
["6920606","292호표","실외배관보온(칼라함석,발포폴리에틸렌)","50TxD50","M당",14210,34552,691,49453]
["6920607","293호표","실외배관보온(칼라함석,발포폴리에틸렌)","50TxD65","M당",15497,43456,869,59822]
["6920608","294호표","실외배관보온(칼라함석,발포폴리에틸렌)","50TxD80","M당",16826,46372,927,64125]
["6920609","295호표","실외배관보온(칼라함석,발포폴리에틸렌)","50TxD100","M당",19390,55666,1113,76169]
["6920610","296호표","실외배관보온(칼라함석,발포폴리에틸렌)","50TxD125","M당",24435,63129,1262,88826]
["6920611","297호표","실외배관보온(칼라함석,발포폴리에틸렌)","50TxD150","M당",30476,71691,1433,103600]
["6920612","298호표","실외배관보온(칼라함석,발포폴리에틸렌)","50TxD200","M당",39970,90068,1801,131839]
["6920","299호표","실외배관보온(스텐강판,발포폴리에틸렌50T,내열 난연 AL)",null,""]
["6920601","300호표","실외배관보온(스텐강판,발포폴리에틸렌)","50TxD15","M당",12848,23094,461,36403]
["6920602","301호표","실외배관보온(스텐강판,발포폴리에틸렌)","50TxD20","M당",13398,24367,487,38252]
["6920603","302호표","실외배관보온(스텐강판,발포폴리에틸렌)","50TxD25","M당",14398,26186,523,41107]
["6920604","303호표","실외배관보온(스텐강판,발포폴리에틸렌)","50TxD32","M당",15161,30001,600,45762]
["6920605","304호표","실외배관보온(스텐강판,발포폴리에틸렌)","50TxD40","M당",15840,31643,632,48115]
["6920606","305호표","실외배관보온(스텐강판,발포폴리에틸렌)","50TxD50","M당",16664,34552,691,51907]
["6920607","306호표","실외배관보온(스텐강판,발포폴리에틸렌)","50TxD65","M당",18207,42913,858,61978]
["6920608","307호표","실외배관보온(스텐강판,발포폴리에틸렌)","50TxD80","M당",19720,46372,927,67019]
["6920609","308호표","실외배관보온(스텐강판,발포폴리에틸렌)","50TxD100","M당",22686,55666,1113,79465]
["6920610","309호표","실외배관보온(스텐강판,발포폴리에틸렌)","50TxD125","M당",28134,63129,1262,92525]
["6920610","310호표","실외배관보온(스텐강판,발포폴리에틸렌)","50TxD150","M당",34578,71691,1433,107702]
["6921","311호표","실외밸브보온(칼라함석,발포폴리에틸렌보온) - 현장가공",null,""]
["6921001","312호표","실외밸브보온(칼라함석,발포폴리에틸렌)","50TxD50이하","개소",15691,153759,3075,172525]
["6921002","313호표","실외밸브보온(칼라함석,발포폴리에틸렌)","50TxD65","개소",16988,172796,3455,193239]
["6921003","314호표","실외밸브보온(칼라함석,발포폴리에틸렌)","50TxD80","개소",19581,192198,3843,215622]
["6921004","315호표","실외밸브보온(칼라함석,발포폴리에틸렌)","50TxD100","개소",22305,221120,4422,247847]
["6921005","316호표","실외밸브보온(칼라함석,발포폴리에틸렌)","50TxD125","개소",26714,243083,4861,274658]
["6921006","317호표","실외밸브보온(칼라함석,발포폴리에틸렌)","50TxD150","개소",30993,264685,5293,300971]
["6921007","318호표","실외밸브보온(칼라함석,발포폴리에틸렌)","50TxD200","개소",40979,305871,6117,352967]
["6921","319호표","실외밸브보온(칼라함석,발포폴리에틸렌보온) - 공장가공",null,""]
["6921001","320호표","실외밸브보온(칼라함석,발포폴리에틸렌)","50TxD50이하 - 공장가공","개소",28977,42480,849,72306]
["6921002","321호표","실외밸브보온(칼라함석,발포폴리에틸렌)","50TxD65 - 공장가공","개소",32945,47490,949,81384]
["6921003","322호표","실외밸브보온(칼라함석,발포폴리에틸렌)","50TxD80 - 공장가공","개소",34280,52462,1049,87791]
["6921004","323호표","실외밸브보온(칼라함석,발포폴리에틸렌)","50TxD100 - 공장가공","개소",41482,59370,1187,102039]
["6921005","324호표","실외밸브보온(칼라함석,발포폴리에틸렌)","50TxD125 - 공장가공","개소",43752,67743,1354,112849]
["6921006","325호표","실외밸브보온(칼라함석,발포폴리에틸렌)","50TxD150 - 공장가공","개소",50955,76116,1522,128593]
["6921007","326호표","실외밸브보온(칼라함석,발포폴리에틸렌)","50TxD200 - 공장가공","개소",56095,93006,1860,150961]
["6922","327호표","잡철물제작설치","",""]
["6922001","328호표","잡철물제작설치","간단","TON",109264,6415534,194403,6719201]
[null,"329호표","잡철물제작설치","보통","TON",131117,7698641,233283,8063041]
["6922002","330호표","잡철물제작설치","복잡","TON",152970,8981748,272164,9406882]
["6922003","331호표","잡철물제작설치(스텐)","간단","TON",256753,6415534,130247,6802534]
["6922","332호표","잡철물제작","",""]
["6922001","333호표","잡철물제작","간단","TON",93120,5109281,103832,5306233]
["6922002","334호표","잡철물제작","복잡","TON",130368,7152994,145365,7428727]
["6922003","335호표","잡철물제작(스텐)","간단","TON",218502,5109281,103832,5431615]
["6923","336호표","각형닥트제작.설치","",""]
["6923006","337호표","각형닥트제작설치(아연도금강판)","(0.5T)","㎡당",17571,70029,1400,89000]
["6923007","338호표","각형닥트제작설치(아연도금강판)","(0.6T)","㎡당",18380,69559,1391,89330]
["6923008","339호표","각형닥트제작설치(아연도금강판)","(0.8T)","㎡당",22474,74773,1495,98742]
["6923009","340호표","각형닥트제작설치(아연도금강판)","(1.0T)","㎡당",25720,88460,1769,115949]
["6923010","341호표","각형닥트제작설치(아연도금강판)","(1.2T)","㎡당",28880,100735,2014,131629]
[null,"342호표","스텐닥트제작설치"]
["6923011","343호표","스텐닥트제작설치","(0.5T)","㎡당",30583,114208,2284,147075]
["6923012","344호표","스텐닥트제작설치","(0.6T)","㎡당",33524,113050,2261,148835]
["6923013","345호표","스텐닥트제작설치","(0.8T)","㎡당",41985,122682,2453,167120]
["6923014","346호표","스텐닥트제작설치","(1.0T)","㎡당",49122,150420,3008,202550]
["6923100","347호표","캔버스제작설치","1.6T","㎡당",19561,52512,1050,73123]
["6924","348호표","각형닥트보온(발포폴리에틸렌보온재, 내열 난연 AL)",null,""]
["6924001","349호표","각형닥트보온","25THK","M2",13842,53695,1073,68610]
["6924002","350호표","각형닥트보온","50THK","M2",17675,59726,1194,78595]
["6925","351호표","페인트칠","",""]
["6925001","352호표","녹막이페인트칠","2회","M2",1648,7380,147,9175]
["6925002","353호표","유성페인트칠","철재면2회","M2",962,9840,196,10998]
["6925003","354호표","수성페인트칠","2회","M2",595,10709,214,11518]
["6925004","355호표","알미늄페인트칠(은분)","2회","M2",1036,11724,234,12994]
["6925005","356호표","콜탈도장","2회","M2",1730,18759,375,20864]
["6926","357호표","계기설치","",""]
["6926001","358호표","압력계설치","","조",13110,10110,202,23422]
["6926002","359호표","온도계설치","","조",30330,10110,202,40642]
["6928","360호표","물탱크이설","",""]
["6928001","361호표","물탱크이설(4TON)","1000x2000x2000","",158055,662151,12690,832896]
["6928002","362호표","물탱크이설(6TON)","2000x2000x1500","",154316,675964,12690,842970]
["6928003","363호표","물탱크이설(8TON)","2000x2000x2000","",188385,907329,17041,1112755]
["6928004","364호표","물탱크이설(12TON)","2000x3000x2000","",251403,934955,17041,1203399]
["6928005","365호표","물탱크이설(16TON)","2000x4000x2000","",292315,1134377,21029,1447721]
["6929","366호표","물탱크 철거","",""]
["6929001","367호표","물탱크 철거(4TON)","1000x2000x2000","",0,416973,220000,636973]
["6929002","368호표","물탱크 철거(6TON)","2000x2000x1500","",0,634525,275000,909525]
["6929003","369호표","물탱크 철거(8TON)","2000x2000x2000","",0,634525,330000,964525]
["6929004","370호표","물탱크 철거(12TON)","2000x3000x2000","",0,743301,440000,1183301]
["6930","371호표","물탱크 철거(94TON)",null,"",0,{"$f":"'일위대가(21년하반기)'!$J$2942","v":9789822},{"$f":"'일위대가(21년하반기)'!$L$2942","v":{"$error":"#REF!"}}]
["6930001","372호표","U 볼트,너트","M15","개소",232,0,0,232]
["6930002","373호표","U 볼트,너트","M20","개소",244,0,0,244]
["6930003","374호표","U 볼트,너트","M25","개소",255,0,0,255]
["6930004","375호표","U 볼트,너트","M32","개소",268,0,0,268]
["6930005","376호표","U 볼트,너트","M40","개소",281,0,0,281]
["6930006","377호표","U 볼트,너트","M50","개소",305,0,0,305]
["6930007","378호표","U 볼트,너트","M65","개소",330,0,0,330]
["6930008","379호표","U 볼트,너트","M80","개소",354,0,0,354]
["6930009","380호표","U 볼트,너트","M100","개소",939,0,0,939]
["6930010","381호표","U 볼트,너트","M125","개소",1108,0,0,1108]
["6930011","382호표","U 볼트,너트","M150","개소",1340,0,0,1340]
["6930012","383호표","U 볼트,너트","M200","개소",2985,0,0,2985]
["6930013","384호표","U 볼트,너트","M250","개소",3474,0,0,3474]
["6930014","385호표","U 볼트,너트","M300","개소",4328,0,0,4328]
["6931","386호표","U 볼트,너트 (절연)","",""]
["6931001","387호표","U 볼트,너트 (절연)","M15","개소",444,0,0,444]
["6931002","388호표","U 볼트,너트 (절연)","M20","개소",507,0,0,507]
["6931003","389호표","U 볼트,너트 (절연)","M25","개소",546,0,0,546]
["6931004","390호표","U 볼트,너트 (절연)","M32","개소",584,0,0,584]
["6931005","391호표","U 볼트,너트 (절연)","M40","개소",635,0,0,635]
["6931006","392호표","U 볼트,너트 (절연)","M50","개소",724,0,0,724]
["6931007","393호표","U 볼트,너트 (절연)","M65","개소",955,0,0,955]
["6931008","394호표","U 볼트,너트 (절연)","M80","개소",1044,0,0,1044]
["6931009","395호표","U 볼트,너트 (절연)","M100","개소",1244,0,0,1244]
["6931010","396호표","U 볼트,너트 (절연)","M125","개소",2457,0,0,2457]
["6931011","397호표","U 볼트,너트 (절연)","M150","개소",2904,0,0,2904]
["6931012","398호표","U 볼트,너트 (절연)","M200","개소",3815,0,0,3815]
["6931013","399호표","U 볼트,너트 (절연)","M250","개소",4263,0,0,4263]
["6931014","400호표","U 볼트,너트 (절연)","M300","개소",5412,0,0,5412]
["6932","401호표","배관을 위한 구멍뚫기- 바닥","",""]
["6932001","402호표","코아구멍뚫기 (T=150mm) - 바닥","D25","개소",0,30591,103,30694]
["6932002","403호표","코아구멍뚫기 (T=151mm) - 바닥","D50","개소",0,37920,159,38079]
["6932003","404호표","코아구멍뚫기 (T=152mm) - 바닥","D75","개소",0,45249,215,45464]
["6932004","405호표","코아구멍뚫기 (T=153mm) - 바닥","D100","개소",0,52578,270,52848]
["6932005","406호표","코아구멍뚫기 (T=154mm) - 바닥","D150","개소",0,66918,381,67299]
["6932006","407호표","코아구멍뚫기 (T=155mm) - 바닥","D200","개소",0,80302,696,80998]
["6932007","408호표","코아구멍뚫기 (T=156mm) - 바닥","D250","개소",0,94004,853,94857]
["6932008","409호표","코아구멍뚫기 (T=157mm) - 바닥","D300","개소",0,108025,1010,109035]
["6932","410호표","배관을 위한 구멍뚫기- 벽체","",""]
["6932001","411호표","코아구멍뚫기 (T=150mm) - 벽체","D25","개소",0,39194,133,39327]
["6932002","412호표","코아구멍뚫기 (T=151mm) - 벽체","D50","개소",0,48436,203,48639]
["6932003","413호표","코아구멍뚫기 (T=152mm) - 벽체","D75","개소",0,57677,278,57955]
["6932004","414호표","코아구멍뚫기 (T=153mm) - 벽체","D100","개소",0,67236,344,67580]
["6932005","415호표","코아구멍뚫기 (T=154mm) - 벽체","D150","개소",0,85400,489,85889]
["6932006","416호표","코아구멍뚫기 (T=155mm) - 벽체","D200","개소",0,102608,895,103503]
["6932007","417호표","코아구멍뚫기 (T=156mm) - 벽체","D250","개소",0,120134,1094,121228]
["6932008","418호표","코아구멍뚫기 (T=157mm) - 벽체","D300","개소",0,138297,1293,139590]
["6933","419호표","정화조공사관련","",""]
["6933001","420호표","조목스크린","SUS 700*500","개소",73198,102648,2083,177929]
["6933002","421호표","세목스크린","SUS 700*500","개소",82711,115479,2344,200534]
["6933003","422호표","맨홀두껑","SUS 1600*800","개소",288298,469617,9534,767449]
["6933004","423호표","맨홀두껑","SUS 1200*600","개소",180734,290623,5900,477257]
["6933005","424호표","맨홀두껑","SUS 1000*600","개소",145413,234808,4767,384988]
["6933006","425호표","맨홀두껑","SUS 600*700","개소",108398,173860,3529,285787]
["6933007","426호표","에어헷다","D150*2000(80m3/day)","SET",428437,586507,1226,1016170]
["6933008","427호표","소포펌프설치","D50*1HP","대",1080000,433240,0,1513240]
["6933009","428호표","정류시설","PVC D250","SET",295140,80137,0,375277]
["6933010","429호표","염소주입통","PVC D125*2M","SET",17610,109547,0,127157]
["6933011","430호표","유량조정탱크","SUS 900*500*500 3T","SET",380333,689570,13979,1083882]
["6934","431호표","가스공사관련","",""]
["6934001","432호표","PE관 접합.부설 (버트,전자소켓)","D25","개소",0,19124,956,20080]
["6934002","433호표","PE관 접합.부설 (버트,전자소켓)","D32","개소",0,22186,1109,23295]
["6934003","434호표","PE관 접합.부설 (버트,전자소켓)","D40","개소",0,25450,1272,26722]
["6934004","435호표","PE관 접합.부설 (버트,전자소켓)","D50","개소",0,33279,1663,34942]
["6934005","436호표","PE관 접합.부설 (버트,전자소켓)","D63","개소",0,43419,2170,45589]
["6934005","437호표","PE관 접합.부설 (버트,전자소켓)","D75","개소",0,49544,2477,52021]
["6934001","438호표","PE관 접합.부설 (버트,전자소켓)","D90","개소",0,57575,2878,60453]
["6934002","439호표","PE관 접합.부설 (버트,전자소켓)","D110","개소",0,67917,3395,71312]
["6934003","440호표","PE관 접합.부설 (버트,전자소켓)","D125","개소",0,75948,3797,79745]
["6934004","441호표","PE관 접합.부설 (버트,전자소켓)","D140","개소",0,83777,4188,87965]
["6934004","442호표","PE관 접합.부설 (버트,전자소켓)","D160","개소",0,94466,4723,99189]
["6934005","443호표","PE관 접합.부설 (버트,전자소켓)","D180","개소",0,104808,5240,110048]
["6934","444호표","비파괴검사","",""]
[null,"445호표","액체 침투탐상검사 (P.T)","50A이하","개소",3128,25929,0,29057]
["6934010","446호표","액체 침투탐상검사 (P.T)","80A~100A","개소",6062,48564,0,54626]
["6934011","447호표","방사선 투과검사 (R.T)","","개소",4155,107455,0,111610]
[null,"448호표","자분탐상검사 (M.T)",null,"개소",0,74338,0,74338]
["6969","449호표","옥외배관공사 및 기타 관련","",""]
["6969001","450호표","터파기(인력)","보통토사  0-1M","㎥",0,28896,0,28896]
["6969002","451호표","되메우기(인력)","","㎥",0,14448,0,14448]
["6969003","452호표","터파기(기계)","백호우 0.2㎥","㎥",422,2257,657,3336]
["6969004","453호표","되메우고다지기(기계)","백호우 0.2㎥+콤펙타","㎥",475,4698,490,5663]
["6969011","454호표","폐기물처리(집적,운반,처리)","폐기물 성상별처리 참고","㎥"]
["6969012","455호표","잔토처리","8TON L=20KM","㎥",5334,11684,2989,20007]
["6969013","456호표","배수맨홀","700x700x1000, 철판뚜껑유","개소",183412,828241,13371,1025024]
["6969014","457호표","물탱크 받침대(벽돌위간이몰탈)","1.0B*2700L*1000H","개소",41182,163159,2094,206435]
["6969005","458호표","콘크리트컷팅(바닥.포장)","절단깊이 50-75mm","M",510,5092,267,5869]
["6969005","459호표","아스콘컷팅 ","T=5-75mm","M",416,1206,73,1695]
["6969006","460호표","콘크리트포장깨기(무근)","소형브레이카+공기압축기","㎥",6223,172225,1461,179909]
["6969007","461호표","콘크리트포장깨기(무근)","인력","㎥",19537,390748,0,410285]
["6969008","462호표","보도블럭 철거 및 포장(재사용)","블럭하부 모래","㎡",1600,20541,616,22757]
["6969009","463호표","콘크리트인력비빔타설","1:3:6","㎥",77560,271355,0,348915]
["6969009","464호표","콘크리트기계비빔타설","1:3:6","㎥",77560,87432,0,164992]
[null,"465호표","아스팔트표층공(인력)","아스콘포장 5CM","㎡",8574,6209,499,15282]
[null,"466호표","아스콘포장철거","소형브레이카+공기압축기","㎡",11490,203793,3068,218351]
[null,"467호표","아스콘포장철거","대형브레이카","㎡",2008,6544,3399,11951]
[null,"468호표","기계.장비기초(H=200mm)"," ","㎡",20356,103729,1851,125936]
["6969010","469호표","모래부설","","㎥",48000,57792,1155,106947]
["6969010","470호표","방수맨홀뚜껑","800*800*3t (SUS)","개소",153481.30000000002,218705.5,4440.1000000000004,376626.9]
["6969010","471호표","MDF판넬 제작.설치",null,"㎡",13465.7,75433.600000000006,1508.4,90407.7]
[null,"472호표","폐기물처리비","폐콘크리트","Ton",0,0,24337,24337]
[null,"473호표","폐기물처리비","폐아스팔트콘크리트","Ton",0,0,25939,25939]
[null,"474호표","폐기물처리비","폐벽돌,폐블럭","Ton",0,0,41951,41951]
["6920","475호표","관보온(APS카바)(발포폴리에틸렌 내열 난연 AL)",null,""]
["6920601","476호표","관보온(APS카바)","50TxD15","M",9491,8926,178,18595]
["6920602","477호표","관보온(APS카바)","50TxD20","M",10052,10208,204,20464]
["6920603","478호표","관보온(APS카바)","50TxD25","M",10839,10574,211,21624]
["6920604","479호표","관보온(APS카바)","50TxD32","M",11334,12371,247,23952]
["6920605","480호표","관보온(APS카바)","50TxD40","M",11810,14385,287,26482]
["6920606","481호표","관보온(APS카바)","50TxD50","M",12371,16741,334,29446]
["6920607","482호표","관보온(APS카바)","50TxD65","M",13443,18012,360,31815]
["6920608","483호표","관보온(APS카바)","50TxD80","M",14633,20575,411,35619]
["6920609","484호표","관보온(APS카바)","50TxD100","M",16860,23480,469,40809]
["6920610","485호표","관보온(APS카바)","50TxD125","M",21570,28206,564,50340]
["6920610","486호표","관보온(APS카바)","50TxD150","M",26829,32773,655,60257]
["6920610","487호표","관보온(APS카바)","50TxD200","M",36043,39123,782,75948]
["6920","488호표","배수펌프가대 2대설치기준  조",null,""]
["6920601","489호표","배수펌프가대 설치","2대설치기준","조",103598,426725,12675,542998]
["6906","490호표","스텐관용접(전기용접)","",""]
["6906001","491호표","스텐관용접","D15","개소",80,8305,166,8551]
["6906002","492호표","스텐관용접","D20","개소",146,9920,198,10264]
["6906003","493호표","스텐관용접","D25","개소",223,11996,239,12458]
["6906004","494호표","스텐관용접","D32","개소",333,14303,286,14922]
["6906005","495호표","스텐관용접","D40","개소",442,16149,322,16913]
["6906006","496호표","스텐관용접","D50","개소",607,19610,392,20609]
["6906007","497호표","스텐관용접","D65","개소",1832,24224,484,26540]
["6906008","498호표","스텐관용접","D80","개소",2335,27915,558,30808]
["6906009","499호표","스텐관용접","D100","개소",3425,35067,701,39193]
["6906010","500호표","스텐관용접","D125","개소",4840,42449,848,48137]
["6906011","501호표","스텐관용접","D150","개소",6558,49832,996,57386]
[null,"502호표","가스배관접합","",""]
[null,"503호표","강관 나사접합 ","D20","개소",193,14791,295,15279]
[null,"504호표","강관 나사접합 ","D25","개소",269,21059,421,21749]
[null,"505호표","강관 나사접합 ","D32","개소",369,26375,527,27271]
[null,"506호표","강관 나사접합 ","D40","개소",469,29784,595,30848]
[null,"507호표","강관 나사접합 ","D50","개소",674,40617,812,42103]
[null,"508호표","소화전설치","",""]
[null,"509호표"," 옥내소화전함설치","기존벽체철거후신설:20","개소",32452,365774,20453,418679]
[null,"510호표"," 옥내소화전함철거후 벽체마감","기존벽체마감","개소",22086,323816,7614,353516]
[null,"511호표"," 스텐레스 후렌지(그루브)","150A (합) 10㎏","개소",{"$f":"'일위대가(21년하반기)'!$H$4234","v":{"$error":"#REF!"}},{"$f":"'일위대가(21년하반기)'!J4234","v":0},{"$f":"'일위대가(21년하반기)'!L4234","v":0},418679]
[null,"512호표"," 스텐레스 후렌지(그루브)","125A (합) 10㎏","개소",{"$f":"'일위대가(21년하반기)'!$H$4241","v":{"$error":"#REF!"}},{"$f":"'일위대가(21년하반기)'!J4241","v":0},{"$f":"'일위대가(21년하반기)'!L4241","v":0},353516]
[null,"513호표"," 스텐레스 후렌지(그루브)","100A (합) 10㎏","개소",{"$f":"'일위대가(21년하반기)'!$H$4227","v":{"$error":"#REF!"}},{"$f":"'일위대가(21년하반기)'!I4227","v":0},{"$f":"'일위대가(21년하반기)'!L4227","v":0}]
[null,"514호표"," 스텐레스 후렌지(그루브)","80A (합) 10㎏","개소",{"$f":"'일위대가(21년하반기)'!$H$4219","v":{"$error":"#REF!"}},{"$f":"'일위대가(21년하반기)'!J4219","v":0},{"$f":"'일위대가(21년하반기)'!L4219","v":0}]
[null,"515호표"," 스텐레스 후렌지(그루브)","65A (합) 10㎏","개소",{"$f":"'일위대가(21년하반기)'!$H$4211","v":{"$error":"#REF!"}},{"$f":"'일위대가(21년하반기)'!J4211","v":0},{"$f":"'일위대가(21년하반기)'!L4211","v":0}]
[null,"516호표"," 스텐레스 후렌지(그루브)","50A (합) 10㎏","개소",{"$f":"'일위대가(21년하반기)'!$H$4203","v":{"$error":"#REF!"}},{"$f":"'일위대가(21년하반기)'!J4203","v":0},{"$f":"'일위대가(21년하반기)'!L4203","v":0}]
[null,"517호표"," 스텐레스 후렌지(그루브)","40A (합) 10㎏","개소",{"$f":"'일위대가(21년하반기)'!$H$4195","v":{"$error":"#REF!"}},{"$f":"'일위대가(21년하반기)'!J4195","v":0},{"$f":"'일위대가(21년하반기)'!L4195","v":0}]
[null,"518호표"," 스텐레스 후렌지(그루브)","32A (합) 10㎏","개소",{"$f":"'일위대가(21년하반기)'!$H$4187","v":{"$error":"#REF!"}},{"$f":"'일위대가(21년하반기)'!J4187","v":0},{"$f":"'일위대가(21년하반기)'!L4187","v":0}]
[null,"519호표"," 스텐레스 후렌지(그루브)","25A (합) 10㎏","개소",{"$f":"'일위대가(21년하반기)'!$H$4179","v":{"$error":"#REF!"}},{"$f":"'일위대가(21년하반기)'!J4179","v":0},{"$f":"'일위대가(21년하반기)'!L4179","v":0}]
[null,"520호표"," 천정철거, 철거재 사용"," 열경화성수지,300x300","M2",{"$f":"'일위대가(21년하반기)'!$H$4247","v":4600},{"$f":"'일위대가(21년하반기)'!$J$4247","v":7602}]
[null,"521호표"," 천정철거, 철거재 사용"," 열경화성수지,600x600","M2",{"$f":"'일위대가(21년하반기)'!$H$4253","v":4200},{"$f":"'일위대가(21년하반기)'!$J$4253","v":7602}]
[null,"522호표"," 천정철거, 철거재 사용"," 무석면텍스, 300x600x6t","M2",{"$f":"'일위대가(21년하반기)'!$H$4259","v":400},{"$f":"'일위대가(21년하반기)'!$J$4259","v":7602}]
[null,"523호표"," 천정철거, 철거재 미사용"," 석고보드, THK=9.5MM*1PLY","M2",null,{"$f":"'일위대가(21년하반기)'!$J$4263","v":2043}]
[null,"524호표",{"$f":"#REF!","v":{"$error":"#REF!"}}," 석고보드, THK=9.5MM*1PLY","M2",{"$f":"'일위대가(21년하반기)'!$H$4271","v":2802.9},{"$f":"'일위대가(21년하반기)'!$J$4271","v":5107.5}]
[null,"525호표"," 천정지바름","초배+정배,비닐실크  ","M2",{"$f":"'일위대가(21년하반기)'!$H$4276","v":523},{"$f":"'일위대가(21년하반기)'!$J$4276","v":6897}]
[null,"526호표"," PE필름 보양및 철거",null,"M2",{"$f":"'일위대가(21년하반기)'!$H$4282","v":712.4},{"$f":"'일위대가(21년하반기)'!$J$4282","v":1444.8}]
[null,"527호표"," PE필름 보양 철거",null,"M2",null,{"$f":"'일위대가(21년하반기)'!$J$4286","v":1444.8}]
[null,"528호표"," 현장정리"," 개수","M2",null,{"$f":"'일위대가(21년하반기)'!$J$4290","v":5056.8}]
[null,"529호표"," 내부수평비계(강당내부)  "," 3개월,2단  ","M2",{"$f":"'일위대가(21년하반기)'!$H$4299","v":2043},{"$f":"'일위대가(21년하반기)'!$J$4299","v":14637}]
[null,"530호표"," 이동식강관말비계  (12m), "," 3개월  ","대",{"$f":"'일위대가(21년하반기)'!$H$4313","v":56967.6},{"$f":"'일위대가(21년하반기)'!$J$4313","v":416590}]
[null,"531호표"," 강관 조립말비계(이동식)설치 및 해체  "," 높이 12m","대",{"$f":"'일위대가(21년하반기)'!$H$4318","v":0},{"$f":"'일위대가(21년하반기)'!$J$4318","v":416590.2}]
[null,"532호표"," 이동식강관말비계"," 1단(2m), 3개월","대",{"$f":"'일위대가(21년하반기)'!$H$4332","v":20718},{"$f":"'일위대가(21년하반기)'!$J$4332","v":83756}]
[null,"533호표"," 이동식강관말비계"," 3단(6m), 3개월","대",{"$f":"'일위대가(21년하반기)'!$H$4347","v":35026},{"$f":"'일위대가(21년하반기)'!$J$4347","v":222619}]
[null,"534호표"," 가대설치 300x300 /개","300x300 ","조",{"$f":"'일위대가(21년하반기)'!H4358","v":{"$error":"#REF!"}},{"$f":"'일위대가(21년하반기)'!J4358","v":{"$error":"#REF!"}},{"$f":"'일위대가(21년하반기)'!L4358","v":{"$error":"#REF!"}}]
[null,"535호표"," 가대설치 600x600 /개","600x600","조",{"$f":"'일위대가(21년하반기)'!H4368","v":{"$error":"#REF!"}},{"$f":"'일위대가(21년하반기)'!J4368","v":{"$error":"#REF!"}},{"$f":"'일위대가(21년하반기)'!L4368","v":{"$error":"#REF!"}}]
[null,"536호표"," 에폭시페인트칠","2회","M2",{"$f":"'일위대가(21년하반기)'!$H$4374","v":7113},{"$f":"'일위대가(21년하반기)'!$J$4374","v":11938}]
[null,"537호표"," 폐기물상차비",null,"톤",null,null,{"$f":"'일위대가(21년하반기)'!L4378","v":3220}]
[null,"538호표"," 폐기물운반비(덤프15Ton)"," 30KM이하","톤",{"$f":"'일위대가(21년하반기)'!H4382","v":0},{"$f":"'일위대가(21년하반기)'!J4382","v":0},{"$f":"'일위대가(21년하반기)'!L4382","v":13210}]
[]
[]
[]
[]
[null,"1호표"," STS관 설치"," 250Ax 4.0t","M당",{"$f":"'일위대가(21년하반기)'!$H$4402","v":{"$error":"#REF!"}},{"$f":"'일위대가(21년하반기)'!$J$4402","v":{"$error":"#REF!"}},{"$f":"'일위대가(21년하반기)'!$L$4402","v":{"$error":"#REF!"}}]
[null,"2호표"," STS관 설치"," 200Ax 4.0t","M당",{"$f":"'일위대가(21년하반기)'!$H$4410","v":{"$error":"#REF!"}},{"$f":"'일위대가(21년하반기)'!$J$4410","v":{"$error":"#REF!"}},{"$f":"'일위대가(21년하반기)'!$L$4410","v":{"$error":"#REF!"}}]
[null,"3호표"," STS관 설치"," 150Ax 3.5t","M당",{"$f":"'일위대가(21년하반기)'!$H$4418","v":{"$error":"#REF!"}},{"$f":"'일위대가(21년하반기)'!$J$4418","v":{"$error":"#REF!"}},{"$f":"'일위대가(21년하반기)'!$L$4418","v":{"$error":"#REF!"}}]
[null,"4호표"," STS관 설치","  80Ax 3.0t","M당",{"$f":"'일위대가(21년하반기)'!$H$4426","v":{"$error":"#REF!"}},{"$f":"'일위대가(21년하반기)'!$J$4426","v":{"$error":"#REF!"}},{"$f":"'일위대가(21년하반기)'!$L$4426","v":{"$error":"#REF!"}}]
[null,"5호표"," STS관 설치","  65Ax 3.0t","M당",{"$f":"'일위대가(21년하반기)'!$H$4434","v":{"$error":"#REF!"}},{"$f":"'일위대가(21년하반기)'!$J$4434","v":{"$error":"#REF!"}},{"$f":"'일위대가(21년하반기)'!$L$4434","v":{"$error":"#REF!"}}]
[null,"6호표"," STS 후렌지"," 250A (합) 10kg","조",{"$f":"'일위대가(21년하반기)'!$H$4442","v":142290},{"$f":"'일위대가(21년하반기)'!$J$4442","v":82823},{"$f":"'일위대가(21년하반기)'!$L$4442","v":1656}]
[null,"7호표"," STS 후렌지"," 200A (합) 10kg","조",{"$f":"'일위대가(21년하반기)'!$H$4450","v":88345},{"$f":"'일위대가(21년하반기)'!$J$4450","v":68058},{"$f":"'일위대가(21년하반기)'!$L$4450","v":1361}]
[null,"8호표"," STS 후렌지"," 150A (합) 10kg","조",{"$f":"'일위대가(21년하반기)'!$H$4458","v":62278},{"$f":"'일위대가(21년하반기)'!$J$4458","v":53293},{"$f":"'일위대가(21년하반기)'!$L$4458","v":1065}]
[null,"9호표 "," STS 후렌지","  80A (합) 10kg","조",{"$f":"'일위대가(21년하반기)'!$H$4466","v":26804},{"$f":"'일위대가(21년하반기)'!$H$4466","v":26804},{"$f":"'일위대가(21년하반기)'!$L$4466","v":622}]
[null,"10호표"," STS 후렌지","  65A (합) 10kg","조",{"$f":"'일위대가(21년하반기)'!$H$4474","v":22217},{"$f":"'일위대가(21년하반기)'!$J$4474","v":27454},{"$f":"'일위대가(21년하반기)'!$L$4474","v":549}]
[null,"11호표"," STS 후렌지"," 250A (조) 10kg","조",{"$f":"'일위대가(21년하반기)'!$H$4482","v":256292},{"$f":"'일위대가(21년하반기)'!$J$4482","v":165646},{"$f":"'일위대가(21년하반기)'!$L$4482","v":3312}]
[null,"12호표"," STS 후렌지","  25A (조) 10kg","조",{"$f":"'일위대가(21년하반기)'!$H$4490","v":21005},{"$f":"'일위대가(21년하반기)'!$J$4490","v":30452},{"$f":"'일위대가(21년하반기)'!$L$4490","v":608}]
[null,"13호표"," STS 용접"," 250A","개소",{"$f":"'일위대가(21년하반기)'!$H$4497","v":28852},{"$f":"'일위대가(21년하반기)'!$J$4497","v":82823},{"$f":"'일위대가(21년하반기)'!$L$4497","v":1656}]
[null,"14호표"," STS 용접"," 200A","개소",{"$f":"'일위대가(21년하반기)'!$H$4504","v":20192},{"$f":"'일위대가(21년하반기)'!$J$4504","v":68058},{"$f":"'일위대가(21년하반기)'!$L$4504","v":1361}]
[null,"15호표"," STS 용접"," 150A","개소",{"$f":"'일위대가(21년하반기)'!$H$4511","v":12008},{"$f":"'일위대가(21년하반기)'!$J$4511","v":53293},{"$f":"'일위대가(21년하반기)'!$L$4511","v":1065}]
[null,"16호표 "," STS 용접","  80A","개소",{"$f":"'일위대가(21년하반기)'!$H$4518","v":4146},{"$f":"'일위대가(21년하반기)'!$J$4518","v":31145},{"$f":"'일위대가(21년하반기)'!$L$4518","v":622}]
[null,"17호표"," STS 용접","  65A","개소",{"$f":"'일위대가(21년하반기)'!$H$4525","v":3287},{"$f":"'일위대가(21년하반기)'!$J$4525","v":27454},{"$f":"'일위대가(21년하반기)'!$L$4525","v":549}]
[null,"18호표"," U볼트, 너트 (절연)"," 250A","EA",{"$f":"'일위대가(21년하반기)'!H4531","v":4263},{"$f":"'일위대가(21년하반기)'!J4531","v":0},{"$f":"'일위대가(21년하반기)'!L4531","v":0}]
[null,"19호표"," U볼트, 너트 (절연)"," 200A","EA",{"$f":"'일위대가(21년하반기)'!H4537","v":3815},{"$f":"'일위대가(21년하반기)'!J4537","v":0},{"$f":"'일위대가(21년하반기)'!L4537","v":0}]
[null,"20호표"," U볼트, 너트 (절연)"," 150A","EA",{"$f":"'일위대가(21년하반기)'!H4543","v":2904},{"$f":"'일위대가(21년하반기)'!J4543","v":0},{"$f":"'일위대가(21년하반기)'!L4543","v":0}]
[null,"21호표"," U볼트, 너트 (절연)","  80A","EA",{"$f":"'일위대가(21년하반기)'!H4549","v":1044},{"$f":"'일위대가(21년하반기)'!J4549","v":0},{"$f":"'일위대가(21년하반기)'!L4549","v":0}]
[null,"22호표"," U볼트, 너트 (절연)","  65A","EA",{"$f":"'일위대가(21년하반기)'!H4555","v":955},{"$f":"'일위대가(21년하반기)'!J4555","v":0},{"$f":"'일위대가(21년하반기)'!L4555","v":0}]
[null,"23호표"," 버터플라이 밸브 (수동)"," 250A","EA",{"$f":"'일위대가(21년하반기)'!H4562","v":0},{"$f":"'일위대가(21년하반기)'!J4562","v":{"$error":"#REF!"}},{"$f":"'일위대가(21년하반기)'!L4562","v":0}]
[null,"24호표"," 버터플라이 밸브 (수동)"," 200A","EA",{"$f":"'일위대가(21년하반기)'!H4569","v":0},{"$f":"'일위대가(21년하반기)'!J4569","v":{"$error":"#REF!"}},{"$f":"'일위대가(21년하반기)'!L4569","v":0}]
[null,"25호표"," 버터플라이 밸브 (수동)","  80A","EA",{"$f":"'일위대가(21년하반기)'!H4576","v":0},{"$f":"'일위대가(21년하반기)'!J4576","v":{"$error":"#REF!"}},{"$f":"'일위대가(21년하반기)'!L4576","v":0}]
[null,"26호표"," 버터플라이 밸브 (자동)"," 250A","EA",{"$f":"'일위대가(21년하반기)'!H4582","v":0},{"$f":"'일위대가(21년하반기)'!J4582","v":{"$error":"#REF!"}},{"$f":"'일위대가(21년하반기)'!L4582","v":0}]
[null,"27호표"," 버터플라이 밸브 (자동)"," 150A","EA",{"$f":"'일위대가(21년하반기)'!H4588","v":0},{"$f":"'일위대가(21년하반기)'!J4588","v":{"$error":"#REF!"}},{"$f":"'일위대가(21년하반기)'!L4588","v":0}]
[null,"28호표"," 버터플라이 밸브 (자동)","  65A","EA",{"$f":"'일위대가(21년하반기)'!H4595","v":0},{"$f":"'일위대가(21년하반기)'!J4595","v":{"$error":"#REF!"}},{"$f":"'일위대가(21년하반기)'!L4595","v":0}]
[null,"29호표"," 후렉시블 죠인트"," 250A STS 벨로즈타입 10kg","EA",{"$f":"'일위대가(21년하반기)'!H4602","v":{"$error":"#REF!"}},{"$f":"'일위대가(21년하반기)'!J4602","v":{"$error":"#REF!"}},{"$f":"'일위대가(21년하반기)'!L4602","v":0}]
[null,"30호표"," 후렉시블 죠인트"," 150A STS 벨로즈타입 10kg","EA",{"$f":"'일위대가(21년하반기)'!H4609","v":{"$error":"#REF!"}},{"$f":"'일위대가(21년하반기)'!J4609","v":{"$error":"#REF!"}},{"$f":"'일위대가(21년하반기)'!L4609","v":0}]
{"$rows_empty":173}
[null,null,"1. 비고란의 행표시는 해당 일위대가의 시작행"]
[null,null,"2. 양식 변경 금지 - 추가내용은 하부에 이어서 계속 기재"]

{"sheet":"일위대가(21년하반기)","index":21,"n_rows":4609,"n_cols":20,"rows_kept":4609,"cut":false,"hidden":true,"merged":[[4277,2,4277,14],[4283,2,4283,14],[4287,2,4287,14],[2,2,2,14],[10,2,10,14],[4172,2,4172,14],[4180,2,4180,14],[4188,2,4188,14],[4196,2,4196,14],[4204,2,4204,14],[4212,2,4212,14],[4220,2,4220,14],[50,2,50,14],[58,2,58,14],[66,2,66,14],[74,2,74,14],[82,2,82,14],[90,2,90,14],[18,2,18,14],[26,2,26,14],[34,2,34,14],[42,2,42,14],[146,2,146,14],[154,2,154,14],[0,6,0,7],[0,8,0,9],[0,10,0,11],[0,12,0,13],[0,14,1,14],[0,16,1,19],[0,0,1,0],[0,1,1,1],[0,2,1,2],[0,3,1,3],[0,4,1,4],[0,5,1,5],[162,2,162,14],[170,2,170,14],[178,2,178,14],[186,2,186,14],[98,2,98,14],[106,2,106,14],[114,2,114,14],[122,2,122,14],[130,2,130,14],[138,2,138,14],[235,2,235,14],[242,2,242,14],[249,2,249,14],[256,2,256,14],[263,2,263,14],[270,2,270,14],[193,2,193,14],[200,2,200,14],[207,2,207,14],[214,2,214,14],[221,2,221,14],[228,2,228,14],[329,2,329,14],[338,2,338,14],[347,2,347,14],[356,2,356,14],[365,2,365,14],[374,2,374,14],[277,2,277,14],[284,2,284,14],[293,2,293,14],[302,2,302,14],[311,2,311,14],[320,2,320,14],[427,2,427,14],[434,2,434,14],[441,2,441,14],[448,2,448,14],[455,2,455,14],[462,2,462,14],[383,2,383,14],[392,2,392,14],[399,2,399,14],[406,2,406,14],[413,2,413,14],[420,2,420,14],[511,2,511,14],[518,2,518,14],[525,2,525,14],[532,2,532,14],[541,2,541,14],[550,2,550,14],[469,2,469,14],[476,2,476,14],[483,2,483,14],[490,2,490,14],[497,2,497,14],[504,2,504,14],[610,2,610,14],[618,2,618,14],[626,2,626,14],[634,2,634,14],[642,2,642,14],[650,2,650,14],[559,2,559,14],[568,2,568,14],[577,2,577,14],[586,2,586,14],[594,2,594,14],[602,2,602,14],[706,2,706,14],[714,2,714,14],[722,2,722,14],[730,2,730,14],[738,2,738,14],[746,2,746,14],[658,2,658,14],[666,2,666,14],[674,2,674,14],[682,2,682,14],[690,2,690,14],[698,2,698,14],[802,2,802,14],[810,2,810,14],[818,2,818,14],[826,2,826,14],[834,2,834,14],[842,2,842,14],[754,2,754,14],[762,2,762,14],[770,2,770,14],[778,2,778,14],[786,2,786,14],[794,2,794,14],[898,2,898,14],[906,2,906,14],[914,2,914,14],[922,2,922,14],[930,2,930,14],[938,2,938,14],[850,2,850,14],[858,2,858,14],[866,2,866,14],[874,2,874,14],[882,2,882,14],[890,2,890,14],[994,2,994,14],[1002,2,1002,14],[1010,2,1010,14],[1018,2,1018,14],[1026,2,1026,14],[1034,2,1034,14],[946,2,946,14],[954,2,954,14],[962,2,962,14],[970,2,970,14],[978,2,978,14],[986,2,986,14],[1090,2,1090,14],[1098,2,1098,14],[1106,2,1106,14],[1114,2,1114,14],[1122,2,1122,14],[1130,2,1130,14],[1042,2,1042,14],[1050,2,1050,14],[1058,2,1058,14],[1066,2,1066,14],[1074,2,1074,14],[1082,2,1082,14],[1186,2,1186,14],[1194,2,1194,14],[1202,2,1202,14],[1210,2,1210,14],[1218,2,1218,14],[1226,2,1226,14],[1138,2,1138,14],[1146,2,1146,14],[1154,2,1154,14],[1162,2,1162,14],[1170,2,1170,14],[1178,2,1178,14],[1268,2,1268,14],[1274,2,1274,14],[1280,2,1280,14],[1286,2,1286,14],[1292,2,1292,14],[1298,2,1298,14],[1232,2,1232,14],[1238,2,1238,14],[1244,2,1244,14],[1250,2,1250,14],[1256,2,1256,14],[1262,2,1262,14],[1340,2,1340,14],[1346,2,1346,14],[1352,2,1352,14],[1358,2,1358,14],[1364,2,1364,14],[1370,2,1370,14],[1304,2,1304,14],[1310,2,1310,14],[1316,2,1316,14],[1322,2,1322,14],[1328,2,1328,14],[1334,2,1334,14],[1422,2,1422,14],[1430,2,1430,14],[1438,2,1438,14],[1446,2,1446,14],[1454,2,1454,14],[1462,2,1462,14],[1376,2,1376,14],[1382,2,1382,14],[1390,2,1390,14],[1398,2,1398,14],[1406,2,1406,14],[1414,2,1414,14],[1518,2,1518,14],[1526,2,1526,14],[1534,2,1534,14],[1542,2,1542,14],[1550,2,1550,14],[1558,2,1558,14],[1470,2,1470,14],[1478,2,1478,14],[1486,2,1486,14],[1494,2,1494,14],[1502,2,1502,14],[1510,2,1510,14],[1618,2,1618,14],[1630,2,1630,14],[1642,2,1642,14],[1654,2,1654,14],[1666,2,1666,14],[1678,2,1678,14],[1566,2,1566,14],[1574,2,1574,14],[1582,2,1582,14],[1590,2,1590,14],[1598,2,1598,14],[1606,2,1606,14],[1754,2,1754,14],[1764,2,1764,14],[1774,2,1774,14],[1784,2,1784,14],[1794,2,1794,14],[1804,2,1804,14],[1690,2,1690,14],[1702,2,1702,14],[1714,2,1714,14],[1724,2,1724,14],[1734,2,1734,14],[1744,2,1744,14],[1874,2,1874,14],[1884,2,1884,14],[1894,2,1894,14],[1904,2,1904,14],[1914,2,1914,14],[1924,2,1924,14],[1814,2,1814,14],[1824,2,1824,14],[1834,2,1834,14],[1844,2,1844,14],[1854,2,1854,14],[1864,2,1864,14],[1998,2,1998,14],[2009,2,2009,14],[2020,2,2020,14],[2031,2,2031,14],[2042,2,2042,14],[2053,2,2053,14],[1934,2,1934,14],[1944,2,1944,14],[1954,2,1954,14],[1965,2,1965,14],[1976,2,1976,14],[1987,2,1987,14],[2130,2,2130,14],[2141,2,2141,14],[2152,2,2152,14],[2163,2,2163,14],[2174,2,2174,14],[2185,2,2185,14],[2064,2,2064,14],[2075,2,2075,14],[2086,2,2086,14],[2097,2,2097,14],[2108,2,2108,14],[2119,2,2119,14],[2249,2,2249,14],[2258,2,2258,14],[2267,2,2267,14],[2276,2,2276,14],[2285,2,2285,14],[2294,2,2294,14],[2195,2,2195,14],[2204,2,2204,14],[2213,2,2213,14],[2222,2,2222,14],[2231,2,2231,14],[2240,2,2240,14],[2358,2,2358,14],[2367,2,2367,14],[2376,2,2376,14],[2385,2,2385,14],[2394,2,2394,14],[2403,2,2403,14],[2304,2,2304,14],[2313,2,2313,14],[2322,2,2322,14],[2331,2,2331,14],[2340,2,2340,14],[2349,2,2349,14],[2466,2,2466,14],[2475,2,2475,14],[2484,2,2484,14],[2493,2,2493,14],[2502,2,2502,14],[2511,2,2511,14],[2412,2,2412,14],[2421,2,2421,14],[2430,2,2430,14],[2439,2,2439,14],[2448,2,2448,14],[2457,2,2457,14],[2598,2,2598,14],[2611,2,2611,14],[2629,2,2629,14],[2647,2,2647,14],[2667,2,2667,14],[2687,2,2687,14],[2520,2,2520,14],[2533,2,2533,14],[2546,2,2546,14],[2559,2,2559,14],[2572,2,2572,14],[2585,2,2585,14],[2803,2,2803,14],[2814,2,2814,14],[2823,2,2823,14],[2832,2,2832,14],[2840,2,2840,14],[2846,2,2846,14],[2707,2,2707,14],[2725,2,2725,14],[2743,2,2743,14],[2763,2,2763,14],[2783,2,2783,14],[2792,2,2792,14],[2908,2,2908,14],[2918,2,2918,14],[2923,2,2923,14],[2928,2,2928,14],[2933,2,2933,14],[2943,2,2943,14],[2852,2,2852,14],[2860,2,2860,14],[2868,2,2868,14],[2878,2,2878,14],[2888,2,2888,14],[2898,2,2898,14],[2938,2,2938,14],[2985,2,2985,14],[2991,2,2991,14],[2997,2,2997,14],[3003,2,3003,14],[3009,2,3009,14],[3015,2,3015,14],[2949,2,2949,14],[2955,2,2955,14],[2961,2,2961,14],[2967,2,2967,14],[2973,2,2973,14],[2979,2,2979,14],[3057,2,3057,14],[3063,2,3063,14],[3069,2,3069,14],[3075,2,3075,14],[3081,2,3081,14],[3087,2,3087,14],[3021,2,3021,14],[3027,2,3027,14],[3033,2,3033,14],[3039,2,3039,14],[3045,2,3045,14],[3051,2,3051,14],[3129,2,3129,14],[3135,2,3135,14],[3141,2,3141,14],[3147,2,3147,14],[3153,2,3153,14],[3159,2,3159,14],[3093,2,3093,14],[3099,2,3099,14],[3105,2,3105,14],[3111,2,3111,14],[3117,2,3117,14],[3123,2,3123,14],[3201,2,3201,14],[3207,2,3207,14],[3214,2,3214,14],[3221,2,3221,14],[3227,2,3227,14],[3233,2,3233,14],[3165,2,3165,14],[3171,2,3171,14],[3177,2,3177,14],[3183,2,3183,14],[3189,2,3189,14],[3195,2,3195,14],[3287,2,3287,14],[3293,2,3293,14],[3299,2,3299,14],[3305,2,3305,14],[3311,2,3311,14],[3317,2,3317,14],[3239,2,3239,14],[3245,2,3245,14],[3258,2,3258,14],[3265,2,3265,14],[3272,2,3272,14],[3279,2,3279,14],[3359,2,3359,14],[3359,17,3359,19],[3372,2,3372,14],[3372,17,3372,19],[3385,2,3385,14],[3401,2,3401,14],[3323,2,3323,14],[3329,2,3329,14],[3335,2,3335,14],[3341,2,3341,14],[3347,2,3347,14],[3353,2,3353,14],[3435,2,3435,14],[3443,2,3443,14],[3451,2,3451,14],[3455,2,3455,14],[3463,2,3463,14],[3470,2,3470,14],[3405,2,3405,14],[3409,2,3409,14],[3413,2,3413,14],[3417,2,3417,14],[3419,2,3419,14],[3423,2,3423,14],[3523,2,3523,14],[3532,2,3532,14],[3545,2,3545,14],[3556,2,3556,14],[3560,2,3560,14],[3564,2,3564,14],[3475,2,3475,14],[3484,2,3484,14],[3491,2,3491,14],[3498,2,3498,14],[3509,2,3509,14],[3517,2,3517,14],[3622,2,3622,14],[3631,2,3631,14],[3640,2,3640,14],[3649,2,3649,14],[3658,2,3658,14],[3667,2,3667,14],[3568,2,3568,14],[3577,2,3577,14],[3586,2,3586,14],[3595,2,3595,14],[3604,2,3604,14],[3613,2,3613,14],[3723,2,3723,14],[3730,2,3730,14],[3737,2,3737,14],[3744,2,3744,14],[3751,2,3751,14],[3758,2,3758,14],[3676,2,3676,14],[3688,2,3688,14],[3695,2,3695,14],[3702,2,3702,14],[3709,2,3709,14],[3716,2,3716,14],[3812,2,3812,14],[3819,2,3819,14],[3826,2,3826,14],[3833,2,3833,14],[3848,2,3848,14],[3861,2,3861,14],[3765,2,3765,14],[3773,2,3773,14],[3781,2,3781,14],[3789,2,3789,14],[3797,2,3797,14],[3805,2,3805,14],[3908,2,3908,14],[3915,2,3915,14],[3922,2,3922,14],[3929,2,3929,14],[3936,2,3936,14],[3943,2,3943,14],[3866,2,3866,14],[3873,2,3873,14],[3880,2,3880,14],[3887,2,3887,14],[3894,2,3894,14],[3901,2,3901,14],[3992,2,3992,14],[3999,2,3999,14],[4006,2,4006,14],[4013,2,4013,14],[4020,2,4020,14],[4027,2,4027,14],[3950,2,3950,14],[3957,2,3957,14],[3964,2,3964,14],[3971,2,3971,14],[3978,2,3978,14],[3985,2,3985,14],[4082,2,4082,14],[4092,2,4092,14],[4102,2,4102,14],[4112,2,4112,14],[4122,2,4122,14],[4132,2,4132,14],[4034,2,4034,14],[4041,2,4041,14],[4048,2,4048,14],[4055,2,4055,14],[4062,2,4062,14],[4072,2,4072,14],[4242,2,4242,14],[4248,2,4248,14],[4254,2,4254,14],[4260,2,4260,14],[4264,2,4264,14],[4272,2,4272,14],[4142,2,4142,14],[4152,2,4152,14],[4162,2,4162,14],[4228,2,4228,14],[4235,2,4235,14]]}
["일위대가","자재코드","품          명","규       격","단위","수량","재  료  비",null,"노  무  비",null,"경    비",null,"합    계",null,"비고",null,"품의 할증 관계 참고"]
[{"$nulls":6},"단가","금액","단가","금액","단가","금액","단가","금액"]
[null,null,"6901001  강판절단  3.2MM  m"]
["6901001","0803005","산소","(기체.공업용99.9%)","ℓ",20.8,1.8333333333333333,{"$f":"TRUNC(F4*G4,1)","v":38.1},0,{"$f":"TRUNC(F4*I4,1)","v":0},0,{"$f":"TRUNC(F4*K4,1)","v":0},{"$f":"TRUNC(G4+I4+K4,1)","v":1.8},{"$f":"TRUNC(H4+J4+L4,0)","v":38},""]
["6901001","0803003","아세틸렌","98% 공업용","ℓ",10.6,12.895662368112545,{"$f":"TRUNC(F5*G5,1)","v":136.6},0,{"$f":"TRUNC(F5*I5,1)","v":0},0,{"$f":"TRUNC(F5*K5,1)","v":0},{"$f":"TRUNC(G5+I5+K5,1)","v":12.8},{"$f":"TRUNC(H5+J5+L5,0)","v":136},""]
["6901001","0001112","노무비","용접공","인",4.5999999999999999E-3,0,{"$f":"TRUNC(F6*G6,1)","v":0},230706,{"$f":"TRUNC(F6*I6,1)","v":1061.2},0,{"$f":"TRUNC(F6*K6,1)","v":0},{"$f":"TRUNC(G6+I6+K6,1)","v":230706},{"$f":"TRUNC(H6+J6+L6,0)","v":1061},""]
["6901001","0001083","노무비","특별인부","인",2.3E-3,0,{"$f":"TRUNC(F7*G7,1)","v":0},181293,{"$f":"TRUNC(F7*I7,1)","v":416.9},0,{"$f":"TRUNC(F7*K7,1)","v":0},{"$f":"TRUNC(G7+I7+K7,1)","v":181293},{"$f":"TRUNC(H7+J7+L7,0)","v":416},""]
["6901001","M500000","공구손료","노무비의 2%","식",1,null,{"$f":"TRUNC(F8*G8,1)","v":0},0,{"$f":"TRUNC(F8*I8,1)","v":0},29.5,{"$f":"TRUNC(F8*K8,1)","v":29.5},{"$f":"TRUNC(G8+I8+K8,1)","v":29.5},{"$f":"TRUNC(H8+J8+L8,0)","v":29},""]
[null,null,"[ 합           계 ]",{"$nulls":4},{"$f":"TRUNC(SUM(H4:H8),0)","v":174},null,{"$f":"TRUNC(SUM(J4:J8),0)","v":1478},null,{"$f":"TRUNC(SUM(L4:L8),0)","v":29},null,{"$f":"H9+J9+L9","v":1681}]
[]
[null,null,"6901002  강판절단  4.5MM  m"]
["6901002","0803005","산소","(기체.공업용99.9%)","ℓ",46,1.8333333333333333,{"$f":"TRUNC(F12*G12,1)","v":84.3},0,{"$f":"TRUNC(F12*I12,1)","v":0},0,{"$f":"TRUNC(F12*K12,1)","v":0},{"$f":"TRUNC(G12+I12+K12,1)","v":1.8},{"$f":"TRUNC(H12+J12+L12,0)","v":84},""]
["6901002","0803003","아세틸렌","98% 공업용","ℓ",23.2,12.895662368112545,{"$f":"TRUNC(F13*G13,1)","v":299.10000000000002},0,{"$f":"TRUNC(F13*I13,1)","v":0},0,{"$f":"TRUNC(F13*K13,1)","v":0},{"$f":"TRUNC(G13+I13+K13,1)","v":12.8},{"$f":"TRUNC(H13+J13+L13,0)","v":299},""]
["6901002","0001112","노무비","용접공","인",5.0000000000000001E-3,0,{"$f":"TRUNC(F14*G14,1)","v":0},230706,{"$f":"TRUNC(F14*I14,1)","v":1153.5},0,{"$f":"TRUNC(F14*K14,1)","v":0},{"$f":"TRUNC(G14+I14+K14,1)","v":230706},{"$f":"TRUNC(H14+J14+L14,0)","v":1153},""]
["6901002","0001083","노무비","특별인부","인",2.5000000000000001E-3,0,{"$f":"TRUNC(F15*G15,1)","v":0},181293,{"$f":"TRUNC(F15*I15,1)","v":453.2},0,{"$f":"TRUNC(F15*K15,1)","v":0},{"$f":"TRUNC(G15+I15+K15,1)","v":181293},{"$f":"TRUNC(H15+J15+L15,0)","v":453},""]
["6901002","M500000","공구손료","노무비의 2%","식",1,null,{"$f":"TRUNC(F16*G16,1)","v":0},0,{"$f":"TRUNC(F16*I16,1)","v":0},32.1,{"$f":"TRUNC(F16*K16,1)","v":32.1},{"$f":"TRUNC(G16+I16+K16,1)","v":32.1},{"$f":"TRUNC(H16+J16+L16,0)","v":32},""]
[null,null,"[ 합           계 ]",{"$nulls":4},{"$f":"TRUNC(SUM(H12:H16),0)","v":383},null,{"$f":"TRUNC(SUM(J12:J16),0)","v":1606},null,{"$f":"TRUNC(SUM(L12:L16),0)","v":32},null,{"$f":"H17+J17+L17","v":2021}]
[]
[null,null,"6901003  강판절단  6MM  m"]
["6901003","0803005","산소","(기체.공업용99.9%)","ℓ",71.3,1.8333333333333333,{"$f":"TRUNC(F20*G20,1)","v":130.69999999999999},0,{"$f":"TRUNC(F20*I20,1)","v":0},0,{"$f":"TRUNC(F20*K20,1)","v":0},{"$f":"TRUNC(G20+I20+K20,1)","v":1.8},{"$f":"TRUNC(H20+J20+L20,0)","v":130},""]
["6901003","0803003","아세틸렌","98% 공업용","ℓ",35.9,12.895662368112545,{"$f":"TRUNC(F21*G21,1)","v":462.9},0,{"$f":"TRUNC(F21*I21,1)","v":0},0,{"$f":"TRUNC(F21*K21,1)","v":0},{"$f":"TRUNC(G21+I21+K21,1)","v":12.8},{"$f":"TRUNC(H21+J21+L21,0)","v":462},""]
["6901003","0001112","노무비","용접공","인",5.4000000000000003E-3,0,{"$f":"TRUNC(F22*G22,1)","v":0},230706,{"$f":"TRUNC(F22*I22,1)","v":1245.8},0,{"$f":"TRUNC(F22*K22,1)","v":0},{"$f":"TRUNC(G22+I22+K22,1)","v":230706},{"$f":"TRUNC(H22+J22+L22,0)","v":1245},""]
["6901003","0001083","노무비","특별인부","인",2.7000000000000001E-3,0,{"$f":"TRUNC(F23*G23,1)","v":0},181293,{"$f":"TRUNC(F23*I23,1)","v":489.4},0,{"$f":"TRUNC(F23*K23,1)","v":0},{"$f":"TRUNC(G23+I23+K23,1)","v":181293},{"$f":"TRUNC(H23+J23+L23,0)","v":489},""]
["6901003","M500000","공구손료","노무비의 2%","식",1,null,{"$f":"TRUNC(F24*G24,1)","v":0},0,{"$f":"TRUNC(F24*I24,1)","v":0},34.700000000000003,{"$f":"TRUNC(F24*K24,1)","v":34.700000000000003},{"$f":"TRUNC(G24+I24+K24,1)","v":34.700000000000003},{"$f":"TRUNC(H24+J24+L24,0)","v":34},""]
[null,null,"[ 합           계 ]",{"$nulls":4},{"$f":"TRUNC(SUM(H20:H24),0)","v":593},null,{"$f":"TRUNC(SUM(J20:J24),0)","v":1735},null,{"$f":"TRUNC(SUM(L20:L24),0)","v":34},null,{"$f":"H25+J25+L25","v":2362}]
[]
[null,null,"6901004  강판절단  9MM  m"]
["6901004","0803005","산소","(기체.공업용99.9%)","ℓ",100.4,1.8333333333333333,{"$f":"TRUNC(F28*G28,1)","v":184},0,{"$f":"TRUNC(F28*I28,1)","v":0},0,{"$f":"TRUNC(F28*K28,1)","v":0},{"$f":"TRUNC(G28+I28+K28,1)","v":1.8},{"$f":"TRUNC(H28+J28+L28,0)","v":184},""]
["6901004","0803003","아세틸렌","98% 공업용","ℓ",50.2,12.895662368112545,{"$f":"TRUNC(F29*G29,1)","v":647.29999999999995},0,{"$f":"TRUNC(F29*I29,1)","v":0},0,{"$f":"TRUNC(F29*K29,1)","v":0},{"$f":"TRUNC(G29+I29+K29,1)","v":12.8},{"$f":"TRUNC(H29+J29+L29,0)","v":647},""]
["6901004","0001112","노무비","용접공","인",6.0000000000000001E-3,0,{"$f":"TRUNC(F30*G30,1)","v":0},230706,{"$f":"TRUNC(F30*I30,1)","v":1384.2},0,{"$f":"TRUNC(F30*K30,1)","v":0},{"$f":"TRUNC(G30+I30+K30,1)","v":230706},{"$f":"TRUNC(H30+J30+L30,0)","v":1384},""]
["6901004","0001083","노무비","특별인부","인",2.8999999999999998E-3,0,{"$f":"TRUNC(F31*G31,1)","v":0},181293,{"$f":"TRUNC(F31*I31,1)","v":525.70000000000005},0,{"$f":"TRUNC(F31*K31,1)","v":0},{"$f":"TRUNC(G31+I31+K31,1)","v":181293},{"$f":"TRUNC(H31+J31+L31,0)","v":525},""]
["6901004","M500000","공구손료","노무비의 2%","식",1,null,{"$f":"TRUNC(F32*G32,1)","v":0},0,{"$f":"TRUNC(F32*I32,1)","v":0},38.1,{"$f":"TRUNC(F32*K32,1)","v":38.1},{"$f":"TRUNC(G32+I32+K32,1)","v":38.1},{"$f":"TRUNC(H32+J32+L32,0)","v":38},""]
[null,null,"[ 합           계 ]",{"$nulls":4},{"$f":"TRUNC(SUM(H28:H32),0)","v":831},null,{"$f":"TRUNC(SUM(J28:J32),0)","v":1909},null,{"$f":"TRUNC(SUM(L28:L32),0)","v":38},null,{"$f":"H33+J33+L33","v":2778}]
[]
[null,null,"6901005  강판절단  12MM  m"]
["6901005","0803005","산소","(기체.공업용99.9%)","ℓ",150.5,1.8333333333333333,{"$f":"TRUNC(F36*G36,1)","v":275.89999999999998},0,{"$f":"TRUNC(F36*I36,1)","v":0},0,{"$f":"TRUNC(F36*K36,1)","v":0},{"$f":"TRUNC(G36+I36+K36,1)","v":1.8},{"$f":"TRUNC(H36+J36+L36,0)","v":275},""]
["6901005","0803003","아세틸렌","98% 공업용","ℓ",75.5,12.895662368112545,{"$f":"TRUNC(F37*G37,1)","v":973.6},0,{"$f":"TRUNC(F37*I37,1)","v":0},0,{"$f":"TRUNC(F37*K37,1)","v":0},{"$f":"TRUNC(G37+I37+K37,1)","v":12.8},{"$f":"TRUNC(H37+J37+L37,0)","v":973},""]
["6901005","0001112","노무비","용접공","인",7.000000000000001E-3,0,{"$f":"TRUNC(F38*G38,1)","v":0},230706,{"$f":"TRUNC(F38*I38,1)","v":1614.9},0,{"$f":"TRUNC(F38*K38,1)","v":0},{"$f":"TRUNC(G38+I38+K38,1)","v":230706},{"$f":"TRUNC(H38+J38+L38,0)","v":1614},""]
["6901005","0001083","노무비","특별인부","인",3.5000000000000005E-3,0,{"$f":"TRUNC(F39*G39,1)","v":0},181293,{"$f":"TRUNC(F39*I39,1)","v":634.5},0,{"$f":"TRUNC(F39*K39,1)","v":0},{"$f":"TRUNC(G39+I39+K39,1)","v":181293},{"$f":"TRUNC(H39+J39+L39,0)","v":634},""]
["6901005","M500000","공구손료","노무비의 2%","식",1,null,{"$f":"TRUNC(F40*G40,1)","v":0},0,{"$f":"TRUNC(F40*I40,1)","v":0},44.9,{"$f":"TRUNC(F40*K40,1)","v":44.9},{"$f":"TRUNC(G40+I40+K40,1)","v":44.9},{"$f":"TRUNC(H40+J40+L40,0)","v":44},""]
[null,null,"[ 합           계 ]",{"$nulls":4},{"$f":"TRUNC(SUM(H36:H40),0)","v":1249},null,{"$f":"TRUNC(SUM(J36:J40),0)","v":2249},null,{"$f":"TRUNC(SUM(L36:L40),0)","v":44},null,{"$f":"H41+J41+L41","v":3542}]
[]
[null,null,"6902001  강판용접(수평)  3.2MM  m"]
["6902001","0206002","용접봉(연강용)","∮3.2  CS-200  KSE-4301","kg",0.2,2836,{"$f":"TRUNC(F44*G44,1)","v":567.20000000000005},0,{"$f":"TRUNC(F44*I44,1)","v":0},0,{"$f":"TRUNC(F44*K44,1)","v":0},{"$f":"TRUNC(G44+I44+K44,1)","v":2836},{"$f":"TRUNC(H44+J44+L44,0)","v":567},""]
["6902001","0805023","전력(4kw이상.1년초과)*","사용요금(그밖의 철)","kwh",0.7,92.9,{"$f":"TRUNC(F45*G45,1)","v":65},0,{"$f":"TRUNC(F45*I45,1)","v":0},0,{"$f":"TRUNC(F45*K45,1)","v":0},{"$f":"TRUNC(G45+I45+K45,1)","v":92.9},{"$f":"TRUNC(H45+J45+L45,0)","v":65},""]
["6902001","0001112","노무비","용접공","인",3.5999999999999997E-2,0,{"$f":"TRUNC(F46*G46,1)","v":0},230706,{"$f":"TRUNC(F46*I46,1)","v":8305.4},0,{"$f":"TRUNC(F46*K46,1)","v":0},{"$f":"TRUNC(G46+I46+K46,1)","v":230706},{"$f":"TRUNC(H46+J46+L46,0)","v":8305},""]
["6902001","0001083","노무비","특별인부","인",1.0999999999999999E-2,0,{"$f":"TRUNC(F47*G47,1)","v":0},181293,{"$f":"TRUNC(F47*I47,1)","v":1994.2},0,{"$f":"TRUNC(F47*K47,1)","v":0},{"$f":"TRUNC(G47+I47+K47,1)","v":181293},{"$f":"TRUNC(H47+J47+L47,0)","v":1994},""]
["6902001","M500000","공구손료","노무비의 2%","식",1,null,{"$f":"TRUNC(F48*G48,1)","v":0},0,{"$f":"TRUNC(F48*I48,1)","v":0},205.9,{"$f":"TRUNC(F48*K48,1)","v":205.9},{"$f":"TRUNC(G48+I48+K48,1)","v":205.9},{"$f":"TRUNC(H48+J48+L48,0)","v":205},""]
[null,null,"[ 합           계 ]",{"$nulls":4},{"$f":"TRUNC(SUM(H44:H48),0)","v":632},null,{"$f":"TRUNC(SUM(J44:J48),0)","v":10299},null,{"$f":"TRUNC(SUM(L44:L48),0)","v":205},null,{"$f":"H49+J49+L49","v":11136}]
[]
[null,null,"6902002  강판용접(수평)  4.5MM  m"]
["6902002","0206002","용접봉(연강용)","∮3.2  CS-200  KSE-4301","kg",0.35,2836,{"$f":"TRUNC(F52*G52,1)","v":992.6},0,{"$f":"TRUNC(F52*I52,1)","v":0},0,{"$f":"TRUNC(F52*K52,1)","v":0},{"$f":"TRUNC(G52+I52+K52,1)","v":2836},{"$f":"TRUNC(H52+J52+L52,0)","v":992},""]
["6902002","0805023","전력(4kw이상.1년초과)*","사용요금(그밖의 철)","kwh",1.45,92.9,{"$f":"TRUNC(F53*G53,1)","v":134.69999999999999},0,{"$f":"TRUNC(F53*I53,1)","v":0},0,{"$f":"TRUNC(F53*K53,1)","v":0},{"$f":"TRUNC(G53+I53+K53,1)","v":92.9},{"$f":"TRUNC(H53+J53+L53,0)","v":134},""]
["6902002","0001112","노무비","용접공","인",4.2999999999999997E-2,0,{"$f":"TRUNC(F54*G54,1)","v":0},230706,{"$f":"TRUNC(F54*I54,1)","v":9920.2999999999993},0,{"$f":"TRUNC(F54*K54,1)","v":0},{"$f":"TRUNC(G54+I54+K54,1)","v":230706},{"$f":"TRUNC(H54+J54+L54,0)","v":9920},""]
["6902002","0001083","노무비","특별인부","인",1.2999999999999999E-2,0,{"$f":"TRUNC(F55*G55,1)","v":0},181293,{"$f":"TRUNC(F55*I55,1)","v":2356.8000000000002},0,{"$f":"TRUNC(F55*K55,1)","v":0},{"$f":"TRUNC(G55+I55+K55,1)","v":181293},{"$f":"TRUNC(H55+J55+L55,0)","v":2356},""]
["6902002","M500000","공구손료","노무비의 2%","식",1,null,{"$f":"TRUNC(F56*G56,1)","v":0},0,{"$f":"TRUNC(F56*I56,1)","v":0},245.5,{"$f":"TRUNC(F56*K56,1)","v":245.5},{"$f":"TRUNC(G56+I56+K56,1)","v":245.5},{"$f":"TRUNC(H56+J56+L56,0)","v":245},""]
[null,null,"[ 합           계 ]",{"$nulls":4},{"$f":"TRUNC(SUM(H52:H56),0)","v":1127},null,{"$f":"TRUNC(SUM(J52:J56),0)","v":12277},null,{"$f":"TRUNC(SUM(L52:L56),0)","v":245},null,{"$f":"H57+J57+L57","v":13649}]
[]
[null,null,"6902003  강판용접(수평)  6MM  m"]
["6902003","0206002","용접봉(연강용)","∮3.2  CS-200  KSE-4301","kg",0.6,2836,{"$f":"TRUNC(F60*G60,1)","v":1701.6},0,{"$f":"TRUNC(F60*I60,1)","v":0},0,{"$f":"TRUNC(F60*K60,1)","v":0},{"$f":"TRUNC(G60+I60+K60,1)","v":2836},{"$f":"TRUNC(H60+J60+L60,0)","v":1701},""]
["6902003","0805023","전력(4kw이상.1년초과)*","사용요금(그밖의 철)","kwh",2.5,92.9,{"$f":"TRUNC(F61*G61,1)","v":232.2},0,{"$f":"TRUNC(F61*I61,1)","v":0},0,{"$f":"TRUNC(F61*K61,1)","v":0},{"$f":"TRUNC(G61+I61+K61,1)","v":92.9},{"$f":"TRUNC(H61+J61+L61,0)","v":232},""]
["6902003","0001112","노무비","용접공","인",5.2000000000000005E-2,0,{"$f":"TRUNC(F62*G62,1)","v":0},230706,{"$f":"TRUNC(F62*I62,1)","v":11996.7},0,{"$f":"TRUNC(F62*K62,1)","v":0},{"$f":"TRUNC(G62+I62+K62,1)","v":230706},{"$f":"TRUNC(H62+J62+L62,0)","v":11996},""]
["6902003","0001083","노무비","특별인부","인",1.6E-2,0,{"$f":"TRUNC(F63*G63,1)","v":0},181293,{"$f":"TRUNC(F63*I63,1)","v":2900.6},0,{"$f":"TRUNC(F63*K63,1)","v":0},{"$f":"TRUNC(G63+I63+K63,1)","v":181293},{"$f":"TRUNC(H63+J63+L63,0)","v":2900},""]
["6902003","M500000","공구손료","노무비의 2%","식",1,null,{"$f":"TRUNC(F64*G64,1)","v":0},0,{"$f":"TRUNC(F64*I64,1)","v":0},297.89999999999998,{"$f":"TRUNC(F64*K64,1)","v":297.89999999999998},{"$f":"TRUNC(G64+I64+K64,1)","v":297.89999999999998},{"$f":"TRUNC(H64+J64+L64,0)","v":297},""]
[null,null,"[ 합           계 ]",{"$nulls":4},{"$f":"TRUNC(SUM(H60:H64),0)","v":1933},null,{"$f":"TRUNC(SUM(J60:J64),0)","v":14897},null,{"$f":"TRUNC(SUM(L60:L64),0)","v":297},null,{"$f":"H65+J65+L65","v":17127}]
[]
[null,null,"6902004  강판용접(수평)  9MM  m"]
["6902004","0206002","용접봉(연강용)","∮3.2  CS-200  KSE-4301","kg",1.2,2836,{"$f":"TRUNC(F68*G68,1)","v":3403.2},0,{"$f":"TRUNC(F68*I68,1)","v":0},0,{"$f":"TRUNC(F68*K68,1)","v":0},{"$f":"TRUNC(G68+I68+K68,1)","v":2836},{"$f":"TRUNC(H68+J68+L68,0)","v":3403},""]
["6902004","0805023","전력(4kw이상.1년초과)*","사용요금(그밖의 철)","kwh",6,92.9,{"$f":"TRUNC(F69*G69,1)","v":557.4},0,{"$f":"TRUNC(F69*I69,1)","v":0},0,{"$f":"TRUNC(F69*K69,1)","v":0},{"$f":"TRUNC(G69+I69+K69,1)","v":92.9},{"$f":"TRUNC(H69+J69+L69,0)","v":557},""]
["6902004","0001112","노무비","용접공","인",9.4E-2,0,{"$f":"TRUNC(F70*G70,1)","v":0},230706,{"$f":"TRUNC(F70*I70,1)","v":21686.3},0,{"$f":"TRUNC(F70*K70,1)","v":0},{"$f":"TRUNC(G70+I70+K70,1)","v":230706},{"$f":"TRUNC(H70+J70+L70,0)","v":21686},""]
["6902004","0001083","노무비","특별인부","인",2.3E-2,0,{"$f":"TRUNC(F71*G71,1)","v":0},181293,{"$f":"TRUNC(F71*I71,1)","v":4169.7},0,{"$f":"TRUNC(F71*K71,1)","v":0},{"$f":"TRUNC(G71+I71+K71,1)","v":181293},{"$f":"TRUNC(H71+J71+L71,0)","v":4169},""]
["6902004","M500000","공구손료","노무비의 2%","식",1,null,{"$f":"TRUNC(F72*G72,1)","v":0},0,{"$f":"TRUNC(F72*I72,1)","v":0},517.1,{"$f":"TRUNC(F72*K72,1)","v":517.1},{"$f":"TRUNC(G72+I72+K72,1)","v":517.1},{"$f":"TRUNC(H72+J72+L72,0)","v":517},""]
[null,null,"[ 합           계 ]",{"$nulls":4},{"$f":"TRUNC(SUM(H68:H72),0)","v":3960},null,{"$f":"TRUNC(SUM(J68:J72),0)","v":25856},null,{"$f":"TRUNC(SUM(L68:L72),0)","v":517},null,{"$f":"H73+J73+L73","v":30333}]
[]
[null,null,"6902005  강판용접(수평)  12MM  m"]
["6902005","0206002","용접봉(연강용)","∮3.2  CS-200  KSE-4301","kg",1.8,2836,{"$f":"TRUNC(F76*G76,1)","v":5104.8},0,{"$f":"TRUNC(F76*I76,1)","v":0},0,{"$f":"TRUNC(F76*K76,1)","v":0},{"$f":"TRUNC(G76+I76+K76,1)","v":2836},{"$f":"TRUNC(H76+J76+L76,0)","v":5104},""]
["6902005","0805023","전력(4kw이상.1년초과)*","사용요금(그밖의 철)","kwh",10,92.9,{"$f":"TRUNC(F77*G77,1)","v":929},0,{"$f":"TRUNC(F77*I77,1)","v":0},0,{"$f":"TRUNC(F77*K77,1)","v":0},{"$f":"TRUNC(G77+I77+K77,1)","v":92.9},{"$f":"TRUNC(H77+J77+L77,0)","v":929},""]
["6902005","0001112","노무비","용접공","인",0.13400000000000001,0,{"$f":"TRUNC(F78*G78,1)","v":0},230706,{"$f":"TRUNC(F78*I78,1)","v":30914.6},0,{"$f":"TRUNC(F78*K78,1)","v":0},{"$f":"TRUNC(G78+I78+K78,1)","v":230706},{"$f":"TRUNC(H78+J78+L78,0)","v":30914},""]
["6902005","0001083","노무비","특별인부","인",3.2000000000000001E-2,0,{"$f":"TRUNC(F79*G79,1)","v":0},181293,{"$f":"TRUNC(F79*I79,1)","v":5801.3},0,{"$f":"TRUNC(F79*K79,1)","v":0},{"$f":"TRUNC(G79+I79+K79,1)","v":181293},{"$f":"TRUNC(H79+J79+L79,0)","v":5801},""]
["6902005","M500000","공구손료","노무비의 2%","식",1,null,{"$f":"TRUNC(F80*G80,1)","v":0},0,{"$f":"TRUNC(F80*I80,1)","v":0},734.3,{"$f":"TRUNC(F80*K80,1)","v":734.3},{"$f":"TRUNC(G80+I80+K80,1)","v":734.3},{"$f":"TRUNC(H80+J80+L80,0)","v":734},""]
[null,null,"[ 합           계 ]",{"$nulls":4},{"$f":"TRUNC(SUM(H76:H80),0)","v":6033},null,{"$f":"TRUNC(SUM(J76:J80),0)","v":36715},null,{"$f":"TRUNC(SUM(L76:L80),0)","v":734},null,{"$f":"H81+J81+L81","v":43482}]
[]
[null,null,"6903001  강관절단  D15~D25  개소"]
["6903001","0803005","산소","(기체.99%)","ℓ",2.4,1.8333333333333333,{"$f":"TRUNC(F84*G84,1)","v":4.4000000000000004},0,{"$f":"TRUNC(F84*I84,1)","v":0},0,{"$f":"TRUNC(F84*K84,1)","v":0},{"$f":"TRUNC(G84+I84+K84,1)","v":1.8},{"$f":"TRUNC(H84+J84+L84,0)","v":4},""]
["6903001","0803003","아세틸렌","98% 용접용","ℓ",1.2,12.895662368112545,{"$f":"TRUNC(F85*G85,1)","v":15.4},0,{"$f":"TRUNC(F85*I85,1)","v":0},0,{"$f":"TRUNC(F85*K85,1)","v":0},{"$f":"TRUNC(G85+I85+K85,1)","v":12.8},{"$f":"TRUNC(H85+J85+L85,0)","v":15},""]
["6901005","0001112","노무비","용접공","인",2E-3,0,{"$f":"TRUNC(F86*G86,1)","v":0},230706,{"$f":"TRUNC(F86*I86,1)","v":461.4},0,{"$f":"TRUNC(F86*K86,1)","v":0},{"$f":"TRUNC(G86+I86+K86,1)","v":230706},{"$f":"TRUNC(H86+J86+L86,0)","v":461},""]
["6901005","0001083","노무비","특별인부","인",1E-3,0,{"$f":"TRUNC(F87*G87,1)","v":0},181293,{"$f":"TRUNC(F87*I87,1)","v":181.2},0,{"$f":"TRUNC(F87*K87,1)","v":0},{"$f":"TRUNC(G87+I87+K87,1)","v":181293},{"$f":"TRUNC(H87+J87+L87,0)","v":181},""]
["6901005","M500000","공구손료","노무비의 2%","식",1,null,{"$f":"TRUNC(F88*G88,1)","v":0},0,{"$f":"TRUNC(F88*I88,1)","v":0},12.8,{"$f":"TRUNC(F88*K88,1)","v":12.8},{"$f":"TRUNC(G88+I88+K88,1)","v":12.8},{"$f":"TRUNC(H88+J88+L88,0)","v":12},""]
[null,null,"[ 합           계 ]",{"$nulls":4},{"$f":"TRUNC(SUM(H84:H88),0)","v":19},null,{"$f":"TRUNC(SUM(J84:J88),0)","v":642},null,{"$f":"TRUNC(SUM(L84:L88),0)","v":12},null,{"$f":"H89+J89+L89","v":673}]
[]
[null,null,"6903002  강관절단  D32  개소"]
["6903002","0803005","산소","(기체.99%)","ℓ",2.7,1.8333333333333333,{"$f":"TRUNC(F92*G92,1)","v":4.9000000000000004},0,{"$f":"TRUNC(F92*I92,1)","v":0},0,{"$f":"TRUNC(F92*K92,1)","v":0},{"$f":"TRUNC(G92+I92+K92,1)","v":1.8},{"$f":"TRUNC(H92+J92+L92,0)","v":4},""]
["6903002","0803003","아세틸렌","98% 용접용","ℓ",1.4,12.895662368112545,{"$f":"TRUNC(F93*G93,1)","v":18},0,{"$f":"TRUNC(F93*I93,1)","v":0},0,{"$f":"TRUNC(F93*K93,1)","v":0},{"$f":"TRUNC(G93+I93+K93,1)","v":12.8},{"$f":"TRUNC(H93+J93+L93,0)","v":18},""]
["6901005","0001112","노무비","용접공","인",2E-3,0,{"$f":"TRUNC(F94*G94,1)","v":0},230706,{"$f":"TRUNC(F94*I94,1)","v":461.4},0,{"$f":"TRUNC(F94*K94,1)","v":0},{"$f":"TRUNC(G94+I94+K94,1)","v":230706},{"$f":"TRUNC(H94+J94+L94,0)","v":461},""]
["6901005","0001083","노무비","특별인부","인",1E-3,0,{"$f":"TRUNC(F95*G95,1)","v":0},181293,{"$f":"TRUNC(F95*I95,1)","v":181.2},0,{"$f":"TRUNC(F95*K95,1)","v":0},{"$f":"TRUNC(G95+I95+K95,1)","v":181293},{"$f":"TRUNC(H95+J95+L95,0)","v":181},""]
["6901005","M500000","공구손료","노무비의 2%","식",1,null,{"$f":"TRUNC(F96*G96,1)","v":0},0,{"$f":"TRUNC(F96*I96,1)","v":0},12.8,{"$f":"TRUNC(F96*K96,1)","v":12.8},{"$f":"TRUNC(G96+I96+K96,1)","v":12.8},{"$f":"TRUNC(H96+J96+L96,0)","v":12},""]
[null,null,"[ 합           계 ]",{"$nulls":4},{"$f":"TRUNC(SUM(H92:H96),0)","v":22},null,{"$f":"TRUNC(SUM(J92:J96),0)","v":642},null,{"$f":"TRUNC(SUM(L92:L96),0)","v":12},null,{"$f":"H97+J97+L97","v":676}]
[]
[null,null,"6903003  강관절단  D40  개소"]
["6903003","0803005","산소","(기체.99%)","ℓ",3.2,1.8333333333333333,{"$f":"TRUNC(F100*G100,1)","v":5.8},0,{"$f":"TRUNC(F100*I100,1)","v":0},0,{"$f":"TRUNC(F100*K100,1)","v":0},{"$f":"TRUNC(G100+I100+K100,1)","v":1.8},{"$f":"TRUNC(H100+J100+L100,0)","v":5},""]
["6903003","0803003","아세틸렌","98% 용접용","ℓ",1.6,12.895662368112545,{"$f":"TRUNC(F101*G101,1)","v":20.6},0,{"$f":"TRUNC(F101*I101,1)","v":0},0,{"$f":"TRUNC(F101*K101,1)","v":0},{"$f":"TRUNC(G101+I101+K101,1)","v":12.8},{"$f":"TRUNC(H101+J101+L101,0)","v":20},""]
["6901005","0001112","노무비","용접공","인",3.0000000000000001E-3,0,{"$f":"TRUNC(F102*G102,1)","v":0},230706,{"$f":"TRUNC(F102*I102,1)","v":692.1},0,{"$f":"TRUNC(F102*K102,1)","v":0},{"$f":"TRUNC(G102+I102+K102,1)","v":230706},{"$f":"TRUNC(H102+J102+L102,0)","v":692},""]
["6901005","0001083","노무비","특별인부","인",1E-3,0,{"$f":"TRUNC(F103*G103,1)","v":0},181293,{"$f":"TRUNC(F103*I103,1)","v":181.2},0,{"$f":"TRUNC(F103*K103,1)","v":0},{"$f":"TRUNC(G103+I103+K103,1)","v":181293},{"$f":"TRUNC(H103+J103+L103,0)","v":181},""]
["6901005","M500000","공구손료","노무비의 2%","식",1,null,{"$f":"TRUNC(F104*G104,1)","v":0},0,{"$f":"TRUNC(F104*I104,1)","v":0},17.399999999999999,{"$f":"TRUNC(F104*K104,1)","v":17.399999999999999},{"$f":"TRUNC(G104+I104+K104,1)","v":17.399999999999999},{"$f":"TRUNC(H104+J104+L104,0)","v":17},""]
[null,null,"[ 합           계 ]",{"$nulls":4},{"$f":"TRUNC(SUM(H100:H104),0)","v":26},null,{"$f":"TRUNC(SUM(J100:J104),0)","v":873},null,{"$f":"TRUNC(SUM(L100:L104),0)","v":17},null,{"$f":"H105+J105+L105","v":916}]
[]
[null,null,"6903004  강관절단  D50  개소"]
["6903003","0803005","산소","(기체.99%)","ℓ",3.8,1.8333333333333333,{"$f":"TRUNC(F108*G108,1)","v":6.9},0,{"$f":"TRUNC(F108*I108,1)","v":0},0,{"$f":"TRUNC(F108*K108,1)","v":0},{"$f":"TRUNC(G108+I108+K108,1)","v":1.8},{"$f":"TRUNC(H108+J108+L108,0)","v":6},""]
["6903003","0803003","아세틸렌","98% 용접용","ℓ",1.9,12.895662368112545,{"$f":"TRUNC(F109*G109,1)","v":24.5},0,{"$f":"TRUNC(F109*I109,1)","v":0},0,{"$f":"TRUNC(F109*K109,1)","v":0},{"$f":"TRUNC(G109+I109+K109,1)","v":12.8},{"$f":"TRUNC(H109+J109+L109,0)","v":24},""]
["6901005","0001112","노무비","용접공","인",3.0000000000000001E-3,0,{"$f":"TRUNC(F110*G110,1)","v":0},230706,{"$f":"TRUNC(F110*I110,1)","v":692.1},0,{"$f":"TRUNC(F110*K110,1)","v":0},{"$f":"TRUNC(G110+I110+K110,1)","v":230706},{"$f":"TRUNC(H110+J110+L110,0)","v":692},""]
["6901005","0001083","노무비","특별인부","인",1E-3,0,{"$f":"TRUNC(F111*G111,1)","v":0},181293,{"$f":"TRUNC(F111*I111,1)","v":181.2},0,{"$f":"TRUNC(F111*K111,1)","v":0},{"$f":"TRUNC(G111+I111+K111,1)","v":181293},{"$f":"TRUNC(H111+J111+L111,0)","v":181},""]
["6901005","M500000","공구손료","노무비의 2%","식",1,null,{"$f":"TRUNC(F112*G112,1)","v":0},0,{"$f":"TRUNC(F112*I112,1)","v":0},17.399999999999999,{"$f":"TRUNC(F112*K112,1)","v":17.399999999999999},{"$f":"TRUNC(G112+I112+K112,1)","v":17.399999999999999},{"$f":"TRUNC(H112+J112+L112,0)","v":17},""]
[null,null,"[ 합           계 ]",{"$nulls":4},{"$f":"TRUNC(SUM(H108:H112),0)","v":31},null,{"$f":"TRUNC(SUM(J108:J112),0)","v":873},null,{"$f":"TRUNC(SUM(L108:L112),0)","v":17},null,{"$f":"H113+J113+L113","v":921}]
[]
[null,null,"6903005  강관절단  D65  개소"]
["6903003","0803005","산소","(기체.99%)","ℓ",4.8,1.8333333333333333,{"$f":"TRUNC(F116*G116,1)","v":8.8000000000000007},0,{"$f":"TRUNC(F116*I116,1)","v":0},0,{"$f":"TRUNC(F116*K116,1)","v":0},{"$f":"TRUNC(G116+I116+K116,1)","v":1.8},{"$f":"TRUNC(H116+J116+L116,0)","v":8},""]
["6903003","0803003","아세틸렌","98% 용접용","ℓ",2.4,12.895662368112545,{"$f":"TRUNC(F117*G117,1)","v":30.9},0,{"$f":"TRUNC(F117*I117,1)","v":0},0,{"$f":"TRUNC(F117*K117,1)","v":0},{"$f":"TRUNC(G117+I117+K117,1)","v":12.8},{"$f":"TRUNC(H117+J117+L117,0)","v":30},""]
["6901005","0001112","노무비","용접공","인",4.0000000000000001E-3,0,{"$f":"TRUNC(F118*G118,1)","v":0},230706,{"$f":"TRUNC(F118*I118,1)","v":922.8},0,{"$f":"TRUNC(F118*K118,1)","v":0},{"$f":"TRUNC(G118+I118+K118,1)","v":230706},{"$f":"TRUNC(H118+J118+L118,0)","v":922},""]
["6901005","0001083","노무비","특별인부","인",2E-3,0,{"$f":"TRUNC(F119*G119,1)","v":0},181293,{"$f":"TRUNC(F119*I119,1)","v":362.5},0,{"$f":"TRUNC(F119*K119,1)","v":0},{"$f":"TRUNC(G119+I119+K119,1)","v":181293},{"$f":"TRUNC(H119+J119+L119,0)","v":362},""]
["6901005","M500000","공구손료","노무비의 2%","식",1,null,{"$f":"TRUNC(F120*G120,1)","v":0},0,{"$f":"TRUNC(F120*I120,1)","v":0},25.7,{"$f":"TRUNC(F120*K120,1)","v":25.7},{"$f":"TRUNC(G120+I120+K120,1)","v":25.7},{"$f":"TRUNC(H120+J120+L120,0)","v":25},""]
[null,null,"[ 합           계 ]",{"$nulls":4},{"$f":"TRUNC(SUM(H116:H120),0)","v":39},null,{"$f":"TRUNC(SUM(J116:J120),0)","v":1285},null,{"$f":"TRUNC(SUM(L116:L120),0)","v":25},null,{"$f":"H121+J121+L121","v":1349}]
[]
[null,null,"6903006  강관절단  D80  개소"]
["6903003","0803005","산소","(기체.99%)","ℓ",6.2,1.8333333333333333,{"$f":"TRUNC(F124*G124,1)","v":11.3},0,{"$f":"TRUNC(F124*I124,1)","v":0},0,{"$f":"TRUNC(F124*K124,1)","v":0},{"$f":"TRUNC(G124+I124+K124,1)","v":1.8},{"$f":"TRUNC(H124+J124+L124,0)","v":11},""]
["6903003","0803003","아세틸렌","98% 용접용","ℓ",3.1,12.895662368112545,{"$f":"TRUNC(F125*G125,1)","v":39.9},0,{"$f":"TRUNC(F125*I125,1)","v":0},0,{"$f":"TRUNC(F125*K125,1)","v":0},{"$f":"TRUNC(G125+I125+K125,1)","v":12.8},{"$f":"TRUNC(H125+J125+L125,0)","v":39},""]
["6901005","0001112","노무비","용접공","인",5.0000000000000001E-3,0,{"$f":"TRUNC(F126*G126,1)","v":0},230706,{"$f":"TRUNC(F126*I126,1)","v":1153.5},0,{"$f":"TRUNC(F126*K126,1)","v":0},{"$f":"TRUNC(G126+I126+K126,1)","v":230706},{"$f":"TRUNC(H126+J126+L126,0)","v":1153},""]
["6901005","0001083","노무비","특별인부","인",2E-3,0,{"$f":"TRUNC(F127*G127,1)","v":0},181293,{"$f":"TRUNC(F127*I127,1)","v":362.5},0,{"$f":"TRUNC(F127*K127,1)","v":0},{"$f":"TRUNC(G127+I127+K127,1)","v":181293},{"$f":"TRUNC(H127+J127+L127,0)","v":362},""]
["6901005","M500000","공구손료","노무비의 2%","식",1,null,{"$f":"TRUNC(F128*G128,1)","v":0},0,{"$f":"TRUNC(F128*I128,1)","v":0},30.3,{"$f":"TRUNC(F128*K128,1)","v":30.3},{"$f":"TRUNC(G128+I128+K128,1)","v":30.3},{"$f":"TRUNC(H128+J128+L128,0)","v":30},""]
[null,null,"[ 합           계 ]",{"$nulls":4},{"$f":"TRUNC(SUM(H124:H128),0)","v":51},null,{"$f":"TRUNC(SUM(J124:J128),0)","v":1516},null,{"$f":"TRUNC(SUM(L124:L128),0)","v":30},null,{"$f":"H129+J129+L129","v":1597}]
[]
[null,null,"6903007  강관절단  D100  개소"]
["6903003","0803005","산소","(기체.99%)","ℓ",12,1.8333333333333333,{"$f":"TRUNC(F132*G132,1)","v":22},0,{"$f":"TRUNC(F132*I132,1)","v":0},0,{"$f":"TRUNC(F132*K132,1)","v":0},{"$f":"TRUNC(G132+I132+K132,1)","v":1.8},{"$f":"TRUNC(H132+J132+L132,0)","v":22},""]
["6903003","0803003","아세틸렌","98% 용접용","ℓ",6,12.895662368112545,{"$f":"TRUNC(F133*G133,1)","v":77.3},0,{"$f":"TRUNC(F133*I133,1)","v":0},0,{"$f":"TRUNC(F133*K133,1)","v":0},{"$f":"TRUNC(G133+I133+K133,1)","v":12.8},{"$f":"TRUNC(H133+J133+L133,0)","v":77},""]
["6901005","0001112","노무비","용접공","인",8.9999999999999993E-3,0,{"$f":"TRUNC(F134*G134,1)","v":0},230706,{"$f":"TRUNC(F134*I134,1)","v":2076.3000000000002},0,{"$f":"TRUNC(F134*K134,1)","v":0},{"$f":"TRUNC(G134+I134+K134,1)","v":230706},{"$f":"TRUNC(H134+J134+L134,0)","v":2076},""]
["6901005","0001083","노무비","특별인부","인",4.0000000000000001E-3,0,{"$f":"TRUNC(F135*G135,1)","v":0},181293,{"$f":"TRUNC(F135*I135,1)","v":725.1},0,{"$f":"TRUNC(F135*K135,1)","v":0},{"$f":"TRUNC(G135+I135+K135,1)","v":181293},{"$f":"TRUNC(H135+J135+L135,0)","v":725},""]
["6901005","M500000","공구손료","노무비의 2%","식",1,null,{"$f":"TRUNC(F136*G136,1)","v":0},0,{"$f":"TRUNC(F136*I136,1)","v":0},56,{"$f":"TRUNC(F136*K136,1)","v":56},{"$f":"TRUNC(G136+I136+K136,1)","v":56},{"$f":"TRUNC(H136+J136+L136,0)","v":56},""]
[null,null,"[ 합           계 ]",{"$nulls":4},{"$f":"TRUNC(SUM(H132:H136),0)","v":99},null,{"$f":"TRUNC(SUM(J132:J136),0)","v":2801},null,{"$f":"TRUNC(SUM(L132:L136),0)","v":56},null,{"$f":"H137+J137+L137","v":2956}]
[]
[null,null,"6903008  강관절단  D125  개소"]
["6903003","0803005","산소","(기체.99%)","ℓ",22,1.8333333333333333,{"$f":"TRUNC(F140*G140,1)","v":40.299999999999997},0,{"$f":"TRUNC(F140*I140,1)","v":0},0,{"$f":"TRUNC(F140*K140,1)","v":0},{"$f":"TRUNC(G140+I140+K140,1)","v":1.8},{"$f":"TRUNC(H140+J140+L140,0)","v":40},""]
["6903003","0803003","아세틸렌","98% 용접용","ℓ",11,12.895662368112545,{"$f":"TRUNC(F141*G141,1)","v":141.80000000000001},0,{"$f":"TRUNC(F141*I141,1)","v":0},0,{"$f":"TRUNC(F141*K141,1)","v":0},{"$f":"TRUNC(G141+I141+K141,1)","v":12.8},{"$f":"TRUNC(H141+J141+L141,0)","v":141},""]
["6901005","0001112","노무비","용접공","인",0.01,0,{"$f":"TRUNC(F142*G142,1)","v":0},230706,{"$f":"TRUNC(F142*I142,1)","v":2307},0,{"$f":"TRUNC(F142*K142,1)","v":0},{"$f":"TRUNC(G142+I142+K142,1)","v":230706},{"$f":"TRUNC(H142+J142+L142,0)","v":2307},""]
["6901005","0001083","노무비","특별인부","인",5.0000000000000001E-3,0,{"$f":"TRUNC(F143*G143,1)","v":0},181293,{"$f":"TRUNC(F143*I143,1)","v":906.4},0,{"$f":"TRUNC(F143*K143,1)","v":0},{"$f":"TRUNC(G143+I143+K143,1)","v":181293},{"$f":"TRUNC(H143+J143+L143,0)","v":906},""]
["6901005","M500000","공구손료","노무비의 2%","식",1,null,{"$f":"TRUNC(F144*G144,1)","v":0},0,{"$f":"TRUNC(F144*I144,1)","v":0},64.2,{"$f":"TRUNC(F144*K144,1)","v":64.2},{"$f":"TRUNC(G144+I144+K144,1)","v":64.2},{"$f":"TRUNC(H144+J144+L144,0)","v":64},""]
[null,null,"[ 합           계 ]",{"$nulls":4},{"$f":"TRUNC(SUM(H140:H144),0)","v":182},null,{"$f":"TRUNC(SUM(J140:J144),0)","v":3213},null,{"$f":"TRUNC(SUM(L140:L144),0)","v":64},null,{"$f":"H145+J145+L145","v":3459}]
[]
[null,null,"6903009  강관절단  D150  개소"]
["6903009","0803005","산소","(기체.99%)","ℓ",34,1.8333333333333333,{"$f":"TRUNC(F148*G148,1)","v":62.3},0,{"$f":"TRUNC(F148*I148,1)","v":0},0,{"$f":"TRUNC(F148*K148,1)","v":0},{"$f":"TRUNC(G148+I148+K148,1)","v":1.8},{"$f":"TRUNC(H148+J148+L148,0)","v":62},""]
["6903009","0803003","아세틸렌","98% 용접용","ℓ",17,12.895662368112545,{"$f":"TRUNC(F149*G149,1)","v":219.2},0,{"$f":"TRUNC(F149*I149,1)","v":0},0,{"$f":"TRUNC(F149*K149,1)","v":0},{"$f":"TRUNC(G149+I149+K149,1)","v":12.8},{"$f":"TRUNC(H149+J149+L149,0)","v":219},""]
["6901005","0001112","노무비","용접공","인",1.4E-2,0,{"$f":"TRUNC(F150*G150,1)","v":0},230706,{"$f":"TRUNC(F150*I150,1)","v":3229.8},0,{"$f":"TRUNC(F150*K150,1)","v":0},{"$f":"TRUNC(G150+I150+K150,1)","v":230706},{"$f":"TRUNC(H150+J150+L150,0)","v":3229},""]
["6901005","0001083","노무비","특별인부","인",6.0000000000000001E-3,0,{"$f":"TRUNC(F151*G151,1)","v":0},181293,{"$f":"TRUNC(F151*I151,1)","v":1087.7},0,{"$f":"TRUNC(F151*K151,1)","v":0},{"$f":"TRUNC(G151+I151+K151,1)","v":181293},{"$f":"TRUNC(H151+J151+L151,0)","v":1087},""]
["6901005","M500000","공구손료","노무비의 2%","식",1,null,{"$f":"TRUNC(F152*G152,1)","v":0},0,{"$f":"TRUNC(F152*I152,1)","v":0},86.3,{"$f":"TRUNC(F152*K152,1)","v":86.3},{"$f":"TRUNC(G152+I152+K152,1)","v":86.3},{"$f":"TRUNC(H152+J152+L152,0)","v":86},""]
[null,null,"[ 합           계 ]",{"$nulls":4},{"$f":"TRUNC(SUM(H148:H152),0)","v":281},null,{"$f":"TRUNC(SUM(J148:J152),0)","v":4317},null,{"$f":"TRUNC(SUM(L148:L152),0)","v":86},null,{"$f":"H153+J153+L153","v":4684}]
[]
[null,null,"6903010  강관절단  D200  개소"]
["6903009","0803005","산소","(기체.99%)","ℓ",56,1.8333333333333333,{"$f":"TRUNC(F156*G156,1)","v":102.6},0,{"$f":"TRUNC(F156*I156,1)","v":0},0,{"$f":"TRUNC(F156*K156,1)","v":0},{"$f":"TRUNC(G156+I156+K156,1)","v":1.8},{"$f":"TRUNC(H156+J156+L156,0)","v":102},""]
["6903009","0803003","아세틸렌","98% 용접용","ℓ",28,12.895662368112545,{"$f":"TRUNC(F157*G157,1)","v":361},0,{"$f":"TRUNC(F157*I157,1)","v":0},0,{"$f":"TRUNC(F157*K157,1)","v":0},{"$f":"TRUNC(G157+I157+K157,1)","v":12.8},{"$f":"TRUNC(H157+J157+L157,0)","v":361},""]
["6901005","0001112","노무비","용접공","인",1.7000000000000001E-2,0,{"$f":"TRUNC(F158*G158,1)","v":0},230706,{"$f":"TRUNC(F158*I158,1)","v":3922},0,{"$f":"TRUNC(F158*K158,1)","v":0},{"$f":"TRUNC(G158+I158+K158,1)","v":230706},{"$f":"TRUNC(H158+J158+L158,0)","v":3922},""]
["6901005","0001083","노무비","특별인부","인",7.000000000000001E-3,0,{"$f":"TRUNC(F159*G159,1)","v":0},181293,{"$f":"TRUNC(F159*I159,1)","v":1269},0,{"$f":"TRUNC(F159*K159,1)","v":0},{"$f":"TRUNC(G159+I159+K159,1)","v":181293},{"$f":"TRUNC(H159+J159+L159,0)","v":1269},""]
["6901005","M500000","공구손료","노무비의 2%","식",1,null,{"$f":"TRUNC(F160*G160,1)","v":0},0,{"$f":"TRUNC(F160*I160,1)","v":0},103.8,{"$f":"TRUNC(F160*K160,1)","v":103.8},{"$f":"TRUNC(G160+I160+K160,1)","v":103.8},{"$f":"TRUNC(H160+J160+L160,0)","v":103},""]
[null,null,"[ 합           계 ]",{"$nulls":4},{"$f":"TRUNC(SUM(H156:H160),0)","v":463},null,{"$f":"TRUNC(SUM(J156:J160),0)","v":5191},null,{"$f":"TRUNC(SUM(L156:L160),0)","v":103},null,{"$f":"H161+J161+L161","v":5757}]
[]
[null,null,"6903011  강관절단  D250  개소"]
["6903009","0803005","산소","(기체.99%)","ℓ",99,1.8333333333333333,{"$f":"TRUNC(F164*G164,1)","v":181.5},0,{"$f":"TRUNC(F164*I164,1)","v":0},0,{"$f":"TRUNC(F164*K164,1)","v":0},{"$f":"TRUNC(G164+I164+K164,1)","v":1.8},{"$f":"TRUNC(H164+J164+L164,0)","v":181},""]
["6903009","0803003","아세틸렌","98% 용접용","ℓ",49,12.895662368112545,{"$f":"TRUNC(F165*G165,1)","v":631.79999999999995},0,{"$f":"TRUNC(F165*I165,1)","v":0},0,{"$f":"TRUNC(F165*K165,1)","v":0},{"$f":"TRUNC(G165+I165+K165,1)","v":12.8},{"$f":"TRUNC(H165+J165+L165,0)","v":631},""]
["6901005","0001112","노무비","용접공","인",2.1000000000000001E-2,0,{"$f":"TRUNC(F166*G166,1)","v":0},230706,{"$f":"TRUNC(F166*I166,1)","v":4844.8},0,{"$f":"TRUNC(F166*K166,1)","v":0},{"$f":"TRUNC(G166+I166+K166,1)","v":230706},{"$f":"TRUNC(H166+J166+L166,0)","v":4844},""]
["6901005","0001083","노무비","특별인부","인",8.9999999999999993E-3,0,{"$f":"TRUNC(F167*G167,1)","v":0},181293,{"$f":"TRUNC(F167*I167,1)","v":1631.6},0,{"$f":"TRUNC(F167*K167,1)","v":0},{"$f":"TRUNC(G167+I167+K167,1)","v":181293},{"$f":"TRUNC(H167+J167+L167,0)","v":1631},""]
["6901005","M500000","공구손료","노무비의 2%","식",1,null,{"$f":"TRUNC(F168*G168,1)","v":0},0,{"$f":"TRUNC(F168*I168,1)","v":0},129.5,{"$f":"TRUNC(F168*K168,1)","v":129.5},{"$f":"TRUNC(G168+I168+K168,1)","v":129.5},{"$f":"TRUNC(H168+J168+L168,0)","v":129},""]
[null,null,"[ 합           계 ]",{"$nulls":4},{"$f":"TRUNC(SUM(H164:H168),0)","v":813},null,{"$f":"TRUNC(SUM(J164:J168),0)","v":6476},null,{"$f":"TRUNC(SUM(L164:L168),0)","v":129},null,{"$f":"H169+J169+L169","v":7418}]
[]
[null,null,"6903012  강관절단  D300  개소"]
["6903009","0803005","산소","(기체.99%)","ℓ",129,1.8333333333333333,{"$f":"TRUNC(F172*G172,1)","v":236.5},0,{"$f":"TRUNC(F172*I172,1)","v":0},0,{"$f":"TRUNC(F172*K172,1)","v":0},{"$f":"TRUNC(G172+I172+K172,1)","v":1.8},{"$f":"TRUNC(H172+J172+L172,0)","v":236},""]
["6903009","0803003","아세틸렌","98% 용접용","ℓ",64.5,12.895662368112545,{"$f":"TRUNC(F173*G173,1)","v":831.7},0,{"$f":"TRUNC(F173*I173,1)","v":0},0,{"$f":"TRUNC(F173*K173,1)","v":0},{"$f":"TRUNC(G173+I173+K173,1)","v":12.8},{"$f":"TRUNC(H173+J173+L173,0)","v":831},""]
["6901005","0001112","노무비","용접공","인",2.8000000000000004E-2,0,{"$f":"TRUNC(F174*G174,1)","v":0},230706,{"$f":"TRUNC(F174*I174,1)","v":6459.7},0,{"$f":"TRUNC(F174*K174,1)","v":0},{"$f":"TRUNC(G174+I174+K174,1)","v":230706},{"$f":"TRUNC(H174+J174+L174,0)","v":6459},""]
["6901005","0001083","노무비","특별인부","인",1.2E-2,0,{"$f":"TRUNC(F175*G175,1)","v":0},181293,{"$f":"TRUNC(F175*I175,1)","v":2175.5},0,{"$f":"TRUNC(F175*K175,1)","v":0},{"$f":"TRUNC(G175+I175+K175,1)","v":181293},{"$f":"TRUNC(H175+J175+L175,0)","v":2175},""]
["6901005","M500000","공구손료","노무비의 2%","식",1,null,{"$f":"TRUNC(F176*G176,1)","v":0},0,{"$f":"TRUNC(F176*I176,1)","v":0},172.7,{"$f":"TRUNC(F176*K176,1)","v":172.7},{"$f":"TRUNC(G176+I176+K176,1)","v":172.7},{"$f":"TRUNC(H176+J176+L176,0)","v":172},""]
[null,null,"[ 합           계 ]",{"$nulls":4},{"$f":"TRUNC(SUM(H172:H176),0)","v":1068},null,{"$f":"TRUNC(SUM(J172:J176),0)","v":8635},null,{"$f":"TRUNC(SUM(L172:L176),0)","v":172},null,{"$f":"H177+J177+L177","v":9875}]
[]
[null,null,"6903013  강관절단  D350  개소"]
["6903009","0803005","산소","(기체.99%)","ℓ",152,1.8333333333333333,{"$f":"TRUNC(F180*G180,1)","v":278.60000000000002},0,{"$f":"TRUNC(F180*I180,1)","v":0},0,{"$f":"TRUNC(F180*K180,1)","v":0},{"$f":"TRUNC(G180+I180+K180,1)","v":1.8},{"$f":"TRUNC(H180+J180+L180,0)","v":278},""]
["6903009","0803003","아세틸렌","98% 용접용","ℓ",76,12.895662368112545,{"$f":"TRUNC(F181*G181,1)","v":980},0,{"$f":"TRUNC(F181*I181,1)","v":0},0,{"$f":"TRUNC(F181*K181,1)","v":0},{"$f":"TRUNC(G181+I181+K181,1)","v":12.8},{"$f":"TRUNC(H181+J181+L181,0)","v":980},""]
["6901005","0001112","노무비","용접공","인",3.7999999999999999E-2,0,{"$f":"TRUNC(F182*G182,1)","v":0},230706,{"$f":"TRUNC(F182*I182,1)","v":8766.7999999999993},0,{"$f":"TRUNC(F182*K182,1)","v":0},{"$f":"TRUNC(G182+I182+K182,1)","v":230706},{"$f":"TRUNC(H182+J182+L182,0)","v":8766},""]
["6901005","0001083","노무비","특별인부","인",1.6E-2,0,{"$f":"TRUNC(F183*G183,1)","v":0},181293,{"$f":"TRUNC(F183*I183,1)","v":2900.6},0,{"$f":"TRUNC(F183*K183,1)","v":0},{"$f":"TRUNC(G183+I183+K183,1)","v":181293},{"$f":"TRUNC(H183+J183+L183,0)","v":2900},""]
["6901005","M500000","공구손료","노무비의 2%","식",1,null,{"$f":"TRUNC(F184*G184,1)","v":0},0,{"$f":"TRUNC(F184*I184,1)","v":0},233.3,{"$f":"TRUNC(F184*K184,1)","v":233.3},{"$f":"TRUNC(G184+I184+K184,1)","v":233.3},{"$f":"TRUNC(H184+J184+L184,0)","v":233},""]
[null,null,"[ 합           계 ]",{"$nulls":4},{"$f":"TRUNC(SUM(H180:H184),0)","v":1258},null,{"$f":"TRUNC(SUM(J180:J184),0)","v":11667},null,{"$f":"TRUNC(SUM(L180:L184),0)","v":233},null,{"$f":"H185+J185+L185","v":13158}]
[]
[null,null,"6904001  강관용접  D15  개소"]
["6904001","0206002","용접봉(연강용)","∮3.2  CS-200  KSE-4301","kg",6.0000000000000001E-3,2836,{"$f":"TRUNC(F188*G188,1)","v":17},0,{"$f":"TRUNC(F188*I188,1)","v":0},0,{"$f":"TRUNC(F188*K188,1)","v":0},{"$f":"TRUNC(G188+I188+K188,1)","v":2836},{"$f":"TRUNC(H188+J188+L188,0)","v":17},""]
["6904001","0805023","전력(4kw이상.1년초과)*","사용요금(그밖의 철)","kwh",4.7E-2,92.9,{"$f":"TRUNC(F189*G189,1)","v":4.3},0,{"$f":"TRUNC(F189*I189,1)","v":0},0,{"$f":"TRUNC(F189*K189,1)","v":0},{"$f":"TRUNC(G189+I189+K189,1)","v":92.9},{"$f":"TRUNC(H189+J189+L189,0)","v":4},""]
["6905001","0001112","노무비","용접공(일반)","인",3.5999999999999997E-2,0,{"$f":"TRUNC(F190*G190,1)","v":0},230706,{"$f":"TRUNC(F190*I190,1)","v":8305.4},0,{"$f":"TRUNC(F190*K190,1)","v":0},{"$f":"TRUNC(G190+I190+K190,1)","v":230706},{"$f":"TRUNC(H190+J190+L190,0)","v":8305},""]
["6905001","M500000","공구손료","노무비의 2%","식",1,null,{"$f":"TRUNC(F191*G191,1)","v":0},0,{"$f":"TRUNC(F191*I191,1)","v":0},166.1,{"$f":"TRUNC(F191*K191,1)","v":166.1},{"$f":"TRUNC(G191+I191+K191,1)","v":166.1},{"$f":"TRUNC(H191+J191+L191,0)","v":166},""]
[null,null,"[ 합           계 ]",{"$nulls":4},{"$f":"TRUNC(SUM(H188:H191),0)","v":21},null,{"$f":"TRUNC(SUM(J188:J191),0)","v":8305},null,{"$f":"TRUNC(SUM(L188:L191),0)","v":166},null,{"$f":"H192+J192+L192","v":8492}]
[]
[null,null,"6904002  강관용접  D20  개소"]
["6904002","0206002","용접봉(연강용)","∮3.2  CS-200  KSE-4301","kg",1.2E-2,2836,{"$f":"TRUNC(F195*G195,1)","v":34},0,{"$f":"TRUNC(F195*I195,1)","v":0},0,{"$f":"TRUNC(F195*K195,1)","v":0},{"$f":"TRUNC(G195+I195+K195,1)","v":2836},{"$f":"TRUNC(H195+J195+L195,0)","v":34},""]
["6904002","0805023","전력(4kw이상.1년초과)*","사용요금(그밖의 철)","kwh",5.8999999999999997E-2,92.9,{"$f":"TRUNC(F196*G196,1)","v":5.4},0,{"$f":"TRUNC(F196*I196,1)","v":0},0,{"$f":"TRUNC(F196*K196,1)","v":0},{"$f":"TRUNC(G196+I196+K196,1)","v":92.9},{"$f":"TRUNC(H196+J196+L196,0)","v":5},""]
["6905001","0001112","노무비","용접공(일반)","인",4.2999999999999997E-2,0,{"$f":"TRUNC(F197*G197,1)","v":0},230706,{"$f":"TRUNC(F197*I197,1)","v":9920.2999999999993},0,{"$f":"TRUNC(F197*K197,1)","v":0},{"$f":"TRUNC(G197+I197+K197,1)","v":230706},{"$f":"TRUNC(H197+J197+L197,0)","v":9920},""]
["6905001","M500000","공구손료","노무비의 2%","식",1,null,{"$f":"TRUNC(F198*G198,1)","v":0},0,{"$f":"TRUNC(F198*I198,1)","v":0},198.4,{"$f":"TRUNC(F198*K198,1)","v":198.4},{"$f":"TRUNC(G198+I198+K198,1)","v":198.4},{"$f":"TRUNC(H198+J198+L198,0)","v":198},""]
[null,null,"[ 합           계 ]",{"$nulls":4},{"$f":"TRUNC(SUM(H195:H198),0)","v":39},null,{"$f":"TRUNC(SUM(J195:J198),0)","v":9920},null,{"$f":"TRUNC(SUM(L195:L198),0)","v":198},null,{"$f":"H199+J199+L199","v":10157}]
[]
[null,null,"6904003  강관용접  D25  개소"]
["6904003","0206002","용접봉(연강용)","∮3.2  CS-200  KSE-4301","kg",1.7999999999999999E-2,2836,{"$f":"TRUNC(F202*G202,1)","v":51},0,{"$f":"TRUNC(F202*I202,1)","v":0},0,{"$f":"TRUNC(F202*K202,1)","v":0},{"$f":"TRUNC(G202+I202+K202,1)","v":2836},{"$f":"TRUNC(H202+J202+L202,0)","v":51},""]
["6904003","0805023","전력(4kw이상.1년초과)*","사용요금(그밖의 철)","kwh",7.3999999999999996E-2,92.9,{"$f":"TRUNC(F203*G203,1)","v":6.8},0,{"$f":"TRUNC(F203*I203,1)","v":0},0,{"$f":"TRUNC(F203*K203,1)","v":0},{"$f":"TRUNC(G203+I203+K203,1)","v":92.9},{"$f":"TRUNC(H203+J203+L203,0)","v":6},""]
["6905001","0001112","노무비","용접공(일반)","인",5.2000000000000005E-2,0,{"$f":"TRUNC(F204*G204,1)","v":0},230706,{"$f":"TRUNC(F204*I204,1)","v":11996.7},0,{"$f":"TRUNC(F204*K204,1)","v":0},{"$f":"TRUNC(G204+I204+K204,1)","v":230706},{"$f":"TRUNC(H204+J204+L204,0)","v":11996},""]
["6905001","M500000","공구손료","노무비의 2%","식",1,null,{"$f":"TRUNC(F205*G205,1)","v":0},0,{"$f":"TRUNC(F205*I205,1)","v":0},239.9,{"$f":"TRUNC(F205*K205,1)","v":239.9},{"$f":"TRUNC(G205+I205+K205,1)","v":239.9},{"$f":"TRUNC(H205+J205+L205,0)","v":239},""]
[null,null,"[ 합           계 ]",{"$nulls":4},{"$f":"TRUNC(SUM(H202:H205),0)","v":57},null,{"$f":"TRUNC(SUM(J202:J205),0)","v":11996},null,{"$f":"TRUNC(SUM(L202:L205),0)","v":239},null,{"$f":"H206+J206+L206","v":12292}]
[]
[null,null,"6904004  강관용접  D32  개소"]
["6904004","0206002","용접봉(연강용)","∮3.2  CS-200  KSE-4301","kg",2.7000000000000003E-2,2836,{"$f":"TRUNC(F209*G209,1)","v":76.5},0,{"$f":"TRUNC(F209*I209,1)","v":0},0,{"$f":"TRUNC(F209*K209,1)","v":0},{"$f":"TRUNC(G209+I209+K209,1)","v":2836},{"$f":"TRUNC(H209+J209+L209,0)","v":76},""]
["6904004","0805023","전력(4kw이상.1년초과)*","사용요금(그밖의 철)","kwh",9.2999999999999999E-2,92.9,{"$f":"TRUNC(F210*G210,1)","v":8.6},0,{"$f":"TRUNC(F210*I210,1)","v":0},0,{"$f":"TRUNC(F210*K210,1)","v":0},{"$f":"TRUNC(G210+I210+K210,1)","v":92.9},{"$f":"TRUNC(H210+J210+L210,0)","v":8},""]
["6905001","0001112","노무비","용접공(일반)","인",6.2E-2,0,{"$f":"TRUNC(F211*G211,1)","v":0},230706,{"$f":"TRUNC(F211*I211,1)","v":14303.7},0,{"$f":"TRUNC(F211*K211,1)","v":0},{"$f":"TRUNC(G211+I211+K211,1)","v":230706},{"$f":"TRUNC(H211+J211+L211,0)","v":14303},""]
["6905001","M500000","공구손료","노무비의 2%","식",1,null,{"$f":"TRUNC(F212*G212,1)","v":0},0,{"$f":"TRUNC(F212*I212,1)","v":0},286,{"$f":"TRUNC(F212*K212,1)","v":286},{"$f":"TRUNC(G212+I212+K212,1)","v":286},{"$f":"TRUNC(H212+J212+L212,0)","v":286},""]
[null,null,"[ 합           계 ]",{"$nulls":4},{"$f":"TRUNC(SUM(H209:H212),0)","v":85},null,{"$f":"TRUNC(SUM(J209:J212),0)","v":14303},null,{"$f":"TRUNC(SUM(L209:L212),0)","v":286},null,{"$f":"H213+J213+L213","v":14674}]
[]
[null,null,"6904005  강관용접  D40  개소"]
["6904005","0206002","용접봉(연강용)","∮3.2  CS-200  KSE-4301","kg",3.5999999999999997E-2,2836,{"$f":"TRUNC(F216*G216,1)","v":102},0,{"$f":"TRUNC(F216*I216,1)","v":0},0,{"$f":"TRUNC(F216*K216,1)","v":0},{"$f":"TRUNC(G216+I216+K216,1)","v":2836},{"$f":"TRUNC(H216+J216+L216,0)","v":102},""]
["6904005","0805023","전력(4kw이상.1년초과)*","사용요금(그밖의 철)","kwh",0.106,92.9,{"$f":"TRUNC(F217*G217,1)","v":9.8000000000000007},0,{"$f":"TRUNC(F217*I217,1)","v":0},0,{"$f":"TRUNC(F217*K217,1)","v":0},{"$f":"TRUNC(G217+I217+K217,1)","v":92.9},{"$f":"TRUNC(H217+J217+L217,0)","v":9},""]
["6905001","0001112","노무비","용접공(일반)","인",7.0000000000000007E-2,0,{"$f":"TRUNC(F218*G218,1)","v":0},230706,{"$f":"TRUNC(F218*I218,1)","v":16149.4},0,{"$f":"TRUNC(F218*K218,1)","v":0},{"$f":"TRUNC(G218+I218+K218,1)","v":230706},{"$f":"TRUNC(H218+J218+L218,0)","v":16149},""]
["6905001","M500000","공구손료","노무비의 2%","식",1,null,{"$f":"TRUNC(F219*G219,1)","v":0},0,{"$f":"TRUNC(F219*I219,1)","v":0},322.89999999999998,{"$f":"TRUNC(F219*K219,1)","v":322.89999999999998},{"$f":"TRUNC(G219+I219+K219,1)","v":322.89999999999998},{"$f":"TRUNC(H219+J219+L219,0)","v":322},""]
[null,null,"[ 합           계 ]",{"$nulls":4},{"$f":"TRUNC(SUM(H216:H219),0)","v":111},null,{"$f":"TRUNC(SUM(J216:J219),0)","v":16149},null,{"$f":"TRUNC(SUM(L216:L219),0)","v":322},null,{"$f":"H220+J220+L220","v":16582}]
[]
[null,null,"6904006  강관용접  D50  개소"]
["6904006","0206002","용접봉(연강용)","∮3.2  CS-200  KSE-4301","kg",4.9000000000000002E-2,2836,{"$f":"TRUNC(F223*G223,1)","v":138.9},0,{"$f":"TRUNC(F223*I223,1)","v":0},0,{"$f":"TRUNC(F223*K223,1)","v":0},{"$f":"TRUNC(G223+I223+K223,1)","v":2836},{"$f":"TRUNC(H223+J223+L223,0)","v":138},""]
["6904006","0805023","전력(4kw이상.1년초과)*","사용요금(그밖의 철)","kwh",0.13200000000000001,92.9,{"$f":"TRUNC(F224*G224,1)","v":12.2},0,{"$f":"TRUNC(F224*I224,1)","v":0},0,{"$f":"TRUNC(F224*K224,1)","v":0},{"$f":"TRUNC(G224+I224+K224,1)","v":92.9},{"$f":"TRUNC(H224+J224+L224,0)","v":12},""]
["6905001","0001112","노무비","용접공(일반)","인",8.5000000000000006E-2,0,{"$f":"TRUNC(F225*G225,1)","v":0},230706,{"$f":"TRUNC(F225*I225,1)","v":19610},0,{"$f":"TRUNC(F225*K225,1)","v":0},{"$f":"TRUNC(G225+I225+K225,1)","v":230706},{"$f":"TRUNC(H225+J225+L225,0)","v":19610},""]
["6905001","M500000","공구손료","노무비의 2%","식",1,null,{"$f":"TRUNC(F226*G226,1)","v":0},0,{"$f":"TRUNC(F226*I226,1)","v":0},392.2,{"$f":"TRUNC(F226*K226,1)","v":392.2},{"$f":"TRUNC(G226+I226+K226,1)","v":392.2},{"$f":"TRUNC(H226+J226+L226,0)","v":392},""]
[null,null,"[ 합           계 ]",{"$nulls":4},{"$f":"TRUNC(SUM(H223:H226),0)","v":151},null,{"$f":"TRUNC(SUM(J223:J226),0)","v":19610},null,{"$f":"TRUNC(SUM(L223:L226),0)","v":392},null,{"$f":"H227+J227+L227","v":20153}]
[]
[null,null,"6904007  강관용접  D65  개소"]
["6904007","0206002","용접봉(연강용)","∮3.2  CS-200  KSE-4301","kg",0.15,2836,{"$f":"TRUNC(F230*G230,1)","v":425.4},0,{"$f":"TRUNC(F230*I230,1)","v":0},0,{"$f":"TRUNC(F230*K230,1)","v":0},{"$f":"TRUNC(G230+I230+K230,1)","v":2836},{"$f":"TRUNC(H230+J230+L230,0)","v":425},""]
["6904007","0805023","전력(4kw이상.1년초과)*","사용요금(그밖의 철)","kwh",0.16700000000000001,92.9,{"$f":"TRUNC(F231*G231,1)","v":15.5},0,{"$f":"TRUNC(F231*I231,1)","v":0},0,{"$f":"TRUNC(F231*K231,1)","v":0},{"$f":"TRUNC(G231+I231+K231,1)","v":92.9},{"$f":"TRUNC(H231+J231+L231,0)","v":15},""]
["6905001","0001112","노무비","용접공(일반)","인",0.105,0,{"$f":"TRUNC(F232*G232,1)","v":0},230706,{"$f":"TRUNC(F232*I232,1)","v":24224.1},0,{"$f":"TRUNC(F232*K232,1)","v":0},{"$f":"TRUNC(G232+I232+K232,1)","v":230706},{"$f":"TRUNC(H232+J232+L232,0)","v":24224},""]
["6905001","M500000","공구손료","노무비의 2%","식",1,null,{"$f":"TRUNC(F233*G233,1)","v":0},0,{"$f":"TRUNC(F233*I233,1)","v":0},484.4,{"$f":"TRUNC(F233*K233,1)","v":484.4},{"$f":"TRUNC(G233+I233+K233,1)","v":484.4},{"$f":"TRUNC(H233+J233+L233,0)","v":484},""]
[null,null,"[ 합           계 ]",{"$nulls":4},{"$f":"TRUNC(SUM(H230:H233),0)","v":440},null,{"$f":"TRUNC(SUM(J230:J233),0)","v":24224},null,{"$f":"TRUNC(SUM(L230:L233),0)","v":484},null,{"$f":"H234+J234+L234","v":25148}]
[]
[null,null,"6904008  강관용접  D80  개소"]
["6904008","0206002","용접봉(연강용)","∮3.2  CS-200  KSE-4301","kg",0.19,2836,{"$f":"TRUNC(F237*G237,1)","v":538.79999999999995},0,{"$f":"TRUNC(F237*I237,1)","v":0},0,{"$f":"TRUNC(F237*K237,1)","v":0},{"$f":"TRUNC(G237+I237+K237,1)","v":2836},{"$f":"TRUNC(H237+J237+L237,0)","v":538},""]
["6904008","0805023","전력(4kw이상.1년초과)*","사용요금(그밖의 철)","kwh",0.33500000000000002,92.9,{"$f":"TRUNC(F238*G238,1)","v":31.1},0,{"$f":"TRUNC(F238*I238,1)","v":0},0,{"$f":"TRUNC(F238*K238,1)","v":0},{"$f":"TRUNC(G238+I238+K238,1)","v":92.9},{"$f":"TRUNC(H238+J238+L238,0)","v":31},""]
["6905001","0001112","노무비","용접공(일반)","인",0.121,0,{"$f":"TRUNC(F239*G239,1)","v":0},230706,{"$f":"TRUNC(F239*I239,1)","v":27915.4},0,{"$f":"TRUNC(F239*K239,1)","v":0},{"$f":"TRUNC(G239+I239+K239,1)","v":230706},{"$f":"TRUNC(H239+J239+L239,0)","v":27915},""]
["6905001","M500000","공구손료","노무비의 2%","식",1,null,{"$f":"TRUNC(F240*G240,1)","v":0},0,{"$f":"TRUNC(F240*I240,1)","v":0},558.29999999999995,{"$f":"TRUNC(F240*K240,1)","v":558.29999999999995},{"$f":"TRUNC(G240+I240+K240,1)","v":558.29999999999995},{"$f":"TRUNC(H240+J240+L240,0)","v":558},""]
[null,null,"[ 합           계 ]",{"$nulls":4},{"$f":"TRUNC(SUM(H237:H240),0)","v":569},null,{"$f":"TRUNC(SUM(J237:J240),0)","v":27915},null,{"$f":"TRUNC(SUM(L237:L240),0)","v":558},null,{"$f":"H241+J241+L241","v":29042}]
[]
[null,null,"6904009  강관용접  D100  개소"]
["6904009","0206002","용접봉(연강용)","∮3.2  CS-200  KSE-4301","kg",0.28000000000000003,2836,{"$f":"TRUNC(F244*G244,1)","v":794},0,{"$f":"TRUNC(F244*I244,1)","v":0},0,{"$f":"TRUNC(F244*K244,1)","v":0},{"$f":"TRUNC(G244+I244+K244,1)","v":2836},{"$f":"TRUNC(H244+J244+L244,0)","v":794},""]
["6904009","0805023","전력(4kw이상.1년초과)*","사용요금(그밖의 철)","kwh",0.43,92.9,{"$f":"TRUNC(F245*G245,1)","v":39.9},0,{"$f":"TRUNC(F245*I245,1)","v":0},0,{"$f":"TRUNC(F245*K245,1)","v":0},{"$f":"TRUNC(G245+I245+K245,1)","v":92.9},{"$f":"TRUNC(H245+J245+L245,0)","v":39},""]
["6905001","0001112","노무비","용접공(일반)","인",0.152,0,{"$f":"TRUNC(F246*G246,1)","v":0},230706,{"$f":"TRUNC(F246*I246,1)","v":35067.300000000003},0,{"$f":"TRUNC(F246*K246,1)","v":0},{"$f":"TRUNC(G246+I246+K246,1)","v":230706},{"$f":"TRUNC(H246+J246+L246,0)","v":35067},""]
["6905001","M500000","공구손료","노무비의 2%","식",1,null,{"$f":"TRUNC(F247*G247,1)","v":0},0,{"$f":"TRUNC(F247*I247,1)","v":0},701.3,{"$f":"TRUNC(F247*K247,1)","v":701.3},{"$f":"TRUNC(G247+I247+K247,1)","v":701.3},{"$f":"TRUNC(H247+J247+L247,0)","v":701},""]
[null,null,"[ 합           계 ]",{"$nulls":4},{"$f":"TRUNC(SUM(H244:H247),0)","v":833},null,{"$f":"TRUNC(SUM(J244:J247),0)","v":35067},null,{"$f":"TRUNC(SUM(L244:L247),0)","v":701},null,{"$f":"H248+J248+L248","v":36601}]
[]
[null,null,"6904010  강관용접  D125  개소"]
["6904010","0206002","용접봉(연강용)","∮3.2  CS-200  KSE-4301","kg",0.4,2836,{"$f":"TRUNC(F251*G251,1)","v":1134.4000000000001},0,{"$f":"TRUNC(F251*I251,1)","v":0},0,{"$f":"TRUNC(F251*K251,1)","v":0},{"$f":"TRUNC(G251+I251+K251,1)","v":2836},{"$f":"TRUNC(H251+J251+L251,0)","v":1134},""]
["6904010","0805023","전력(4kw이상.1년초과)*","사용요금(그밖의 철)","kwh",0.52600000000000002,92.9,{"$f":"TRUNC(F252*G252,1)","v":48.8},0,{"$f":"TRUNC(F252*I252,1)","v":0},0,{"$f":"TRUNC(F252*K252,1)","v":0},{"$f":"TRUNC(G252+I252+K252,1)","v":92.9},{"$f":"TRUNC(H252+J252+L252,0)","v":48},""]
["6905001","0001112","노무비","용접공(일반)","인",0.184,0,{"$f":"TRUNC(F253*G253,1)","v":0},230706,{"$f":"TRUNC(F253*I253,1)","v":42449.9},0,{"$f":"TRUNC(F253*K253,1)","v":0},{"$f":"TRUNC(G253+I253+K253,1)","v":230706},{"$f":"TRUNC(H253+J253+L253,0)","v":42449},""]
["6905001","M500000","공구손료","노무비의 2%","식",1,null,{"$f":"TRUNC(F254*G254,1)","v":0},0,{"$f":"TRUNC(F254*I254,1)","v":0},848.9,{"$f":"TRUNC(F254*K254,1)","v":848.9},{"$f":"TRUNC(G254+I254+K254,1)","v":848.9},{"$f":"TRUNC(H254+J254+L254,0)","v":848},""]
[null,null,"[ 합           계 ]",{"$nulls":4},{"$f":"TRUNC(SUM(H251:H254),0)","v":1183},null,{"$f":"TRUNC(SUM(J251:J254),0)","v":42449},null,{"$f":"TRUNC(SUM(L251:L254),0)","v":848},null,{"$f":"H255+J255+L255","v":44480}]
[]
[null,null,"6904011  강관용접  D150  개소"]
["6904011","0206002","용접봉(연강용)","∮3.2  CS-200  KSE-4301","kg",0.54,2836,{"$f":"TRUNC(F258*G258,1)","v":1531.4},0,{"$f":"TRUNC(F258*I258,1)","v":0},0,{"$f":"TRUNC(F258*K258,1)","v":0},{"$f":"TRUNC(G258+I258+K258,1)","v":2836},{"$f":"TRUNC(H258+J258+L258,0)","v":1531},""]
["6904011","0805023","전력(4kw이상.1년초과)*","사용요금(그밖의 철)","kwh",0.622,92.9,{"$f":"TRUNC(F259*G259,1)","v":57.7},0,{"$f":"TRUNC(F259*I259,1)","v":0},0,{"$f":"TRUNC(F259*K259,1)","v":0},{"$f":"TRUNC(G259+I259+K259,1)","v":92.9},{"$f":"TRUNC(H259+J259+L259,0)","v":57},""]
["6905001","0001112","노무비","용접공(일반)","인",0.216,0,{"$f":"TRUNC(F260*G260,1)","v":0},230706,{"$f":"TRUNC(F260*I260,1)","v":49832.4},0,{"$f":"TRUNC(F260*K260,1)","v":0},{"$f":"TRUNC(G260+I260+K260,1)","v":230706},{"$f":"TRUNC(H260+J260+L260,0)","v":49832},""]
["6905001","M500000","공구손료","노무비의 2%","식",1,null,{"$f":"TRUNC(F261*G261,1)","v":0},0,{"$f":"TRUNC(F261*I261,1)","v":0},996.6,{"$f":"TRUNC(F261*K261,1)","v":996.6},{"$f":"TRUNC(G261+I261+K261,1)","v":996.6},{"$f":"TRUNC(H261+J261+L261,0)","v":996},""]
[null,null,"[ 합           계 ]",{"$nulls":4},{"$f":"TRUNC(SUM(H258:H261),0)","v":1589},null,{"$f":"TRUNC(SUM(J258:J261),0)","v":49832},null,{"$f":"TRUNC(SUM(L258:L261),0)","v":996},null,{"$f":"H262+J262+L262","v":52417}]
[]
[null,null,"6904012  강관용접  D200  개소"]
["6904012","0206002","용접봉(연강용)","∮3.2  CS-200  KSE-4301","kg",0.6,2836,{"$f":"TRUNC(F265*G265,1)","v":1701.6},0,{"$f":"TRUNC(F265*I265,1)","v":0},0,{"$f":"TRUNC(F265*K265,1)","v":0},{"$f":"TRUNC(G265+I265+K265,1)","v":2836},{"$f":"TRUNC(H265+J265+L265,0)","v":1701},""]
["6904012","0805023","전력(4kw이상.1년초과)*","사용요금(그밖의 철)","kwh",1.1539999999999999,92.9,{"$f":"TRUNC(F266*G266,1)","v":107.2},0,{"$f":"TRUNC(F266*I266,1)","v":0},0,{"$f":"TRUNC(F266*K266,1)","v":0},{"$f":"TRUNC(G266+I266+K266,1)","v":92.9},{"$f":"TRUNC(H266+J266+L266,0)","v":107},""]
["6905001","0001112","노무비","용접공(일반)","인",0.28100000000000003,0,{"$f":"TRUNC(F267*G267,1)","v":0},230706,{"$f":"TRUNC(F267*I267,1)","v":64828.3},0,{"$f":"TRUNC(F267*K267,1)","v":0},{"$f":"TRUNC(G267+I267+K267,1)","v":230706},{"$f":"TRUNC(H267+J267+L267,0)","v":64828},""]
["6905001","M500000","공구손료","노무비의 2%","식",1,null,{"$f":"TRUNC(F268*G268,1)","v":0},0,{"$f":"TRUNC(F268*I268,1)","v":0},1296.5,{"$f":"TRUNC(F268*K268,1)","v":1296.5},{"$f":"TRUNC(G268+I268+K268,1)","v":1296.5},{"$f":"TRUNC(H268+J268+L268,0)","v":1296},""]
[null,null,"[ 합           계 ]",{"$nulls":4},{"$f":"TRUNC(SUM(H265:H268),0)","v":1808},null,{"$f":"TRUNC(SUM(J265:J268),0)","v":64828},null,{"$f":"TRUNC(SUM(L265:L268),0)","v":1296},null,{"$f":"H269+J269+L269","v":67932}]
[]
[null,null,"6904013  강관용접  D250  개소"]
["6904013","0206002","용접봉(연강용)","∮3.2  CS-200  KSE-4301","kg",0.75,2836,{"$f":"TRUNC(F272*G272,1)","v":2127},0,{"$f":"TRUNC(F272*I272,1)","v":0},0,{"$f":"TRUNC(F272*K272,1)","v":0},{"$f":"TRUNC(G272+I272+K272,1)","v":2836},{"$f":"TRUNC(H272+J272+L272,0)","v":2127},""]
["6904013","0805023","전력(4kw이상.1년초과)*","사용요금(그밖의 철)","kwh",2.0990000000000002,92.9,{"$f":"TRUNC(F273*G273,1)","v":194.9},0,{"$f":"TRUNC(F273*I273,1)","v":0},0,{"$f":"TRUNC(F273*K273,1)","v":0},{"$f":"TRUNC(G273+I273+K273,1)","v":92.9},{"$f":"TRUNC(H273+J273+L273,0)","v":194},""]
["6905001","0001112","노무비","용접공(일반)","인",0.34499999999999997,0,{"$f":"TRUNC(F274*G274,1)","v":0},230706,{"$f":"TRUNC(F274*I274,1)","v":79593.5},0,{"$f":"TRUNC(F274*K274,1)","v":0},{"$f":"TRUNC(G274+I274+K274,1)","v":230706},{"$f":"TRUNC(H274+J274+L274,0)","v":79593},""]
["6905001","M500000","공구손료","노무비의 2%","식",1,null,{"$f":"TRUNC(F275*G275,1)","v":0},0,{"$f":"TRUNC(F275*I275,1)","v":0},1591.8,{"$f":"TRUNC(F275*K275,1)","v":1591.8},{"$f":"TRUNC(G275+I275+K275,1)","v":1591.8},{"$f":"TRUNC(H275+J275+L275,0)","v":1591},""]
[null,null,"[ 합           계 ]",{"$nulls":4},{"$f":"TRUNC(SUM(H272:H275),0)","v":2321},null,{"$f":"TRUNC(SUM(J272:J275),0)","v":79593},null,{"$f":"TRUNC(SUM(L272:L275),0)","v":1591},null,{"$f":"H276+J276+L276","v":83505}]
[]
[null,null,"6904014  강관용접  D300  개소"]
["6904014","0206002","용접봉(연강용)","∮3.2  CS-200  KSE-4301","kg",0.88,2836,{"$f":"TRUNC(F279*G279,1)","v":2495.6},0,{"$f":"TRUNC(F279*I279,1)","v":0},0,{"$f":"TRUNC(F279*K279,1)","v":0},{"$f":"TRUNC(G279+I279+K279,1)","v":2836},{"$f":"TRUNC(H279+J279+L279,0)","v":2495},""]
["6904014","0805023","전력(4kw이상.1년초과)*","사용요금(그밖의 철)","kwh",3.2,92.9,{"$f":"TRUNC(F280*G280,1)","v":297.2},0,{"$f":"TRUNC(F280*I280,1)","v":0},0,{"$f":"TRUNC(F280*K280,1)","v":0},{"$f":"TRUNC(G280+I280+K280,1)","v":92.9},{"$f":"TRUNC(H280+J280+L280,0)","v":297},""]
["6905001","0001112","노무비","용접공(일반)","인",0.40899999999999997,0,{"$f":"TRUNC(F281*G281,1)","v":0},230706,{"$f":"TRUNC(F281*I281,1)","v":94358.7},0,{"$f":"TRUNC(F281*K281,1)","v":0},{"$f":"TRUNC(G281+I281+K281,1)","v":230706},{"$f":"TRUNC(H281+J281+L281,0)","v":94358},""]
["6905001","M500000","공구손료","노무비의 2%","식",1,null,{"$f":"TRUNC(F282*G282,1)","v":0},0,{"$f":"TRUNC(F282*I282,1)","v":0},1887.1,{"$f":"TRUNC(F282*K282,1)","v":1887.1},{"$f":"TRUNC(G282+I282+K282,1)","v":1887.1},{"$f":"TRUNC(H282+J282+L282,0)","v":1887},""]
[null,null,"[ 합           계 ]",{"$nulls":4},{"$f":"TRUNC(SUM(H279:H282),0)","v":2792},null,{"$f":"TRUNC(SUM(J279:J282),0)","v":94358},null,{"$f":"TRUNC(SUM(L279:L282),0)","v":1887},null,{"$f":"H283+J283+L283","v":99037}]
[]
[null,null,"6905001  동관용접  D15  개소"]
["6905001","0206506","동용접봉(BCUP3)","","g",1.2,73.900000000000006,{"$f":"TRUNC(F286*G286,1)","v":88.6},0,{"$f":"TRUNC(F286*I286,1)","v":0},0,{"$f":"TRUNC(F286*K286,1)","v":0},{"$f":"TRUNC(G286+I286+K286,1)","v":73.900000000000006},{"$f":"TRUNC(H286+J286+L286,0)","v":88},""]
["6905001","0206514","후락스","","g",0.15,20,3,0,0,0,0,20,3,""]
["6905001","0803005","산소","(기체.공업용99.9%)","ℓ",7.5,1.8333333333333333,13.7,0,0,0,0,1.8,13,""]
["6905001","0803002","아세틸렌(강.동관)","98% 공업용","g",8,11,88,0,0,0,0,11,88,""]
["6905001","0001112","노무비","용접공(일반)","인",2.1999999999999999E-2,0,0,230706,5075.5,0,0,230706,5075,""]
["6905001","M500000","공구손료","노무비의 2%","식",1,null,0,0,0,101.5,101.5,101.5,101,""]
[null,null,"[ 합           계 ]",{"$nulls":4},{"$f":"TRUNC(SUM(H286:H291),0)","v":193},null,{"$f":"TRUNC(SUM(J286:J291),0)","v":5075},null,{"$f":"TRUNC(SUM(L286:L291),0)","v":101},null,{"$f":"H292+J292+L292","v":5369}]
[]
[null,null,"6905002  동관용접  D20  개소"]
["6905002","0206506","동용접봉(BCUP3)","","g",2.5,73.900000000000006,{"$f":"TRUNC(F295*G295,1)","v":184.7},0,{"$f":"TRUNC(F295*I295,1)","v":0},0,{"$f":"TRUNC(F295*K295,1)","v":0},{"$f":"TRUNC(G295+I295+K295,1)","v":73.900000000000006},{"$f":"TRUNC(H295+J295+L295,0)","v":184},""]
["6905002","0206514","후락스","","g",0.32,20,6.4,0,0,0,0,20,6,""]
["6905002","0803005","산소","(기체.공업용99.9%)","ℓ",15.8,1.8333333333333333,28.9,0,0,0,0,1.8,28,""]
["6905002","0803002","아세틸렌(강.동관)","98% 공업용","g",16.5,11,181.5,0,0,0,0,11,181,""]
["6905002","0001112","노무비","용접공(일반)","인",0.03,0,0,230706,6921.1,0,0,230706,6921,""]
["6905002","M500000","공구손료","노무비의 2%","식",1,null,0,0,0,138.4,138.4,138.4,138,""]
[null,null,"[ 합           계 ]",{"$nulls":4},{"$f":"TRUNC(SUM(H295:H300),0)","v":401},null,{"$f":"TRUNC(SUM(J295:J300),0)","v":6921},null,{"$f":"TRUNC(SUM(L295:L300),0)","v":138},null,{"$f":"H301+J301+L301","v":7460}]
[]
[null,null,"6905003  동관용접  D25  개소"]
["6905003","0206506","동용접봉(BCUP3)","","g",4,73.900000000000006,{"$f":"TRUNC(F304*G304,1)","v":295.60000000000002},0,{"$f":"TRUNC(F304*I304,1)","v":0},0,{"$f":"TRUNC(F304*K304,1)","v":0},{"$f":"TRUNC(G304+I304+K304,1)","v":73.900000000000006},{"$f":"TRUNC(H304+J304+L304,0)","v":295},""]
["6905003","0206514","후락스","","g",0.49,20,9.8000000000000007,0,0,0,0,20,9,""]
["6905003","0803005","산소","(기체.공업용99.9%)","ℓ",19,1.8333333333333333,34.799999999999997,0,0,0,0,1.8,34,""]
["6905003","0803002","아세틸렌(강.동관)","98% 공업용","g",20.2,11,222.2,0,0,0,0,11,222,""]
["6905003","0001112","노무비","용접공(일반)","인",3.7999999999999999E-2,0,0,230706,8766.7999999999993,0,0,230706,8766,""]
["6905003","M500000","공구손료","노무비의 2%","식",1,null,0,0,0,175.3,175.3,175.3,175,""]
[null,null,"[ 합           계 ]",{"$nulls":4},{"$f":"TRUNC(SUM(H304:H309),0)","v":562},null,{"$f":"TRUNC(SUM(J304:J309),0)","v":8766},null,{"$f":"TRUNC(SUM(L304:L309),0)","v":175},null,{"$f":"H310+J310+L310","v":9503}]
[]
[null,null,"6905004  동관용접  D32  개소"]
["6905004","0206506","동용접봉(BCUP3)","","g",5.2,73.900000000000006,{"$f":"TRUNC(F313*G313,1)","v":384.2},0,{"$f":"TRUNC(F313*I313,1)","v":0},0,{"$f":"TRUNC(F313*K313,1)","v":0},{"$f":"TRUNC(G313+I313+K313,1)","v":73.900000000000006},{"$f":"TRUNC(H313+J313+L313,0)","v":384},""]
["6905004","0206514","후락스","","g",0.65,20,13,0,0,0,0,20,13,""]
["6905004","0803005","산소","(기체.공업용99.9%)","ℓ",27.2,1.8333333333333333,49.8,0,0,0,0,1.8,49,""]
["6905004","0803002","아세틸렌(강.동관)","98% 공업용","g",28.6,11,314.60000000000002,0,0,0,0,11,314,""]
["6905004","0001112","노무비","용접공(일반)","인",4.4999999999999998E-2,0,0,230706,10381.700000000001,0,0,230706,10381,""]
["6905004","M500000","공구손료","노무비의 2%","식",1,null,0,0,0,207.6,207.6,207.6,207,""]
[null,null,"[ 합           계 ]",{"$nulls":4},{"$f":"TRUNC(SUM(H313:H318),0)","v":761},null,{"$f":"TRUNC(SUM(J313:J318),0)","v":10381},null,{"$f":"TRUNC(SUM(L313:L318),0)","v":207},null,{"$f":"H319+J319+L319","v":11349}]
[]
[null,null,"6905005  동관용접  D40  개소"]
["6905005","0206506","동용접봉(BCUP3)","","g",6.9,73.900000000000006,{"$f":"TRUNC(F322*G322,1)","v":509.9},0,{"$f":"TRUNC(F322*I322,1)","v":0},0,{"$f":"TRUNC(F322*K322,1)","v":0},{"$f":"TRUNC(G322+I322+K322,1)","v":73.900000000000006},{"$f":"TRUNC(H322+J322+L322,0)","v":509},""]
["6905005","0206514","후락스","","g",0.86,20,17.2,0,0,0,0,20,17,""]
["6905005","0803005","산소","(기체.공업용99.9%)","ℓ",35,1.8333333333333333,64.099999999999994,0,0,0,0,1.8,64,""]
["6905005","0803002","아세틸렌(강.동관)","98% 공업용","g",37,11,407,0,0,0,0,11,407,""]
["6905005","0001112","노무비","용접공(일반)","인",5.3000000000000005E-2,0,0,230706,12227.4,0,0,230706,12227,""]
["6905005","M500000","공구손료","노무비의 2%","식",1,null,0,0,0,244.5,244.5,244.5,244,""]
[null,null,"[ 합           계 ]",{"$nulls":4},{"$f":"TRUNC(SUM(H322:H327),0)","v":998},null,{"$f":"TRUNC(SUM(J322:J327),0)","v":12227},null,{"$f":"TRUNC(SUM(L322:L327),0)","v":244},null,{"$f":"H328+J328+L328","v":13469}]
[]
[null,null,"6905006  동관용접  D50  개소"]
["6905006","0206506","동용접봉(BCUP3)","","g",11.2,73.900000000000006,{"$f":"TRUNC(F331*G331,1)","v":827.6},0,{"$f":"TRUNC(F331*I331,1)","v":0},0,{"$f":"TRUNC(F331*K331,1)","v":0},{"$f":"TRUNC(G331+I331+K331,1)","v":73.900000000000006},{"$f":"TRUNC(H331+J331+L331,0)","v":827},""]
["6905006","0206514","후락스","","g",1.4,20,28,0,0,0,0,20,28,""]
["6905006","0803005","산소","(기체.공업용99.9%)","ℓ",45.8,1.8333333333333333,83.9,0,0,0,0,1.8,83,""]
["6905006","0803002","아세틸렌(강.동관)","98% 공업용","g",48.6,11,534.6,0,0,0,0,11,534,""]
["6905006","0001112","노무비","용접공(일반)","인",6.7000000000000004E-2,0,0,230706,15457.3,0,0,230706,15457,""]
["6905006","M500000","공구손료","노무비의 2%","식",1,null,0,0,0,309.10000000000002,309.10000000000002,309.10000000000002,309,""]
[null,null,"[ 합           계 ]",{"$nulls":4},{"$f":"TRUNC(SUM(H331:H336),0)","v":1474},null,{"$f":"TRUNC(SUM(J331:J336),0)","v":15457},null,{"$f":"TRUNC(SUM(L331:L336),0)","v":309},null,{"$f":"H337+J337+L337","v":17240}]
[]
[null,null,"6905007  동관용접  D65  개소"]
["6905007","0206506","동용접봉(BCUP3)","","g",15.4,73.900000000000006,{"$f":"TRUNC(F340*G340,1)","v":1138},0,{"$f":"TRUNC(F340*I340,1)","v":0},0,{"$f":"TRUNC(F340*K340,1)","v":0},{"$f":"TRUNC(G340+I340+K340,1)","v":73.900000000000006},{"$f":"TRUNC(H340+J340+L340,0)","v":1138},""]
["6905007","0206514","후락스","","g",1.92,20,38.4,0,0,0,0,20,38,""]
["6905007","0803005","산소","(기체.공업용99.9%)","ℓ",57.9,1.8333333333333333,106.1,0,0,0,0,1.8,106,""]
["6905007","0803002","아세틸렌(강.동관)","98% 공업용","g",61.3,11,674.3,0,0,0,0,11,674,""]
["6905007","0001112","노무비","용접공(일반)","인",8.8999999999999996E-2,0,0,230706,20532.8,0,0,230706,20532,""]
["6905007","M500000","공구손료","노무비의 2%","식",1,null,0,0,0,410.6,410.6,410.6,410,""]
[null,null,"[ 합           계 ]",{"$nulls":4},{"$f":"TRUNC(SUM(H340:H345),0)","v":1956},null,{"$f":"TRUNC(SUM(J340:J345),0)","v":20532},null,{"$f":"TRUNC(SUM(L340:L345),0)","v":410},null,{"$f":"H346+J346+L346","v":22898}]
[]
[null,null,"6905008  동관용접  D80  개소"]
["6905008","0206506","동용접봉(BCUP3)","","g",21,73.900000000000006,{"$f":"TRUNC(F349*G349,1)","v":1551.9},0,{"$f":"TRUNC(F349*I349,1)","v":0},0,{"$f":"TRUNC(F349*K349,1)","v":0},{"$f":"TRUNC(G349+I349+K349,1)","v":73.900000000000006},{"$f":"TRUNC(H349+J349+L349,0)","v":1551},""]
["6905008","0206514","후락스","","g",2.62,20,52.4,0,0,0,0,20,52,""]
["6905008","0803005","산소","(기체.공업용99.9%)","ℓ",80.8,1.8333333333333333,148.1,0,0,0,0,1.8,148,""]
["6905008","0803002","아세틸렌(강.동관)","98% 공업용","g",85.4,11,939.4,0,0,0,0,11,939,""]
["6905008","0001112","노무비","용접공(일반)","인",0.105,0,0,230706,24224.1,0,0,230706,24224,""]
["6905008","M500000","공구손료","노무비의 2%","식",1,null,0,0,0,484.4,484.4,484.4,484,""]
[null,null,"[ 합           계 ]",{"$nulls":4},{"$f":"TRUNC(SUM(H349:H354),0)","v":2691},null,{"$f":"TRUNC(SUM(J349:J354),0)","v":24224},null,{"$f":"TRUNC(SUM(L349:L354),0)","v":484},null,{"$f":"H355+J355+L355","v":27399}]
[]
[null,null,"6905009  동관용접  D100  개소"]
["6905009","0206506","동용접봉(BCUP3)","","g",36.6,73.900000000000006,{"$f":"TRUNC(F358*G358,1)","v":2704.7},0,{"$f":"TRUNC(F358*I358,1)","v":0},0,{"$f":"TRUNC(F358*K358,1)","v":0},{"$f":"TRUNC(G358+I358+K358,1)","v":73.900000000000006},{"$f":"TRUNC(H358+J358+L358,0)","v":2704},""]
["6905009","0206514","후락스","","g",4.58,20,91.6,0,0,0,0,20,91,""]
["6905009","0803005","산소","(기체.공업용99.9%)","ℓ",127.8,1.8333333333333333,234.3,0,0,0,0,1.8,234,""]
["6905009","0803002","아세틸렌(강.동관)","98% 공업용","g",135,11,1485,0,0,0,0,11,1485,""]
["6905009","0001112","노무비","용접공(일반)","인",0.13700000000000001,0,0,230706,31606.7,0,0,230706,31606,""]
["6905009","M500000","공구손료","노무비의 2%","식",1,null,0,0,0,632.1,632.1,632.1,632,""]
[null,null,"[ 합           계 ]",{"$nulls":4},{"$f":"TRUNC(SUM(H358:H363),0)","v":4515},null,{"$f":"TRUNC(SUM(J358:J363),0)","v":31606},null,{"$f":"TRUNC(SUM(L358:L363),0)","v":632},null,{"$f":"H364+J364+L364","v":36753}]
[]
[null,null,"6905010  동관용접  D125  개소"]
["6905010","0206506","동용접봉(BCUP3)","","g",56.3,73.900000000000006,{"$f":"TRUNC(F367*G367,1)","v":4160.5},0,{"$f":"TRUNC(F367*I367,1)","v":0},0,{"$f":"TRUNC(F367*K367,1)","v":0},{"$f":"TRUNC(G367+I367+K367,1)","v":73.900000000000006},{"$f":"TRUNC(H367+J367+L367,0)","v":4160},""]
["6905010","0206514","후락스","","g",7.02,20,140.4,0,0,0,0,20,140,""]
["6905010","0803005","산소","(기체.공업용99.9%)","ℓ",158.80000000000001,1.8333333333333333,291.10000000000002,0,0,0,0,1.8,291,""]
["6905010","0803002","아세틸렌(강.동관)","98% 공업용","g",167.7,11,1844.7,0,0,0,0,11,1844,""]
["6905010","0001112","노무비","용접공(일반)","인",0.16900000000000001,0,0,230706,38989.300000000003,0,0,230706,38989,""]
["6905010","M500000","공구손료","노무비의 2%","식",1,null,0,0,0,779.7,779.7,779.7,779,""]
[null,null,"[ 합           계 ]",{"$nulls":4},{"$f":"TRUNC(SUM(H367:H372),0)","v":6436},null,{"$f":"TRUNC(SUM(J367:J372),0)","v":38989},null,{"$f":"TRUNC(SUM(L367:L372),0)","v":779},null,{"$f":"H373+J373+L373","v":46204}]
[]
[null,null,"6905011  동관용접  D150  개소"]
["6905011","0206506","동용접봉(BCUP3)","","g",78.900000000000006,73.900000000000006,{"$f":"TRUNC(F376*G376,1)","v":5830.7},0,{"$f":"TRUNC(F376*I376,1)","v":0},0,{"$f":"TRUNC(F376*K376,1)","v":0},{"$f":"TRUNC(G376+I376+K376,1)","v":73.900000000000006},{"$f":"TRUNC(H376+J376+L376,0)","v":5830},""]
["6905011","0206514","후락스","","g",9.89,20,197.8,0,0,0,0,20,197,""]
["6905011","0803005","산소","(기체.공업용99.9%)","ℓ",254,1.8333333333333333,465.6,0,0,0,0,1.8,465,""]
["6905011","0803002","아세틸렌(강.동관)","98% 공업용","g",268.3,11,2951.3,0,0,0,0,11,2951,""]
["6905011","0001112","노무비","용접공(일반)","인",0.20100000000000001,0,0,230706,46371.9,0,0,230706,46371,""]
["6905011","M500000","공구손료","노무비의 2%","식",1,null,0,0,0,927.4,927.4,927.4,927,""]
[null,null,"[ 합           계 ]",{"$nulls":4},{"$f":"TRUNC(SUM(H376:H381),0)","v":9445},null,{"$f":"TRUNC(SUM(J376:J381),0)","v":46371},null,{"$f":"TRUNC(SUM(L376:L381),0)","v":927},null,{"$f":"H382+J382+L382","v":56743}]
[]
[null,null,"6905012  동관용접  D200  개소"]
["6905012","0206506","동용접봉(BCUP3)","","g",173.5,73.900000000000006,{"$f":"TRUNC(F385*G385,1)","v":12821.6},0,{"$f":"TRUNC(F385*I385,1)","v":0},0,{"$f":"TRUNC(F385*K385,1)","v":0},{"$f":"TRUNC(G385+I385+K385,1)","v":73.900000000000006},{"$f":"TRUNC(H385+J385+L385,0)","v":12821},""]
["6905012","0206514","후락스","","g",13.25,20,265,0,0,0,0,20,265,""]
["6905012","0803005","산소","(기체.공업용99.9%)","ℓ",615.70000000000005,1.8333333333333333,1128.7,0,0,0,0,1.8,1128,""]
["6905012","0803002","아세틸렌(강.동관)","98% 공업용","g",650.5,11,7155.5,0,0,0,0,11,7155,""]
["6905012","0001112","노무비","용접공(일반)","인",0.26500000000000001,0,0,230706,61137,0,0,230706,61137,""]
["6905012","M500000","공구손료","노무비의 2%","식",1,null,0,0,0,1222.7,1222.7,1222.7,1222,""]
[null,null,"[ 합           계 ]",{"$nulls":4},{"$f":"TRUNC(SUM(H385:H390),0)","v":21370},null,{"$f":"TRUNC(SUM(J385:J390),0)","v":61137},null,{"$f":"TRUNC(SUM(L385:L390),0)","v":1222},null,{"$f":"H391+J391+L391","v":83729}]
[]
[null,null,"6906001  스텐관용접  D15  개소"]
["6906001","0206031","용접봉(스텐용)","∮2.6  AWSE308L","kg",7.000000000000001E-3,10817,{"$f":"TRUNC(F394*G394,1)","v":75.7},0,{"$f":"TRUNC(F394*I394,1)","v":0},0,{"$f":"TRUNC(F394*K394,1)","v":0},{"$f":"TRUNC(G394+I394+K394,1)","v":10817},{"$f":"TRUNC(H394+J394+L394,0)","v":75},""]
["6906001","0803008","알곤가스","(기체)","ℓ",64,4.2857142857142856,{"$f":"TRUNC(F395*G395,1)","v":274.2},0,{"$f":"TRUNC(F395*I395,1)","v":0},0,{"$f":"TRUNC(F395*K395,1)","v":0},{"$f":"TRUNC(G395+I395+K395,1)","v":4.2},{"$f":"TRUNC(H395+J395+L395,0)","v":274},""]
["6905012","0001112","노무비","용접공(일반)","인",0.05,0,{"$f":"TRUNC(F396*G396,1)","v":0},230706,{"$f":"TRUNC(F396*I396,1)","v":11535.3},0,{"$f":"TRUNC(F396*K396,1)","v":0},{"$f":"TRUNC(G396+I396+K396,1)","v":230706},{"$f":"TRUNC(H396+J396+L396,0)","v":11535},""]
["6905012","M500000","공구손료","노무비의 2%","식",1,null,{"$f":"TRUNC(F397*G397,1)","v":0},0,{"$f":"TRUNC(F397*I397,1)","v":0},230.7,{"$f":"TRUNC(F397*K397,1)","v":230.7},{"$f":"TRUNC(G397+I397+K397,1)","v":230.7},{"$f":"TRUNC(H397+J397+L397,0)","v":230},""]
[null,null,"[ 합           계 ]",{"$nulls":4},{"$f":"TRUNC(SUM(H394:H397),0)","v":349},null,{"$f":"TRUNC(SUM(J394:J397),0)","v":11535},null,{"$f":"TRUNC(SUM(L394:L397),0)","v":230},null,{"$f":"H398+J398+L398","v":12114}]
[]
[null,null,"6906002  스텐관용접  D20  개소"]
["6906002","0206031","용접봉(스텐용)","∮2.6  AWSE308L","kg",1.2999999999999999E-2,10817,{"$f":"TRUNC(F401*G401,1)","v":140.6},0,{"$f":"TRUNC(F401*I401,1)","v":0},0,{"$f":"TRUNC(F401*K401,1)","v":0},{"$f":"TRUNC(G401+I401+K401,1)","v":10817},{"$f":"TRUNC(H401+J401+L401,0)","v":140},""]
["6906002","0803008","알곤가스","(기체)","ℓ",95,4.2857142857142856,{"$f":"TRUNC(F402*G402,1)","v":407.1},0,{"$f":"TRUNC(F402*I402,1)","v":0},0,{"$f":"TRUNC(F402*K402,1)","v":0},{"$f":"TRUNC(G402+I402+K402,1)","v":4.2},{"$f":"TRUNC(H402+J402+L402,0)","v":407},""]
["6905012","0001112","노무비","용접공(일반)","인",5.7000000000000009E-2,0,{"$f":"TRUNC(F403*G403,1)","v":0},230706,{"$f":"TRUNC(F403*I403,1)","v":13150.2},0,{"$f":"TRUNC(F403*K403,1)","v":0},{"$f":"TRUNC(G403+I403+K403,1)","v":230706},{"$f":"TRUNC(H403+J403+L403,0)","v":13150},""]
["6905012","M500000","공구손료","노무비의 2%","식",1,null,{"$f":"TRUNC(F404*G404,1)","v":0},0,{"$f":"TRUNC(F404*I404,1)","v":0},263,{"$f":"TRUNC(F404*K404,1)","v":263},{"$f":"TRUNC(G404+I404+K404,1)","v":263},{"$f":"TRUNC(H404+J404+L404,0)","v":263},""]
[null,null,"[ 합           계 ]",{"$nulls":4},{"$f":"TRUNC(SUM(H401:H404),0)","v":547},null,{"$f":"TRUNC(SUM(J401:J404),0)","v":13150},null,{"$f":"TRUNC(SUM(L401:L404),0)","v":263},null,{"$f":"H405+J405+L405","v":13960}]
[]
[null,null,"6906003  스텐관용접  D25  개소"]
["6906003","0206031","용접봉(스텐용)","∮2.6  AWSE308L","kg",0.02,10817,{"$f":"TRUNC(F408*G408,1)","v":216.3},0,{"$f":"TRUNC(F408*I408,1)","v":0},0,{"$f":"TRUNC(F408*K408,1)","v":0},{"$f":"TRUNC(G408+I408+K408,1)","v":10817},{"$f":"TRUNC(H408+J408+L408,0)","v":216},""]
["6906003","0803008","알곤가스","(기체)","ℓ",129,4.2857142857142856,{"$f":"TRUNC(F409*G409,1)","v":552.79999999999995},0,{"$f":"TRUNC(F409*I409,1)","v":0},0,{"$f":"TRUNC(F409*K409,1)","v":0},{"$f":"TRUNC(G409+I409+K409,1)","v":4.2},{"$f":"TRUNC(H409+J409+L409,0)","v":552},""]
["6905012","0001112","노무비","용접공(일반)","인",6.6000000000000003E-2,0,{"$f":"TRUNC(F410*G410,1)","v":0},230706,{"$f":"TRUNC(F410*I410,1)","v":15226.5},0,{"$f":"TRUNC(F410*K410,1)","v":0},{"$f":"TRUNC(G410+I410+K410,1)","v":230706},{"$f":"TRUNC(H410+J410+L410,0)","v":15226},""]
["6905012","M500000","공구손료","노무비의 2%","식",1,null,{"$f":"TRUNC(F411*G411,1)","v":0},0,{"$f":"TRUNC(F411*I411,1)","v":0},304.5,{"$f":"TRUNC(F411*K411,1)","v":304.5},{"$f":"TRUNC(G411+I411+K411,1)","v":304.5},{"$f":"TRUNC(H411+J411+L411,0)","v":304},""]
[null,null,"[ 합           계 ]",{"$nulls":4},{"$f":"TRUNC(SUM(H408:H411),0)","v":769},null,{"$f":"TRUNC(SUM(J408:J411),0)","v":15226},null,{"$f":"TRUNC(SUM(L408:L411),0)","v":304},null,{"$f":"H412+J412+L412","v":16299}]
[]
[null,null,"6906004  스텐관용접  D32  개소"]
["6906004","0206031","용접봉(스텐용)","∮2.6  AWSE308L","kg",2.7000000000000003E-2,10817,{"$f":"TRUNC(F415*G415,1)","v":292},0,{"$f":"TRUNC(F415*I415,1)","v":0},0,{"$f":"TRUNC(F415*K415,1)","v":0},{"$f":"TRUNC(G415+I415+K415,1)","v":10817},{"$f":"TRUNC(H415+J415+L415,0)","v":292},""]
["6906004","0803008","알곤가스","(기체)","ℓ",150,4.2857142857142856,{"$f":"TRUNC(F416*G416,1)","v":642.79999999999995},0,{"$f":"TRUNC(F416*I416,1)","v":0},0,{"$f":"TRUNC(F416*K416,1)","v":0},{"$f":"TRUNC(G416+I416+K416,1)","v":4.2},{"$f":"TRUNC(H416+J416+L416,0)","v":642},""]
["6905012","0001112","노무비","용접공(일반)","인",7.6999999999999999E-2,0,{"$f":"TRUNC(F417*G417,1)","v":0},230706,{"$f":"TRUNC(F417*I417,1)","v":17764.3},0,{"$f":"TRUNC(F417*K417,1)","v":0},{"$f":"TRUNC(G417+I417+K417,1)","v":230706},{"$f":"TRUNC(H417+J417+L417,0)","v":17764},""]
["6905012","M500000","공구손료","노무비의 2%","식",1,null,{"$f":"TRUNC(F418*G418,1)","v":0},0,{"$f":"TRUNC(F418*I418,1)","v":0},355.2,{"$f":"TRUNC(F418*K418,1)","v":355.2},{"$f":"TRUNC(G418+I418+K418,1)","v":355.2},{"$f":"TRUNC(H418+J418+L418,0)","v":355},""]
[null,null,"[ 합           계 ]",{"$nulls":4},{"$f":"TRUNC(SUM(H415:H418),0)","v":934},null,{"$f":"TRUNC(SUM(J415:J418),0)","v":17764},null,{"$f":"TRUNC(SUM(L415:L418),0)","v":355},null,{"$f":"H419+J419+L419","v":19053}]
[]
[null,null,"6906005  스텐관용접  D40  개소"]
["6906005","0206031","용접봉(스텐용)","∮2.6  AWSE308L","kg",0.04,10817,{"$f":"TRUNC(F422*G422,1)","v":432.6},0,{"$f":"TRUNC(F422*I422,1)","v":0},0,{"$f":"TRUNC(F422*K422,1)","v":0},{"$f":"TRUNC(G422+I422+K422,1)","v":10817},{"$f":"TRUNC(H422+J422+L422,0)","v":432},""]
["6906005","0803008","알곤가스","(기체)","ℓ",191,4.2857142857142856,{"$f":"TRUNC(F423*G423,1)","v":818.5},0,{"$f":"TRUNC(F423*I423,1)","v":0},0,{"$f":"TRUNC(F423*K423,1)","v":0},{"$f":"TRUNC(G423+I423+K423,1)","v":4.2},{"$f":"TRUNC(H423+J423+L423,0)","v":818},""]
["6905012","0001112","노무비","용접공(일반)","인",8.4000000000000005E-2,0,{"$f":"TRUNC(F424*G424,1)","v":0},230706,{"$f":"TRUNC(F424*I424,1)","v":19379.3},0,{"$f":"TRUNC(F424*K424,1)","v":0},{"$f":"TRUNC(G424+I424+K424,1)","v":230706},{"$f":"TRUNC(H424+J424+L424,0)","v":19379},""]
["6905012","M500000","공구손료","노무비의 2%","식",1,null,{"$f":"TRUNC(F425*G425,1)","v":0},0,{"$f":"TRUNC(F425*I425,1)","v":0},387.5,{"$f":"TRUNC(F425*K425,1)","v":387.5},{"$f":"TRUNC(G425+I425+K425,1)","v":387.5},{"$f":"TRUNC(H425+J425+L425,0)","v":387},""]
[null,null,"[ 합           계 ]",{"$nulls":4},{"$f":"TRUNC(SUM(H422:H425),0)","v":1251},null,{"$f":"TRUNC(SUM(J422:J425),0)","v":19379},null,{"$f":"TRUNC(SUM(L422:L425),0)","v":387},null,{"$f":"H426+J426+L426","v":21017}]
[]
[null,null,"6906006  스텐관용접  D50  개소"]
["6906006","0206031","용접봉(스텐용)","∮2.6  AWSE308L","kg",5.5000000000000007E-2,10817,{"$f":"TRUNC(F429*G429,1)","v":594.9},0,{"$f":"TRUNC(F429*I429,1)","v":0},0,{"$f":"TRUNC(F429*K429,1)","v":0},{"$f":"TRUNC(G429+I429+K429,1)","v":10817},{"$f":"TRUNC(H429+J429+L429,0)","v":594},""]
["6906006","0803008","알곤가스","(기체)","ℓ",256,4.2857142857142856,{"$f":"TRUNC(F430*G430,1)","v":1097.0999999999999},0,{"$f":"TRUNC(F430*I430,1)","v":0},0,{"$f":"TRUNC(F430*K430,1)","v":0},{"$f":"TRUNC(G430+I430+K430,1)","v":4.2},{"$f":"TRUNC(H430+J430+L430,0)","v":1097},""]
["6905012","0001112","노무비","용접공(일반)","인",9.9000000000000005E-2,0,{"$f":"TRUNC(F431*G431,1)","v":0},230706,{"$f":"TRUNC(F431*I431,1)","v":22839.8},0,{"$f":"TRUNC(F431*K431,1)","v":0},{"$f":"TRUNC(G431+I431+K431,1)","v":230706},{"$f":"TRUNC(H431+J431+L431,0)","v":22839},""]
["6905012","M500000","공구손료","노무비의 2%","식",1,null,{"$f":"TRUNC(F432*G432,1)","v":0},0,{"$f":"TRUNC(F432*I432,1)","v":0},456.7,{"$f":"TRUNC(F432*K432,1)","v":456.7},{"$f":"TRUNC(G432+I432+K432,1)","v":456.7},{"$f":"TRUNC(H432+J432+L432,0)","v":456},""]
[null,null,"[ 합           계 ]",{"$nulls":4},{"$f":"TRUNC(SUM(H429:H432),0)","v":1692},null,{"$f":"TRUNC(SUM(J429:J432),0)","v":22839},null,{"$f":"TRUNC(SUM(L429:L432),0)","v":456},null,{"$f":"H433+J433+L433","v":24987}]
[]
[null,null,"6906007  스텐관용접  D65  개소"]
["6906007","0206031","용접봉(스텐용)","∮2.6  AWSE308L","kg",0.16800000000000001,10817,{"$f":"TRUNC(F436*G436,1)","v":1817.2},0,{"$f":"TRUNC(F436*I436,1)","v":0},0,{"$f":"TRUNC(F436*K436,1)","v":0},{"$f":"TRUNC(G436+I436+K436,1)","v":10817},{"$f":"TRUNC(H436+J436+L436,0)","v":1817},""]
["6906007","0803008","알곤가스","(기체)","ℓ",343,4.2857142857142856,{"$f":"TRUNC(F437*G437,1)","v":1470},0,{"$f":"TRUNC(F437*I437,1)","v":0},0,{"$f":"TRUNC(F437*K437,1)","v":0},{"$f":"TRUNC(G437+I437+K437,1)","v":4.2},{"$f":"TRUNC(H437+J437+L437,0)","v":1470},""]
["6905012","0001112","노무비","용접공(일반)","인",0.11899999999999999,0,{"$f":"TRUNC(F438*G438,1)","v":0},230706,{"$f":"TRUNC(F438*I438,1)","v":27454},0,{"$f":"TRUNC(F438*K438,1)","v":0},{"$f":"TRUNC(G438+I438+K438,1)","v":230706},{"$f":"TRUNC(H438+J438+L438,0)","v":27454},""]
["6905012","M500000","공구손료","노무비의 2%","식",1,null,{"$f":"TRUNC(F439*G439,1)","v":0},0,{"$f":"TRUNC(F439*I439,1)","v":0},549,{"$f":"TRUNC(F439*K439,1)","v":549},{"$f":"TRUNC(G439+I439+K439,1)","v":549},{"$f":"TRUNC(H439+J439+L439,0)","v":549},""]
[null,null,"[ 합           계 ]",{"$nulls":4},{"$f":"TRUNC(SUM(H436:H439),0)","v":3287},null,{"$f":"TRUNC(SUM(J436:J439),0)","v":27454},null,{"$f":"TRUNC(SUM(L436:L439),0)","v":549},null,{"$f":"H440+J440+L440","v":31290}]
[]
[null,null,"6906008  스텐관용접  D80  개소"]
["6906008","0206031","용접봉(스텐용)","∮2.6  AWSE308L","kg",0.21299999999999999,10817,{"$f":"TRUNC(F443*G443,1)","v":2304},0,{"$f":"TRUNC(F443*I443,1)","v":0},0,{"$f":"TRUNC(F443*K443,1)","v":0},{"$f":"TRUNC(G443+I443+K443,1)","v":10817},{"$f":"TRUNC(H443+J443+L443,0)","v":2304},""]
["6906008","0803008","알곤가스","(기체)","ℓ",430,4.2857142857142856,{"$f":"TRUNC(F444*G444,1)","v":1842.8},0,{"$f":"TRUNC(F444*I444,1)","v":0},0,{"$f":"TRUNC(F444*K444,1)","v":0},{"$f":"TRUNC(G444+I444+K444,1)","v":4.2},{"$f":"TRUNC(H444+J444+L444,0)","v":1842},""]
["6905012","0001112","노무비","용접공(일반)","인",0.13500000000000001,0,{"$f":"TRUNC(F445*G445,1)","v":0},230706,{"$f":"TRUNC(F445*I445,1)","v":31145.3},0,{"$f":"TRUNC(F445*K445,1)","v":0},{"$f":"TRUNC(G445+I445+K445,1)","v":230706},{"$f":"TRUNC(H445+J445+L445,0)","v":31145},""]
["6905012","M500000","공구손료","노무비의 2%","식",1,null,{"$f":"TRUNC(F446*G446,1)","v":0},0,{"$f":"TRUNC(F446*I446,1)","v":0},622.9,{"$f":"TRUNC(F446*K446,1)","v":622.9},{"$f":"TRUNC(G446+I446+K446,1)","v":622.9},{"$f":"TRUNC(H446+J446+L446,0)","v":622},""]
[null,null,"[ 합           계 ]",{"$nulls":4},{"$f":"TRUNC(SUM(H443:H446),0)","v":4146},null,{"$f":"TRUNC(SUM(J443:J446),0)","v":31145},null,{"$f":"TRUNC(SUM(L443:L446),0)","v":622},null,{"$f":"H447+J447+L447","v":35913}]
[]
[null,null,"6906009  스텐관용접  D100  개소"]
["6906009","0206031","용접봉(스텐용)","∮2.6  AWSE308L","kg",0.313,10817,{"$f":"TRUNC(F450*G450,1)","v":3385.7},0,{"$f":"TRUNC(F450*I450,1)","v":0},0,{"$f":"TRUNC(F450*K450,1)","v":0},{"$f":"TRUNC(G450+I450+K450,1)","v":10817},{"$f":"TRUNC(H450+J450+L450,0)","v":3385},""]
["6906009","0803008","알곤가스","(기체)","ℓ",699,4.2857142857142856,{"$f":"TRUNC(F451*G451,1)","v":2995.7},0,{"$f":"TRUNC(F451*I451,1)","v":0},0,{"$f":"TRUNC(F451*K451,1)","v":0},{"$f":"TRUNC(G451+I451+K451,1)","v":4.2},{"$f":"TRUNC(H451+J451+L451,0)","v":2995},""]
["6905012","0001112","노무비","용접공(일반)","인",0.16700000000000001,0,{"$f":"TRUNC(F452*G452,1)","v":0},230706,{"$f":"TRUNC(F452*I452,1)","v":38527.9},0,{"$f":"TRUNC(F452*K452,1)","v":0},{"$f":"TRUNC(G452+I452+K452,1)","v":230706},{"$f":"TRUNC(H452+J452+L452,0)","v":38527},""]
["6905012","M500000","공구손료","노무비의 2%","식",1,null,{"$f":"TRUNC(F453*G453,1)","v":0},0,{"$f":"TRUNC(F453*I453,1)","v":0},770.5,{"$f":"TRUNC(F453*K453,1)","v":770.5},{"$f":"TRUNC(G453+I453+K453,1)","v":770.5},{"$f":"TRUNC(H453+J453+L453,0)","v":770},""]
[null,null,"[ 합           계 ]",{"$nulls":4},{"$f":"TRUNC(SUM(H450:H453),0)","v":6381},null,{"$f":"TRUNC(SUM(J450:J453),0)","v":38527},null,{"$f":"TRUNC(SUM(L450:L453),0)","v":770},null,{"$f":"H454+J454+L454","v":45678}]
[]
[null,null,"6906010  스텐관용접  D125  개소"]
["6906010","0206031","용접봉(스텐용)","∮2.6  AWSE308L","kg",0.443,10817,{"$f":"TRUNC(F457*G457,1)","v":4791.8999999999996},0,{"$f":"TRUNC(F457*I457,1)","v":0},0,{"$f":"TRUNC(F457*K457,1)","v":0},{"$f":"TRUNC(G457+I457+K457,1)","v":10817},{"$f":"TRUNC(H457+J457+L457,0)","v":4791},""]
["6906010","0803008","알곤가스","(기체)","ℓ",1098,4.2857142857142856,{"$f":"TRUNC(F458*G458,1)","v":4705.7},0,{"$f":"TRUNC(F458*I458,1)","v":0},0,{"$f":"TRUNC(F458*K458,1)","v":0},{"$f":"TRUNC(G458+I458+K458,1)","v":4.2},{"$f":"TRUNC(H458+J458+L458,0)","v":4705},""]
["6905012","0001112","노무비","용접공(일반)","인",0.19900000000000001,0,{"$f":"TRUNC(F459*G459,1)","v":0},230706,{"$f":"TRUNC(F459*I459,1)","v":45910.400000000001},0,{"$f":"TRUNC(F459*K459,1)","v":0},{"$f":"TRUNC(G459+I459+K459,1)","v":230706},{"$f":"TRUNC(H459+J459+L459,0)","v":45910},""]
["6905012","M500000","공구손료","노무비의 2%","식",1,null,{"$f":"TRUNC(F460*G460,1)","v":0},0,{"$f":"TRUNC(F460*I460,1)","v":0},918.2,{"$f":"TRUNC(F460*K460,1)","v":918.2},{"$f":"TRUNC(G460+I460+K460,1)","v":918.2},{"$f":"TRUNC(H460+J460+L460,0)","v":918},""]
[null,null,"[ 합           계 ]",{"$nulls":4},{"$f":"TRUNC(SUM(H457:H460),0)","v":9497},null,{"$f":"TRUNC(SUM(J457:J460),0)","v":45910},null,{"$f":"TRUNC(SUM(L457:L460),0)","v":918},null,{"$f":"H461+J461+L461","v":56325}]
[]
[null,null,"6906011  스텐관용접  D150  개소"]
["6906011","0206031","용접봉(스텐용)","∮2.6  AWSE308L","kg",0.60099999999999998,10817,{"$f":"TRUNC(F464*G464,1)","v":6501},0,{"$f":"TRUNC(F464*I464,1)","v":0},0,{"$f":"TRUNC(F464*K464,1)","v":0},{"$f":"TRUNC(G464+I464+K464,1)","v":10817},{"$f":"TRUNC(H464+J464+L464,0)","v":6501},""]
["6906011","0803008","알곤가스","(기체)","ℓ",1285,4.2857142857142856,{"$f":"TRUNC(F465*G465,1)","v":5507.1},0,{"$f":"TRUNC(F465*I465,1)","v":0},0,{"$f":"TRUNC(F465*K465,1)","v":0},{"$f":"TRUNC(G465+I465+K465,1)","v":4.2},{"$f":"TRUNC(H465+J465+L465,0)","v":5507},""]
["6905012","0001112","노무비","용접공(일반)","인",0.23100000000000001,0,{"$f":"TRUNC(F466*G466,1)","v":0},230706,{"$f":"TRUNC(F466*I466,1)","v":53293},0,{"$f":"TRUNC(F466*K466,1)","v":0},{"$f":"TRUNC(G466+I466+K466,1)","v":230706},{"$f":"TRUNC(H466+J466+L466,0)","v":53293},""]
["6905012","M500000","공구손료","노무비의 2%","식",1,null,{"$f":"TRUNC(F467*G467,1)","v":0},0,{"$f":"TRUNC(F467*I467,1)","v":0},1065.8,{"$f":"TRUNC(F467*K467,1)","v":1065.8},{"$f":"TRUNC(G467+I467+K467,1)","v":1065.8},{"$f":"TRUNC(H467+J467+L467,0)","v":1065},""]
[null,null,"[ 합           계 ]",{"$nulls":4},{"$f":"TRUNC(SUM(H464:H467),0)","v":12008},null,{"$f":"TRUNC(SUM(J464:J467),0)","v":53293},null,{"$f":"TRUNC(SUM(L464:L467),0)","v":1065},null,{"$f":"H468+J468+L468","v":66366}]
[]
[null,null,"6906012  스텐관용접  D200  개소"]
["6906012","0206031","용접봉(스텐용)","∮2.6  AWSE308L","kg",1.0069999999999999,10817,{"$f":"TRUNC(F471*G471,1)","v":10892.7},0,{"$f":"TRUNC(F471*I471,1)","v":0},0,{"$f":"TRUNC(F471*K471,1)","v":0},{"$f":"TRUNC(G471+I471+K471,1)","v":10817},{"$f":"TRUNC(H471+J471+L471,0)","v":10892},""]
["6906012","0803008","알곤가스","(기체)","ℓ",2170,4.2857142857142856,{"$f":"TRUNC(F472*G472,1)","v":9300},0,{"$f":"TRUNC(F472*I472,1)","v":0},0,{"$f":"TRUNC(F472*K472,1)","v":0},{"$f":"TRUNC(G472+I472+K472,1)","v":4.2},{"$f":"TRUNC(H472+J472+L472,0)","v":9300},""]
["6905012","0001112","노무비","용접공(일반)","인",0.29499999999999998,0,{"$f":"TRUNC(F473*G473,1)","v":0},230706,{"$f":"TRUNC(F473*I473,1)","v":68058.2},0,{"$f":"TRUNC(F473*K473,1)","v":0},{"$f":"TRUNC(G473+I473+K473,1)","v":230706},{"$f":"TRUNC(H473+J473+L473,0)","v":68058},""]
["6905012","M500000","공구손료","노무비의 2%","식",1,null,{"$f":"TRUNC(F474*G474,1)","v":0},0,{"$f":"TRUNC(F474*I474,1)","v":0},1361.1,{"$f":"TRUNC(F474*K474,1)","v":1361.1},{"$f":"TRUNC(G474+I474+K474,1)","v":1361.1},{"$f":"TRUNC(H474+J474+L474,0)","v":1361},""]
[null,null,"[ 합           계 ]",{"$nulls":4},{"$f":"TRUNC(SUM(H471:H474),0)","v":20192},null,{"$f":"TRUNC(SUM(J471:J474),0)","v":68058},null,{"$f":"TRUNC(SUM(L471:L474),0)","v":1361},null,{"$f":"H475+J475+L475","v":89611}]
[]
[null,null,"6906013  스텐관용접  D250  개소"]
["6906013","0206031","용접봉(스텐용)","∮2.6  AWSE308L","kg",1.4550000000000001,10817,{"$f":"TRUNC(F478*G478,1)","v":15738.7},0,{"$f":"TRUNC(F478*I478,1)","v":0},0,{"$f":"TRUNC(F478*K478,1)","v":0},{"$f":"TRUNC(G478+I478+K478,1)","v":10817},{"$f":"TRUNC(H478+J478+L478,0)","v":15738},""]
["6906013","0803008","알곤가스","(기체)","ℓ",3060,4.2857142857142856,{"$f":"TRUNC(F479*G479,1)","v":13114.2},0,{"$f":"TRUNC(F479*I479,1)","v":0},0,{"$f":"TRUNC(F479*K479,1)","v":0},{"$f":"TRUNC(G479+I479+K479,1)","v":4.2},{"$f":"TRUNC(H479+J479+L479,0)","v":13114},""]
["6905012","0001112","노무비","용접공(일반)","인",0.35899999999999999,0,{"$f":"TRUNC(F480*G480,1)","v":0},230706,{"$f":"TRUNC(F480*I480,1)","v":82823.399999999994},0,{"$f":"TRUNC(F480*K480,1)","v":0},{"$f":"TRUNC(G480+I480+K480,1)","v":230706},{"$f":"TRUNC(H480+J480+L480,0)","v":82823},""]
["6905012","M500000","공구손료","노무비의 2%","식",1,null,{"$f":"TRUNC(F481*G481,1)","v":0},0,{"$f":"TRUNC(F481*I481,1)","v":0},1656.4,{"$f":"TRUNC(F481*K481,1)","v":1656.4},{"$f":"TRUNC(G481+I481+K481,1)","v":1656.4},{"$f":"TRUNC(H481+J481+L481,0)","v":1656},""]
[null,null,"[ 합           계 ]",{"$nulls":4},{"$f":"TRUNC(SUM(H478:H481),0)","v":28852},null,{"$f":"TRUNC(SUM(J478:J481),0)","v":82823},null,{"$f":"TRUNC(SUM(L478:L481),0)","v":1656},null,{"$f":"H482+J482+L482","v":113331}]
[]
[null,null,"6906014  스텐관용접  D300  개소"]
["6906014","0206031","용접봉(스텐용)","∮2.6  AWSE308L","kg",2.0699999999999998,10817,{"$f":"TRUNC(F485*G485,1)","v":22391.1},0,{"$f":"TRUNC(F485*I485,1)","v":0},0,{"$f":"TRUNC(F485*K485,1)","v":0},{"$f":"TRUNC(G485+I485+K485,1)","v":10817},{"$f":"TRUNC(H485+J485+L485,0)","v":22391},""]
["6906014","0803008","알곤가스","(기체)","ℓ",3945,4.2857142857142856,{"$f":"TRUNC(F486*G486,1)","v":16907.099999999999},0,{"$f":"TRUNC(F486*I486,1)","v":0},0,{"$f":"TRUNC(F486*K486,1)","v":0},{"$f":"TRUNC(G486+I486+K486,1)","v":4.2},{"$f":"TRUNC(H486+J486+L486,0)","v":16907},""]
["6905012","0001112","노무비","용접공(일반)","인",0.42299999999999999,0,{"$f":"TRUNC(F487*G487,1)","v":0},230706,{"$f":"TRUNC(F487*I487,1)","v":97588.6},0,{"$f":"TRUNC(F487*K487,1)","v":0},{"$f":"TRUNC(G487+I487+K487,1)","v":230706},{"$f":"TRUNC(H487+J487+L487,0)","v":97588},""]
["6905012","M500000","공구손료","노무비의 2%","식",1,null,{"$f":"TRUNC(F488*G488,1)","v":0},0,{"$f":"TRUNC(F488*I488,1)","v":0},1951.7,{"$f":"TRUNC(F488*K488,1)","v":1951.7},{"$f":"TRUNC(G488+I488+K488,1)","v":1951.7},{"$f":"TRUNC(H488+J488+L488,0)","v":1951},""]
[null,null,"[ 합           계 ]",{"$nulls":4},{"$f":"TRUNC(SUM(H485:H488),0)","v":39298},null,{"$f":"TRUNC(SUM(J485:J488),0)","v":97588},null,{"$f":"TRUNC(SUM(L485:L488),0)","v":1951},null,{"$f":"H489+J489+L489","v":138837}]
[]
[null,null,"6908001  주철관접합 NO-HUB  D50  접합개소"]
["6908001","5111321","카플링(NO HUB)","D50","EA",1,3360,{"$f":"TRUNC(F492*G492,1)","v":3360},0,{"$f":"TRUNC(F492*I492,1)","v":0},0,{"$f":"TRUNC(F492*K492,1)","v":0},{"$f":"TRUNC(G492+I492+K492,1)","v":3360},{"$f":"TRUNC(H492+J492+L492,0)","v":3360},""]
["6908001","0001029","노무비","배관공","인",0.14299999999999999,0,{"$f":"TRUNC(F493*G493,1)","v":0},202212,{"$f":"TRUNC(F493*I493,1)","v":28916.3},0,{"$f":"TRUNC(F493*K493,1)","v":0},{"$f":"TRUNC(G493+I493+K493,1)","v":202212},{"$f":"TRUNC(H493+J493+L493,0)","v":28916},""]
["6908001","0001084","노무비","보통인부","인",6.6000000000000003E-2,0,{"$f":"TRUNC(F494*G494,1)","v":0},144481,{"$f":"TRUNC(F494*I494,1)","v":9535.7000000000007},0,{"$f":"TRUNC(F494*K494,1)","v":0},{"$f":"TRUNC(G494+I494+K494,1)","v":144481},{"$f":"TRUNC(H494+J494+L494,0)","v":9535},""]
["6908001","M500000","공구손료","노무비의 2%","식",1,null,{"$f":"TRUNC(F495*G495,1)","v":0},0,{"$f":"TRUNC(F495*I495,1)","v":0},769,{"$f":"TRUNC(F495*K495,1)","v":769},{"$f":"TRUNC(G495+I495+K495,1)","v":769},{"$f":"TRUNC(H495+J495+L495,0)","v":769},""]
[null,null,"[ 합           계 ]",{"$nulls":4},{"$f":"TRUNC(SUM(H492:H495),0)","v":3360},null,{"$f":"TRUNC(SUM(J492:J495),0)","v":38452},null,{"$f":"TRUNC(SUM(L492:L495),0)","v":769},null,{"$f":"H496+J496+L496","v":42581}]
[]
[null,null,"6908002  주철관접합 NO-HUB  D75  접합개소"]
["6908002","5111322","카플링(NO HUB)","D75","EA",1,3840,{"$f":"TRUNC(F499*G499,1)","v":3840},0,{"$f":"TRUNC(F499*I499,1)","v":0},0,{"$f":"TRUNC(F499*K499,1)","v":0},{"$f":"TRUNC(G499+I499+K499,1)","v":3840},{"$f":"TRUNC(H499+J499+L499,0)","v":3840},""]
["6908002","0001029","노무비","배관공","인",0.19600000000000001,0,{"$f":"TRUNC(F500*G500,1)","v":0},202212,{"$f":"TRUNC(F500*I500,1)","v":39633.5},0,{"$f":"TRUNC(F500*K500,1)","v":0},{"$f":"TRUNC(G500+I500+K500,1)","v":202212},{"$f":"TRUNC(H500+J500+L500,0)","v":39633},""]
["6908002","0001084","노무비","보통인부","인",9.4E-2,0,{"$f":"TRUNC(F501*G501,1)","v":0},144481,{"$f":"TRUNC(F501*I501,1)","v":13581.2},0,{"$f":"TRUNC(F501*K501,1)","v":0},{"$f":"TRUNC(G501+I501+K501,1)","v":144481},{"$f":"TRUNC(H501+J501+L501,0)","v":13581},""]
["6908002","M500000","공구손료","노무비의 2%","식",1,null,{"$f":"TRUNC(F502*G502,1)","v":0},0,{"$f":"TRUNC(F502*I502,1)","v":0},1064.2,{"$f":"TRUNC(F502*K502,1)","v":1064.2},{"$f":"TRUNC(G502+I502+K502,1)","v":1064.2},{"$f":"TRUNC(H502+J502+L502,0)","v":1064},""]
[null,null,"[ 합           계 ]",{"$nulls":4},{"$f":"TRUNC(SUM(H499:H502),0)","v":3840},null,{"$f":"TRUNC(SUM(J499:J502),0)","v":53214},null,{"$f":"TRUNC(SUM(L499:L502),0)","v":1064},null,{"$f":"H503+J503+L503","v":58118}]
[]
[null,null,"6908003  주철관접합 NO-HUB  D100  접합개소"]
["6908003","5111323","카플링(NO HUB)","D100","EA",1,4560,{"$f":"TRUNC(F506*G506,1)","v":4560},0,{"$f":"TRUNC(F506*I506,1)","v":0},0,{"$f":"TRUNC(F506*K506,1)","v":0},{"$f":"TRUNC(G506+I506+K506,1)","v":4560},{"$f":"TRUNC(H506+J506+L506,0)","v":4560},""]
["6908003","0001029","노무비","배관공","인",0.248,0,{"$f":"TRUNC(F507*G507,1)","v":0},202212,{"$f":"TRUNC(F507*I507,1)","v":50148.5},0,{"$f":"TRUNC(F507*K507,1)","v":0},{"$f":"TRUNC(G507+I507+K507,1)","v":202212},{"$f":"TRUNC(H507+J507+L507,0)","v":50148},""]
["6908003","0001084","노무비","보통인부","인",0.122,0,{"$f":"TRUNC(F508*G508,1)","v":0},144481,{"$f":"TRUNC(F508*I508,1)","v":17626.599999999999},0,{"$f":"TRUNC(F508*K508,1)","v":0},{"$f":"TRUNC(G508+I508+K508,1)","v":144481},{"$f":"TRUNC(H508+J508+L508,0)","v":17626},""]
["6908003","M500000","공구손료","노무비의 2%","식",1,null,{"$f":"TRUNC(F509*G509,1)","v":0},0,{"$f":"TRUNC(F509*I509,1)","v":0},1355.5,{"$f":"TRUNC(F509*K509,1)","v":1355.5},{"$f":"TRUNC(G509+I509+K509,1)","v":1355.5},{"$f":"TRUNC(H509+J509+L509,0)","v":1355},""]
[null,null,"[ 합           계 ]",{"$nulls":4},{"$f":"TRUNC(SUM(H506:H509),0)","v":4560},null,{"$f":"TRUNC(SUM(J506:J509),0)","v":67775},null,{"$f":"TRUNC(SUM(L506:L509),0)","v":1355},null,{"$f":"H510+J510+L510","v":73690}]
[]
[null,null,"6908004  주철관접합 NO-HUB  D125  접합개소"]
["6908004","5111324","카플링(NO HUB)","D125","EA",1,10160,{"$f":"TRUNC(F513*G513,1)","v":10160},0,{"$f":"TRUNC(F513*I513,1)","v":0},0,{"$f":"TRUNC(F513*K513,1)","v":0},{"$f":"TRUNC(G513+I513+K513,1)","v":10160},{"$f":"TRUNC(H513+J513+L513,0)","v":10160},""]
["6908004","0001029","노무비","배관공","인",0.3,0,{"$f":"TRUNC(F514*G514,1)","v":0},202212,{"$f":"TRUNC(F514*I514,1)","v":60663.6},0,{"$f":"TRUNC(F514*K514,1)","v":0},{"$f":"TRUNC(G514+I514+K514,1)","v":202212},{"$f":"TRUNC(H514+J514+L514,0)","v":60663},""]
["6908004","0001084","노무비","보통인부","인",0.15,0,{"$f":"TRUNC(F515*G515,1)","v":0},144481,{"$f":"TRUNC(F515*I515,1)","v":21672.1},0,{"$f":"TRUNC(F515*K515,1)","v":0},{"$f":"TRUNC(G515+I515+K515,1)","v":144481},{"$f":"TRUNC(H515+J515+L515,0)","v":21672},""]
["6908004","M500000","공구손료","노무비의 2%","식",1,null,{"$f":"TRUNC(F516*G516,1)","v":0},0,{"$f":"TRUNC(F516*I516,1)","v":0},1646.7,{"$f":"TRUNC(F516*K516,1)","v":1646.7},{"$f":"TRUNC(G516+I516+K516,1)","v":1646.7},{"$f":"TRUNC(H516+J516+L516,0)","v":1646},""]
[null,null,"[ 합           계 ]",{"$nulls":4},{"$f":"TRUNC(SUM(H513:H516),0)","v":10160},null,{"$f":"TRUNC(SUM(J513:J516),0)","v":82335},null,{"$f":"TRUNC(SUM(L513:L516),0)","v":1646},null,{"$f":"H517+J517+L517","v":94141}]
[]
[null,null,"6908005  주철관접합 NO-HUB  D150  접합개소"]
["6908005","5111325","카플링(NO HUB)","D150","EA",1,10720,{"$f":"TRUNC(F520*G520,1)","v":10720},0,{"$f":"TRUNC(F520*I520,1)","v":0},0,{"$f":"TRUNC(F520*K520,1)","v":0},{"$f":"TRUNC(G520+I520+K520,1)","v":10720},{"$f":"TRUNC(H520+J520+L520,0)","v":10720},""]
["6908005","0001029","노무비","배관공","인",0.35299999999999998,0,{"$f":"TRUNC(F521*G521,1)","v":0},202212,{"$f":"TRUNC(F521*I521,1)","v":71380.800000000003},0,{"$f":"TRUNC(F521*K521,1)","v":0},{"$f":"TRUNC(G521+I521+K521,1)","v":202212},{"$f":"TRUNC(H521+J521+L521,0)","v":71380},""]
["6908005","0001084","노무비","보통인부","인",0.17799999999999999,0,{"$f":"TRUNC(F522*G522,1)","v":0},144481,{"$f":"TRUNC(F522*I522,1)","v":25717.599999999999},0,{"$f":"TRUNC(F522*K522,1)","v":0},{"$f":"TRUNC(G522+I522+K522,1)","v":144481},{"$f":"TRUNC(H522+J522+L522,0)","v":25717},""]
["6908005","M500000","공구손료","노무비의 2%","식",1,null,{"$f":"TRUNC(F523*G523,1)","v":0},0,{"$f":"TRUNC(F523*I523,1)","v":0},1941.9,{"$f":"TRUNC(F523*K523,1)","v":1941.9},{"$f":"TRUNC(G523+I523+K523,1)","v":1941.9},{"$f":"TRUNC(H523+J523+L523,0)","v":1941},""]
[null,null,"[ 합           계 ]",{"$nulls":4},{"$f":"TRUNC(SUM(H520:H523),0)","v":10720},null,{"$f":"TRUNC(SUM(J520:J523),0)","v":97098},null,{"$f":"TRUNC(SUM(L520:L523),0)","v":1941},null,{"$f":"H524+J524+L524","v":109759}]
[]
[null,null,"6908006  주철관접합 NO-HUB  D200  접합개소"]
["6908006","5111326","카플링(NO HUB)","D200","EA",1,19200,{"$f":"TRUNC(F527*G527,1)","v":19200},0,{"$f":"TRUNC(F527*I527,1)","v":0},0,{"$f":"TRUNC(F527*K527,1)","v":0},{"$f":"TRUNC(G527+I527+K527,1)","v":19200},{"$f":"TRUNC(H527+J527+L527,0)","v":19200},""]
["6908006","0001029","노무비","배관공","인",0.434,0,{"$f":"TRUNC(F528*G528,1)","v":0},202212,{"$f":"TRUNC(F528*I528,1)","v":87760},0,{"$f":"TRUNC(F528*K528,1)","v":0},{"$f":"TRUNC(G528+I528+K528,1)","v":202212},{"$f":"TRUNC(H528+J528+L528,0)","v":87760},""]
["6908006","0001084","노무비","보통인부","인",0.22,0,{"$f":"TRUNC(F529*G529,1)","v":0},144481,{"$f":"TRUNC(F529*I529,1)","v":31785.8},0,{"$f":"TRUNC(F529*K529,1)","v":0},{"$f":"TRUNC(G529+I529+K529,1)","v":144481},{"$f":"TRUNC(H529+J529+L529,0)","v":31785},""]
["6908006","M500000","공구손료","노무비의 2%","식",1,null,{"$f":"TRUNC(F530*G530,1)","v":0},0,{"$f":"TRUNC(F530*I530,1)","v":0},2390.9,{"$f":"TRUNC(F530*K530,1)","v":2390.9},{"$f":"TRUNC(G530+I530+K530,1)","v":2390.9},{"$f":"TRUNC(H530+J530+L530,0)","v":2390},""]
[null,null,"[ 합           계 ]",{"$nulls":4},{"$f":"TRUNC(SUM(H527:H530),0)","v":19200},null,{"$f":"TRUNC(SUM(J527:J530),0)","v":119545},null,{"$f":"TRUNC(SUM(L527:L530),0)","v":2390},null,{"$f":"H531+J531+L531","v":141135}]
[]
[null,null,"6907001  주철관접합 (후렌지)  D50  접합개소"]
["6907001","5901005","압착후렌지","","kg",1,1120,{"$f":"TRUNC(F534*G534,1)","v":1120},0,{"$f":"TRUNC(F534*I534,1)","v":0},0,{"$f":"TRUNC(F534*K534,1)","v":0},{"$f":"TRUNC(G534+I534+K534,1)","v":1120},{"$f":"TRUNC(H534+J534+L534,0)","v":1120},""]
["6907001","5901006","고무링","","kg",1,525,525,0,0,0,0,525,525,""]
["6907001","5901007","주철관이음볼트/너트","","kg",3,280,840,0,0,0,0,280,840,""]
["6907001","0001029","노무비","배관공","인",0.152,0,0,202212,30736.2,0,0,202212,30736,""]
["6907001","0001084","노무비","보통인부","인",8.1000000000000003E-2,0,0,144481,11702.9,0,0,144481,11702,""]
["6907001","M500000","공구손료","노무비의 2%","식",1,null,0,0,0,848.7,848.7,848.7,848,""]
[null,null,"[ 합           계 ]",{"$nulls":4},{"$f":"TRUNC(SUM(H534:H539),0)","v":2485},null,{"$f":"TRUNC(SUM(J534:J539),0)","v":42439},null,{"$f":"TRUNC(SUM(L534:L539),0)","v":848},null,{"$f":"H540+J540+L540","v":45772}]
[]
[null,null,"6907002  주철관접합 (후렌지)  D75  접합개소"]
["6907001","5901005","압착후렌지","","kg",1,1470,{"$f":"TRUNC(F543*G543,1)","v":1470},0,{"$f":"TRUNC(F543*I543,1)","v":0},0,{"$f":"TRUNC(F543*K543,1)","v":0},{"$f":"TRUNC(G543+I543+K543,1)","v":1470},{"$f":"TRUNC(H543+J543+L543,0)","v":1470},""]
["6907001","5901006","고무링","","kg",1,840,840,0,0,0,0,840,840,""]
["6907001","5901007","주철관이음볼트/너트","","kg",3,280,840,0,0,0,0,280,840,""]
["6907001","0001029","노무비","배관공","인",0.219,0,0,202212,44284.4,0,0,202212,44284,""]
["6907001","0001084","노무비","보통인부","인",9.4E-2,0,0,144481,13581.2,0,0,144481,13581,""]
["6907001","M500000","공구손료","노무비의 2%","식",1,null,0,0,0,1157.3,1157.3,1157.3,1157,""]
[null,null,"[ 합           계 ]",{"$nulls":4},{"$f":"TRUNC(SUM(H543:H548),0)","v":3150},null,{"$f":"TRUNC(SUM(J543:J548),0)","v":57865},null,{"$f":"TRUNC(SUM(L543:L548),0)","v":1157},null,{"$f":"H549+J549+L549","v":62172}]
[]
[null,null,"6907003  주철관접합 (후렌지)  D100  접합개소"]
["6907001","5901005","압착후렌지","","kg",1,1610,{"$f":"TRUNC(F552*G552,1)","v":1610},0,{"$f":"TRUNC(F552*I552,1)","v":0},0,{"$f":"TRUNC(F552*K552,1)","v":0},{"$f":"TRUNC(G552+I552+K552,1)","v":1610},{"$f":"TRUNC(H552+J552+L552,0)","v":1610},""]
["6907001","5901006","고무링","","kg",1,1120,1120,0,0,0,0,1120,1120,""]
["6907001","5901007","주철관이음볼트/너트","","kg",3,280,840,0,0,0,0,280,840,""]
["6907001","0001029","노무비","배관공","인",0.28699999999999998,0,0,202212,58034.8,0,0,202212,58034,""]
["6907001","0001084","노무비","보통인부","인",0.107,0,0,144481,15459.4,0,0,144481,15459,""]
["6907001","M500000","공구손료","노무비의 2%","식",1,null,0,0,0,1469.8,1469.8,1469.8,1469,""]
[null,null,"[ 합           계 ]",{"$nulls":4},{"$f":"TRUNC(SUM(H552:H557),0)","v":3570},null,{"$f":"TRUNC(SUM(J552:J557),0)","v":73494},null,{"$f":"TRUNC(SUM(L552:L557),0)","v":1469},null,{"$f":"H558+J558+L558","v":78533}]
[]
[null,null,"6907004  주철관접합 (후렌지)  D125  접합개소"]
["6907001","5901005","압착후렌지","","kg",1,2450,{"$f":"TRUNC(F561*G561,1)","v":2450},0,{"$f":"TRUNC(F561*I561,1)","v":0},0,{"$f":"TRUNC(F561*K561,1)","v":0},{"$f":"TRUNC(G561+I561+K561,1)","v":2450},{"$f":"TRUNC(H561+J561+L561,0)","v":2450},""]
["6907001","5901006","고무링","","kg",1,1330,1330,0,0,0,0,1330,1330,""]
["6907001","5901007","주철관이음볼트/너트","","kg",3,280,840,0,0,0,0,280,840,""]
["6907001","0001029","노무비","배관공","인",0.35199999999999998,0,0,202212,71178.600000000006,0,0,202212,71178,""]
["6907001","0001084","노무비","보통인부","인",0.12,0,0,144481,17337.7,0,0,144481,17337,""]
["6907001","M500000","공구손료","노무비의 2%","식",1,null,0,0,0,1770.3,1770.3,1770.3,1770,""]
[null,null,"[ 합           계 ]",{"$nulls":4},{"$f":"TRUNC(SUM(H561:H566),0)","v":4620},null,{"$f":"TRUNC(SUM(J561:J566),0)","v":88516},null,{"$f":"TRUNC(SUM(L561:L566),0)","v":1770},null,{"$f":"H567+J567+L567","v":94906}]
[]
[null,null,"6907005  주철관접합 (후렌지)  D150  접합개소"]
["6907001","5901005","압착후렌지","","kg",1,3010,{"$f":"TRUNC(F570*G570,1)","v":3010},0,{"$f":"TRUNC(F570*I570,1)","v":0},0,{"$f":"TRUNC(F570*K570,1)","v":0},{"$f":"TRUNC(G570+I570+K570,1)","v":3010},{"$f":"TRUNC(H570+J570+L570,0)","v":3010},""]
["6907001","5901006","고무링","","kg",1,1470,1470,0,0,0,0,1470,1470,""]
["6907001","5901007","주철관이음볼트/너트","","kg",4,490,1960,0,0,0,0,490,1960,""]
["6907001","0001029","노무비","배관공","인",0.39900000000000002,0,0,202212,80682.5,0,0,202212,80682,""]
["6907001","0001084","노무비","보통인부","인",0.13,0,0,144481,18782.5,0,0,144481,18782,""]
["6907001","M500000","공구손료","노무비의 2%","식",1,null,0,0,0,1989.3,1989.3,1989.3,1989,""]
[null,null,"[ 합           계 ]",{"$nulls":4},{"$f":"TRUNC(SUM(H570:H575),0)","v":6440},null,{"$f":"TRUNC(SUM(J570:J575),0)","v":99465},null,{"$f":"TRUNC(SUM(L570:L575),0)","v":1989},null,{"$f":"H576+J576+L576","v":107894}]
[]
[null,null,"6907006  주철관접합 (후렌지)  D200  접합개소"]
["6907001","5901005","압착후렌지","","kg",1,5500,{"$f":"TRUNC(F579*G579,1)","v":5500},0,{"$f":"TRUNC(F579*I579,1)","v":0},0,{"$f":"TRUNC(F579*K579,1)","v":0},{"$f":"TRUNC(G579+I579+K579,1)","v":5500},{"$f":"TRUNC(H579+J579+L579,0)","v":5500},""]
["6907001","5901006","고무링","","kg",1,1890,1890,0,0,0,0,1890,1890,""]
["6907001","5901007","주철관이음볼트/너트","","kg",4,490,1960,0,0,0,0,490,1960,""]
["6907001","0001029","노무비","배관공","인",0.52300000000000002,0,0,202212,105756.8,0,0,202212,105756,""]
["6907001","0001084","노무비","보통인부","인",0.154,0,0,144481,22250,0,0,144481,22250,""]
["6907001","M500000","공구손료","노무비의 2%","식",1,null,0,0,0,2560.1,2560.1,2560.1,2560,""]
[null,null,"[ 합           계 ]",{"$nulls":4},{"$f":"TRUNC(SUM(H579:H584),0)","v":9350},null,{"$f":"TRUNC(SUM(J579:J584),0)","v":128006},null,{"$f":"TRUNC(SUM(L579:L584),0)","v":2560},null,{"$f":"H585+J585+L585","v":139916}]
[]
[null,null,"6909001  용접합후렌지  D15  개소"]
["6909001","5115001","후렌지 (10KG) SS41","D15","EA",1,1750,{"$f":"TRUNC(F588*G588,1)","v":1750},0,{"$f":"TRUNC(F588*I588,1)","v":0},0,{"$f":"TRUNC(F588*K588,1)","v":0},{"$f":"TRUNC(G588+I588+K588,1)","v":1750},{"$f":"TRUNC(H588+J588+L588,0)","v":1750},""]
["6909001","0501545","볼트너트","M10x50","EA",4,102.7,{"$f":"TRUNC(F589*G589,1)","v":410.8},0,{"$f":"TRUNC(F589*I589,1)","v":0},0,{"$f":"TRUNC(F589*K589,1)","v":0},{"$f":"TRUNC(G589+I589+K589,1)","v":102.7},{"$f":"TRUNC(H589+J589+L589,0)","v":410},""]
["6909001","0513003","와샤","M10","개",8,9.4,{"$f":"TRUNC(F590*G590,1)","v":75.2},0,{"$f":"TRUNC(F590*I590,1)","v":0},0,{"$f":"TRUNC(F590*K590,1)","v":0},{"$f":"TRUNC(G590+I590+K590,1)","v":9.4},{"$f":"TRUNC(H590+J590+L590,0)","v":75},""]
["6909001","6199001","후렌지패킹","3.2MMxD15","EA",1,142,{"$f":"TRUNC(F591*G591,1)","v":142},0,{"$f":"TRUNC(F591*I591,1)","v":0},0,{"$f":"TRUNC(F591*K591,1)","v":0},{"$f":"TRUNC(G591+I591+K591,1)","v":142},{"$f":"TRUNC(H591+J591+L591,0)","v":142},""]
["6909001","6904001","강관용접","D15","개소",1,21,{"$f":"TRUNC(F592*G592,1)","v":21},8305,{"$f":"TRUNC(F592*I592,1)","v":8305},166,{"$f":"TRUNC(F592*K592,1)","v":166},{"$f":"TRUNC(G592+I592+K592,1)","v":8492},{"$f":"TRUNC(H592+J592+L592,0)","v":8492},""]
[null,null,"[ 합           계 ]",{"$nulls":4},{"$f":"TRUNC(SUM(H588:H592),0)","v":2399},null,{"$f":"TRUNC(SUM(J588:J592),0)","v":8305},null,{"$f":"TRUNC(SUM(L588:L592),0)","v":166},null,{"$f":"H593+J593+L593","v":10870}]
[]
[null,null,"6909002  용접합후렌지  D20  개소"]
["6909002","5115002","후렌지 (10KG) SS41","D20","EA",1,2250,{"$f":"TRUNC(F596*G596,1)","v":2250},0,{"$f":"TRUNC(F596*I596,1)","v":0},0,{"$f":"TRUNC(F596*K596,1)","v":0},{"$f":"TRUNC(G596+I596+K596,1)","v":2250},{"$f":"TRUNC(H596+J596+L596,0)","v":2250},""]
["6909002","0501545","볼트너트","M10x50","EA",4,102.7,{"$f":"TRUNC(F597*G597,1)","v":410.8},0,{"$f":"TRUNC(F597*I597,1)","v":0},0,{"$f":"TRUNC(F597*K597,1)","v":0},{"$f":"TRUNC(G597+I597+K597,1)","v":102.7},{"$f":"TRUNC(H597+J597+L597,0)","v":410},""]
["6909002","0513003","와샤","M10","개",8,9.4,{"$f":"TRUNC(F598*G598,1)","v":75.2},0,{"$f":"TRUNC(F598*I598,1)","v":0},0,{"$f":"TRUNC(F598*K598,1)","v":0},{"$f":"TRUNC(G598+I598+K598,1)","v":9.4},{"$f":"TRUNC(H598+J598+L598,0)","v":75},""]
["6909002","6199002","후렌지패킹","3.2MMxD20","EA",1,157,{"$f":"TRUNC(F599*G599,1)","v":157},0,{"$f":"TRUNC(F599*I599,1)","v":0},0,{"$f":"TRUNC(F599*K599,1)","v":0},{"$f":"TRUNC(G599+I599+K599,1)","v":157},{"$f":"TRUNC(H599+J599+L599,0)","v":157},""]
["6909002","6904002","강관용접","D20","개소",1,39,{"$f":"TRUNC(F600*G600,1)","v":39},9920,{"$f":"TRUNC(F600*I600,1)","v":9920},198,{"$f":"TRUNC(F600*K600,1)","v":198},{"$f":"TRUNC(G600+I600+K600,1)","v":10157},{"$f":"TRUNC(H600+J600+L600,0)","v":10157},""]
[null,null,"[ 합           계 ]",{"$nulls":4},{"$f":"TRUNC(SUM(H596:H600),0)","v":2932},null,{"$f":"TRUNC(SUM(J596:J600),0)","v":9920},null,{"$f":"TRUNC(SUM(L596:L600),0)","v":198},null,{"$f":"H601+J601+L601","v":13050}]
[]
[null,null,"6909003  용접합후렌지  D25  개소"]
["6909003","5115003","후렌지 (10KG) SS41","D25","EA",1,3450,{"$f":"TRUNC(F604*G604,1)","v":3450},0,{"$f":"TRUNC(F604*I604,1)","v":0},0,{"$f":"TRUNC(F604*K604,1)","v":0},{"$f":"TRUNC(G604+I604+K604,1)","v":3450},{"$f":"TRUNC(H604+J604+L604,0)","v":3450},""]
["6909003","0501572","볼트너트","M12x60","EA",4,162.9,{"$f":"TRUNC(F605*G605,1)","v":651.6},0,{"$f":"TRUNC(F605*I605,1)","v":0},0,{"$f":"TRUNC(F605*K605,1)","v":0},{"$f":"TRUNC(G605+I605+K605,1)","v":162.9},{"$f":"TRUNC(H605+J605+L605,0)","v":651},""]
["6909003","0513004","와샤","M12","개",8,16.3,{"$f":"TRUNC(F606*G606,1)","v":130.4},0,{"$f":"TRUNC(F606*I606,1)","v":0},0,{"$f":"TRUNC(F606*K606,1)","v":0},{"$f":"TRUNC(G606+I606+K606,1)","v":16.3},{"$f":"TRUNC(H606+J606+L606,0)","v":130},""]
["6909003","6199003","후렌지패킹","3.2MMxD25","EA",1,217,{"$f":"TRUNC(F607*G607,1)","v":217},0,{"$f":"TRUNC(F607*I607,1)","v":0},0,{"$f":"TRUNC(F607*K607,1)","v":0},{"$f":"TRUNC(G607+I607+K607,1)","v":217},{"$f":"TRUNC(H607+J607+L607,0)","v":217},""]
["6909003","6904003","강관용접","D25","개소",1,57,{"$f":"TRUNC(F608*G608,1)","v":57},11996,{"$f":"TRUNC(F608*I608,1)","v":11996},239,{"$f":"TRUNC(F608*K608,1)","v":239},{"$f":"TRUNC(G608+I608+K608,1)","v":12292},{"$f":"TRUNC(H608+J608+L608,0)","v":12292},""]
[null,null,"[ 합           계 ]",{"$nulls":4},{"$f":"TRUNC(SUM(H604:H608),0)","v":4506},null,{"$f":"TRUNC(SUM(J604:J608),0)","v":11996},null,{"$f":"TRUNC(SUM(L604:L608),0)","v":239},null,{"$f":"H609+J609+L609","v":16741}]
[]
[null,null,"6909004  용접합후렌지  D32  개소"]
["6909004","5115004","후렌지 (10KG) SS41","D32","EA",1,4300,{"$f":"TRUNC(F612*G612,1)","v":4300},0,{"$f":"TRUNC(F612*I612,1)","v":0},0,{"$f":"TRUNC(F612*K612,1)","v":0},{"$f":"TRUNC(G612+I612+K612,1)","v":4300},{"$f":"TRUNC(H612+J612+L612,0)","v":4300},""]
["6909004","0501572","볼트너트","M12x60","EA",4,162.9,{"$f":"TRUNC(F613*G613,1)","v":651.6},0,{"$f":"TRUNC(F613*I613,1)","v":0},0,{"$f":"TRUNC(F613*K613,1)","v":0},{"$f":"TRUNC(G613+I613+K613,1)","v":162.9},{"$f":"TRUNC(H613+J613+L613,0)","v":651},""]
["6909004","0513004","와샤","M12","개",8,16.3,{"$f":"TRUNC(F614*G614,1)","v":130.4},0,{"$f":"TRUNC(F614*I614,1)","v":0},0,{"$f":"TRUNC(F614*K614,1)","v":0},{"$f":"TRUNC(G614+I614+K614,1)","v":16.3},{"$f":"TRUNC(H614+J614+L614,0)","v":130},""]
["6909004","6199004","후렌지패킹","3.2MMxD32","EA",1,279,{"$f":"TRUNC(F615*G615,1)","v":279},0,{"$f":"TRUNC(F615*I615,1)","v":0},0,{"$f":"TRUNC(F615*K615,1)","v":0},{"$f":"TRUNC(G615+I615+K615,1)","v":279},{"$f":"TRUNC(H615+J615+L615,0)","v":279},""]
["6909004","6904004","강관용접","D32","개소",1,85,{"$f":"TRUNC(F616*G616,1)","v":85},14303,{"$f":"TRUNC(F616*I616,1)","v":14303},286,{"$f":"TRUNC(F616*K616,1)","v":286},{"$f":"TRUNC(G616+I616+K616,1)","v":14674},{"$f":"TRUNC(H616+J616+L616,0)","v":14674},""]
[null,null,"[ 합           계 ]",{"$nulls":4},{"$f":"TRUNC(SUM(H612:H616),0)","v":5446},null,{"$f":"TRUNC(SUM(J612:J616),0)","v":14303},null,{"$f":"TRUNC(SUM(L612:L616),0)","v":286},null,{"$f":"H617+J617+L617","v":20035}]
[]
[null,null,"6909005  용접합후렌지  D40  개소"]
["6909005","5115005","후렌지 (10KG) SS41","D40","EA",1,4730,{"$f":"TRUNC(F620*G620,1)","v":4730},0,{"$f":"TRUNC(F620*I620,1)","v":0},0,{"$f":"TRUNC(F620*K620,1)","v":0},{"$f":"TRUNC(G620+I620+K620,1)","v":4730},{"$f":"TRUNC(H620+J620+L620,0)","v":4730},""]
["6909005","0501572","볼트너트","M12x60","EA",4,162.9,{"$f":"TRUNC(F621*G621,1)","v":651.6},0,{"$f":"TRUNC(F621*I621,1)","v":0},0,{"$f":"TRUNC(F621*K621,1)","v":0},{"$f":"TRUNC(G621+I621+K621,1)","v":162.9},{"$f":"TRUNC(H621+J621+L621,0)","v":651},""]
["6909005","0513004","와샤","M12","개",8,16.3,{"$f":"TRUNC(F622*G622,1)","v":130.4},0,{"$f":"TRUNC(F622*I622,1)","v":0},0,{"$f":"TRUNC(F622*K622,1)","v":0},{"$f":"TRUNC(G622+I622+K622,1)","v":16.3},{"$f":"TRUNC(H622+J622+L622,0)","v":130},""]
["6909005","6199005","후렌지패킹","3.2MMxD40","EA",1,323,{"$f":"TRUNC(F623*G623,1)","v":323},0,{"$f":"TRUNC(F623*I623,1)","v":0},0,{"$f":"TRUNC(F623*K623,1)","v":0},{"$f":"TRUNC(G623+I623+K623,1)","v":323},{"$f":"TRUNC(H623+J623+L623,0)","v":323},""]
["6909005","6904005","강관용접","D40","개소",1,111,{"$f":"TRUNC(F624*G624,1)","v":111},16149,{"$f":"TRUNC(F624*I624,1)","v":16149},322,{"$f":"TRUNC(F624*K624,1)","v":322},{"$f":"TRUNC(G624+I624+K624,1)","v":16582},{"$f":"TRUNC(H624+J624+L624,0)","v":16582},""]
[null,null,"[ 합           계 ]",{"$nulls":4},{"$f":"TRUNC(SUM(H620:H624),0)","v":5946},null,{"$f":"TRUNC(SUM(J620:J624),0)","v":16149},null,{"$f":"TRUNC(SUM(L620:L624),0)","v":322},null,{"$f":"H625+J625+L625","v":22417}]
[]
[null,null,"6909006  용접합후렌지  D50  개소"]
["6909006","5115006","후렌지 (10KG) SS41","D50","EA",1,5130,{"$f":"TRUNC(F628*G628,1)","v":5130},0,{"$f":"TRUNC(F628*I628,1)","v":0},0,{"$f":"TRUNC(F628*K628,1)","v":0},{"$f":"TRUNC(G628+I628+K628,1)","v":5130},{"$f":"TRUNC(H628+J628+L628,0)","v":5130},""]
["6909006","0501572","볼트너트","M12x60","EA",4,162.9,{"$f":"TRUNC(F629*G629,1)","v":651.6},0,{"$f":"TRUNC(F629*I629,1)","v":0},0,{"$f":"TRUNC(F629*K629,1)","v":0},{"$f":"TRUNC(G629+I629+K629,1)","v":162.9},{"$f":"TRUNC(H629+J629+L629,0)","v":651},""]
["6909006","0513004","와샤","M12","개",8,16.3,{"$f":"TRUNC(F630*G630,1)","v":130.4},0,{"$f":"TRUNC(F630*I630,1)","v":0},0,{"$f":"TRUNC(F630*K630,1)","v":0},{"$f":"TRUNC(G630+I630+K630,1)","v":16.3},{"$f":"TRUNC(H630+J630+L630,0)","v":130},""]
["6909006","6199006","후렌지패킹","3.2MMxD50","EA",1,436,{"$f":"TRUNC(F631*G631,1)","v":436},0,{"$f":"TRUNC(F631*I631,1)","v":0},0,{"$f":"TRUNC(F631*K631,1)","v":0},{"$f":"TRUNC(G631+I631+K631,1)","v":436},{"$f":"TRUNC(H631+J631+L631,0)","v":436},""]
["6909006","6904006","강관용접","D50","개소",1,151,{"$f":"TRUNC(F632*G632,1)","v":151},19610,{"$f":"TRUNC(F632*I632,1)","v":19610},392,{"$f":"TRUNC(F632*K632,1)","v":392},{"$f":"TRUNC(G632+I632+K632,1)","v":20153},{"$f":"TRUNC(H632+J632+L632,0)","v":20153},""]
[null,null,"[ 합           계 ]",{"$nulls":4},{"$f":"TRUNC(SUM(H628:H632),0)","v":6499},null,{"$f":"TRUNC(SUM(J628:J632),0)","v":19610},null,{"$f":"TRUNC(SUM(L628:L632),0)","v":392},null,{"$f":"H633+J633+L633","v":26501}]
[]
[null,null,"6909007  용접합후렌지  D65  개소"]
["6909007","5115007","후렌지 (10KG) SS41","D65","EA",1,7110,{"$f":"TRUNC(F636*G636,1)","v":7110},0,{"$f":"TRUNC(F636*I636,1)","v":0},0,{"$f":"TRUNC(F636*K636,1)","v":0},{"$f":"TRUNC(G636+I636+K636,1)","v":7110},{"$f":"TRUNC(H636+J636+L636,0)","v":7110},""]
["6909007","0501572","볼트너트","M12x60","EA",4,162.9,{"$f":"TRUNC(F637*G637,1)","v":651.6},0,{"$f":"TRUNC(F637*I637,1)","v":0},0,{"$f":"TRUNC(F637*K637,1)","v":0},{"$f":"TRUNC(G637+I637+K637,1)","v":162.9},{"$f":"TRUNC(H637+J637+L637,0)","v":651},""]
["6909007","0513004","와샤","M12","개",8,16.3,{"$f":"TRUNC(F638*G638,1)","v":130.4},0,{"$f":"TRUNC(F638*I638,1)","v":0},0,{"$f":"TRUNC(F638*K638,1)","v":0},{"$f":"TRUNC(G638+I638+K638,1)","v":16.3},{"$f":"TRUNC(H638+J638+L638,0)","v":130},""]
["6909007","6199007","후렌지패킹","3.2MMxD65","EA",1,525,{"$f":"TRUNC(F639*G639,1)","v":525},0,{"$f":"TRUNC(F639*I639,1)","v":0},0,{"$f":"TRUNC(F639*K639,1)","v":0},{"$f":"TRUNC(G639+I639+K639,1)","v":525},{"$f":"TRUNC(H639+J639+L639,0)","v":525},""]
["6909007","6904007","강관용접","D65","개소",1,440,{"$f":"TRUNC(F640*G640,1)","v":440},24224,{"$f":"TRUNC(F640*I640,1)","v":24224},484,{"$f":"TRUNC(F640*K640,1)","v":484},{"$f":"TRUNC(G640+I640+K640,1)","v":25148},{"$f":"TRUNC(H640+J640+L640,0)","v":25148},""]
[null,null,"[ 합           계 ]",{"$nulls":4},{"$f":"TRUNC(SUM(H636:H640),0)","v":8857},null,{"$f":"TRUNC(SUM(J636:J640),0)","v":24224},null,{"$f":"TRUNC(SUM(L636:L640),0)","v":484},null,{"$f":"H641+J641+L641","v":33565}]
[]
[null,null,"6909008  용접합후렌지  D80  개소"]
["6909008","5115008","후렌지 (10KG) SS41","D80","EA",1,7320,{"$f":"TRUNC(F644*G644,1)","v":7320},0,{"$f":"TRUNC(F644*I644,1)","v":0},0,{"$f":"TRUNC(F644*K644,1)","v":0},{"$f":"TRUNC(G644+I644+K644,1)","v":7320},{"$f":"TRUNC(H644+J644+L644,0)","v":7320},""]
["6909008","0501573","볼트너트","M12x70","EA",8,178.94,{"$f":"TRUNC(F645*G645,1)","v":1431.5},0,{"$f":"TRUNC(F645*I645,1)","v":0},0,{"$f":"TRUNC(F645*K645,1)","v":0},{"$f":"TRUNC(G645+I645+K645,1)","v":178.9},{"$f":"TRUNC(H645+J645+L645,0)","v":1431},""]
["6909008","0513004","와샤","M12","개",16,16.3,{"$f":"TRUNC(F646*G646,1)","v":260.8},0,{"$f":"TRUNC(F646*I646,1)","v":0},0,{"$f":"TRUNC(F646*K646,1)","v":0},{"$f":"TRUNC(G646+I646+K646,1)","v":16.3},{"$f":"TRUNC(H646+J646+L646,0)","v":260},""]
["6909008","6199008","후렌지패킹","3.2MMxD80","EA",1,812,{"$f":"TRUNC(F647*G647,1)","v":812},0,{"$f":"TRUNC(F647*I647,1)","v":0},0,{"$f":"TRUNC(F647*K647,1)","v":0},{"$f":"TRUNC(G647+I647+K647,1)","v":812},{"$f":"TRUNC(H647+J647+L647,0)","v":812},""]
["6909008","6904008","강관용접","D80","개소",1,569,{"$f":"TRUNC(F648*G648,1)","v":569},27915,{"$f":"TRUNC(F648*I648,1)","v":27915},558,{"$f":"TRUNC(F648*K648,1)","v":558},{"$f":"TRUNC(G648+I648+K648,1)","v":29042},{"$f":"TRUNC(H648+J648+L648,0)","v":29042},""]
[null,null,"[ 합           계 ]",{"$nulls":4},{"$f":"TRUNC(SUM(H644:H648),0)","v":10393},null,{"$f":"TRUNC(SUM(J644:J648),0)","v":27915},null,{"$f":"TRUNC(SUM(L644:L648),0)","v":558},null,{"$f":"H649+J649+L649","v":38866}]
[]
[null,null,"6909009  용접합후렌지  D100  개소"]
["6909009","5115009","후렌지 (10KG) SS41","D100","EA",1,8190,{"$f":"TRUNC(F652*G652,1)","v":8190},0,{"$f":"TRUNC(F652*I652,1)","v":0},0,{"$f":"TRUNC(F652*K652,1)","v":0},{"$f":"TRUNC(G652+I652+K652,1)","v":8190},{"$f":"TRUNC(H652+J652+L652,0)","v":8190},""]
["6909009","0501573","볼트너트","M12x70","EA",8,178.94,{"$f":"TRUNC(F653*G653,1)","v":1431.5},0,{"$f":"TRUNC(F653*I653,1)","v":0},0,{"$f":"TRUNC(F653*K653,1)","v":0},{"$f":"TRUNC(G653+I653+K653,1)","v":178.9},{"$f":"TRUNC(H653+J653+L653,0)","v":1431},""]
["6909009","0513004","와샤","M12","개",16,16.3,{"$f":"TRUNC(F654*G654,1)","v":260.8},0,{"$f":"TRUNC(F654*I654,1)","v":0},0,{"$f":"TRUNC(F654*K654,1)","v":0},{"$f":"TRUNC(G654+I654+K654,1)","v":16.3},{"$f":"TRUNC(H654+J654+L654,0)","v":260},""]
["6909009","6199009","후렌지패킹","3.2MMxD100","EA",1,1341,{"$f":"TRUNC(F655*G655,1)","v":1341},0,{"$f":"TRUNC(F655*I655,1)","v":0},0,{"$f":"TRUNC(F655*K655,1)","v":0},{"$f":"TRUNC(G655+I655+K655,1)","v":1341},{"$f":"TRUNC(H655+J655+L655,0)","v":1341},""]
["6909009","6904009","강관용접","D100","개소",1,833,{"$f":"TRUNC(F656*G656,1)","v":833},35067,{"$f":"TRUNC(F656*I656,1)","v":35067},701,{"$f":"TRUNC(F656*K656,1)","v":701},{"$f":"TRUNC(G656+I656+K656,1)","v":36601},{"$f":"TRUNC(H656+J656+L656,0)","v":36601},""]
[null,null,"[ 합           계 ]",{"$nulls":4},{"$f":"TRUNC(SUM(H652:H656),0)","v":12056},null,{"$f":"TRUNC(SUM(J652:J656),0)","v":35067},null,{"$f":"TRUNC(SUM(L652:L656),0)","v":701},null,{"$f":"H657+J657+L657","v":47824}]
[]
[null,null,"6909010  용접합후렌지  D125  개소"]
["6909010","5115010","후렌지 (10KG) SS41","D125","EA",1,12340,{"$f":"TRUNC(F660*G660,1)","v":12340},0,{"$f":"TRUNC(F660*I660,1)","v":0},0,{"$f":"TRUNC(F660*K660,1)","v":0},{"$f":"TRUNC(G660+I660+K660,1)","v":12340},{"$f":"TRUNC(H660+J660+L660,0)","v":12340},""]
["6909010","0501619","볼트너트","M16x80","EA",8,352.5,{"$f":"TRUNC(F661*G661,1)","v":2820},0,{"$f":"TRUNC(F661*I661,1)","v":0},0,{"$f":"TRUNC(F661*K661,1)","v":0},{"$f":"TRUNC(G661+I661+K661,1)","v":352.5},{"$f":"TRUNC(H661+J661+L661,0)","v":2820},""]
["6909010","0513006","와샤","M16","개",16,27.3,{"$f":"TRUNC(F662*G662,1)","v":436.8},0,{"$f":"TRUNC(F662*I662,1)","v":0},0,{"$f":"TRUNC(F662*K662,1)","v":0},{"$f":"TRUNC(G662+I662+K662,1)","v":27.3},{"$f":"TRUNC(H662+J662+L662,0)","v":436},""]
["6909010","6199010","후렌지패킹","3.2MMxD125","EA",1,1795,{"$f":"TRUNC(F663*G663,1)","v":1795},0,{"$f":"TRUNC(F663*I663,1)","v":0},0,{"$f":"TRUNC(F663*K663,1)","v":0},{"$f":"TRUNC(G663+I663+K663,1)","v":1795},{"$f":"TRUNC(H663+J663+L663,0)","v":1795},""]
["6909010","6904010","강관용접","D125","개소",1,1183,{"$f":"TRUNC(F664*G664,1)","v":1183},42449,{"$f":"TRUNC(F664*I664,1)","v":42449},848,{"$f":"TRUNC(F664*K664,1)","v":848},{"$f":"TRUNC(G664+I664+K664,1)","v":44480},{"$f":"TRUNC(H664+J664+L664,0)","v":44480},""]
[null,null,"[ 합           계 ]",{"$nulls":4},{"$f":"TRUNC(SUM(H660:H664),0)","v":18574},null,{"$f":"TRUNC(SUM(J660:J664),0)","v":42449},null,{"$f":"TRUNC(SUM(L660:L664),0)","v":848},null,{"$f":"H665+J665+L665","v":61871}]
[]
[null,null,"6909011  용접합후렌지  D150  개소"]
["6909011","5115011","후렌지 (10KG) SS41","D150","EA",1,16440,{"$f":"TRUNC(F668*G668,1)","v":16440},0,{"$f":"TRUNC(F668*I668,1)","v":0},0,{"$f":"TRUNC(F668*K668,1)","v":0},{"$f":"TRUNC(G668+I668+K668,1)","v":16440},{"$f":"TRUNC(H668+J668+L668,0)","v":16440},""]
["6909011","0501619","볼트너트","M16x80","EA",8,352.5,{"$f":"TRUNC(F669*G669,1)","v":2820},0,{"$f":"TRUNC(F669*I669,1)","v":0},0,{"$f":"TRUNC(F669*K669,1)","v":0},{"$f":"TRUNC(G669+I669+K669,1)","v":352.5},{"$f":"TRUNC(H669+J669+L669,0)","v":2820},""]
["6909011","0513006","와샤","M16","개",16,27.3,{"$f":"TRUNC(F670*G670,1)","v":436.8},0,{"$f":"TRUNC(F670*I670,1)","v":0},0,{"$f":"TRUNC(F670*K670,1)","v":0},{"$f":"TRUNC(G670+I670+K670,1)","v":27.3},{"$f":"TRUNC(H670+J670+L670,0)","v":436},""]
["6909011","6199011","후렌지패킹","3.2MMxD150","EA",1,2173,{"$f":"TRUNC(F671*G671,1)","v":2173},0,{"$f":"TRUNC(F671*I671,1)","v":0},0,{"$f":"TRUNC(F671*K671,1)","v":0},{"$f":"TRUNC(G671+I671+K671,1)","v":2173},{"$f":"TRUNC(H671+J671+L671,0)","v":2173},""]
["6909011","6904011","강관용접","D150","개소",1,1589,{"$f":"TRUNC(F672*G672,1)","v":1589},49832,{"$f":"TRUNC(F672*I672,1)","v":49832},996,{"$f":"TRUNC(F672*K672,1)","v":996},{"$f":"TRUNC(G672+I672+K672,1)","v":52417},{"$f":"TRUNC(H672+J672+L672,0)","v":52417},""]
[null,null,"[ 합           계 ]",{"$nulls":4},{"$f":"TRUNC(SUM(H668:H672),0)","v":23458},null,{"$f":"TRUNC(SUM(J668:J672),0)","v":49832},null,{"$f":"TRUNC(SUM(L668:L672),0)","v":996},null,{"$f":"H673+J673+L673","v":74286}]
[]
[null,null,"6909012  용접합후렌지  D200  개소"]
["6909012","5115012","후렌지 (10KG) SS41","D200","EA",1,19460,{"$f":"TRUNC(F676*G676,1)","v":19460},0,{"$f":"TRUNC(F676*I676,1)","v":0},0,{"$f":"TRUNC(F676*K676,1)","v":0},{"$f":"TRUNC(G676+I676+K676,1)","v":19460},{"$f":"TRUNC(H676+J676+L676,0)","v":19460},""]
["6909012","0501619","볼트너트","M16x80","EA",12,352.5,{"$f":"TRUNC(F677*G677,1)","v":4230},0,{"$f":"TRUNC(F677*I677,1)","v":0},0,{"$f":"TRUNC(F677*K677,1)","v":0},{"$f":"TRUNC(G677+I677+K677,1)","v":352.5},{"$f":"TRUNC(H677+J677+L677,0)","v":4230},""]
["6909012","0513006","와샤","M16","개",24,27.3,{"$f":"TRUNC(F678*G678,1)","v":655.20000000000005},0,{"$f":"TRUNC(F678*I678,1)","v":0},0,{"$f":"TRUNC(F678*K678,1)","v":0},{"$f":"TRUNC(G678+I678+K678,1)","v":27.3},{"$f":"TRUNC(H678+J678+L678,0)","v":655},""]
["6909012","6199012","후렌지패킹","3.2MMxD200","EA",1,2702,{"$f":"TRUNC(F679*G679,1)","v":2702},0,{"$f":"TRUNC(F679*I679,1)","v":0},0,{"$f":"TRUNC(F679*K679,1)","v":0},{"$f":"TRUNC(G679+I679+K679,1)","v":2702},{"$f":"TRUNC(H679+J679+L679,0)","v":2702},""]
["6909012","6904012","강관용접","D200","개소",1,1808,{"$f":"TRUNC(F680*G680,1)","v":1808},64828,{"$f":"TRUNC(F680*I680,1)","v":64828},1296,{"$f":"TRUNC(F680*K680,1)","v":1296},{"$f":"TRUNC(G680+I680+K680,1)","v":67932},{"$f":"TRUNC(H680+J680+L680,0)","v":67932},""]
[null,null,"[ 합           계 ]",{"$nulls":4},{"$f":"TRUNC(SUM(H676:H680),0)","v":28855},null,{"$f":"TRUNC(SUM(J676:J680),0)","v":64828},null,{"$f":"TRUNC(SUM(L676:L680),0)","v":1296},null,{"$f":"H681+J681+L681","v":94979}]
[]
[null,null,"6909013  용접합후렌지  D250  개소"]
["6909013","5115013","후렌지 (10KG) SS41","D250","EA",1,30090,{"$f":"TRUNC(F684*G684,1)","v":30090},0,{"$f":"TRUNC(F684*I684,1)","v":0},0,{"$f":"TRUNC(F684*K684,1)","v":0},{"$f":"TRUNC(G684+I684+K684,1)","v":30090},{"$f":"TRUNC(H684+J684+L684,0)","v":30090},""]
["6909013","0501671","볼트너트","M20x100","EA",12,693.3,{"$f":"TRUNC(F685*G685,1)","v":8319.6},0,{"$f":"TRUNC(F685*I685,1)","v":0},0,{"$f":"TRUNC(F685*K685,1)","v":0},{"$f":"TRUNC(G685+I685+K685,1)","v":693.3},{"$f":"TRUNC(H685+J685+L685,0)","v":8319},""]
["6909013","0513008","와샤","M20","개",24,39.299999999999997,{"$f":"TRUNC(F686*G686,1)","v":943.2},0,{"$f":"TRUNC(F686*I686,1)","v":0},0,{"$f":"TRUNC(F686*K686,1)","v":0},{"$f":"TRUNC(G686+I686+K686,1)","v":39.299999999999997},{"$f":"TRUNC(H686+J686+L686,0)","v":943},""]
["6909013","6199013","후렌지패킹","3.2MMxD250","EA",1,3657,{"$f":"TRUNC(F687*G687,1)","v":3657},0,{"$f":"TRUNC(F687*I687,1)","v":0},0,{"$f":"TRUNC(F687*K687,1)","v":0},{"$f":"TRUNC(G687+I687+K687,1)","v":3657},{"$f":"TRUNC(H687+J687+L687,0)","v":3657},""]
["6909013","6904013","강관용접","D250","개소",1,2321,{"$f":"TRUNC(F688*G688,1)","v":2321},79593,{"$f":"TRUNC(F688*I688,1)","v":79593},1591,{"$f":"TRUNC(F688*K688,1)","v":1591},{"$f":"TRUNC(G688+I688+K688,1)","v":83505},{"$f":"TRUNC(H688+J688+L688,0)","v":83505},""]
[null,null,"[ 합           계 ]",{"$nulls":4},{"$f":"TRUNC(SUM(H684:H688),0)","v":45330},null,{"$f":"TRUNC(SUM(J684:J688),0)","v":79593},null,{"$f":"TRUNC(SUM(L684:L688),0)","v":1591},null,{"$f":"H689+J689+L689","v":126514}]
[]
[null,null,"6909014  용접합후렌지  D300  개소"]
["6909014","5115014","후렌지 (10KG) SS41","D300","EA",1,32120,{"$f":"TRUNC(F692*G692,1)","v":32120},0,{"$f":"TRUNC(F692*I692,1)","v":0},0,{"$f":"TRUNC(F692*K692,1)","v":0},{"$f":"TRUNC(G692+I692+K692,1)","v":32120},{"$f":"TRUNC(H692+J692+L692,0)","v":32120},""]
["6909014","0501671","볼트너트","M20x100","EA",16,693.3,{"$f":"TRUNC(F693*G693,1)","v":11092.8},0,{"$f":"TRUNC(F693*I693,1)","v":0},0,{"$f":"TRUNC(F693*K693,1)","v":0},{"$f":"TRUNC(G693+I693+K693,1)","v":693.3},{"$f":"TRUNC(H693+J693+L693,0)","v":11092},""]
["6909014","0513008","와샤","M20","개",32,39.299999999999997,{"$f":"TRUNC(F694*G694,1)","v":1257.5999999999999},0,{"$f":"TRUNC(F694*I694,1)","v":0},0,{"$f":"TRUNC(F694*K694,1)","v":0},{"$f":"TRUNC(G694+I694+K694,1)","v":39.299999999999997},{"$f":"TRUNC(H694+J694+L694,0)","v":1257},""]
["6909014","6199014","후렌지패킹","3.2MMxD300","EA",1,4082,{"$f":"TRUNC(F695*G695,1)","v":4082},0,{"$f":"TRUNC(F695*I695,1)","v":0},0,{"$f":"TRUNC(F695*K695,1)","v":0},{"$f":"TRUNC(G695+I695+K695,1)","v":4082},{"$f":"TRUNC(H695+J695+L695,0)","v":4082},""]
["6909014","6904014","강관용접","D300","개소",1,2792,{"$f":"TRUNC(F696*G696,1)","v":2792},94358,{"$f":"TRUNC(F696*I696,1)","v":94358},1887,{"$f":"TRUNC(F696*K696,1)","v":1887},{"$f":"TRUNC(G696+I696+K696,1)","v":99037},{"$f":"TRUNC(H696+J696+L696,0)","v":99037},""]
[null,null,"[ 합           계 ]",{"$nulls":4},{"$f":"TRUNC(SUM(H692:H696),0)","v":51344},null,{"$f":"TRUNC(SUM(J692:J696),0)","v":94358},null,{"$f":"TRUNC(SUM(L692:L696),0)","v":1887},null,{"$f":"H697+J697+L697","v":147589}]
[]
[null,null,"6910001  용접조후렌지  D15  개소"]
["6910001","5115001","후렌지 (10KG) SS41","D15","EA",2,1750,{"$f":"TRUNC(F700*G700,1)","v":3500},0,{"$f":"TRUNC(F700*I700,1)","v":0},0,{"$f":"TRUNC(F700*K700,1)","v":0},{"$f":"TRUNC(G700+I700+K700,1)","v":1750},{"$f":"TRUNC(H700+J700+L700,0)","v":3500},""]
["6910001","0501545","볼트너트","M10x50","EA",4,102.7,{"$f":"TRUNC(F701*G701,1)","v":410.8},0,{"$f":"TRUNC(F701*I701,1)","v":0},0,{"$f":"TRUNC(F701*K701,1)","v":0},{"$f":"TRUNC(G701+I701+K701,1)","v":102.7},{"$f":"TRUNC(H701+J701+L701,0)","v":410},""]
["6910001","0513003","와샤","M10","개",8,9.4,{"$f":"TRUNC(F702*G702,1)","v":75.2},0,{"$f":"TRUNC(F702*I702,1)","v":0},0,{"$f":"TRUNC(F702*K702,1)","v":0},{"$f":"TRUNC(G702+I702+K702,1)","v":9.4},{"$f":"TRUNC(H702+J702+L702,0)","v":75},""]
["6910001","6199001","후렌지패킹","3.2MMxD15","EA",1,142,{"$f":"TRUNC(F703*G703,1)","v":142},0,{"$f":"TRUNC(F703*I703,1)","v":0},0,{"$f":"TRUNC(F703*K703,1)","v":0},{"$f":"TRUNC(G703+I703+K703,1)","v":142},{"$f":"TRUNC(H703+J703+L703,0)","v":142},""]
["6910001","6904001","강관용접","D15","개소",2,21,{"$f":"TRUNC(F704*G704,1)","v":42},8305,{"$f":"TRUNC(F704*I704,1)","v":16610},166,{"$f":"TRUNC(F704*K704,1)","v":332},{"$f":"TRUNC(G704+I704+K704,1)","v":8492},{"$f":"TRUNC(H704+J704+L704,0)","v":16984},""]
[null,null,"[ 합           계 ]",{"$nulls":4},{"$f":"TRUNC(SUM(H700:H704),0)","v":4170},null,{"$f":"TRUNC(SUM(J700:J704),0)","v":16610},null,{"$f":"TRUNC(SUM(L700:L704),0)","v":332},null,{"$f":"H705+J705+L705","v":21112}]
[]
[null,null,"6910002  용접조후렌지  D20  개소"]
["6910002","5115002","후렌지 (10KG) SS41","D20","EA",2,2250,{"$f":"TRUNC(F708*G708,1)","v":4500},0,{"$f":"TRUNC(F708*I708,1)","v":0},0,{"$f":"TRUNC(F708*K708,1)","v":0},{"$f":"TRUNC(G708+I708+K708,1)","v":2250},{"$f":"TRUNC(H708+J708+L708,0)","v":4500},""]
["6910002","0501545","볼트너트","M10x50","EA",4,102.7,{"$f":"TRUNC(F709*G709,1)","v":410.8},0,{"$f":"TRUNC(F709*I709,1)","v":0},0,{"$f":"TRUNC(F709*K709,1)","v":0},{"$f":"TRUNC(G709+I709+K709,1)","v":102.7},{"$f":"TRUNC(H709+J709+L709,0)","v":410},""]
["6910002","0513003","와샤","M10","개",8,9.4,{"$f":"TRUNC(F710*G710,1)","v":75.2},0,{"$f":"TRUNC(F710*I710,1)","v":0},0,{"$f":"TRUNC(F710*K710,1)","v":0},{"$f":"TRUNC(G710+I710+K710,1)","v":9.4},{"$f":"TRUNC(H710+J710+L710,0)","v":75},""]
["6910002","6199002","후렌지패킹","3.2MMxD20","EA",1,157,{"$f":"TRUNC(F711*G711,1)","v":157},0,{"$f":"TRUNC(F711*I711,1)","v":0},0,{"$f":"TRUNC(F711*K711,1)","v":0},{"$f":"TRUNC(G711+I711+K711,1)","v":157},{"$f":"TRUNC(H711+J711+L711,0)","v":157},""]
["6910002","6904002","강관용접","D20","개소",2,39,{"$f":"TRUNC(F712*G712,1)","v":78},9920,{"$f":"TRUNC(F712*I712,1)","v":19840},198,{"$f":"TRUNC(F712*K712,1)","v":396},{"$f":"TRUNC(G712+I712+K712,1)","v":10157},{"$f":"TRUNC(H712+J712+L712,0)","v":20314},""]
[null,null,"[ 합           계 ]",{"$nulls":4},{"$f":"TRUNC(SUM(H708:H712),0)","v":5221},null,{"$f":"TRUNC(SUM(J708:J712),0)","v":19840},null,{"$f":"TRUNC(SUM(L708:L712),0)","v":396},null,{"$f":"H713+J713+L713","v":25457}]
[]
[null,null,"6910003  용접조후렌지  D25  개소"]
["6910003","5115003","후렌지 (10KG) SS41","D25","EA",2,3450,{"$f":"TRUNC(F716*G716,1)","v":6900},0,{"$f":"TRUNC(F716*I716,1)","v":0},0,{"$f":"TRUNC(F716*K716,1)","v":0},{"$f":"TRUNC(G716+I716+K716,1)","v":3450},{"$f":"TRUNC(H716+J716+L716,0)","v":6900},""]
["6910003","0501572","볼트너트","M12x60","EA",4,162.9,{"$f":"TRUNC(F717*G717,1)","v":651.6},0,{"$f":"TRUNC(F717*I717,1)","v":0},0,{"$f":"TRUNC(F717*K717,1)","v":0},{"$f":"TRUNC(G717+I717+K717,1)","v":162.9},{"$f":"TRUNC(H717+J717+L717,0)","v":651},""]
["6910003","0513004","와샤","M12","개",8,16.3,{"$f":"TRUNC(F718*G718,1)","v":130.4},0,{"$f":"TRUNC(F718*I718,1)","v":0},0,{"$f":"TRUNC(F718*K718,1)","v":0},{"$f":"TRUNC(G718+I718+K718,1)","v":16.3},{"$f":"TRUNC(H718+J718+L718,0)","v":130},""]
["6910003","6199003","후렌지패킹","3.2MMxD25","EA",1,217,{"$f":"TRUNC(F719*G719,1)","v":217},0,{"$f":"TRUNC(F719*I719,1)","v":0},0,{"$f":"TRUNC(F719*K719,1)","v":0},{"$f":"TRUNC(G719+I719+K719,1)","v":217},{"$f":"TRUNC(H719+J719+L719,0)","v":217},""]
["6910003","6904003","강관용접","D25","개소",2,57,{"$f":"TRUNC(F720*G720,1)","v":114},11996,{"$f":"TRUNC(F720*I720,1)","v":23992},239,{"$f":"TRUNC(F720*K720,1)","v":478},{"$f":"TRUNC(G720+I720+K720,1)","v":12292},{"$f":"TRUNC(H720+J720+L720,0)","v":24584},""]
[null,null,"[ 합           계 ]",{"$nulls":4},{"$f":"TRUNC(SUM(H716:H720),0)","v":8013},null,{"$f":"TRUNC(SUM(J716:J720),0)","v":23992},null,{"$f":"TRUNC(SUM(L716:L720),0)","v":478},null,{"$f":"H721+J721+L721","v":32483}]
[]
[null,null,"6910004  용접조후렌지  D32  개소"]
["6910004","5115004","후렌지 (10KG) SS41","D32","EA",2,4300,{"$f":"TRUNC(F724*G724,1)","v":8600},0,{"$f":"TRUNC(F724*I724,1)","v":0},0,{"$f":"TRUNC(F724*K724,1)","v":0},{"$f":"TRUNC(G724+I724+K724,1)","v":4300},{"$f":"TRUNC(H724+J724+L724,0)","v":8600},""]
["6910004","0501572","볼트너트","M12x60","EA",4,162.9,{"$f":"TRUNC(F725*G725,1)","v":651.6},0,{"$f":"TRUNC(F725*I725,1)","v":0},0,{"$f":"TRUNC(F725*K725,1)","v":0},{"$f":"TRUNC(G725+I725+K725,1)","v":162.9},{"$f":"TRUNC(H725+J725+L725,0)","v":651},""]
["6910004","0513004","와샤","M12","개",8,16.3,{"$f":"TRUNC(F726*G726,1)","v":130.4},0,{"$f":"TRUNC(F726*I726,1)","v":0},0,{"$f":"TRUNC(F726*K726,1)","v":0},{"$f":"TRUNC(G726+I726+K726,1)","v":16.3},{"$f":"TRUNC(H726+J726+L726,0)","v":130},""]
["6910004","6199004","후렌지패킹","3.2MMxD32","EA",1,279,{"$f":"TRUNC(F727*G727,1)","v":279},0,{"$f":"TRUNC(F727*I727,1)","v":0},0,{"$f":"TRUNC(F727*K727,1)","v":0},{"$f":"TRUNC(G727+I727+K727,1)","v":279},{"$f":"TRUNC(H727+J727+L727,0)","v":279},""]
["6910004","6904004","강관용접","D32","개소",2,85,{"$f":"TRUNC(F728*G728,1)","v":170},14303,{"$f":"TRUNC(F728*I728,1)","v":28606},286,{"$f":"TRUNC(F728*K728,1)","v":572},{"$f":"TRUNC(G728+I728+K728,1)","v":14674},{"$f":"TRUNC(H728+J728+L728,0)","v":29348},""]
[null,null,"[ 합           계 ]",{"$nulls":4},{"$f":"TRUNC(SUM(H724:H728),0)","v":9831},null,{"$f":"TRUNC(SUM(J724:J728),0)","v":28606},null,{"$f":"TRUNC(SUM(L724:L728),0)","v":572},null,{"$f":"H729+J729+L729","v":39009}]
[]
[null,null,"6910005  용접조후렌지  D40  개소"]
["6910005","5115005","후렌지 (10KG) SS41","D40","EA",2,4730,{"$f":"TRUNC(F732*G732,1)","v":9460},0,{"$f":"TRUNC(F732*I732,1)","v":0},0,{"$f":"TRUNC(F732*K732,1)","v":0},{"$f":"TRUNC(G732+I732+K732,1)","v":4730},{"$f":"TRUNC(H732+J732+L732,0)","v":9460},""]
["6910005","0501572","볼트너트","M12x60","EA",4,162.9,{"$f":"TRUNC(F733*G733,1)","v":651.6},0,{"$f":"TRUNC(F733*I733,1)","v":0},0,{"$f":"TRUNC(F733*K733,1)","v":0},{"$f":"TRUNC(G733+I733+K733,1)","v":162.9},{"$f":"TRUNC(H733+J733+L733,0)","v":651},""]
["6910005","0513004","와샤","M12","개",8,16.3,{"$f":"TRUNC(F734*G734,1)","v":130.4},0,{"$f":"TRUNC(F734*I734,1)","v":0},0,{"$f":"TRUNC(F734*K734,1)","v":0},{"$f":"TRUNC(G734+I734+K734,1)","v":16.3},{"$f":"TRUNC(H734+J734+L734,0)","v":130},""]
["6910005","6199005","후렌지패킹","3.2MMxD40","EA",1,323,{"$f":"TRUNC(F735*G735,1)","v":323},0,{"$f":"TRUNC(F735*I735,1)","v":0},0,{"$f":"TRUNC(F735*K735,1)","v":0},{"$f":"TRUNC(G735+I735+K735,1)","v":323},{"$f":"TRUNC(H735+J735+L735,0)","v":323},""]
["6910005","6904005","강관용접","D40","개소",2,111,{"$f":"TRUNC(F736*G736,1)","v":222},16149,{"$f":"TRUNC(F736*I736,1)","v":32298},322,{"$f":"TRUNC(F736*K736,1)","v":644},{"$f":"TRUNC(G736+I736+K736,1)","v":16582},{"$f":"TRUNC(H736+J736+L736,0)","v":33164},""]
[null,null,"[ 합           계 ]",{"$nulls":4},{"$f":"TRUNC(SUM(H732:H736),0)","v":10787},null,{"$f":"TRUNC(SUM(J732:J736),0)","v":32298},null,{"$f":"TRUNC(SUM(L732:L736),0)","v":644},null,{"$f":"H737+J737+L737","v":43729}]
[]
[null,null,"6910006  용접조후렌지  D50  개소"]
["6910006","5115006","후렌지 (10KG) SS41","D50","EA",2,5130,{"$f":"TRUNC(F740*G740,1)","v":10260},0,{"$f":"TRUNC(F740*I740,1)","v":0},0,{"$f":"TRUNC(F740*K740,1)","v":0},{"$f":"TRUNC(G740+I740+K740,1)","v":5130},{"$f":"TRUNC(H740+J740+L740,0)","v":10260},""]
["6910006","0501572","볼트너트","M12x60","EA",4,162.9,{"$f":"TRUNC(F741*G741,1)","v":651.6},0,{"$f":"TRUNC(F741*I741,1)","v":0},0,{"$f":"TRUNC(F741*K741,1)","v":0},{"$f":"TRUNC(G741+I741+K741,1)","v":162.9},{"$f":"TRUNC(H741+J741+L741,0)","v":651},""]
["6910006","0513004","와샤","M12","개",8,16.3,{"$f":"TRUNC(F742*G742,1)","v":130.4},0,{"$f":"TRUNC(F742*I742,1)","v":0},0,{"$f":"TRUNC(F742*K742,1)","v":0},{"$f":"TRUNC(G742+I742+K742,1)","v":16.3},{"$f":"TRUNC(H742+J742+L742,0)","v":130},""]
["6910006","6199006","후렌지패킹","3.2MMxD50","EA",1,436,{"$f":"TRUNC(F743*G743,1)","v":436},0,{"$f":"TRUNC(F743*I743,1)","v":0},0,{"$f":"TRUNC(F743*K743,1)","v":0},{"$f":"TRUNC(G743+I743+K743,1)","v":436},{"$f":"TRUNC(H743+J743+L743,0)","v":436},""]
["6910006","6904006","강관용접","D50","개소",2,151,{"$f":"TRUNC(F744*G744,1)","v":302},19610,{"$f":"TRUNC(F744*I744,1)","v":39220},392,{"$f":"TRUNC(F744*K744,1)","v":784},{"$f":"TRUNC(G744+I744+K744,1)","v":20153},{"$f":"TRUNC(H744+J744+L744,0)","v":40306},""]
[null,null,"[ 합           계 ]",{"$nulls":4},{"$f":"TRUNC(SUM(H740:H744),0)","v":11780},null,{"$f":"TRUNC(SUM(J740:J744),0)","v":39220},null,{"$f":"TRUNC(SUM(L740:L744),0)","v":784},null,{"$f":"H745+J745+L745","v":51784}]
[]
[null,null,"6910007  용접조후렌지  D65  개소"]
["6910007","5115007","후렌지 (10KG) SS41","D65","EA",2,7110,{"$f":"TRUNC(F748*G748,1)","v":14220},0,{"$f":"TRUNC(F748*I748,1)","v":0},0,{"$f":"TRUNC(F748*K748,1)","v":0},{"$f":"TRUNC(G748+I748+K748,1)","v":7110},{"$f":"TRUNC(H748+J748+L748,0)","v":14220},""]
["6910007","0501572","볼트너트","M12x60","EA",4,162.9,{"$f":"TRUNC(F749*G749,1)","v":651.6},0,{"$f":"TRUNC(F749*I749,1)","v":0},0,{"$f":"TRUNC(F749*K749,1)","v":0},{"$f":"TRUNC(G749+I749+K749,1)","v":162.9},{"$f":"TRUNC(H749+J749+L749,0)","v":651},""]
["6910007","0513004","와샤","M12","개",8,16.3,{"$f":"TRUNC(F750*G750,1)","v":130.4},0,{"$f":"TRUNC(F750*I750,1)","v":0},0,{"$f":"TRUNC(F750*K750,1)","v":0},{"$f":"TRUNC(G750+I750+K750,1)","v":16.3},{"$f":"TRUNC(H750+J750+L750,0)","v":130},""]
["6910007","6199007","후렌지패킹","3.2MMxD65","EA",1,525,{"$f":"TRUNC(F751*G751,1)","v":525},0,{"$f":"TRUNC(F751*I751,1)","v":0},0,{"$f":"TRUNC(F751*K751,1)","v":0},{"$f":"TRUNC(G751+I751+K751,1)","v":525},{"$f":"TRUNC(H751+J751+L751,0)","v":525},""]
["6910007","6904007","강관용접","D65","개소",2,440,{"$f":"TRUNC(F752*G752,1)","v":880},24224,{"$f":"TRUNC(F752*I752,1)","v":48448},484,{"$f":"TRUNC(F752*K752,1)","v":968},{"$f":"TRUNC(G752+I752+K752,1)","v":25148},{"$f":"TRUNC(H752+J752+L752,0)","v":50296},""]
[null,null,"[ 합           계 ]",{"$nulls":4},{"$f":"TRUNC(SUM(H748:H752),0)","v":16407},null,{"$f":"TRUNC(SUM(J748:J752),0)","v":48448},null,{"$f":"TRUNC(SUM(L748:L752),0)","v":968},null,{"$f":"H753+J753+L753","v":65823}]
[]
[null,null,"6910008  용접조후렌지  D80  개소"]
["6910008","5115008","후렌지 (10KG) SS41","D80","EA",2,7320,{"$f":"TRUNC(F756*G756,1)","v":14640},0,{"$f":"TRUNC(F756*I756,1)","v":0},0,{"$f":"TRUNC(F756*K756,1)","v":0},{"$f":"TRUNC(G756+I756+K756,1)","v":7320},{"$f":"TRUNC(H756+J756+L756,0)","v":14640},""]
["6910008","0501573","볼트너트","M12x70","EA",8,178.94,{"$f":"TRUNC(F757*G757,1)","v":1431.5},0,{"$f":"TRUNC(F757*I757,1)","v":0},0,{"$f":"TRUNC(F757*K757,1)","v":0},{"$f":"TRUNC(G757+I757+K757,1)","v":178.9},{"$f":"TRUNC(H757+J757+L757,0)","v":1431},""]
["6910008","0513004","와샤","M12","개",16,16.3,{"$f":"TRUNC(F758*G758,1)","v":260.8},0,{"$f":"TRUNC(F758*I758,1)","v":0},0,{"$f":"TRUNC(F758*K758,1)","v":0},{"$f":"TRUNC(G758+I758+K758,1)","v":16.3},{"$f":"TRUNC(H758+J758+L758,0)","v":260},""]
["6910008","6199008","후렌지패킹","3.2MMxD80","EA",1,812,{"$f":"TRUNC(F759*G759,1)","v":812},0,{"$f":"TRUNC(F759*I759,1)","v":0},0,{"$f":"TRUNC(F759*K759,1)","v":0},{"$f":"TRUNC(G759+I759+K759,1)","v":812},{"$f":"TRUNC(H759+J759+L759,0)","v":812},""]
["6910008","6904008","강관용접","D80","개소",2,569,{"$f":"TRUNC(F760*G760,1)","v":1138},27915,{"$f":"TRUNC(F760*I760,1)","v":55830},558,{"$f":"TRUNC(F760*K760,1)","v":1116},{"$f":"TRUNC(G760+I760+K760,1)","v":29042},{"$f":"TRUNC(H760+J760+L760,0)","v":58084},""]
[null,null,"[ 합           계 ]",{"$nulls":4},{"$f":"TRUNC(SUM(H756:H760),0)","v":18282},null,{"$f":"TRUNC(SUM(J756:J760),0)","v":55830},null,{"$f":"TRUNC(SUM(L756:L760),0)","v":1116},null,{"$f":"H761+J761+L761","v":75228}]
[]
[null,null,"6910009  용접조후렌지  D100  개소"]
["6910009","5115009","후렌지 (10KG) SS41","D100","EA",2,8190,{"$f":"TRUNC(F764*G764,1)","v":16380},0,{"$f":"TRUNC(F764*I764,1)","v":0},0,{"$f":"TRUNC(F764*K764,1)","v":0},{"$f":"TRUNC(G764+I764+K764,1)","v":8190},{"$f":"TRUNC(H764+J764+L764,0)","v":16380},""]
["6910009","0501573","볼트너트","M12x70","EA",8,178.94,{"$f":"TRUNC(F765*G765,1)","v":1431.5},0,{"$f":"TRUNC(F765*I765,1)","v":0},0,{"$f":"TRUNC(F765*K765,1)","v":0},{"$f":"TRUNC(G765+I765+K765,1)","v":178.9},{"$f":"TRUNC(H765+J765+L765,0)","v":1431},""]
["6910009","0513004","와샤","M12","개",16,16.3,{"$f":"TRUNC(F766*G766,1)","v":260.8},0,{"$f":"TRUNC(F766*I766,1)","v":0},0,{"$f":"TRUNC(F766*K766,1)","v":0},{"$f":"TRUNC(G766+I766+K766,1)","v":16.3},{"$f":"TRUNC(H766+J766+L766,0)","v":260},""]
["6910009","6199009","후렌지패킹","3.2MMxD100","EA",1,1341,{"$f":"TRUNC(F767*G767,1)","v":1341},0,{"$f":"TRUNC(F767*I767,1)","v":0},0,{"$f":"TRUNC(F767*K767,1)","v":0},{"$f":"TRUNC(G767+I767+K767,1)","v":1341},{"$f":"TRUNC(H767+J767+L767,0)","v":1341},""]
["6910009","6904009","강관용접","D100","개소",2,833,{"$f":"TRUNC(F768*G768,1)","v":1666},35067,{"$f":"TRUNC(F768*I768,1)","v":70134},701,{"$f":"TRUNC(F768*K768,1)","v":1402},{"$f":"TRUNC(G768+I768+K768,1)","v":36601},{"$f":"TRUNC(H768+J768+L768,0)","v":73202},""]
[null,null,"[ 합           계 ]",{"$nulls":4},{"$f":"TRUNC(SUM(H764:H768),0)","v":21079},null,{"$f":"TRUNC(SUM(J764:J768),0)","v":70134},null,{"$f":"TRUNC(SUM(L764:L768),0)","v":1402},null,{"$f":"H769+J769+L769","v":92615}]
[]
[null,null,"6910010  용접조후렌지  D125  개소"]
["6910010","5115010","후렌지 (10KG) SS41","D125","EA",2,12340,{"$f":"TRUNC(F772*G772,1)","v":24680},0,{"$f":"TRUNC(F772*I772,1)","v":0},0,{"$f":"TRUNC(F772*K772,1)","v":0},{"$f":"TRUNC(G772+I772+K772,1)","v":12340},{"$f":"TRUNC(H772+J772+L772,0)","v":24680},""]
["6910010","0501619","볼트너트","M16x80","EA",8,352.5,{"$f":"TRUNC(F773*G773,1)","v":2820},0,{"$f":"TRUNC(F773*I773,1)","v":0},0,{"$f":"TRUNC(F773*K773,1)","v":0},{"$f":"TRUNC(G773+I773+K773,1)","v":352.5},{"$f":"TRUNC(H773+J773+L773,0)","v":2820},""]
["6910010","0513006","와샤","M16","개",16,27.3,{"$f":"TRUNC(F774*G774,1)","v":436.8},0,{"$f":"TRUNC(F774*I774,1)","v":0},0,{"$f":"TRUNC(F774*K774,1)","v":0},{"$f":"TRUNC(G774+I774+K774,1)","v":27.3},{"$f":"TRUNC(H774+J774+L774,0)","v":436},""]
["6910010","6199010","후렌지패킹","3.2MMxD125","EA",1,1795,{"$f":"TRUNC(F775*G775,1)","v":1795},0,{"$f":"TRUNC(F775*I775,1)","v":0},0,{"$f":"TRUNC(F775*K775,1)","v":0},{"$f":"TRUNC(G775+I775+K775,1)","v":1795},{"$f":"TRUNC(H775+J775+L775,0)","v":1795},""]
["6910010","6904010","강관용접","D125","개소",2,1183,{"$f":"TRUNC(F776*G776,1)","v":2366},42449,{"$f":"TRUNC(F776*I776,1)","v":84898},848,{"$f":"TRUNC(F776*K776,1)","v":1696},{"$f":"TRUNC(G776+I776+K776,1)","v":44480},{"$f":"TRUNC(H776+J776+L776,0)","v":88960},""]
[null,null,"[ 합           계 ]",{"$nulls":4},{"$f":"TRUNC(SUM(H772:H776),0)","v":32097},null,{"$f":"TRUNC(SUM(J772:J776),0)","v":84898},null,{"$f":"TRUNC(SUM(L772:L776),0)","v":1696},null,{"$f":"H777+J777+L777","v":118691}]
[]
[null,null,"6910011  용접조후렌지  D150  개소"]
["6910011","5115011","후렌지 (10KG) SS41","D150","EA",2,16440,{"$f":"TRUNC(F780*G780,1)","v":32880},0,{"$f":"TRUNC(F780*I780,1)","v":0},0,{"$f":"TRUNC(F780*K780,1)","v":0},{"$f":"TRUNC(G780+I780+K780,1)","v":16440},{"$f":"TRUNC(H780+J780+L780,0)","v":32880},""]
["6910011","0501619","볼트너트","M16x80","EA",8,352.5,{"$f":"TRUNC(F781*G781,1)","v":2820},0,{"$f":"TRUNC(F781*I781,1)","v":0},0,{"$f":"TRUNC(F781*K781,1)","v":0},{"$f":"TRUNC(G781+I781+K781,1)","v":352.5},{"$f":"TRUNC(H781+J781+L781,0)","v":2820},""]
["6910011","0513006","와샤","M16","개",16,27.3,{"$f":"TRUNC(F782*G782,1)","v":436.8},0,{"$f":"TRUNC(F782*I782,1)","v":0},0,{"$f":"TRUNC(F782*K782,1)","v":0},{"$f":"TRUNC(G782+I782+K782,1)","v":27.3},{"$f":"TRUNC(H782+J782+L782,0)","v":436},""]
["6910011","6199011","후렌지패킹","3.2MMxD150","EA",1,2173,{"$f":"TRUNC(F783*G783,1)","v":2173},0,{"$f":"TRUNC(F783*I783,1)","v":0},0,{"$f":"TRUNC(F783*K783,1)","v":0},{"$f":"TRUNC(G783+I783+K783,1)","v":2173},{"$f":"TRUNC(H783+J783+L783,0)","v":2173},""]
["6910011","6904011","강관용접","D150","개소",2,1589,{"$f":"TRUNC(F784*G784,1)","v":3178},49832,{"$f":"TRUNC(F784*I784,1)","v":99664},996,{"$f":"TRUNC(F784*K784,1)","v":1992},{"$f":"TRUNC(G784+I784+K784,1)","v":52417},{"$f":"TRUNC(H784+J784+L784,0)","v":104834},""]
[null,null,"[ 합           계 ]",{"$nulls":4},{"$f":"TRUNC(SUM(H780:H784),0)","v":41487},null,{"$f":"TRUNC(SUM(J780:J784),0)","v":99664},null,{"$f":"TRUNC(SUM(L780:L784),0)","v":1992},null,{"$f":"H785+J785+L785","v":143143}]
[]
[null,null,"6910012  용접조후렌지  D200  개소"]
["6910012","5115012","후렌지 (10KG) SS41","D200","EA",2,19460,{"$f":"TRUNC(F788*G788,1)","v":38920},0,{"$f":"TRUNC(F788*I788,1)","v":0},0,{"$f":"TRUNC(F788*K788,1)","v":0},{"$f":"TRUNC(G788+I788+K788,1)","v":19460},{"$f":"TRUNC(H788+J788+L788,0)","v":38920},""]
["6910012","0501619","볼트너트","M16x80","EA",12,352.5,{"$f":"TRUNC(F789*G789,1)","v":4230},0,{"$f":"TRUNC(F789*I789,1)","v":0},0,{"$f":"TRUNC(F789*K789,1)","v":0},{"$f":"TRUNC(G789+I789+K789,1)","v":352.5},{"$f":"TRUNC(H789+J789+L789,0)","v":4230},""]
["6910012","0513006","와샤","M16","개",24,27.3,{"$f":"TRUNC(F790*G790,1)","v":655.20000000000005},0,{"$f":"TRUNC(F790*I790,1)","v":0},0,{"$f":"TRUNC(F790*K790,1)","v":0},{"$f":"TRUNC(G790+I790+K790,1)","v":27.3},{"$f":"TRUNC(H790+J790+L790,0)","v":655},""]
["6910012","6199012","후렌지패킹","3.2MMxD200","EA",1,2702,{"$f":"TRUNC(F791*G791,1)","v":2702},0,{"$f":"TRUNC(F791*I791,1)","v":0},0,{"$f":"TRUNC(F791*K791,1)","v":0},{"$f":"TRUNC(G791+I791+K791,1)","v":2702},{"$f":"TRUNC(H791+J791+L791,0)","v":2702},""]
["6910012","6904012","강관용접","D200","개소",2,1808,{"$f":"TRUNC(F792*G792,1)","v":3616},64828,{"$f":"TRUNC(F792*I792,1)","v":129656},1296,{"$f":"TRUNC(F792*K792,1)","v":2592},{"$f":"TRUNC(G792+I792+K792,1)","v":67932},{"$f":"TRUNC(H792+J792+L792,0)","v":135864},""]
[null,null,"[ 합           계 ]",{"$nulls":4},{"$f":"TRUNC(SUM(H788:H792),0)","v":50123},null,{"$f":"TRUNC(SUM(J788:J792),0)","v":129656},null,{"$f":"TRUNC(SUM(L788:L792),0)","v":2592},null,{"$f":"H793+J793+L793","v":182371}]
[]
[null,null,"6910013  용접조후렌지  D250  개소"]
["6910013","5115013","후렌지 (10KG) SS41","D250","EA",2,30090,{"$f":"TRUNC(F796*G796,1)","v":60180},0,{"$f":"TRUNC(F796*I796,1)","v":0},0,{"$f":"TRUNC(F796*K796,1)","v":0},{"$f":"TRUNC(G796+I796+K796,1)","v":30090},{"$f":"TRUNC(H796+J796+L796,0)","v":60180},""]
["6910013","0501671","볼트너트","M20x100","EA",12,693.3,{"$f":"TRUNC(F797*G797,1)","v":8319.6},0,{"$f":"TRUNC(F797*I797,1)","v":0},0,{"$f":"TRUNC(F797*K797,1)","v":0},{"$f":"TRUNC(G797+I797+K797,1)","v":693.3},{"$f":"TRUNC(H797+J797+L797,0)","v":8319},""]
["6910013","0513008","와샤","M20","개",24,39.299999999999997,{"$f":"TRUNC(F798*G798,1)","v":943.2},0,{"$f":"TRUNC(F798*I798,1)","v":0},0,{"$f":"TRUNC(F798*K798,1)","v":0},{"$f":"TRUNC(G798+I798+K798,1)","v":39.299999999999997},{"$f":"TRUNC(H798+J798+L798,0)","v":943},""]
["6910013","6199013","후렌지패킹","3.2MMxD250","EA",1,3657,{"$f":"TRUNC(F799*G799,1)","v":3657},0,{"$f":"TRUNC(F799*I799,1)","v":0},0,{"$f":"TRUNC(F799*K799,1)","v":0},{"$f":"TRUNC(G799+I799+K799,1)","v":3657},{"$f":"TRUNC(H799+J799+L799,0)","v":3657},""]
["6910013","6904013","강관용접","D250","개소",2,2321,{"$f":"TRUNC(F800*G800,1)","v":4642},79593,{"$f":"TRUNC(F800*I800,1)","v":159186},1591,{"$f":"TRUNC(F800*K800,1)","v":3182},{"$f":"TRUNC(G800+I800+K800,1)","v":83505},{"$f":"TRUNC(H800+J800+L800,0)","v":167010},""]
[null,null,"[ 합           계 ]",{"$nulls":4},{"$f":"TRUNC(SUM(H796:H800),0)","v":77741},null,{"$f":"TRUNC(SUM(J796:J800),0)","v":159186},null,{"$f":"TRUNC(SUM(L796:L800),0)","v":3182},null,{"$f":"H801+J801+L801","v":240109}]
[]
[null,null,"6910014  용접조후렌지  D300  개소"]
["6910014","5115014","후렌지 (10KG) SS41","D300","EA",2,32120,{"$f":"TRUNC(F804*G804,1)","v":64240},0,{"$f":"TRUNC(F804*I804,1)","v":0},0,{"$f":"TRUNC(F804*K804,1)","v":0},{"$f":"TRUNC(G804+I804+K804,1)","v":32120},{"$f":"TRUNC(H804+J804+L804,0)","v":64240},""]
["6910014","0501671","볼트너트","M20x100","EA",16,693.3,{"$f":"TRUNC(F805*G805,1)","v":11092.8},0,{"$f":"TRUNC(F805*I805,1)","v":0},0,{"$f":"TRUNC(F805*K805,1)","v":0},{"$f":"TRUNC(G805+I805+K805,1)","v":693.3},{"$f":"TRUNC(H805+J805+L805,0)","v":11092},""]
["6910014","0513008","와샤","M20","개",32,39.299999999999997,{"$f":"TRUNC(F806*G806,1)","v":1257.5999999999999},0,{"$f":"TRUNC(F806*I806,1)","v":0},0,{"$f":"TRUNC(F806*K806,1)","v":0},{"$f":"TRUNC(G806+I806+K806,1)","v":39.299999999999997},{"$f":"TRUNC(H806+J806+L806,0)","v":1257},""]
["6910014","6199014","후렌지패킹","3.2MMxD300","EA",1,4082,{"$f":"TRUNC(F807*G807,1)","v":4082},0,{"$f":"TRUNC(F807*I807,1)","v":0},0,{"$f":"TRUNC(F807*K807,1)","v":0},{"$f":"TRUNC(G807+I807+K807,1)","v":4082},{"$f":"TRUNC(H807+J807+L807,0)","v":4082},""]
["6910014","6904014","강관용접","D300","개소",2,2792,{"$f":"TRUNC(F808*G808,1)","v":5584},94358,{"$f":"TRUNC(F808*I808,1)","v":188716},1887,{"$f":"TRUNC(F808*K808,1)","v":3774},{"$f":"TRUNC(G808+I808+K808,1)","v":99037},{"$f":"TRUNC(H808+J808+L808,0)","v":198074},""]
[null,null,"[ 합           계 ]",{"$nulls":4},{"$f":"TRUNC(SUM(H804:H808),0)","v":86256},null,{"$f":"TRUNC(SUM(J804:J808),0)","v":188716},null,{"$f":"TRUNC(SUM(L804:L808),0)","v":3774},null,{"$f":"H809+J809+L809","v":278746}]
[]
[null,null,"6911001  동절연합후렌지접합  D15  개소"]
["6911001","5115235","동절연후렌지 (10KG)","D15","EA",1,6529,{"$f":"TRUNC(F812*G812,1)","v":6529},0,{"$f":"TRUNC(F812*I812,1)","v":0},0,{"$f":"TRUNC(F812*K812,1)","v":0},{"$f":"TRUNC(G812+I812+K812,1)","v":6529},{"$f":"TRUNC(H812+J812+L812,0)","v":6529},""]
["6911001","0501545","볼트너트","M10x50","EA",4,102.7,{"$f":"TRUNC(F813*G813,1)","v":410.8},0,{"$f":"TRUNC(F813*I813,1)","v":0},0,{"$f":"TRUNC(F813*K813,1)","v":0},{"$f":"TRUNC(G813+I813+K813,1)","v":102.7},{"$f":"TRUNC(H813+J813+L813,0)","v":410},""]
["6911001","0513003","와샤","M10","개",8,9.4,{"$f":"TRUNC(F814*G814,1)","v":75.2},0,{"$f":"TRUNC(F814*I814,1)","v":0},0,{"$f":"TRUNC(F814*K814,1)","v":0},{"$f":"TRUNC(G814+I814+K814,1)","v":9.4},{"$f":"TRUNC(H814+J814+L814,0)","v":75},""]
["6911001","6199001","후렌지패킹","3.2MMxD15","EA",1,142,{"$f":"TRUNC(F815*G815,1)","v":142},0,{"$f":"TRUNC(F815*I815,1)","v":0},0,{"$f":"TRUNC(F815*K815,1)","v":0},{"$f":"TRUNC(G815+I815+K815,1)","v":142},{"$f":"TRUNC(H815+J815+L815,0)","v":142},""]
["6911001","6905001","동관용접","D15","개소",1,193,{"$f":"TRUNC(F816*G816,1)","v":193},5075,{"$f":"TRUNC(F816*I816,1)","v":5075},101,{"$f":"TRUNC(F816*K816,1)","v":101},{"$f":"TRUNC(G816+I816+K816,1)","v":5369},{"$f":"TRUNC(H816+J816+L816,0)","v":5369},""]
[null,null,"[ 합           계 ]",{"$nulls":4},{"$f":"TRUNC(SUM(H812:H816),0)","v":7350},null,{"$f":"TRUNC(SUM(J812:J816),0)","v":5075},null,{"$f":"TRUNC(SUM(L812:L816),0)","v":101},null,{"$f":"H817+J817+L817","v":12526}]
[]
[null,null,"6911002  동절연합후렌지접합  D20  개소"]
["6911002","5115236","동절연후렌지 (10KG)","D20","EA",1,7294,{"$f":"TRUNC(F820*G820,1)","v":7294},0,{"$f":"TRUNC(F820*I820,1)","v":0},0,{"$f":"TRUNC(F820*K820,1)","v":0},{"$f":"TRUNC(G820+I820+K820,1)","v":7294},{"$f":"TRUNC(H820+J820+L820,0)","v":7294},""]
["6911002","0501545","볼트너트","M10x50","EA",4,102.7,{"$f":"TRUNC(F821*G821,1)","v":410.8},0,{"$f":"TRUNC(F821*I821,1)","v":0},0,{"$f":"TRUNC(F821*K821,1)","v":0},{"$f":"TRUNC(G821+I821+K821,1)","v":102.7},{"$f":"TRUNC(H821+J821+L821,0)","v":410},""]
["6911002","0513003","와샤","M10","개",8,9.4,{"$f":"TRUNC(F822*G822,1)","v":75.2},0,{"$f":"TRUNC(F822*I822,1)","v":0},0,{"$f":"TRUNC(F822*K822,1)","v":0},{"$f":"TRUNC(G822+I822+K822,1)","v":9.4},{"$f":"TRUNC(H822+J822+L822,0)","v":75},""]
["6911002","6199002","후렌지패킹","3.2MMxD20","EA",1,157,{"$f":"TRUNC(F823*G823,1)","v":157},0,{"$f":"TRUNC(F823*I823,1)","v":0},0,{"$f":"TRUNC(F823*K823,1)","v":0},{"$f":"TRUNC(G823+I823+K823,1)","v":157},{"$f":"TRUNC(H823+J823+L823,0)","v":157},""]
["6911002","6905002","동관용접","D20","개소",1,401,{"$f":"TRUNC(F824*G824,1)","v":401},6921,{"$f":"TRUNC(F824*I824,1)","v":6921},138,{"$f":"TRUNC(F824*K824,1)","v":138},{"$f":"TRUNC(G824+I824+K824,1)","v":7460},{"$f":"TRUNC(H824+J824+L824,0)","v":7460},""]
[null,null,"[ 합           계 ]",{"$nulls":4},{"$f":"TRUNC(SUM(H820:H824),0)","v":8338},null,{"$f":"TRUNC(SUM(J820:J824),0)","v":6921},null,{"$f":"TRUNC(SUM(L820:L824),0)","v":138},null,{"$f":"H825+J825+L825","v":15397}]
[]
[null,null,"6911003  동절연합후렌지접합  D25  개소"]
["6911003","5115237","동절연후렌지 (10KG)","D25","EA",1,8622,{"$f":"TRUNC(F828*G828,1)","v":8622},0,{"$f":"TRUNC(F828*I828,1)","v":0},0,{"$f":"TRUNC(F828*K828,1)","v":0},{"$f":"TRUNC(G828+I828+K828,1)","v":8622},{"$f":"TRUNC(H828+J828+L828,0)","v":8622},""]
["6911003","0501572","볼트너트","M12x60","EA",4,162.9,{"$f":"TRUNC(F829*G829,1)","v":651.6},0,{"$f":"TRUNC(F829*I829,1)","v":0},0,{"$f":"TRUNC(F829*K829,1)","v":0},{"$f":"TRUNC(G829+I829+K829,1)","v":162.9},{"$f":"TRUNC(H829+J829+L829,0)","v":651},""]
["6911003","0513004","와샤","M12","개",8,16.3,{"$f":"TRUNC(F830*G830,1)","v":130.4},0,{"$f":"TRUNC(F830*I830,1)","v":0},0,{"$f":"TRUNC(F830*K830,1)","v":0},{"$f":"TRUNC(G830+I830+K830,1)","v":16.3},{"$f":"TRUNC(H830+J830+L830,0)","v":130},""]
["6911003","6199003","후렌지패킹","3.2MMxD25","EA",1,217,{"$f":"TRUNC(F831*G831,1)","v":217},0,{"$f":"TRUNC(F831*I831,1)","v":0},0,{"$f":"TRUNC(F831*K831,1)","v":0},{"$f":"TRUNC(G831+I831+K831,1)","v":217},{"$f":"TRUNC(H831+J831+L831,0)","v":217},""]
["6911003","6905003","동관용접","D25","개소",1,562,{"$f":"TRUNC(F832*G832,1)","v":562},8766,{"$f":"TRUNC(F832*I832,1)","v":8766},175,{"$f":"TRUNC(F832*K832,1)","v":175},{"$f":"TRUNC(G832+I832+K832,1)","v":9503},{"$f":"TRUNC(H832+J832+L832,0)","v":9503},""]
[null,null,"[ 합           계 ]",{"$nulls":4},{"$f":"TRUNC(SUM(H828:H832),0)","v":10183},null,{"$f":"TRUNC(SUM(J828:J832),0)","v":8766},null,{"$f":"TRUNC(SUM(L828:L832),0)","v":175},null,{"$f":"H833+J833+L833","v":19124}]
[]
[null,null,"6911004  동절연합후렌지접합  D32  개소"]
["6911004","5115238","동절연후렌지 (10KG)","D32","EA",1,12915,{"$f":"TRUNC(F836*G836,1)","v":12915},0,{"$f":"TRUNC(F836*I836,1)","v":0},0,{"$f":"TRUNC(F836*K836,1)","v":0},{"$f":"TRUNC(G836+I836+K836,1)","v":12915},{"$f":"TRUNC(H836+J836+L836,0)","v":12915},""]
["6911004","0501572","볼트너트","M12x60","EA",4,162.9,{"$f":"TRUNC(F837*G837,1)","v":651.6},0,{"$f":"TRUNC(F837*I837,1)","v":0},0,{"$f":"TRUNC(F837*K837,1)","v":0},{"$f":"TRUNC(G837+I837+K837,1)","v":162.9},{"$f":"TRUNC(H837+J837+L837,0)","v":651},""]
["6911004","0513004","와샤","M12","개",8,16.3,{"$f":"TRUNC(F838*G838,1)","v":130.4},0,{"$f":"TRUNC(F838*I838,1)","v":0},0,{"$f":"TRUNC(F838*K838,1)","v":0},{"$f":"TRUNC(G838+I838+K838,1)","v":16.3},{"$f":"TRUNC(H838+J838+L838,0)","v":130},""]
["6911004","6199004","후렌지패킹","3.2MMxD32","EA",1,279,{"$f":"TRUNC(F839*G839,1)","v":279},0,{"$f":"TRUNC(F839*I839,1)","v":0},0,{"$f":"TRUNC(F839*K839,1)","v":0},{"$f":"TRUNC(G839+I839+K839,1)","v":279},{"$f":"TRUNC(H839+J839+L839,0)","v":279},""]
["6911004","6905004","동관용접","D32","개소",1,761,{"$f":"TRUNC(F840*G840,1)","v":761},10381,{"$f":"TRUNC(F840*I840,1)","v":10381},207,{"$f":"TRUNC(F840*K840,1)","v":207},{"$f":"TRUNC(G840+I840+K840,1)","v":11349},{"$f":"TRUNC(H840+J840+L840,0)","v":11349},""]
[null,null,"[ 합           계 ]",{"$nulls":4},{"$f":"TRUNC(SUM(H836:H840),0)","v":14737},null,{"$f":"TRUNC(SUM(J836:J840),0)","v":10381},null,{"$f":"TRUNC(SUM(L836:L840),0)","v":207},null,{"$f":"H841+J841+L841","v":25325}]
[]
[null,null,"6911005  동절연합후렌지접합  D40  개소"]
["6911005","5115239","동절연후렌지 (10KG)","D40","EA",1,14973,{"$f":"TRUNC(F844*G844,1)","v":14973},0,{"$f":"TRUNC(F844*I844,1)","v":0},0,{"$f":"TRUNC(F844*K844,1)","v":0},{"$f":"TRUNC(G844+I844+K844,1)","v":14973},{"$f":"TRUNC(H844+J844+L844,0)","v":14973},""]
["6911005","0501572","볼트너트","M12x60","EA",4,162.9,{"$f":"TRUNC(F845*G845,1)","v":651.6},0,{"$f":"TRUNC(F845*I845,1)","v":0},0,{"$f":"TRUNC(F845*K845,1)","v":0},{"$f":"TRUNC(G845+I845+K845,1)","v":162.9},{"$f":"TRUNC(H845+J845+L845,0)","v":651},""]
["6911005","0513004","와샤","M12","개",8,16.3,{"$f":"TRUNC(F846*G846,1)","v":130.4},0,{"$f":"TRUNC(F846*I846,1)","v":0},0,{"$f":"TRUNC(F846*K846,1)","v":0},{"$f":"TRUNC(G846+I846+K846,1)","v":16.3},{"$f":"TRUNC(H846+J846+L846,0)","v":130},""]
["6911005","6199005","후렌지패킹","3.2MMxD40","EA",1,323,{"$f":"TRUNC(F847*G847,1)","v":323},0,{"$f":"TRUNC(F847*I847,1)","v":0},0,{"$f":"TRUNC(F847*K847,1)","v":0},{"$f":"TRUNC(G847+I847+K847,1)","v":323},{"$f":"TRUNC(H847+J847+L847,0)","v":323},""]
["6911005","6905005","동관용접","D40","개소",1,998,{"$f":"TRUNC(F848*G848,1)","v":998},12227,{"$f":"TRUNC(F848*I848,1)","v":12227},244,{"$f":"TRUNC(F848*K848,1)","v":244},{"$f":"TRUNC(G848+I848+K848,1)","v":13469},{"$f":"TRUNC(H848+J848+L848,0)","v":13469},""]
[null,null,"[ 합           계 ]",{"$nulls":4},{"$f":"TRUNC(SUM(H844:H848),0)","v":17076},null,{"$f":"TRUNC(SUM(J844:J848),0)","v":12227},null,{"$f":"TRUNC(SUM(L844:L848),0)","v":244},null,{"$f":"H849+J849+L849","v":29547}]
[]
[null,null,"6911006  동절연합후렌지접합  D50  개소"]
["6911006","5115240","동절연후렌지 (10KG)","D50","EA",1,19284,{"$f":"TRUNC(F852*G852,1)","v":19284},0,{"$f":"TRUNC(F852*I852,1)","v":0},0,{"$f":"TRUNC(F852*K852,1)","v":0},{"$f":"TRUNC(G852+I852+K852,1)","v":19284},{"$f":"TRUNC(H852+J852+L852,0)","v":19284},""]
["6911006","0501572","볼트너트","M12x60","EA",4,162.9,{"$f":"TRUNC(F853*G853,1)","v":651.6},0,{"$f":"TRUNC(F853*I853,1)","v":0},0,{"$f":"TRUNC(F853*K853,1)","v":0},{"$f":"TRUNC(G853+I853+K853,1)","v":162.9},{"$f":"TRUNC(H853+J853+L853,0)","v":651},""]
["6911006","0513004","와샤","M12","개",8,16.3,{"$f":"TRUNC(F854*G854,1)","v":130.4},0,{"$f":"TRUNC(F854*I854,1)","v":0},0,{"$f":"TRUNC(F854*K854,1)","v":0},{"$f":"TRUNC(G854+I854+K854,1)","v":16.3},{"$f":"TRUNC(H854+J854+L854,0)","v":130},""]
["6911006","6199006","후렌지패킹","3.2MMxD50","EA",1,436,{"$f":"TRUNC(F855*G855,1)","v":436},0,{"$f":"TRUNC(F855*I855,1)","v":0},0,{"$f":"TRUNC(F855*K855,1)","v":0},{"$f":"TRUNC(G855+I855+K855,1)","v":436},{"$f":"TRUNC(H855+J855+L855,0)","v":436},""]
["6911006","6905006","동관용접","D50","개소",1,1474,{"$f":"TRUNC(F856*G856,1)","v":1474},15457,{"$f":"TRUNC(F856*I856,1)","v":15457},309,{"$f":"TRUNC(F856*K856,1)","v":309},{"$f":"TRUNC(G856+I856+K856,1)","v":17240},{"$f":"TRUNC(H856+J856+L856,0)","v":17240},""]
[null,null,"[ 합           계 ]",{"$nulls":4},{"$f":"TRUNC(SUM(H852:H856),0)","v":21976},null,{"$f":"TRUNC(SUM(J852:J856),0)","v":15457},null,{"$f":"TRUNC(SUM(L852:L856),0)","v":309},null,{"$f":"H857+J857+L857","v":37742}]
[]
[null,null,"6911007  동절연합후렌지접합  D65  개소"]
["6911007","5115241","동절연후렌지 (10KG)","D65","EA",1,27189,{"$f":"TRUNC(F860*G860,1)","v":27189},0,{"$f":"TRUNC(F860*I860,1)","v":0},0,{"$f":"TRUNC(F860*K860,1)","v":0},{"$f":"TRUNC(G860+I860+K860,1)","v":27189},{"$f":"TRUNC(H860+J860+L860,0)","v":27189},""]
["6911007","0501572","볼트너트","M12x60","EA",4,162.9,{"$f":"TRUNC(F861*G861,1)","v":651.6},0,{"$f":"TRUNC(F861*I861,1)","v":0},0,{"$f":"TRUNC(F861*K861,1)","v":0},{"$f":"TRUNC(G861+I861+K861,1)","v":162.9},{"$f":"TRUNC(H861+J861+L861,0)","v":651},""]
["6911007","0513004","와샤","M12","개",8,16.3,{"$f":"TRUNC(F862*G862,1)","v":130.4},0,{"$f":"TRUNC(F862*I862,1)","v":0},0,{"$f":"TRUNC(F862*K862,1)","v":0},{"$f":"TRUNC(G862+I862+K862,1)","v":16.3},{"$f":"TRUNC(H862+J862+L862,0)","v":130},""]
["6911007","6199007","후렌지패킹","3.2MMxD65","EA",1,525,{"$f":"TRUNC(F863*G863,1)","v":525},0,{"$f":"TRUNC(F863*I863,1)","v":0},0,{"$f":"TRUNC(F863*K863,1)","v":0},{"$f":"TRUNC(G863+I863+K863,1)","v":525},{"$f":"TRUNC(H863+J863+L863,0)","v":525},""]
["6911007","6905007","동관용접","D65","개소",1,1065,{"$f":"TRUNC(F864*G864,1)","v":1065},20532,{"$f":"TRUNC(F864*I864,1)","v":20532},410,{"$f":"TRUNC(F864*K864,1)","v":410},{"$f":"TRUNC(G864+I864+K864,1)","v":22007},{"$f":"TRUNC(H864+J864+L864,0)","v":22007},""]
[null,null,"[ 합           계 ]",{"$nulls":4},{"$f":"TRUNC(SUM(H860:H864),0)","v":29561},null,{"$f":"TRUNC(SUM(J860:J864),0)","v":20532},null,{"$f":"TRUNC(SUM(L860:L864),0)","v":410},null,{"$f":"H865+J865+L865","v":50503}]
[]
[null,null,"6911008  동절연합후렌지접합  D80  개소"]
["6911008","5115242","동절연후렌지 (10KG)","D80","EA",1,30982,{"$f":"TRUNC(F868*G868,1)","v":30982},0,{"$f":"TRUNC(F868*I868,1)","v":0},0,{"$f":"TRUNC(F868*K868,1)","v":0},{"$f":"TRUNC(G868+I868+K868,1)","v":30982},{"$f":"TRUNC(H868+J868+L868,0)","v":30982},""]
["6911008","0501573","볼트너트","M12x70","EA",8,178.94,{"$f":"TRUNC(F869*G869,1)","v":1431.5},0,{"$f":"TRUNC(F869*I869,1)","v":0},0,{"$f":"TRUNC(F869*K869,1)","v":0},{"$f":"TRUNC(G869+I869+K869,1)","v":178.9},{"$f":"TRUNC(H869+J869+L869,0)","v":1431},""]
["6911008","0513004","와샤","M12","개",16,16.3,{"$f":"TRUNC(F870*G870,1)","v":260.8},0,{"$f":"TRUNC(F870*I870,1)","v":0},0,{"$f":"TRUNC(F870*K870,1)","v":0},{"$f":"TRUNC(G870+I870+K870,1)","v":16.3},{"$f":"TRUNC(H870+J870+L870,0)","v":260},""]
["6911008","6199008","후렌지패킹","3.2MMxD80","EA",1,812,{"$f":"TRUNC(F871*G871,1)","v":812},0,{"$f":"TRUNC(F871*I871,1)","v":0},0,{"$f":"TRUNC(F871*K871,1)","v":0},{"$f":"TRUNC(G871+I871+K871,1)","v":812},{"$f":"TRUNC(H871+J871+L871,0)","v":812},""]
["6911008","6905008","동관용접","D80","개소",1,2691,{"$f":"TRUNC(F872*G872,1)","v":2691},24224,{"$f":"TRUNC(F872*I872,1)","v":24224},484,{"$f":"TRUNC(F872*K872,1)","v":484},{"$f":"TRUNC(G872+I872+K872,1)","v":27399},{"$f":"TRUNC(H872+J872+L872,0)","v":27399},""]
[null,null,"[ 합           계 ]",{"$nulls":4},{"$f":"TRUNC(SUM(H868:H872),0)","v":36177},null,{"$f":"TRUNC(SUM(J868:J872),0)","v":24224},null,{"$f":"TRUNC(SUM(L868:L872),0)","v":484},null,{"$f":"H873+J873+L873","v":60885}]
[]
[null,null,"6911009  동절연합후렌지접합  D100  개소"]
["6911009","5115243","동절연후렌지 (10KG)","D100","EA",1,45323,{"$f":"TRUNC(F876*G876,1)","v":45323},0,{"$f":"TRUNC(F876*I876,1)","v":0},0,{"$f":"TRUNC(F876*K876,1)","v":0},{"$f":"TRUNC(G876+I876+K876,1)","v":45323},{"$f":"TRUNC(H876+J876+L876,0)","v":45323},""]
["6911009","0501573","볼트너트","M12x70","EA",8,178.94,{"$f":"TRUNC(F877*G877,1)","v":1431.5},0,{"$f":"TRUNC(F877*I877,1)","v":0},0,{"$f":"TRUNC(F877*K877,1)","v":0},{"$f":"TRUNC(G877+I877+K877,1)","v":178.9},{"$f":"TRUNC(H877+J877+L877,0)","v":1431},""]
["6911009","0513004","와샤","M12","개",16,16.3,{"$f":"TRUNC(F878*G878,1)","v":260.8},0,{"$f":"TRUNC(F878*I878,1)","v":0},0,{"$f":"TRUNC(F878*K878,1)","v":0},{"$f":"TRUNC(G878+I878+K878,1)","v":16.3},{"$f":"TRUNC(H878+J878+L878,0)","v":260},""]
["6911009","6199009","후렌지패킹","3.2MMxD100","EA",1,1341,{"$f":"TRUNC(F879*G879,1)","v":1341},0,{"$f":"TRUNC(F879*I879,1)","v":0},0,{"$f":"TRUNC(F879*K879,1)","v":0},{"$f":"TRUNC(G879+I879+K879,1)","v":1341},{"$f":"TRUNC(H879+J879+L879,0)","v":1341},""]
["6911009","6905009","동관용접","D100","개소",1,4515,{"$f":"TRUNC(F880*G880,1)","v":4515},31606,{"$f":"TRUNC(F880*I880,1)","v":31606},632,{"$f":"TRUNC(F880*K880,1)","v":632},{"$f":"TRUNC(G880+I880+K880,1)","v":36753},{"$f":"TRUNC(H880+J880+L880,0)","v":36753},""]
[null,null,"[ 합           계 ]",{"$nulls":4},{"$f":"TRUNC(SUM(H876:H880),0)","v":52871},null,{"$f":"TRUNC(SUM(J876:J880),0)","v":31606},null,{"$f":"TRUNC(SUM(L876:L880),0)","v":632},null,{"$f":"H881+J881+L881","v":85109}]
[]
[null,null,"6911010  동절연합후렌지접합  D125  개소"]
["6911010","5115244","동절연후렌지 (10KG)","D125","EA",1,56664,{"$f":"TRUNC(F884*G884,1)","v":56664},0,{"$f":"TRUNC(F884*I884,1)","v":0},0,{"$f":"TRUNC(F884*K884,1)","v":0},{"$f":"TRUNC(G884+I884+K884,1)","v":56664},{"$f":"TRUNC(H884+J884+L884,0)","v":56664},""]
["6911010","0501619","볼트너트","M16x80","EA",8,352.5,{"$f":"TRUNC(F885*G885,1)","v":2820},0,{"$f":"TRUNC(F885*I885,1)","v":0},0,{"$f":"TRUNC(F885*K885,1)","v":0},{"$f":"TRUNC(G885+I885+K885,1)","v":352.5},{"$f":"TRUNC(H885+J885+L885,0)","v":2820},""]
["6911010","0513006","와샤","M16","개",16,27.3,{"$f":"TRUNC(F886*G886,1)","v":436.8},0,{"$f":"TRUNC(F886*I886,1)","v":0},0,{"$f":"TRUNC(F886*K886,1)","v":0},{"$f":"TRUNC(G886+I886+K886,1)","v":27.3},{"$f":"TRUNC(H886+J886+L886,0)","v":436},""]
["6911010","6199010","후렌지패킹","3.2MMxD125","EA",1,1795,{"$f":"TRUNC(F887*G887,1)","v":1795},0,{"$f":"TRUNC(F887*I887,1)","v":0},0,{"$f":"TRUNC(F887*K887,1)","v":0},{"$f":"TRUNC(G887+I887+K887,1)","v":1795},{"$f":"TRUNC(H887+J887+L887,0)","v":1795},""]
["6911010","6905010","동관용접","D125","개소",1,6436,{"$f":"TRUNC(F888*G888,1)","v":6436},38989,{"$f":"TRUNC(F888*I888,1)","v":38989},779,{"$f":"TRUNC(F888*K888,1)","v":779},{"$f":"TRUNC(G888+I888+K888,1)","v":46204},{"$f":"TRUNC(H888+J888+L888,0)","v":46204},""]
[null,null,"[ 합           계 ]",{"$nulls":4},{"$f":"TRUNC(SUM(H884:H888),0)","v":68151},null,{"$f":"TRUNC(SUM(J884:J888),0)","v":38989},null,{"$f":"TRUNC(SUM(L884:L888),0)","v":779},null,{"$f":"H889+J889+L889","v":107919}]
[]
[null,null,"6911011  동절연합후렌지접합  D150  개소"]
["6911011","5115245","동절연후렌지 (10KG)","D150","EA",1,79318,{"$f":"TRUNC(F892*G892,1)","v":79318},0,{"$f":"TRUNC(F892*I892,1)","v":0},0,{"$f":"TRUNC(F892*K892,1)","v":0},{"$f":"TRUNC(G892+I892+K892,1)","v":79318},{"$f":"TRUNC(H892+J892+L892,0)","v":79318},""]
["6911011","0501619","볼트너트","M16x80","EA",8,352.5,{"$f":"TRUNC(F893*G893,1)","v":2820},0,{"$f":"TRUNC(F893*I893,1)","v":0},0,{"$f":"TRUNC(F893*K893,1)","v":0},{"$f":"TRUNC(G893+I893+K893,1)","v":352.5},{"$f":"TRUNC(H893+J893+L893,0)","v":2820},""]
["6911011","0513006","와샤","M16","개",16,27.3,{"$f":"TRUNC(F894*G894,1)","v":436.8},0,{"$f":"TRUNC(F894*I894,1)","v":0},0,{"$f":"TRUNC(F894*K894,1)","v":0},{"$f":"TRUNC(G894+I894+K894,1)","v":27.3},{"$f":"TRUNC(H894+J894+L894,0)","v":436},""]
["6911011","6199011","후렌지패킹","3.2MMxD150","EA",1,2173,{"$f":"TRUNC(F895*G895,1)","v":2173},0,{"$f":"TRUNC(F895*I895,1)","v":0},0,{"$f":"TRUNC(F895*K895,1)","v":0},{"$f":"TRUNC(G895+I895+K895,1)","v":2173},{"$f":"TRUNC(H895+J895+L895,0)","v":2173},""]
["6911011","6905011","동관용접","D150","개소",1,9445,{"$f":"TRUNC(F896*G896,1)","v":9445},46371,{"$f":"TRUNC(F896*I896,1)","v":46371},927,{"$f":"TRUNC(F896*K896,1)","v":927},{"$f":"TRUNC(G896+I896+K896,1)","v":56743},{"$f":"TRUNC(H896+J896+L896,0)","v":56743},""]
[null,null,"[ 합           계 ]",{"$nulls":4},{"$f":"TRUNC(SUM(H892:H896),0)","v":94192},null,{"$f":"TRUNC(SUM(J892:J896),0)","v":46371},null,{"$f":"TRUNC(SUM(L892:L896),0)","v":927},null,{"$f":"H897+J897+L897","v":141490}]
[]
[null,null,"6911012  동절연합후렌지접합  D200  개소"]
["6911012","5115246","동절연후렌지 (10KG)","D200","EA",1,120070,{"$f":"TRUNC(F900*G900,1)","v":120070},0,{"$f":"TRUNC(F900*I900,1)","v":0},0,{"$f":"TRUNC(F900*K900,1)","v":0},{"$f":"TRUNC(G900+I900+K900,1)","v":120070},{"$f":"TRUNC(H900+J900+L900,0)","v":120070},""]
["6911012","0501619","볼트너트","M16x80","EA",12,352.5,{"$f":"TRUNC(F901*G901,1)","v":4230},0,{"$f":"TRUNC(F901*I901,1)","v":0},0,{"$f":"TRUNC(F901*K901,1)","v":0},{"$f":"TRUNC(G901+I901+K901,1)","v":352.5},{"$f":"TRUNC(H901+J901+L901,0)","v":4230},""]
["6911012","0513006","와샤","M16","개",24,27.3,{"$f":"TRUNC(F902*G902,1)","v":655.20000000000005},0,{"$f":"TRUNC(F902*I902,1)","v":0},0,{"$f":"TRUNC(F902*K902,1)","v":0},{"$f":"TRUNC(G902+I902+K902,1)","v":27.3},{"$f":"TRUNC(H902+J902+L902,0)","v":655},""]
["6911012","6199012","후렌지패킹","3.2MMxD200","EA",1,2702,{"$f":"TRUNC(F903*G903,1)","v":2702},0,{"$f":"TRUNC(F903*I903,1)","v":0},0,{"$f":"TRUNC(F903*K903,1)","v":0},{"$f":"TRUNC(G903+I903+K903,1)","v":2702},{"$f":"TRUNC(H903+J903+L903,0)","v":2702},""]
["6911012","6905012","동관용접","D200","개소",1,21370,{"$f":"TRUNC(F904*G904,1)","v":21370},61137,{"$f":"TRUNC(F904*I904,1)","v":61137},1222,{"$f":"TRUNC(F904*K904,1)","v":1222},{"$f":"TRUNC(G904+I904+K904,1)","v":83729},{"$f":"TRUNC(H904+J904+L904,0)","v":83729},""]
[null,null,"[ 합           계 ]",{"$nulls":4},{"$f":"TRUNC(SUM(H900:H904),0)","v":149027},null,{"$f":"TRUNC(SUM(J900:J904),0)","v":61137},null,{"$f":"TRUNC(SUM(L900:L904),0)","v":1222},null,{"$f":"H905+J905+L905","v":211386}]
[]
[null,null,"6912001  동절연조후렌지접합  D15  개소"]
["6912001","5115235","동절연후렌지 (10KG)","D15","EA",2,6529,{"$f":"TRUNC(F908*G908,1)","v":13058},0,{"$f":"TRUNC(F908*I908,1)","v":0},0,{"$f":"TRUNC(F908*K908,1)","v":0},{"$f":"TRUNC(G908+I908+K908,1)","v":6529},{"$f":"TRUNC(H908+J908+L908,0)","v":13058},""]
["6912001","0501545","볼트너트","M10x50","EA",4,102.7,{"$f":"TRUNC(F909*G909,1)","v":410.8},0,{"$f":"TRUNC(F909*I909,1)","v":0},0,{"$f":"TRUNC(F909*K909,1)","v":0},{"$f":"TRUNC(G909+I909+K909,1)","v":102.7},{"$f":"TRUNC(H909+J909+L909,0)","v":410},""]
["6912001","0513003","와샤","M10","개",8,9.4,{"$f":"TRUNC(F910*G910,1)","v":75.2},0,{"$f":"TRUNC(F910*I910,1)","v":0},0,{"$f":"TRUNC(F910*K910,1)","v":0},{"$f":"TRUNC(G910+I910+K910,1)","v":9.4},{"$f":"TRUNC(H910+J910+L910,0)","v":75},""]
["6912001","6199001","후렌지패킹","3.2MMxD15","EA",1,142,{"$f":"TRUNC(F911*G911,1)","v":142},0,{"$f":"TRUNC(F911*I911,1)","v":0},0,{"$f":"TRUNC(F911*K911,1)","v":0},{"$f":"TRUNC(G911+I911+K911,1)","v":142},{"$f":"TRUNC(H911+J911+L911,0)","v":142},""]
["6912001","6905001","동관용접","D15","개소",2,193,{"$f":"TRUNC(F912*G912,1)","v":386},5075,{"$f":"TRUNC(F912*I912,1)","v":10150},101,{"$f":"TRUNC(F912*K912,1)","v":202},{"$f":"TRUNC(G912+I912+K912,1)","v":5369},{"$f":"TRUNC(H912+J912+L912,0)","v":10738},""]
[null,null,"[ 합           계 ]",{"$nulls":4},{"$f":"TRUNC(SUM(H908:H912),0)","v":14072},null,{"$f":"TRUNC(SUM(J908:J912),0)","v":10150},null,{"$f":"TRUNC(SUM(L908:L912),0)","v":202},null,{"$f":"H913+J913+L913","v":24424}]
[]
[null,null,"6912002  동절연조후렌지접합  D20  개소"]
["6912002","5115236","동절연후렌지 (10KG)","D20","EA",2,7294,{"$f":"TRUNC(F916*G916,1)","v":14588},0,{"$f":"TRUNC(F916*I916,1)","v":0},0,{"$f":"TRUNC(F916*K916,1)","v":0},{"$f":"TRUNC(G916+I916+K916,1)","v":7294},{"$f":"TRUNC(H916+J916+L916,0)","v":14588},""]
["6912002","0501545","볼트너트","M10x50","EA",4,102.7,{"$f":"TRUNC(F917*G917,1)","v":410.8},0,{"$f":"TRUNC(F917*I917,1)","v":0},0,{"$f":"TRUNC(F917*K917,1)","v":0},{"$f":"TRUNC(G917+I917+K917,1)","v":102.7},{"$f":"TRUNC(H917+J917+L917,0)","v":410},""]
["6912002","0513003","와샤","M10","개",8,9.4,{"$f":"TRUNC(F918*G918,1)","v":75.2},0,{"$f":"TRUNC(F918*I918,1)","v":0},0,{"$f":"TRUNC(F918*K918,1)","v":0},{"$f":"TRUNC(G918+I918+K918,1)","v":9.4},{"$f":"TRUNC(H918+J918+L918,0)","v":75},""]
["6912002","6199002","후렌지패킹","3.2MMxD20","EA",1,157,{"$f":"TRUNC(F919*G919,1)","v":157},0,{"$f":"TRUNC(F919*I919,1)","v":0},0,{"$f":"TRUNC(F919*K919,1)","v":0},{"$f":"TRUNC(G919+I919+K919,1)","v":157},{"$f":"TRUNC(H919+J919+L919,0)","v":157},""]
["6912002","6905002","동관용접","D20","개소",2,401,{"$f":"TRUNC(F920*G920,1)","v":802},6921,{"$f":"TRUNC(F920*I920,1)","v":13842},138,{"$f":"TRUNC(F920*K920,1)","v":276},{"$f":"TRUNC(G920+I920+K920,1)","v":7460},{"$f":"TRUNC(H920+J920+L920,0)","v":14920},""]
[null,null,"[ 합           계 ]",{"$nulls":4},{"$f":"TRUNC(SUM(H916:H920),0)","v":16033},null,{"$f":"TRUNC(SUM(J916:J920),0)","v":13842},null,{"$f":"TRUNC(SUM(L916:L920),0)","v":276},null,{"$f":"H921+J921+L921","v":30151}]
[]
[null,null,"6912003  동절연조후렌지접합  D25  개소"]
["6912003","5115237","동절연후렌지 (10KG)","D25","EA",2,8622,{"$f":"TRUNC(F924*G924,1)","v":17244},0,{"$f":"TRUNC(F924*I924,1)","v":0},0,{"$f":"TRUNC(F924*K924,1)","v":0},{"$f":"TRUNC(G924+I924+K924,1)","v":8622},{"$f":"TRUNC(H924+J924+L924,0)","v":17244},""]
["6912003","0501572","볼트너트","M12x60","EA",4,162.9,{"$f":"TRUNC(F925*G925,1)","v":651.6},0,{"$f":"TRUNC(F925*I925,1)","v":0},0,{"$f":"TRUNC(F925*K925,1)","v":0},{"$f":"TRUNC(G925+I925+K925,1)","v":162.9},{"$f":"TRUNC(H925+J925+L925,0)","v":651},""]
["6912003","0513004","와샤","M12","개",8,16.3,{"$f":"TRUNC(F926*G926,1)","v":130.4},0,{"$f":"TRUNC(F926*I926,1)","v":0},0,{"$f":"TRUNC(F926*K926,1)","v":0},{"$f":"TRUNC(G926+I926+K926,1)","v":16.3},{"$f":"TRUNC(H926+J926+L926,0)","v":130},""]
["6912003","6199003","후렌지패킹","3.2MMxD25","EA",1,217,{"$f":"TRUNC(F927*G927,1)","v":217},0,{"$f":"TRUNC(F927*I927,1)","v":0},0,{"$f":"TRUNC(F927*K927,1)","v":0},{"$f":"TRUNC(G927+I927+K927,1)","v":217},{"$f":"TRUNC(H927+J927+L927,0)","v":217},""]
["6912003","6905003","동관용접","D25","개소",2,562,{"$f":"TRUNC(F928*G928,1)","v":1124},8766,{"$f":"TRUNC(F928*I928,1)","v":17532},175,{"$f":"TRUNC(F928*K928,1)","v":350},{"$f":"TRUNC(G928+I928+K928,1)","v":9503},{"$f":"TRUNC(H928+J928+L928,0)","v":19006},""]
[null,null,"[ 합           계 ]",{"$nulls":4},{"$f":"TRUNC(SUM(H924:H928),0)","v":19367},null,{"$f":"TRUNC(SUM(J924:J928),0)","v":17532},null,{"$f":"TRUNC(SUM(L924:L928),0)","v":350},null,{"$f":"H929+J929+L929","v":37249}]
[]
[null,null,"6912004  동절연조후렌지접합  D32  개소"]
["6912004","5115238","동절연후렌지 (10KG)","D32","EA",2,12915,{"$f":"TRUNC(F932*G932,1)","v":25830},0,{"$f":"TRUNC(F932*I932,1)","v":0},0,{"$f":"TRUNC(F932*K932,1)","v":0},{"$f":"TRUNC(G932+I932+K932,1)","v":12915},{"$f":"TRUNC(H932+J932+L932,0)","v":25830},""]
["6912004","0501572","볼트너트","M12x60","EA",4,162.9,{"$f":"TRUNC(F933*G933,1)","v":651.6},0,{"$f":"TRUNC(F933*I933,1)","v":0},0,{"$f":"TRUNC(F933*K933,1)","v":0},{"$f":"TRUNC(G933+I933+K933,1)","v":162.9},{"$f":"TRUNC(H933+J933+L933,0)","v":651},""]
["6912004","0513004","와샤","M12","개",8,16.3,{"$f":"TRUNC(F934*G934,1)","v":130.4},0,{"$f":"TRUNC(F934*I934,1)","v":0},0,{"$f":"TRUNC(F934*K934,1)","v":0},{"$f":"TRUNC(G934+I934+K934,1)","v":16.3},{"$f":"TRUNC(H934+J934+L934,0)","v":130},""]
["6912004","6199004","후렌지패킹","3.2MMxD32","EA",1,279,{"$f":"TRUNC(F935*G935,1)","v":279},0,{"$f":"TRUNC(F935*I935,1)","v":0},0,{"$f":"TRUNC(F935*K935,1)","v":0},{"$f":"TRUNC(G935+I935+K935,1)","v":279},{"$f":"TRUNC(H935+J935+L935,0)","v":279},""]
["6912004","6905004","동관용접","D32","개소",2,761,{"$f":"TRUNC(F936*G936,1)","v":1522},10381,{"$f":"TRUNC(F936*I936,1)","v":20762},207,{"$f":"TRUNC(F936*K936,1)","v":414},{"$f":"TRUNC(G936+I936+K936,1)","v":11349},{"$f":"TRUNC(H936+J936+L936,0)","v":22698},""]
[null,null,"[ 합           계 ]",{"$nulls":4},{"$f":"TRUNC(SUM(H932:H936),0)","v":28413},null,{"$f":"TRUNC(SUM(J932:J936),0)","v":20762},null,{"$f":"TRUNC(SUM(L932:L936),0)","v":414},null,{"$f":"H937+J937+L937","v":49589}]
[]
[null,null,"6912005  동절연조후렌지접합  D40  개소"]
["6912005","5115239","동절연후렌지 (10KG)","D40","EA",2,14973,{"$f":"TRUNC(F940*G940,1)","v":29946},0,{"$f":"TRUNC(F940*I940,1)","v":0},0,{"$f":"TRUNC(F940*K940,1)","v":0},{"$f":"TRUNC(G940+I940+K940,1)","v":14973},{"$f":"TRUNC(H940+J940+L940,0)","v":29946},""]
["6912005","0501572","볼트너트","M12x60","EA",4,162.9,{"$f":"TRUNC(F941*G941,1)","v":651.6},0,{"$f":"TRUNC(F941*I941,1)","v":0},0,{"$f":"TRUNC(F941*K941,1)","v":0},{"$f":"TRUNC(G941+I941+K941,1)","v":162.9},{"$f":"TRUNC(H941+J941+L941,0)","v":651},""]
["6912005","0513004","와샤","M12","개",8,16.3,{"$f":"TRUNC(F942*G942,1)","v":130.4},0,{"$f":"TRUNC(F942*I942,1)","v":0},0,{"$f":"TRUNC(F942*K942,1)","v":0},{"$f":"TRUNC(G942+I942+K942,1)","v":16.3},{"$f":"TRUNC(H942+J942+L942,0)","v":130},""]
["6912005","6199005","후렌지패킹","3.2MMxD40","EA",1,323,{"$f":"TRUNC(F943*G943,1)","v":323},0,{"$f":"TRUNC(F943*I943,1)","v":0},0,{"$f":"TRUNC(F943*K943,1)","v":0},{"$f":"TRUNC(G943+I943+K943,1)","v":323},{"$f":"TRUNC(H943+J943+L943,0)","v":323},""]
["6912005","6905005","동관용접","D40","개소",2,998,{"$f":"TRUNC(F944*G944,1)","v":1996},12227,{"$f":"TRUNC(F944*I944,1)","v":24454},244,{"$f":"TRUNC(F944*K944,1)","v":488},{"$f":"TRUNC(G944+I944+K944,1)","v":13469},{"$f":"TRUNC(H944+J944+L944,0)","v":26938},""]
[null,null,"[ 합           계 ]",{"$nulls":4},{"$f":"TRUNC(SUM(H940:H944),0)","v":33047},null,{"$f":"TRUNC(SUM(J940:J944),0)","v":24454},null,{"$f":"TRUNC(SUM(L940:L944),0)","v":488},null,{"$f":"H945+J945+L945","v":57989}]
[]
[null,null,"6912006  동절연조후렌지접합  D50  개소"]
["6912006","5115240","동절연후렌지 (10KG)","D50","EA",2,19284,{"$f":"TRUNC(F948*G948,1)","v":38568},0,{"$f":"TRUNC(F948*I948,1)","v":0},0,{"$f":"TRUNC(F948*K948,1)","v":0},{"$f":"TRUNC(G948+I948+K948,1)","v":19284},{"$f":"TRUNC(H948+J948+L948,0)","v":38568},""]
["6912006","0501572","볼트너트","M12x60","EA",4,162.9,{"$f":"TRUNC(F949*G949,1)","v":651.6},0,{"$f":"TRUNC(F949*I949,1)","v":0},0,{"$f":"TRUNC(F949*K949,1)","v":0},{"$f":"TRUNC(G949+I949+K949,1)","v":162.9},{"$f":"TRUNC(H949+J949+L949,0)","v":651},""]
["6912006","0513004","와샤","M12","개",8,16.3,{"$f":"TRUNC(F950*G950,1)","v":130.4},0,{"$f":"TRUNC(F950*I950,1)","v":0},0,{"$f":"TRUNC(F950*K950,1)","v":0},{"$f":"TRUNC(G950+I950+K950,1)","v":16.3},{"$f":"TRUNC(H950+J950+L950,0)","v":130},""]
["6912006","6199006","후렌지패킹","3.2MMxD50","EA",1,436,{"$f":"TRUNC(F951*G951,1)","v":436},0,{"$f":"TRUNC(F951*I951,1)","v":0},0,{"$f":"TRUNC(F951*K951,1)","v":0},{"$f":"TRUNC(G951+I951+K951,1)","v":436},{"$f":"TRUNC(H951+J951+L951,0)","v":436},""]
["6912006","6905006","동관용접","D50","개소",2,1474,{"$f":"TRUNC(F952*G952,1)","v":2948},15457,{"$f":"TRUNC(F952*I952,1)","v":30914},309,{"$f":"TRUNC(F952*K952,1)","v":618},{"$f":"TRUNC(G952+I952+K952,1)","v":17240},{"$f":"TRUNC(H952+J952+L952,0)","v":34480},""]
[null,null,"[ 합           계 ]",{"$nulls":4},{"$f":"TRUNC(SUM(H948:H952),0)","v":42734},null,{"$f":"TRUNC(SUM(J948:J952),0)","v":30914},null,{"$f":"TRUNC(SUM(L948:L952),0)","v":618},null,{"$f":"H953+J953+L953","v":74266}]
[]
[null,null,"6912007  동절연조후렌지접합  D65  개소"]
["6912007","5115241","동절연후렌지 (10KG)","D65","EA",2,27189,{"$f":"TRUNC(F956*G956,1)","v":54378},0,{"$f":"TRUNC(F956*I956,1)","v":0},0,{"$f":"TRUNC(F956*K956,1)","v":0},{"$f":"TRUNC(G956+I956+K956,1)","v":27189},{"$f":"TRUNC(H956+J956+L956,0)","v":54378},""]
["6912007","0501572","볼트너트","M12x60","EA",4,162.9,{"$f":"TRUNC(F957*G957,1)","v":651.6},0,{"$f":"TRUNC(F957*I957,1)","v":0},0,{"$f":"TRUNC(F957*K957,1)","v":0},{"$f":"TRUNC(G957+I957+K957,1)","v":162.9},{"$f":"TRUNC(H957+J957+L957,0)","v":651},""]
["6912007","0513004","와샤","M12","개",8,16.3,{"$f":"TRUNC(F958*G958,1)","v":130.4},0,{"$f":"TRUNC(F958*I958,1)","v":0},0,{"$f":"TRUNC(F958*K958,1)","v":0},{"$f":"TRUNC(G958+I958+K958,1)","v":16.3},{"$f":"TRUNC(H958+J958+L958,0)","v":130},""]
["6912007","6199007","후렌지패킹","3.2MMxD65","EA",1,525,{"$f":"TRUNC(F959*G959,1)","v":525},0,{"$f":"TRUNC(F959*I959,1)","v":0},0,{"$f":"TRUNC(F959*K959,1)","v":0},{"$f":"TRUNC(G959+I959+K959,1)","v":525},{"$f":"TRUNC(H959+J959+L959,0)","v":525},""]
["6912007","6905007","동관용접","D65","개소",2,1956,{"$f":"TRUNC(F960*G960,1)","v":3912},20532,{"$f":"TRUNC(F960*I960,1)","v":41064},410,{"$f":"TRUNC(F960*K960,1)","v":820},{"$f":"TRUNC(G960+I960+K960,1)","v":22898},{"$f":"TRUNC(H960+J960+L960,0)","v":45796},""]
[null,null,"[ 합           계 ]",{"$nulls":4},{"$f":"TRUNC(SUM(H956:H960),0)","v":59597},null,{"$f":"TRUNC(SUM(J956:J960),0)","v":41064},null,{"$f":"TRUNC(SUM(L956:L960),0)","v":820},null,{"$f":"H961+J961+L961","v":101481}]
[]
[null,null,"6912008  동절연조후렌지접합  D80  개소"]
["6912008","5115242","동절연후렌지 (10KG)","D80","EA",2,30982,{"$f":"TRUNC(F964*G964,1)","v":61964},0,{"$f":"TRUNC(F964*I964,1)","v":0},0,{"$f":"TRUNC(F964*K964,1)","v":0},{"$f":"TRUNC(G964+I964+K964,1)","v":30982},{"$f":"TRUNC(H964+J964+L964,0)","v":61964},""]
["6912008","0501573","볼트너트","M12x70","EA",8,178.94,{"$f":"TRUNC(F965*G965,1)","v":1431.5},0,{"$f":"TRUNC(F965*I965,1)","v":0},0,{"$f":"TRUNC(F965*K965,1)","v":0},{"$f":"TRUNC(G965+I965+K965,1)","v":178.9},{"$f":"TRUNC(H965+J965+L965,0)","v":1431},""]
["6912008","0513004","와샤","M12","개",16,16.3,{"$f":"TRUNC(F966*G966,1)","v":260.8},0,{"$f":"TRUNC(F966*I966,1)","v":0},0,{"$f":"TRUNC(F966*K966,1)","v":0},{"$f":"TRUNC(G966+I966+K966,1)","v":16.3},{"$f":"TRUNC(H966+J966+L966,0)","v":260},""]
["6912008","6199008","후렌지패킹","3.2MMxD80","EA",1,812,{"$f":"TRUNC(F967*G967,1)","v":812},0,{"$f":"TRUNC(F967*I967,1)","v":0},0,{"$f":"TRUNC(F967*K967,1)","v":0},{"$f":"TRUNC(G967+I967+K967,1)","v":812},{"$f":"TRUNC(H967+J967+L967,0)","v":812},""]
["6912008","6905008","동관용접","D80","개소",2,2691,{"$f":"TRUNC(F968*G968,1)","v":5382},24224,{"$f":"TRUNC(F968*I968,1)","v":48448},484,{"$f":"TRUNC(F968*K968,1)","v":968},{"$f":"TRUNC(G968+I968+K968,1)","v":27399},{"$f":"TRUNC(H968+J968+L968,0)","v":54798},""]
[null,null,"[ 합           계 ]",{"$nulls":4},{"$f":"TRUNC(SUM(H964:H968),0)","v":69850},null,{"$f":"TRUNC(SUM(J964:J968),0)","v":48448},null,{"$f":"TRUNC(SUM(L964:L968),0)","v":968},null,{"$f":"H969+J969+L969","v":119266}]
[]
[null,null,"6912009  동절연조후렌지접합  D100  개소"]
["6912009","5115243","동절연후렌지 (10KG)","D100","EA",2,45323,{"$f":"TRUNC(F972*G972,1)","v":90646},0,{"$f":"TRUNC(F972*I972,1)","v":0},0,{"$f":"TRUNC(F972*K972,1)","v":0},{"$f":"TRUNC(G972+I972+K972,1)","v":45323},{"$f":"TRUNC(H972+J972+L972,0)","v":90646},""]
["6912009","0501573","볼트너트","M12x70","EA",8,178.94,{"$f":"TRUNC(F973*G973,1)","v":1431.5},0,{"$f":"TRUNC(F973*I973,1)","v":0},0,{"$f":"TRUNC(F973*K973,1)","v":0},{"$f":"TRUNC(G973+I973+K973,1)","v":178.9},{"$f":"TRUNC(H973+J973+L973,0)","v":1431},""]
["6912009","0513004","와샤","M12","개",16,16.3,{"$f":"TRUNC(F974*G974,1)","v":260.8},0,{"$f":"TRUNC(F974*I974,1)","v":0},0,{"$f":"TRUNC(F974*K974,1)","v":0},{"$f":"TRUNC(G974+I974+K974,1)","v":16.3},{"$f":"TRUNC(H974+J974+L974,0)","v":260},""]
["6912009","6199009","후렌지패킹","3.2MMxD100","EA",1,1341,{"$f":"TRUNC(F975*G975,1)","v":1341},0,{"$f":"TRUNC(F975*I975,1)","v":0},0,{"$f":"TRUNC(F975*K975,1)","v":0},{"$f":"TRUNC(G975+I975+K975,1)","v":1341},{"$f":"TRUNC(H975+J975+L975,0)","v":1341},""]
["6912009","6905009","동관용접","D100","개소",2,4515,{"$f":"TRUNC(F976*G976,1)","v":9030},31606,{"$f":"TRUNC(F976*I976,1)","v":63212},632,{"$f":"TRUNC(F976*K976,1)","v":1264},{"$f":"TRUNC(G976+I976+K976,1)","v":36753},{"$f":"TRUNC(H976+J976+L976,0)","v":73506},""]
[null,null,"[ 합           계 ]",{"$nulls":4},{"$f":"TRUNC(SUM(H972:H976),0)","v":102709},null,{"$f":"TRUNC(SUM(J972:J976),0)","v":63212},null,{"$f":"TRUNC(SUM(L972:L976),0)","v":1264},null,{"$f":"H977+J977+L977","v":167185}]
[]
[null,null,"6912010  동절연조후렌지접합  D125  개소"]
["6912010","5115244","동절연후렌지 (10KG)","D125","EA",2,56664,{"$f":"TRUNC(F980*G980,1)","v":113328},0,{"$f":"TRUNC(F980*I980,1)","v":0},0,{"$f":"TRUNC(F980*K980,1)","v":0},{"$f":"TRUNC(G980+I980+K980,1)","v":56664},{"$f":"TRUNC(H980+J980+L980,0)","v":113328},""]
["6912010","0501619","볼트너트","M16x80","EA",8,352.5,{"$f":"TRUNC(F981*G981,1)","v":2820},0,{"$f":"TRUNC(F981*I981,1)","v":0},0,{"$f":"TRUNC(F981*K981,1)","v":0},{"$f":"TRUNC(G981+I981+K981,1)","v":352.5},{"$f":"TRUNC(H981+J981+L981,0)","v":2820},""]
["6912010","0513006","와샤","M16","개",16,27.3,{"$f":"TRUNC(F982*G982,1)","v":436.8},0,{"$f":"TRUNC(F982*I982,1)","v":0},0,{"$f":"TRUNC(F982*K982,1)","v":0},{"$f":"TRUNC(G982+I982+K982,1)","v":27.3},{"$f":"TRUNC(H982+J982+L982,0)","v":436},""]
["6912010","6199010","후렌지패킹","3.2MMxD125","EA",1,1795,{"$f":"TRUNC(F983*G983,1)","v":1795},0,{"$f":"TRUNC(F983*I983,1)","v":0},0,{"$f":"TRUNC(F983*K983,1)","v":0},{"$f":"TRUNC(G983+I983+K983,1)","v":1795},{"$f":"TRUNC(H983+J983+L983,0)","v":1795},""]
["6912010","6905010","동관용접","D125","개소",2,6436,{"$f":"TRUNC(F984*G984,1)","v":12872},38989,{"$f":"TRUNC(F984*I984,1)","v":77978},779,{"$f":"TRUNC(F984*K984,1)","v":1558},{"$f":"TRUNC(G984+I984+K984,1)","v":46204},{"$f":"TRUNC(H984+J984+L984,0)","v":92408},""]
[null,null,"[ 합           계 ]",{"$nulls":4},{"$f":"TRUNC(SUM(H980:H984),0)","v":131251},null,{"$f":"TRUNC(SUM(J980:J984),0)","v":77978},null,{"$f":"TRUNC(SUM(L980:L984),0)","v":1558},null,{"$f":"H985+J985+L985","v":210787}]
[]
[null,null,"6912011  동절연조후렌지접합  D150  개소"]
["6912011","5115245","동절연후렌지 (10KG)","D150","EA",2,79318,{"$f":"TRUNC(F988*G988,1)","v":158636},0,{"$f":"TRUNC(F988*I988,1)","v":0},0,{"$f":"TRUNC(F988*K988,1)","v":0},{"$f":"TRUNC(G988+I988+K988,1)","v":79318},{"$f":"TRUNC(H988+J988+L988,0)","v":158636},""]
["6912011","0501619","볼트너트","M16x80","EA",8,352.5,{"$f":"TRUNC(F989*G989,1)","v":2820},0,{"$f":"TRUNC(F989*I989,1)","v":0},0,{"$f":"TRUNC(F989*K989,1)","v":0},{"$f":"TRUNC(G989+I989+K989,1)","v":352.5},{"$f":"TRUNC(H989+J989+L989,0)","v":2820},""]
["6912011","0513006","와샤","M16","개",16,27.3,{"$f":"TRUNC(F990*G990,1)","v":436.8},0,{"$f":"TRUNC(F990*I990,1)","v":0},0,{"$f":"TRUNC(F990*K990,1)","v":0},{"$f":"TRUNC(G990+I990+K990,1)","v":27.3},{"$f":"TRUNC(H990+J990+L990,0)","v":436},""]
["6912011","6199011","후렌지패킹","3.2MMxD150","EA",1,2173,{"$f":"TRUNC(F991*G991,1)","v":2173},0,{"$f":"TRUNC(F991*I991,1)","v":0},0,{"$f":"TRUNC(F991*K991,1)","v":0},{"$f":"TRUNC(G991+I991+K991,1)","v":2173},{"$f":"TRUNC(H991+J991+L991,0)","v":2173},""]
["6912011","6905011","동관용접","D150","개소",2,9445,{"$f":"TRUNC(F992*G992,1)","v":18890},46371,{"$f":"TRUNC(F992*I992,1)","v":92742},927,{"$f":"TRUNC(F992*K992,1)","v":1854},{"$f":"TRUNC(G992+I992+K992,1)","v":56743},{"$f":"TRUNC(H992+J992+L992,0)","v":113486},""]
[null,null,"[ 합           계 ]",{"$nulls":4},{"$f":"TRUNC(SUM(H988:H992),0)","v":182955},null,{"$f":"TRUNC(SUM(J988:J992),0)","v":92742},null,{"$f":"TRUNC(SUM(L988:L992),0)","v":1854},null,{"$f":"H993+J993+L993","v":277551}]
[]
[null,null,"6912012  동절연조후렌지접합  D200  개소"]
["6912012","5115246","동절연후렌지 (10KG)","D200","EA",2,120070,{"$f":"TRUNC(F996*G996,1)","v":240140},0,{"$f":"TRUNC(F996*I996,1)","v":0},0,{"$f":"TRUNC(F996*K996,1)","v":0},{"$f":"TRUNC(G996+I996+K996,1)","v":120070},{"$f":"TRUNC(H996+J996+L996,0)","v":240140},""]
["6912012","0501619","볼트너트","M16x80","EA",12,352.5,{"$f":"TRUNC(F997*G997,1)","v":4230},0,{"$f":"TRUNC(F997*I997,1)","v":0},0,{"$f":"TRUNC(F997*K997,1)","v":0},{"$f":"TRUNC(G997+I997+K997,1)","v":352.5},{"$f":"TRUNC(H997+J997+L997,0)","v":4230},""]
["6912012","0513006","와샤","M16","개",24,27.3,{"$f":"TRUNC(F998*G998,1)","v":655.20000000000005},0,{"$f":"TRUNC(F998*I998,1)","v":0},0,{"$f":"TRUNC(F998*K998,1)","v":0},{"$f":"TRUNC(G998+I998+K998,1)","v":27.3},{"$f":"TRUNC(H998+J998+L998,0)","v":655},""]
["6912012","6199012","후렌지패킹","3.2MMxD200","EA",1,2702,{"$f":"TRUNC(F999*G999,1)","v":2702},0,{"$f":"TRUNC(F999*I999,1)","v":0},0,{"$f":"TRUNC(F999*K999,1)","v":0},{"$f":"TRUNC(G999+I999+K999,1)","v":2702},{"$f":"TRUNC(H999+J999+L999,0)","v":2702},""]
["6912012","6905012","동관용접","D200","개소",2,21370,{"$f":"TRUNC(F1000*G1000,1)","v":42740},61137,{"$f":"TRUNC(F1000*I1000,1)","v":122274},1222,{"$f":"TRUNC(F1000*K1000,1)","v":2444},{"$f":"TRUNC(G1000+I1000+K1000,1)","v":83729},{"$f":"TRUNC(H1000+J1000+L1000,0)","v":167458},""]
[null,null,"[ 합           계 ]",{"$nulls":4},{"$f":"TRUNC(SUM(H996:H1000),0)","v":290467},null,{"$f":"TRUNC(SUM(J996:J1000),0)","v":122274},null,{"$f":"TRUNC(SUM(L996:L1000),0)","v":2444},null,{"$f":"H1001+J1001+L1001","v":415185}]
[]
[null,null,"6913001  스텐용접합후렌지  D15  개소"]
["6913001","5115344","SUS 후렌지 (10KG)","D15","EA",1,7475,{"$f":"TRUNC(F1004*G1004,1)","v":7475},0,{"$f":"TRUNC(F1004*I1004,1)","v":0},0,{"$f":"TRUNC(F1004*K1004,1)","v":0},{"$f":"TRUNC(G1004+I1004+K1004,1)","v":7475},{"$f":"TRUNC(H1004+J1004+L1004,0)","v":7475},""]
["6913001","0503035","스텐레스볼트","M10  L50","개",4,239,{"$f":"TRUNC(F1005*G1005,1)","v":956},0,{"$f":"TRUNC(F1005*I1005,1)","v":0},0,{"$f":"TRUNC(F1005*K1005,1)","v":0},{"$f":"TRUNC(G1005+I1005+K1005,1)","v":239},{"$f":"TRUNC(H1005+J1005+L1005,0)","v":956},""]
["6913001","0513033","와샤(스텐)","M10","개",8,21.3,{"$f":"TRUNC(F1006*G1006,1)","v":170.4},0,{"$f":"TRUNC(F1006*I1006,1)","v":0},0,{"$f":"TRUNC(F1006*K1006,1)","v":0},{"$f":"TRUNC(G1006+I1006+K1006,1)","v":21.3},{"$f":"TRUNC(H1006+J1006+L1006,0)","v":170},""]
["6913001","6199001","후렌지패킹","3.2MMxD15","EA",1,142,{"$f":"TRUNC(F1007*G1007,1)","v":142},0,{"$f":"TRUNC(F1007*I1007,1)","v":0},0,{"$f":"TRUNC(F1007*K1007,1)","v":0},{"$f":"TRUNC(G1007+I1007+K1007,1)","v":142},{"$f":"TRUNC(H1007+J1007+L1007,0)","v":142},""]
["6913001","6906001","스텐관용접","D15","개소",1,349,{"$f":"TRUNC(F1008*G1008,1)","v":349},11535,{"$f":"TRUNC(F1008*I1008,1)","v":11535},230,{"$f":"TRUNC(F1008*K1008,1)","v":230},{"$f":"TRUNC(G1008+I1008+K1008,1)","v":12114},{"$f":"TRUNC(H1008+J1008+L1008,0)","v":12114},""]
[null,null,"[ 합           계 ]",{"$nulls":4},{"$f":"TRUNC(SUM(H1004:H1008),0)","v":9092},null,{"$f":"TRUNC(SUM(J1004:J1008),0)","v":11535},null,{"$f":"TRUNC(SUM(L1004:L1008),0)","v":230},null,{"$f":"H1009+J1009+L1009","v":20857}]
[]
[null,null,"6913002  스텐용접합후렌지  D20  개소"]
["6913002","5115345","SUS 후렌지 (10KG)","D20","EA",1,7865,{"$f":"TRUNC(F1012*G1012,1)","v":7865},0,{"$f":"TRUNC(F1012*I1012,1)","v":0},0,{"$f":"TRUNC(F1012*K1012,1)","v":0},{"$f":"TRUNC(G1012+I1012+K1012,1)","v":7865},{"$f":"TRUNC(H1012+J1012+L1012,0)","v":7865},""]
["6913002","0503035","스텐레스볼트","M10  L50","개",4,239,{"$f":"TRUNC(F1013*G1013,1)","v":956},0,{"$f":"TRUNC(F1013*I1013,1)","v":0},0,{"$f":"TRUNC(F1013*K1013,1)","v":0},{"$f":"TRUNC(G1013+I1013+K1013,1)","v":239},{"$f":"TRUNC(H1013+J1013+L1013,0)","v":956},""]
["6913002","0513033","와샤(스텐)","M10","개",8,21.3,{"$f":"TRUNC(F1014*G1014,1)","v":170.4},0,{"$f":"TRUNC(F1014*I1014,1)","v":0},0,{"$f":"TRUNC(F1014*K1014,1)","v":0},{"$f":"TRUNC(G1014+I1014+K1014,1)","v":21.3},{"$f":"TRUNC(H1014+J1014+L1014,0)","v":170},""]
["6913002","6199002","후렌지패킹","3.2MMxD20","EA",1,157,{"$f":"TRUNC(F1015*G1015,1)","v":157},0,{"$f":"TRUNC(F1015*I1015,1)","v":0},0,{"$f":"TRUNC(F1015*K1015,1)","v":0},{"$f":"TRUNC(G1015+I1015+K1015,1)","v":157},{"$f":"TRUNC(H1015+J1015+L1015,0)","v":157},""]
["6913002","6906002","스텐관용접","D20","개소",1,547,{"$f":"TRUNC(F1016*G1016,1)","v":547},13150,{"$f":"TRUNC(F1016*I1016,1)","v":13150},263,{"$f":"TRUNC(F1016*K1016,1)","v":263},{"$f":"TRUNC(G1016+I1016+K1016,1)","v":13960},{"$f":"TRUNC(H1016+J1016+L1016,0)","v":13960},""]
[null,null,"[ 합           계 ]",{"$nulls":4},{"$f":"TRUNC(SUM(H1012:H1016),0)","v":9695},null,{"$f":"TRUNC(SUM(J1012:J1016),0)","v":13150},null,{"$f":"TRUNC(SUM(L1012:L1016),0)","v":263},null,{"$f":"H1017+J1017+L1017","v":23108}]
[]
[null,null,"6913003  스텐용접합후렌지  D25  개소"]
["6913003","5115346","SUS 후렌지 (10KG)","D25","EA",1,8710,{"$f":"TRUNC(F1020*G1020,1)","v":8710},0,{"$f":"TRUNC(F1020*I1020,1)","v":0},0,{"$f":"TRUNC(F1020*K1020,1)","v":0},{"$f":"TRUNC(G1020+I1020+K1020,1)","v":8710},{"$f":"TRUNC(H1020+J1020+L1020,0)","v":8710},""]
["6913003","0503056","스텐레스볼트","M12  L60","개",4,398,{"$f":"TRUNC(F1021*G1021,1)","v":1592},0,{"$f":"TRUNC(F1021*I1021,1)","v":0},0,{"$f":"TRUNC(F1021*K1021,1)","v":0},{"$f":"TRUNC(G1021+I1021+K1021,1)","v":398},{"$f":"TRUNC(H1021+J1021+L1021,0)","v":1592},""]
["6913003","0513034","와샤(스텐)","M12","개",8,29.8,{"$f":"TRUNC(F1022*G1022,1)","v":238.4},0,{"$f":"TRUNC(F1022*I1022,1)","v":0},0,{"$f":"TRUNC(F1022*K1022,1)","v":0},{"$f":"TRUNC(G1022+I1022+K1022,1)","v":29.8},{"$f":"TRUNC(H1022+J1022+L1022,0)","v":238},""]
["6913003","6199003","후렌지패킹","3.2MMxD25","EA",1,217,{"$f":"TRUNC(F1023*G1023,1)","v":217},0,{"$f":"TRUNC(F1023*I1023,1)","v":0},0,{"$f":"TRUNC(F1023*K1023,1)","v":0},{"$f":"TRUNC(G1023+I1023+K1023,1)","v":217},{"$f":"TRUNC(H1023+J1023+L1023,0)","v":217},""]
["6913003","6906003","스텐관용접","D25","개소",1,769,{"$f":"TRUNC(F1024*G1024,1)","v":769},15226,{"$f":"TRUNC(F1024*I1024,1)","v":15226},304,{"$f":"TRUNC(F1024*K1024,1)","v":304},{"$f":"TRUNC(G1024+I1024+K1024,1)","v":16299},{"$f":"TRUNC(H1024+J1024+L1024,0)","v":16299},""]
[null,null,"[ 합           계 ]",{"$nulls":4},{"$f":"TRUNC(SUM(H1020:H1024),0)","v":11526},null,{"$f":"TRUNC(SUM(J1020:J1024),0)","v":15226},null,{"$f":"TRUNC(SUM(L1020:L1024),0)","v":304},null,{"$f":"H1025+J1025+L1025","v":27056}]
[]
[null,null,"6913004  스텐용접합후렌지  D32  개소"]
["6913004","5115347","SUS 후렌지 (10KG)","D32","EA",1,9425,{"$f":"TRUNC(F1028*G1028,1)","v":9425},0,{"$f":"TRUNC(F1028*I1028,1)","v":0},0,{"$f":"TRUNC(F1028*K1028,1)","v":0},{"$f":"TRUNC(G1028+I1028+K1028,1)","v":9425},{"$f":"TRUNC(H1028+J1028+L1028,0)","v":9425},""]
["6913004","0503056","스텐레스볼트","M12  L60","개",4,398,{"$f":"TRUNC(F1029*G1029,1)","v":1592},0,{"$f":"TRUNC(F1029*I1029,1)","v":0},0,{"$f":"TRUNC(F1029*K1029,1)","v":0},{"$f":"TRUNC(G1029+I1029+K1029,1)","v":398},{"$f":"TRUNC(H1029+J1029+L1029,0)","v":1592},""]
["6913004","0513034","와샤(스텐)","M12","개",8,29.8,{"$f":"TRUNC(F1030*G1030,1)","v":238.4},0,{"$f":"TRUNC(F1030*I1030,1)","v":0},0,{"$f":"TRUNC(F1030*K1030,1)","v":0},{"$f":"TRUNC(G1030+I1030+K1030,1)","v":29.8},{"$f":"TRUNC(H1030+J1030+L1030,0)","v":238},""]
["6913004","6199004","후렌지패킹","3.2MMxD32","EA",1,279,{"$f":"TRUNC(F1031*G1031,1)","v":279},0,{"$f":"TRUNC(F1031*I1031,1)","v":0},0,{"$f":"TRUNC(F1031*K1031,1)","v":0},{"$f":"TRUNC(G1031+I1031+K1031,1)","v":279},{"$f":"TRUNC(H1031+J1031+L1031,0)","v":279},""]
["6913004","6906004","스텐관용접","D32","개소",1,934,{"$f":"TRUNC(F1032*G1032,1)","v":934},17764,{"$f":"TRUNC(F1032*I1032,1)","v":17764},355,{"$f":"TRUNC(F1032*K1032,1)","v":355},{"$f":"TRUNC(G1032+I1032+K1032,1)","v":19053},{"$f":"TRUNC(H1032+J1032+L1032,0)","v":19053},""]
[null,null,"[ 합           계 ]",{"$nulls":4},{"$f":"TRUNC(SUM(H1028:H1032),0)","v":12468},null,{"$f":"TRUNC(SUM(J1028:J1032),0)","v":17764},null,{"$f":"TRUNC(SUM(L1028:L1032),0)","v":355},null,{"$f":"H1033+J1033+L1033","v":30587}]
[]
[null,null,"6913005  스텐용접합후렌지  D40  개소"]
["6913005","5115348","SUS 후렌지 (10KG)","D40","EA",1,10010,{"$f":"TRUNC(F1036*G1036,1)","v":10010},0,{"$f":"TRUNC(F1036*I1036,1)","v":0},0,{"$f":"TRUNC(F1036*K1036,1)","v":0},{"$f":"TRUNC(G1036+I1036+K1036,1)","v":10010},{"$f":"TRUNC(H1036+J1036+L1036,0)","v":10010},""]
["6913005","0503056","스텐레스볼트","M12  L60","개",4,398,{"$f":"TRUNC(F1037*G1037,1)","v":1592},0,{"$f":"TRUNC(F1037*I1037,1)","v":0},0,{"$f":"TRUNC(F1037*K1037,1)","v":0},{"$f":"TRUNC(G1037+I1037+K1037,1)","v":398},{"$f":"TRUNC(H1037+J1037+L1037,0)","v":1592},""]
["6913005","0513034","와샤(스텐)","M12","개",8,29.8,{"$f":"TRUNC(F1038*G1038,1)","v":238.4},0,{"$f":"TRUNC(F1038*I1038,1)","v":0},0,{"$f":"TRUNC(F1038*K1038,1)","v":0},{"$f":"TRUNC(G1038+I1038+K1038,1)","v":29.8},{"$f":"TRUNC(H1038+J1038+L1038,0)","v":238},""]
["6913005","6199005","후렌지패킹","3.2MMxD40","EA",1,323,{"$f":"TRUNC(F1039*G1039,1)","v":323},0,{"$f":"TRUNC(F1039*I1039,1)","v":0},0,{"$f":"TRUNC(F1039*K1039,1)","v":0},{"$f":"TRUNC(G1039+I1039+K1039,1)","v":323},{"$f":"TRUNC(H1039+J1039+L1039,0)","v":323},""]
["6913005","6906005","스텐관용접","D40","개소",1,1251,{"$f":"TRUNC(F1040*G1040,1)","v":1251},19379,{"$f":"TRUNC(F1040*I1040,1)","v":19379},387,{"$f":"TRUNC(F1040*K1040,1)","v":387},{"$f":"TRUNC(G1040+I1040+K1040,1)","v":21017},{"$f":"TRUNC(H1040+J1040+L1040,0)","v":21017},""]
[null,null,"[ 합           계 ]",{"$nulls":4},{"$f":"TRUNC(SUM(H1036:H1040),0)","v":13414},null,{"$f":"TRUNC(SUM(J1036:J1040),0)","v":19379},null,{"$f":"TRUNC(SUM(L1036:L1040),0)","v":387},null,{"$f":"H1041+J1041+L1041","v":33180}]
[]
[null,null,"6913006  스텐용접합후렌지  D50  개소"]
["6913006","5115349","SUS 후렌지 (10KG)","D50","EA",1,12220,{"$f":"TRUNC(F1044*G1044,1)","v":12220},0,{"$f":"TRUNC(F1044*I1044,1)","v":0},0,{"$f":"TRUNC(F1044*K1044,1)","v":0},{"$f":"TRUNC(G1044+I1044+K1044,1)","v":12220},{"$f":"TRUNC(H1044+J1044+L1044,0)","v":12220},""]
["6913006","0503056","스텐레스볼트","M12  L60","개",4,398,{"$f":"TRUNC(F1045*G1045,1)","v":1592},0,{"$f":"TRUNC(F1045*I1045,1)","v":0},0,{"$f":"TRUNC(F1045*K1045,1)","v":0},{"$f":"TRUNC(G1045+I1045+K1045,1)","v":398},{"$f":"TRUNC(H1045+J1045+L1045,0)","v":1592},""]
["6913006","0513034","와샤(스텐)","M12","개",8,29.8,{"$f":"TRUNC(F1046*G1046,1)","v":238.4},0,{"$f":"TRUNC(F1046*I1046,1)","v":0},0,{"$f":"TRUNC(F1046*K1046,1)","v":0},{"$f":"TRUNC(G1046+I1046+K1046,1)","v":29.8},{"$f":"TRUNC(H1046+J1046+L1046,0)","v":238},""]
["6913006","6199006","후렌지패킹","3.2MMxD50","EA",1,436,{"$f":"TRUNC(F1047*G1047,1)","v":436},0,{"$f":"TRUNC(F1047*I1047,1)","v":0},0,{"$f":"TRUNC(F1047*K1047,1)","v":0},{"$f":"TRUNC(G1047+I1047+K1047,1)","v":436},{"$f":"TRUNC(H1047+J1047+L1047,0)","v":436},""]
["6913006","6906006","스텐관용접","D50","개소",1,1692,{"$f":"TRUNC(F1048*G1048,1)","v":1692},22839,{"$f":"TRUNC(F1048*I1048,1)","v":22839},456,{"$f":"TRUNC(F1048*K1048,1)","v":456},{"$f":"TRUNC(G1048+I1048+K1048,1)","v":24987},{"$f":"TRUNC(H1048+J1048+L1048,0)","v":24987},""]
[null,null,"[ 합           계 ]",{"$nulls":4},{"$f":"TRUNC(SUM(H1044:H1048),0)","v":16178},null,{"$f":"TRUNC(SUM(J1044:J1048),0)","v":22839},null,{"$f":"TRUNC(SUM(L1044:L1048),0)","v":456},null,{"$f":"H1049+J1049+L1049","v":39473}]
[]
[null,null,"6913007  스텐용접합후렌지  D65  개소"]
["6913007","5115350","SUS 후렌지 (10KG)","D65","EA",1,16575,{"$f":"TRUNC(F1052*G1052,1)","v":16575},0,{"$f":"TRUNC(F1052*I1052,1)","v":0},0,{"$f":"TRUNC(F1052*K1052,1)","v":0},{"$f":"TRUNC(G1052+I1052+K1052,1)","v":16575},{"$f":"TRUNC(H1052+J1052+L1052,0)","v":16575},""]
["6913007","0503056","스텐레스볼트","M12  L60","개",4,398,{"$f":"TRUNC(F1053*G1053,1)","v":1592},0,{"$f":"TRUNC(F1053*I1053,1)","v":0},0,{"$f":"TRUNC(F1053*K1053,1)","v":0},{"$f":"TRUNC(G1053+I1053+K1053,1)","v":398},{"$f":"TRUNC(H1053+J1053+L1053,0)","v":1592},""]
["6913007","0513034","와샤(스텐)","M12","개",8,29.8,{"$f":"TRUNC(F1054*G1054,1)","v":238.4},0,{"$f":"TRUNC(F1054*I1054,1)","v":0},0,{"$f":"TRUNC(F1054*K1054,1)","v":0},{"$f":"TRUNC(G1054+I1054+K1054,1)","v":29.8},{"$f":"TRUNC(H1054+J1054+L1054,0)","v":238},""]
["6913007","6199007","후렌지패킹","3.2MMxD65","EA",1,525,{"$f":"TRUNC(F1055*G1055,1)","v":525},0,{"$f":"TRUNC(F1055*I1055,1)","v":0},0,{"$f":"TRUNC(F1055*K1055,1)","v":0},{"$f":"TRUNC(G1055+I1055+K1055,1)","v":525},{"$f":"TRUNC(H1055+J1055+L1055,0)","v":525},""]
["6913007","6906007","스텐관용접","D65","개소",1,3287,{"$f":"TRUNC(F1056*G1056,1)","v":3287},27454,{"$f":"TRUNC(F1056*I1056,1)","v":27454},549,{"$f":"TRUNC(F1056*K1056,1)","v":549},{"$f":"TRUNC(G1056+I1056+K1056,1)","v":31290},{"$f":"TRUNC(H1056+J1056+L1056,0)","v":31290},""]
[null,null,"[ 합           계 ]",{"$nulls":4},{"$f":"TRUNC(SUM(H1052:H1056),0)","v":22217},null,{"$f":"TRUNC(SUM(J1052:J1056),0)","v":27454},null,{"$f":"TRUNC(SUM(L1052:L1056),0)","v":549},null,{"$f":"H1057+J1057+L1057","v":50220}]
[]
[null,null,"6913008  스텐용접합후렌지  D80  개소"]
["6913008","5115351","SUS 후렌지 (10KG)","D80","EA",1,17810,{"$f":"TRUNC(F1060*G1060,1)","v":17810},0,{"$f":"TRUNC(F1060*I1060,1)","v":0},0,{"$f":"TRUNC(F1060*K1060,1)","v":0},{"$f":"TRUNC(G1060+I1060+K1060,1)","v":17810},{"$f":"TRUNC(H1060+J1060+L1060,0)","v":17810},""]
["6913008","0503057","스텐레스볼트","M12  L70","개",8,445,{"$f":"TRUNC(F1061*G1061,1)","v":3560},0,{"$f":"TRUNC(F1061*I1061,1)","v":0},0,{"$f":"TRUNC(F1061*K1061,1)","v":0},{"$f":"TRUNC(G1061+I1061+K1061,1)","v":445},{"$f":"TRUNC(H1061+J1061+L1061,0)","v":3560},""]
["6913008","0513034","와샤(스텐)","M12","개",16,29.8,{"$f":"TRUNC(F1062*G1062,1)","v":476.8},0,{"$f":"TRUNC(F1062*I1062,1)","v":0},0,{"$f":"TRUNC(F1062*K1062,1)","v":0},{"$f":"TRUNC(G1062+I1062+K1062,1)","v":29.8},{"$f":"TRUNC(H1062+J1062+L1062,0)","v":476},""]
["6913008","6199008","후렌지패킹","3.2MMxD80","EA",1,812,{"$f":"TRUNC(F1063*G1063,1)","v":812},0,{"$f":"TRUNC(F1063*I1063,1)","v":0},0,{"$f":"TRUNC(F1063*K1063,1)","v":0},{"$f":"TRUNC(G1063+I1063+K1063,1)","v":812},{"$f":"TRUNC(H1063+J1063+L1063,0)","v":812},""]
["6913008","6906008","스텐관용접","D80","개소",1,4146,{"$f":"TRUNC(F1064*G1064,1)","v":4146},31145,{"$f":"TRUNC(F1064*I1064,1)","v":31145},622,{"$f":"TRUNC(F1064*K1064,1)","v":622},{"$f":"TRUNC(G1064+I1064+K1064,1)","v":35913},{"$f":"TRUNC(H1064+J1064+L1064,0)","v":35913},""]
[null,null,"[ 합           계 ]",{"$nulls":4},{"$f":"TRUNC(SUM(H1060:H1064),0)","v":26804},null,{"$f":"TRUNC(SUM(J1060:J1064),0)","v":31145},null,{"$f":"TRUNC(SUM(L1060:L1064),0)","v":622},null,{"$f":"H1065+J1065+L1065","v":58571}]
[]
[null,null,"6913009  스텐용접합후렌지  D100  개소"]
["6913009","5115352","SUS 후렌지 (10KG)","D100","EA",1,20800,{"$f":"TRUNC(F1068*G1068,1)","v":20800},0,{"$f":"TRUNC(F1068*I1068,1)","v":0},0,{"$f":"TRUNC(F1068*K1068,1)","v":0},{"$f":"TRUNC(G1068+I1068+K1068,1)","v":20800},{"$f":"TRUNC(H1068+J1068+L1068,0)","v":20800},""]
["6913009","0503057","스텐레스볼트","M12  L70","개",8,445,{"$f":"TRUNC(F1069*G1069,1)","v":3560},0,{"$f":"TRUNC(F1069*I1069,1)","v":0},0,{"$f":"TRUNC(F1069*K1069,1)","v":0},{"$f":"TRUNC(G1069+I1069+K1069,1)","v":445},{"$f":"TRUNC(H1069+J1069+L1069,0)","v":3560},""]
["6913009","0513034","와샤(스텐)","M12","개",16,29.8,{"$f":"TRUNC(F1070*G1070,1)","v":476.8},0,{"$f":"TRUNC(F1070*I1070,1)","v":0},0,{"$f":"TRUNC(F1070*K1070,1)","v":0},{"$f":"TRUNC(G1070+I1070+K1070,1)","v":29.8},{"$f":"TRUNC(H1070+J1070+L1070,0)","v":476},""]
["6913009","6199009","후렌지패킹","3.2MMxD100","EA",1,1341,{"$f":"TRUNC(F1071*G1071,1)","v":1341},0,{"$f":"TRUNC(F1071*I1071,1)","v":0},0,{"$f":"TRUNC(F1071*K1071,1)","v":0},{"$f":"TRUNC(G1071+I1071+K1071,1)","v":1341},{"$f":"TRUNC(H1071+J1071+L1071,0)","v":1341},""]
["6913009","6906009","스텐관용접","D100","개소",1,6381,{"$f":"TRUNC(F1072*G1072,1)","v":6381},38527,{"$f":"TRUNC(F1072*I1072,1)","v":38527},770,{"$f":"TRUNC(F1072*K1072,1)","v":770},{"$f":"TRUNC(G1072+I1072+K1072,1)","v":45678},{"$f":"TRUNC(H1072+J1072+L1072,0)","v":45678},""]
[null,null,"[ 합           계 ]",{"$nulls":4},{"$f":"TRUNC(SUM(H1068:H1072),0)","v":32558},null,{"$f":"TRUNC(SUM(J1068:J1072),0)","v":38527},null,{"$f":"TRUNC(SUM(L1068:L1072),0)","v":770},null,{"$f":"H1073+J1073+L1073","v":71855}]
[]
[null,null,"6913010  스텐용접합후렌지  D125  개소"]
["6913010","5115353","SUS 후렌지 (10KG)","D125","EA",1,30680,{"$f":"TRUNC(F1076*G1076,1)","v":30680},0,{"$f":"TRUNC(F1076*I1076,1)","v":0},0,{"$f":"TRUNC(F1076*K1076,1)","v":0},{"$f":"TRUNC(G1076+I1076+K1076,1)","v":30680},{"$f":"TRUNC(H1076+J1076+L1076,0)","v":30680},""]
["6913010","0503096","스텐레스볼트","M16  L80","개",8,899,{"$f":"TRUNC(F1077*G1077,1)","v":7192},0,{"$f":"TRUNC(F1077*I1077,1)","v":0},0,{"$f":"TRUNC(F1077*K1077,1)","v":0},{"$f":"TRUNC(G1077+I1077+K1077,1)","v":899},{"$f":"TRUNC(H1077+J1077+L1077,0)","v":7192},""]
["6913010","0513036","와샤(스텐)","M18","개",16,86.6,{"$f":"TRUNC(F1078*G1078,1)","v":1385.6},0,{"$f":"TRUNC(F1078*I1078,1)","v":0},0,{"$f":"TRUNC(F1078*K1078,1)","v":0},{"$f":"TRUNC(G1078+I1078+K1078,1)","v":86.6},{"$f":"TRUNC(H1078+J1078+L1078,0)","v":1385},""]
["6913010","6199010","후렌지패킹","3.2MMxD125","EA",1,1795,{"$f":"TRUNC(F1079*G1079,1)","v":1795},0,{"$f":"TRUNC(F1079*I1079,1)","v":0},0,{"$f":"TRUNC(F1079*K1079,1)","v":0},{"$f":"TRUNC(G1079+I1079+K1079,1)","v":1795},{"$f":"TRUNC(H1079+J1079+L1079,0)","v":1795},""]
["6913010","6906010","스텐관용접","D125","개소",1,9497,{"$f":"TRUNC(F1080*G1080,1)","v":9497},45910,{"$f":"TRUNC(F1080*I1080,1)","v":45910},918,{"$f":"TRUNC(F1080*K1080,1)","v":918},{"$f":"TRUNC(G1080+I1080+K1080,1)","v":56325},{"$f":"TRUNC(H1080+J1080+L1080,0)","v":56325},""]
[null,null,"[ 합           계 ]",{"$nulls":4},{"$f":"TRUNC(SUM(H1076:H1080),0)","v":50549},null,{"$f":"TRUNC(SUM(J1076:J1080),0)","v":45910},null,{"$f":"TRUNC(SUM(L1076:L1080),0)","v":918},null,{"$f":"H1081+J1081+L1081","v":97377}]
[]
[null,null,"6913011  스텐용접합후렌지  D150  개소"]
["6913011","5115354","SUS 후렌지 (10KG)","D150","EA",1,39520,{"$f":"TRUNC(F1084*G1084,1)","v":39520},0,{"$f":"TRUNC(F1084*I1084,1)","v":0},0,{"$f":"TRUNC(F1084*K1084,1)","v":0},{"$f":"TRUNC(G1084+I1084+K1084,1)","v":39520},{"$f":"TRUNC(H1084+J1084+L1084,0)","v":39520},""]
["6913011","0503096","스텐레스볼트","M16  L80","개",8,899,{"$f":"TRUNC(F1085*G1085,1)","v":7192},0,{"$f":"TRUNC(F1085*I1085,1)","v":0},0,{"$f":"TRUNC(F1085*K1085,1)","v":0},{"$f":"TRUNC(G1085+I1085+K1085,1)","v":899},{"$f":"TRUNC(H1085+J1085+L1085,0)","v":7192},""]
["6913011","0513036","와샤(스텐)","M18","개",16,86.6,{"$f":"TRUNC(F1086*G1086,1)","v":1385.6},0,{"$f":"TRUNC(F1086*I1086,1)","v":0},0,{"$f":"TRUNC(F1086*K1086,1)","v":0},{"$f":"TRUNC(G1086+I1086+K1086,1)","v":86.6},{"$f":"TRUNC(H1086+J1086+L1086,0)","v":1385},""]
["6913011","6199011","후렌지패킹","3.2MMxD150","EA",1,2173,{"$f":"TRUNC(F1087*G1087,1)","v":2173},0,{"$f":"TRUNC(F1087*I1087,1)","v":0},0,{"$f":"TRUNC(F1087*K1087,1)","v":0},{"$f":"TRUNC(G1087+I1087+K1087,1)","v":2173},{"$f":"TRUNC(H1087+J1087+L1087,0)","v":2173},""]
["6913011","6906011","스텐관용접","D150","개소",1,12008,{"$f":"TRUNC(F1088*G1088,1)","v":12008},53293,{"$f":"TRUNC(F1088*I1088,1)","v":53293},1065,{"$f":"TRUNC(F1088*K1088,1)","v":1065},{"$f":"TRUNC(G1088+I1088+K1088,1)","v":66366},{"$f":"TRUNC(H1088+J1088+L1088,0)","v":66366},""]
[null,null,"[ 합           계 ]",{"$nulls":4},{"$f":"TRUNC(SUM(H1084:H1088),0)","v":62278},null,{"$f":"TRUNC(SUM(J1084:J1088),0)","v":53293},null,{"$f":"TRUNC(SUM(L1084:L1088),0)","v":1065},null,{"$f":"H1089+J1089+L1089","v":116636}]
[]
[null,null,"6913012  스텐용접합후렌지  D200  개소"]
["6913012","5115355","SUS 후렌지 (10KG)","D200","EA",1,52585,{"$f":"TRUNC(F1092*G1092,1)","v":52585},0,{"$f":"TRUNC(F1092*I1092,1)","v":0},0,{"$f":"TRUNC(F1092*K1092,1)","v":0},{"$f":"TRUNC(G1092+I1092+K1092,1)","v":52585},{"$f":"TRUNC(H1092+J1092+L1092,0)","v":52585},""]
["6913012","0503096","스텐레스볼트","M16  L80","개",12,899,{"$f":"TRUNC(F1093*G1093,1)","v":10788},0,{"$f":"TRUNC(F1093*I1093,1)","v":0},0,{"$f":"TRUNC(F1093*K1093,1)","v":0},{"$f":"TRUNC(G1093+I1093+K1093,1)","v":899},{"$f":"TRUNC(H1093+J1093+L1093,0)","v":10788},""]
["6913012","0513036","와샤(스텐)","M18","개",24,86.6,{"$f":"TRUNC(F1094*G1094,1)","v":2078.4},0,{"$f":"TRUNC(F1094*I1094,1)","v":0},0,{"$f":"TRUNC(F1094*K1094,1)","v":0},{"$f":"TRUNC(G1094+I1094+K1094,1)","v":86.6},{"$f":"TRUNC(H1094+J1094+L1094,0)","v":2078},""]
["6913012","6199012","후렌지패킹","3.2MMxD200","EA",1,2702,{"$f":"TRUNC(F1095*G1095,1)","v":2702},0,{"$f":"TRUNC(F1095*I1095,1)","v":0},0,{"$f":"TRUNC(F1095*K1095,1)","v":0},{"$f":"TRUNC(G1095+I1095+K1095,1)","v":2702},{"$f":"TRUNC(H1095+J1095+L1095,0)","v":2702},""]
["6913012","6906012","스텐관용접","D200","개소",1,20192,{"$f":"TRUNC(F1096*G1096,1)","v":20192},68058,{"$f":"TRUNC(F1096*I1096,1)","v":68058},1361,{"$f":"TRUNC(F1096*K1096,1)","v":1361},{"$f":"TRUNC(G1096+I1096+K1096,1)","v":89611},{"$f":"TRUNC(H1096+J1096+L1096,0)","v":89611},""]
[null,null,"[ 합           계 ]",{"$nulls":4},{"$f":"TRUNC(SUM(H1092:H1096),0)","v":88345},null,{"$f":"TRUNC(SUM(J1092:J1096),0)","v":68058},null,{"$f":"TRUNC(SUM(L1092:L1096),0)","v":1361},null,{"$f":"H1097+J1097+L1097","v":157764}]
[]
[null,null,"6913013  스텐용접합후렌지  D250  개소"]
["6913013","5115356","SUS 후렌지 (10KG)","D250","EA",1,85150,{"$f":"TRUNC(F1100*G1100,1)","v":85150},0,{"$f":"TRUNC(F1100*I1100,1)","v":0},0,{"$f":"TRUNC(F1100*K1100,1)","v":0},{"$f":"TRUNC(G1100+I1100+K1100,1)","v":85150},{"$f":"TRUNC(H1100+J1100+L1100,0)","v":85150},""]
["6913013","0503126","스텐레스볼트","M20  L100","개",12,1851,{"$f":"TRUNC(F1101*G1101,1)","v":22212},0,{"$f":"TRUNC(F1101*I1101,1)","v":0},0,{"$f":"TRUNC(F1101*K1101,1)","v":0},{"$f":"TRUNC(G1101+I1101+K1101,1)","v":1851},{"$f":"TRUNC(H1101+J1101+L1101,0)","v":22212},""]
["6913013","0513037","와샤(스텐)","M20","개",24,100.8,{"$f":"TRUNC(F1102*G1102,1)","v":2419.1999999999998},0,{"$f":"TRUNC(F1102*I1102,1)","v":0},0,{"$f":"TRUNC(F1102*K1102,1)","v":0},{"$f":"TRUNC(G1102+I1102+K1102,1)","v":100.8},{"$f":"TRUNC(H1102+J1102+L1102,0)","v":2419},""]
["6913013","6199013","후렌지패킹","3.2MMxD250","EA",1,3657,{"$f":"TRUNC(F1103*G1103,1)","v":3657},0,{"$f":"TRUNC(F1103*I1103,1)","v":0},0,{"$f":"TRUNC(F1103*K1103,1)","v":0},{"$f":"TRUNC(G1103+I1103+K1103,1)","v":3657},{"$f":"TRUNC(H1103+J1103+L1103,0)","v":3657},""]
["6913013","6906013","스텐관용접","D250","개소",1,28852,{"$f":"TRUNC(F1104*G1104,1)","v":28852},82823,{"$f":"TRUNC(F1104*I1104,1)","v":82823},1656,{"$f":"TRUNC(F1104*K1104,1)","v":1656},{"$f":"TRUNC(G1104+I1104+K1104,1)","v":113331},{"$f":"TRUNC(H1104+J1104+L1104,0)","v":113331},""]
[null,null,"[ 합           계 ]",{"$nulls":4},{"$f":"TRUNC(SUM(H1100:H1104),0)","v":142290},null,{"$f":"TRUNC(SUM(J1100:J1104),0)","v":82823},null,{"$f":"TRUNC(SUM(L1100:L1104),0)","v":1656},null,{"$f":"H1105+J1105+L1105","v":226769}]
[]
[null,null,"6913014  스텐용접합후렌지  D300  개소"]
["6913014","5115357","SUS 후렌지 (10KG)","D300","EA",1,95095,{"$f":"TRUNC(F1108*G1108,1)","v":95095},0,{"$f":"TRUNC(F1108*I1108,1)","v":0},0,{"$f":"TRUNC(F1108*K1108,1)","v":0},{"$f":"TRUNC(G1108+I1108+K1108,1)","v":95095},{"$f":"TRUNC(H1108+J1108+L1108,0)","v":95095},""]
["6913014","0503126","스텐레스볼트","M20  L100","개",16,1851,{"$f":"TRUNC(F1109*G1109,1)","v":29616},0,{"$f":"TRUNC(F1109*I1109,1)","v":0},0,{"$f":"TRUNC(F1109*K1109,1)","v":0},{"$f":"TRUNC(G1109+I1109+K1109,1)","v":1851},{"$f":"TRUNC(H1109+J1109+L1109,0)","v":29616},""]
["6913014","0513037","와샤(스텐)","M20","개",32,100.8,{"$f":"TRUNC(F1110*G1110,1)","v":3225.6},0,{"$f":"TRUNC(F1110*I1110,1)","v":0},0,{"$f":"TRUNC(F1110*K1110,1)","v":0},{"$f":"TRUNC(G1110+I1110+K1110,1)","v":100.8},{"$f":"TRUNC(H1110+J1110+L1110,0)","v":3225},""]
["6913014","6199014","후렌지패킹","3.2MMxD300","EA",1,4082,{"$f":"TRUNC(F1111*G1111,1)","v":4082},0,{"$f":"TRUNC(F1111*I1111,1)","v":0},0,{"$f":"TRUNC(F1111*K1111,1)","v":0},{"$f":"TRUNC(G1111+I1111+K1111,1)","v":4082},{"$f":"TRUNC(H1111+J1111+L1111,0)","v":4082},""]
["6913014","6906014","스텐관용접","D300","개소",1,39298,{"$f":"TRUNC(F1112*G1112,1)","v":39298},97588,{"$f":"TRUNC(F1112*I1112,1)","v":97588},1951,{"$f":"TRUNC(F1112*K1112,1)","v":1951},{"$f":"TRUNC(G1112+I1112+K1112,1)","v":138837},{"$f":"TRUNC(H1112+J1112+L1112,0)","v":138837},""]
[null,null,"[ 합           계 ]",{"$nulls":4},{"$f":"TRUNC(SUM(H1108:H1112),0)","v":171316},null,{"$f":"TRUNC(SUM(J1108:J1112),0)","v":97588},null,{"$f":"TRUNC(SUM(L1108:L1112),0)","v":1951},null,{"$f":"H1113+J1113+L1113","v":270855}]
[]
[null,null,"6914001  스텐용접조후렌지  D15  개소"]
["6914001","5115344","SUS 후렌지 (10KG)","D15","EA",2,7475,{"$f":"TRUNC(F1116*G1116,1)","v":14950},0,{"$f":"TRUNC(F1116*I1116,1)","v":0},0,{"$f":"TRUNC(F1116*K1116,1)","v":0},{"$f":"TRUNC(G1116+I1116+K1116,1)","v":7475},{"$f":"TRUNC(H1116+J1116+L1116,0)","v":14950},""]
["6914001","0503035","스텐레스볼트","M10  L50","개",4,239,{"$f":"TRUNC(F1117*G1117,1)","v":956},0,{"$f":"TRUNC(F1117*I1117,1)","v":0},0,{"$f":"TRUNC(F1117*K1117,1)","v":0},{"$f":"TRUNC(G1117+I1117+K1117,1)","v":239},{"$f":"TRUNC(H1117+J1117+L1117,0)","v":956},""]
["6914001","0513033","와샤(스텐)","M10","개",8,21.3,{"$f":"TRUNC(F1118*G1118,1)","v":170.4},0,{"$f":"TRUNC(F1118*I1118,1)","v":0},0,{"$f":"TRUNC(F1118*K1118,1)","v":0},{"$f":"TRUNC(G1118+I1118+K1118,1)","v":21.3},{"$f":"TRUNC(H1118+J1118+L1118,0)","v":170},""]
["6914001","6199001","후렌지패킹","3.2MMxD15","EA",1,142,{"$f":"TRUNC(F1119*G1119,1)","v":142},0,{"$f":"TRUNC(F1119*I1119,1)","v":0},0,{"$f":"TRUNC(F1119*K1119,1)","v":0},{"$f":"TRUNC(G1119+I1119+K1119,1)","v":142},{"$f":"TRUNC(H1119+J1119+L1119,0)","v":142},""]
["6914001","6906001","스텐관용접","D15","개소",2,349,{"$f":"TRUNC(F1120*G1120,1)","v":698},11535,{"$f":"TRUNC(F1120*I1120,1)","v":23070},230,{"$f":"TRUNC(F1120*K1120,1)","v":460},{"$f":"TRUNC(G1120+I1120+K1120,1)","v":12114},{"$f":"TRUNC(H1120+J1120+L1120,0)","v":24228},""]
[null,null,"[ 합           계 ]",{"$nulls":4},{"$f":"TRUNC(SUM(H1116:H1120),0)","v":16916},null,{"$f":"TRUNC(SUM(J1116:J1120),0)","v":23070},null,{"$f":"TRUNC(SUM(L1116:L1120),0)","v":460},null,{"$f":"H1121+J1121+L1121","v":40446}]
[]
[null,null,"6914002  스텐용접조후렌지  D20  개소"]
["6914002","5115345","SUS 후렌지 (10KG)","D20","EA",2,7865,{"$f":"TRUNC(F1124*G1124,1)","v":15730},0,{"$f":"TRUNC(F1124*I1124,1)","v":0},0,{"$f":"TRUNC(F1124*K1124,1)","v":0},{"$f":"TRUNC(G1124+I1124+K1124,1)","v":7865},{"$f":"TRUNC(H1124+J1124+L1124,0)","v":15730},""]
["6914002","0503035","스텐레스볼트","M10  L50","개",4,239,{"$f":"TRUNC(F1125*G1125,1)","v":956},0,{"$f":"TRUNC(F1125*I1125,1)","v":0},0,{"$f":"TRUNC(F1125*K1125,1)","v":0},{"$f":"TRUNC(G1125+I1125+K1125,1)","v":239},{"$f":"TRUNC(H1125+J1125+L1125,0)","v":956},""]
["6914002","0513033","와샤(스텐)","M10","개",8,21.3,{"$f":"TRUNC(F1126*G1126,1)","v":170.4},0,{"$f":"TRUNC(F1126*I1126,1)","v":0},0,{"$f":"TRUNC(F1126*K1126,1)","v":0},{"$f":"TRUNC(G1126+I1126+K1126,1)","v":21.3},{"$f":"TRUNC(H1126+J1126+L1126,0)","v":170},""]
["6914002","6199002","후렌지패킹","3.2MMxD20","EA",1,157,{"$f":"TRUNC(F1127*G1127,1)","v":157},0,{"$f":"TRUNC(F1127*I1127,1)","v":0},0,{"$f":"TRUNC(F1127*K1127,1)","v":0},{"$f":"TRUNC(G1127+I1127+K1127,1)","v":157},{"$f":"TRUNC(H1127+J1127+L1127,0)","v":157},""]
["6914002","6906002","스텐관용접","D20","개소",2,547,{"$f":"TRUNC(F1128*G1128,1)","v":1094},13150,{"$f":"TRUNC(F1128*I1128,1)","v":26300},263,{"$f":"TRUNC(F1128*K1128,1)","v":526},{"$f":"TRUNC(G1128+I1128+K1128,1)","v":13960},{"$f":"TRUNC(H1128+J1128+L1128,0)","v":27920},""]
[null,null,"[ 합           계 ]",{"$nulls":4},{"$f":"TRUNC(SUM(H1124:H1128),0)","v":18107},null,{"$f":"TRUNC(SUM(J1124:J1128),0)","v":26300},null,{"$f":"TRUNC(SUM(L1124:L1128),0)","v":526},null,{"$f":"H1129+J1129+L1129","v":44933}]
[]
[null,null,"6914003  스텐용접조후렌지  D25  개소"]
["6914003","5115346","SUS 후렌지 (10KG)","D25","EA",2,8710,{"$f":"TRUNC(F1132*G1132,1)","v":17420},0,{"$f":"TRUNC(F1132*I1132,1)","v":0},0,{"$f":"TRUNC(F1132*K1132,1)","v":0},{"$f":"TRUNC(G1132+I1132+K1132,1)","v":8710},{"$f":"TRUNC(H1132+J1132+L1132,0)","v":17420},""]
["6914003","0503056","스텐레스볼트","M12  L60","개",4,398,{"$f":"TRUNC(F1133*G1133,1)","v":1592},0,{"$f":"TRUNC(F1133*I1133,1)","v":0},0,{"$f":"TRUNC(F1133*K1133,1)","v":0},{"$f":"TRUNC(G1133+I1133+K1133,1)","v":398},{"$f":"TRUNC(H1133+J1133+L1133,0)","v":1592},""]
["6914003","0513034","와샤(스텐)","M12","개",8,29.8,{"$f":"TRUNC(F1134*G1134,1)","v":238.4},0,{"$f":"TRUNC(F1134*I1134,1)","v":0},0,{"$f":"TRUNC(F1134*K1134,1)","v":0},{"$f":"TRUNC(G1134+I1134+K1134,1)","v":29.8},{"$f":"TRUNC(H1134+J1134+L1134,0)","v":238},""]
["6914003","6199003","후렌지패킹","3.2MMxD25","EA",1,217,{"$f":"TRUNC(F1135*G1135,1)","v":217},0,{"$f":"TRUNC(F1135*I1135,1)","v":0},0,{"$f":"TRUNC(F1135*K1135,1)","v":0},{"$f":"TRUNC(G1135+I1135+K1135,1)","v":217},{"$f":"TRUNC(H1135+J1135+L1135,0)","v":217},""]
["6914003","6906003","스텐관용접","D25","개소",2,769,{"$f":"TRUNC(F1136*G1136,1)","v":1538},15226,{"$f":"TRUNC(F1136*I1136,1)","v":30452},304,{"$f":"TRUNC(F1136*K1136,1)","v":608},{"$f":"TRUNC(G1136+I1136+K1136,1)","v":16299},{"$f":"TRUNC(H1136+J1136+L1136,0)","v":32598},""]
[null,null,"[ 합           계 ]",{"$nulls":4},{"$f":"TRUNC(SUM(H1132:H1136),0)","v":21005},null,{"$f":"TRUNC(SUM(J1132:J1136),0)","v":30452},null,{"$f":"TRUNC(SUM(L1132:L1136),0)","v":608},null,{"$f":"H1137+J1137+L1137","v":52065}]
[]
[null,null,"6914004  스텐용접조후렌지  D32  개소"]
["6914004","5115347","SUS 후렌지 (10KG)","D32","EA",2,9425,{"$f":"TRUNC(F1140*G1140,1)","v":18850},0,{"$f":"TRUNC(F1140*I1140,1)","v":0},0,{"$f":"TRUNC(F1140*K1140,1)","v":0},{"$f":"TRUNC(G1140+I1140+K1140,1)","v":9425},{"$f":"TRUNC(H1140+J1140+L1140,0)","v":18850},""]
["6914004","0503056","스텐레스볼트","M12  L60","개",4,398,{"$f":"TRUNC(F1141*G1141,1)","v":1592},0,{"$f":"TRUNC(F1141*I1141,1)","v":0},0,{"$f":"TRUNC(F1141*K1141,1)","v":0},{"$f":"TRUNC(G1141+I1141+K1141,1)","v":398},{"$f":"TRUNC(H1141+J1141+L1141,0)","v":1592},""]
["6914004","0513034","와샤(스텐)","M12","개",8,29.8,{"$f":"TRUNC(F1142*G1142,1)","v":238.4},0,{"$f":"TRUNC(F1142*I1142,1)","v":0},0,{"$f":"TRUNC(F1142*K1142,1)","v":0},{"$f":"TRUNC(G1142+I1142+K1142,1)","v":29.8},{"$f":"TRUNC(H1142+J1142+L1142,0)","v":238},""]
["6914004","6199004","후렌지패킹","3.2MMxD32","EA",1,279,{"$f":"TRUNC(F1143*G1143,1)","v":279},0,{"$f":"TRUNC(F1143*I1143,1)","v":0},0,{"$f":"TRUNC(F1143*K1143,1)","v":0},{"$f":"TRUNC(G1143+I1143+K1143,1)","v":279},{"$f":"TRUNC(H1143+J1143+L1143,0)","v":279},""]
["6914004","6906004","스텐관용접","D32","개소",2,934,{"$f":"TRUNC(F1144*G1144,1)","v":1868},17764,{"$f":"TRUNC(F1144*I1144,1)","v":35528},355,{"$f":"TRUNC(F1144*K1144,1)","v":710},{"$f":"TRUNC(G1144+I1144+K1144,1)","v":19053},{"$f":"TRUNC(H1144+J1144+L1144,0)","v":38106},""]
[null,null,"[ 합           계 ]",{"$nulls":4},{"$f":"TRUNC(SUM(H1140:H1144),0)","v":22827},null,{"$f":"TRUNC(SUM(J1140:J1144),0)","v":35528},null,{"$f":"TRUNC(SUM(L1140:L1144),0)","v":710},null,{"$f":"H1145+J1145+L1145","v":59065}]
[]
[null,null,"6914005  스텐용접조후렌지  D40  개소"]
["6914005","5115348","SUS 후렌지 (10KG)","D40","EA",2,10010,{"$f":"TRUNC(F1148*G1148,1)","v":20020},0,{"$f":"TRUNC(F1148*I1148,1)","v":0},0,{"$f":"TRUNC(F1148*K1148,1)","v":0},{"$f":"TRUNC(G1148+I1148+K1148,1)","v":10010},{"$f":"TRUNC(H1148+J1148+L1148,0)","v":20020},""]
["6914005","0503056","스텐레스볼트","M12  L60","개",4,398,{"$f":"TRUNC(F1149*G1149,1)","v":1592},0,{"$f":"TRUNC(F1149*I1149,1)","v":0},0,{"$f":"TRUNC(F1149*K1149,1)","v":0},{"$f":"TRUNC(G1149+I1149+K1149,1)","v":398},{"$f":"TRUNC(H1149+J1149+L1149,0)","v":1592},""]
["6914005","0513034","와샤(스텐)","M12","개",8,29.8,{"$f":"TRUNC(F1150*G1150,1)","v":238.4},0,{"$f":"TRUNC(F1150*I1150,1)","v":0},0,{"$f":"TRUNC(F1150*K1150,1)","v":0},{"$f":"TRUNC(G1150+I1150+K1150,1)","v":29.8},{"$f":"TRUNC(H1150+J1150+L1150,0)","v":238},""]
["6914005","6199005","후렌지패킹","3.2MMxD40","EA",1,323,{"$f":"TRUNC(F1151*G1151,1)","v":323},0,{"$f":"TRUNC(F1151*I1151,1)","v":0},0,{"$f":"TRUNC(F1151*K1151,1)","v":0},{"$f":"TRUNC(G1151+I1151+K1151,1)","v":323},{"$f":"TRUNC(H1151+J1151+L1151,0)","v":323},""]
["6914005","6906005","스텐관용접","D40","개소",2,1251,{"$f":"TRUNC(F1152*G1152,1)","v":2502},19379,{"$f":"TRUNC(F1152*I1152,1)","v":38758},387,{"$f":"TRUNC(F1152*K1152,1)","v":774},{"$f":"TRUNC(G1152+I1152+K1152,1)","v":21017},{"$f":"TRUNC(H1152+J1152+L1152,0)","v":42034},""]
[null,null,"[ 합           계 ]",{"$nulls":4},{"$f":"TRUNC(SUM(H1148:H1152),0)","v":24675},null,{"$f":"TRUNC(SUM(J1148:J1152),0)","v":38758},null,{"$f":"TRUNC(SUM(L1148:L1152),0)","v":774},null,{"$f":"H1153+J1153+L1153","v":64207}]
[]
[null,null,"6914006  스텐용접조후렌지  D50  개소"]
["6914006","5115349","SUS 후렌지 (10KG)","D50","EA",2,12220,{"$f":"TRUNC(F1156*G1156,1)","v":24440},0,{"$f":"TRUNC(F1156*I1156,1)","v":0},0,{"$f":"TRUNC(F1156*K1156,1)","v":0},{"$f":"TRUNC(G1156+I1156+K1156,1)","v":12220},{"$f":"TRUNC(H1156+J1156+L1156,0)","v":24440},""]
["6914006","0503056","스텐레스볼트","M12  L60","개",4,398,{"$f":"TRUNC(F1157*G1157,1)","v":1592},0,{"$f":"TRUNC(F1157*I1157,1)","v":0},0,{"$f":"TRUNC(F1157*K1157,1)","v":0},{"$f":"TRUNC(G1157+I1157+K1157,1)","v":398},{"$f":"TRUNC(H1157+J1157+L1157,0)","v":1592},""]
["6914006","0513034","와샤(스텐)","M12","개",8,29.8,{"$f":"TRUNC(F1158*G1158,1)","v":238.4},0,{"$f":"TRUNC(F1158*I1158,1)","v":0},0,{"$f":"TRUNC(F1158*K1158,1)","v":0},{"$f":"TRUNC(G1158+I1158+K1158,1)","v":29.8},{"$f":"TRUNC(H1158+J1158+L1158,0)","v":238},""]
["6914006","6199006","후렌지패킹","3.2MMxD50","EA",1,436,{"$f":"TRUNC(F1159*G1159,1)","v":436},0,{"$f":"TRUNC(F1159*I1159,1)","v":0},0,{"$f":"TRUNC(F1159*K1159,1)","v":0},{"$f":"TRUNC(G1159+I1159+K1159,1)","v":436},{"$f":"TRUNC(H1159+J1159+L1159,0)","v":436},""]
["6914006","6906006","스텐관용접","D50","개소",2,1692,{"$f":"TRUNC(F1160*G1160,1)","v":3384},22839,{"$f":"TRUNC(F1160*I1160,1)","v":45678},456,{"$f":"TRUNC(F1160*K1160,1)","v":912},{"$f":"TRUNC(G1160+I1160+K1160,1)","v":24987},{"$f":"TRUNC(H1160+J1160+L1160,0)","v":49974},""]
[null,null,"[ 합           계 ]",{"$nulls":4},{"$f":"TRUNC(SUM(H1156:H1160),0)","v":30090},null,{"$f":"TRUNC(SUM(J1156:J1160),0)","v":45678},null,{"$f":"TRUNC(SUM(L1156:L1160),0)","v":912},null,{"$f":"H1161+J1161+L1161","v":76680}]
[]
[null,null,"6914007  스텐용접조후렌지  D65  개소"]
["6914007","5115350","SUS 후렌지 (10KG)","D65","EA",2,16575,{"$f":"TRUNC(F1164*G1164,1)","v":33150},0,{"$f":"TRUNC(F1164*I1164,1)","v":0},0,{"$f":"TRUNC(F1164*K1164,1)","v":0},{"$f":"TRUNC(G1164+I1164+K1164,1)","v":16575},{"$f":"TRUNC(H1164+J1164+L1164,0)","v":33150},""]
["6914007","0503056","스텐레스볼트","M12  L60","개",4,398,{"$f":"TRUNC(F1165*G1165,1)","v":1592},0,{"$f":"TRUNC(F1165*I1165,1)","v":0},0,{"$f":"TRUNC(F1165*K1165,1)","v":0},{"$f":"TRUNC(G1165+I1165+K1165,1)","v":398},{"$f":"TRUNC(H1165+J1165+L1165,0)","v":1592},""]
["6914007","0513034","와샤(스텐)","M12","개",8,29.8,{"$f":"TRUNC(F1166*G1166,1)","v":238.4},0,{"$f":"TRUNC(F1166*I1166,1)","v":0},0,{"$f":"TRUNC(F1166*K1166,1)","v":0},{"$f":"TRUNC(G1166+I1166+K1166,1)","v":29.8},{"$f":"TRUNC(H1166+J1166+L1166,0)","v":238},""]
["6914007","6199007","후렌지패킹","3.2MMxD65","EA",1,525,{"$f":"TRUNC(F1167*G1167,1)","v":525},0,{"$f":"TRUNC(F1167*I1167,1)","v":0},0,{"$f":"TRUNC(F1167*K1167,1)","v":0},{"$f":"TRUNC(G1167+I1167+K1167,1)","v":525},{"$f":"TRUNC(H1167+J1167+L1167,0)","v":525},""]
["6914007","6906007","스텐관용접","D65","개소",2,3287,{"$f":"TRUNC(F1168*G1168,1)","v":6574},27454,{"$f":"TRUNC(F1168*I1168,1)","v":54908},549,{"$f":"TRUNC(F1168*K1168,1)","v":1098},{"$f":"TRUNC(G1168+I1168+K1168,1)","v":31290},{"$f":"TRUNC(H1168+J1168+L1168,0)","v":62580},""]
[null,null,"[ 합           계 ]",{"$nulls":4},{"$f":"TRUNC(SUM(H1164:H1168),0)","v":42079},null,{"$f":"TRUNC(SUM(J1164:J1168),0)","v":54908},null,{"$f":"TRUNC(SUM(L1164:L1168),0)","v":1098},null,{"$f":"H1169+J1169+L1169","v":98085}]
[]
[null,null,"6914008  스텐용접조후렌지  D80  개소"]
["6914008","5115351","SUS 후렌지 (10KG)","D80","EA",2,17810,{"$f":"TRUNC(F1172*G1172,1)","v":35620},0,{"$f":"TRUNC(F1172*I1172,1)","v":0},0,{"$f":"TRUNC(F1172*K1172,1)","v":0},{"$f":"TRUNC(G1172+I1172+K1172,1)","v":17810},{"$f":"TRUNC(H1172+J1172+L1172,0)","v":35620},""]
["6914008","0503057","스텐레스볼트","M12  L70","개",8,445,{"$f":"TRUNC(F1173*G1173,1)","v":3560},0,{"$f":"TRUNC(F1173*I1173,1)","v":0},0,{"$f":"TRUNC(F1173*K1173,1)","v":0},{"$f":"TRUNC(G1173+I1173+K1173,1)","v":445},{"$f":"TRUNC(H1173+J1173+L1173,0)","v":3560},""]
["6914008","0513034","와샤(스텐)","M12","개",16,29.8,{"$f":"TRUNC(F1174*G1174,1)","v":476.8},0,{"$f":"TRUNC(F1174*I1174,1)","v":0},0,{"$f":"TRUNC(F1174*K1174,1)","v":0},{"$f":"TRUNC(G1174+I1174+K1174,1)","v":29.8},{"$f":"TRUNC(H1174+J1174+L1174,0)","v":476},""]
["6914008","6199008","후렌지패킹","3.2MMxD80","EA",1,812,{"$f":"TRUNC(F1175*G1175,1)","v":812},0,{"$f":"TRUNC(F1175*I1175,1)","v":0},0,{"$f":"TRUNC(F1175*K1175,1)","v":0},{"$f":"TRUNC(G1175+I1175+K1175,1)","v":812},{"$f":"TRUNC(H1175+J1175+L1175,0)","v":812},""]
["6914008","6906008","스텐관용접","D80","개소",2,4146,{"$f":"TRUNC(F1176*G1176,1)","v":8292},31145,{"$f":"TRUNC(F1176*I1176,1)","v":62290},622,{"$f":"TRUNC(F1176*K1176,1)","v":1244},{"$f":"TRUNC(G1176+I1176+K1176,1)","v":35913},{"$f":"TRUNC(H1176+J1176+L1176,0)","v":71826},""]
[null,null,"[ 합           계 ]",{"$nulls":4},{"$f":"TRUNC(SUM(H1172:H1176),0)","v":48760},null,{"$f":"TRUNC(SUM(J1172:J1176),0)","v":62290},null,{"$f":"TRUNC(SUM(L1172:L1176),0)","v":1244},null,{"$f":"H1177+J1177+L1177","v":112294}]
[]
[null,null,"6914009  스텐용접조후렌지  D100  개소"]
["6914009","5115352","SUS 후렌지 (10KG)","D100","EA",2,20800,{"$f":"TRUNC(F1180*G1180,1)","v":41600},0,{"$f":"TRUNC(F1180*I1180,1)","v":0},0,{"$f":"TRUNC(F1180*K1180,1)","v":0},{"$f":"TRUNC(G1180+I1180+K1180,1)","v":20800},{"$f":"TRUNC(H1180+J1180+L1180,0)","v":41600},""]
["6914009","0503057","스텐레스볼트","M12  L70","개",8,445,{"$f":"TRUNC(F1181*G1181,1)","v":3560},0,{"$f":"TRUNC(F1181*I1181,1)","v":0},0,{"$f":"TRUNC(F1181*K1181,1)","v":0},{"$f":"TRUNC(G1181+I1181+K1181,1)","v":445},{"$f":"TRUNC(H1181+J1181+L1181,0)","v":3560},""]
["6914009","0513034","와샤(스텐)","M12","개",16,29.8,{"$f":"TRUNC(F1182*G1182,1)","v":476.8},0,{"$f":"TRUNC(F1182*I1182,1)","v":0},0,{"$f":"TRUNC(F1182*K1182,1)","v":0},{"$f":"TRUNC(G1182+I1182+K1182,1)","v":29.8},{"$f":"TRUNC(H1182+J1182+L1182,0)","v":476},""]
["6914009","6199009","후렌지패킹","3.2MMxD100","EA",1,1341,{"$f":"TRUNC(F1183*G1183,1)","v":1341},0,{"$f":"TRUNC(F1183*I1183,1)","v":0},0,{"$f":"TRUNC(F1183*K1183,1)","v":0},{"$f":"TRUNC(G1183+I1183+K1183,1)","v":1341},{"$f":"TRUNC(H1183+J1183+L1183,0)","v":1341},""]
["6914009","6906009","스텐관용접","D100","개소",2,6381,{"$f":"TRUNC(F1184*G1184,1)","v":12762},38527,{"$f":"TRUNC(F1184*I1184,1)","v":77054},770,{"$f":"TRUNC(F1184*K1184,1)","v":1540},{"$f":"TRUNC(G1184+I1184+K1184,1)","v":45678},{"$f":"TRUNC(H1184+J1184+L1184,0)","v":91356},""]
[null,null,"[ 합           계 ]",{"$nulls":4},{"$f":"TRUNC(SUM(H1180:H1184),0)","v":59739},null,{"$f":"TRUNC(SUM(J1180:J1184),0)","v":77054},null,{"$f":"TRUNC(SUM(L1180:L1184),0)","v":1540},null,{"$f":"H1185+J1185+L1185","v":138333}]
[]
[null,null,"6914010  스텐용접조후렌지  D125  개소"]
["6914010","5115353","SUS 후렌지 (10KG)","D125","EA",2,30680,{"$f":"TRUNC(F1188*G1188,1)","v":61360},0,{"$f":"TRUNC(F1188*I1188,1)","v":0},0,{"$f":"TRUNC(F1188*K1188,1)","v":0},{"$f":"TRUNC(G1188+I1188+K1188,1)","v":30680},{"$f":"TRUNC(H1188+J1188+L1188,0)","v":61360},""]
["6914010","0503096","스텐레스볼트","M16  L80","개",8,899,{"$f":"TRUNC(F1189*G1189,1)","v":7192},0,{"$f":"TRUNC(F1189*I1189,1)","v":0},0,{"$f":"TRUNC(F1189*K1189,1)","v":0},{"$f":"TRUNC(G1189+I1189+K1189,1)","v":899},{"$f":"TRUNC(H1189+J1189+L1189,0)","v":7192},""]
["6914010","0513036","와샤(스텐)","M18","개",16,86.6,{"$f":"TRUNC(F1190*G1190,1)","v":1385.6},0,{"$f":"TRUNC(F1190*I1190,1)","v":0},0,{"$f":"TRUNC(F1190*K1190,1)","v":0},{"$f":"TRUNC(G1190+I1190+K1190,1)","v":86.6},{"$f":"TRUNC(H1190+J1190+L1190,0)","v":1385},""]
["6914010","6199010","후렌지패킹","3.2MMxD125","EA",1,1795,{"$f":"TRUNC(F1191*G1191,1)","v":1795},0,{"$f":"TRUNC(F1191*I1191,1)","v":0},0,{"$f":"TRUNC(F1191*K1191,1)","v":0},{"$f":"TRUNC(G1191+I1191+K1191,1)","v":1795},{"$f":"TRUNC(H1191+J1191+L1191,0)","v":1795},""]
["6914010","6906010","스텐관용접","D125","개소",2,9497,{"$f":"TRUNC(F1192*G1192,1)","v":18994},45910,{"$f":"TRUNC(F1192*I1192,1)","v":91820},918,{"$f":"TRUNC(F1192*K1192,1)","v":1836},{"$f":"TRUNC(G1192+I1192+K1192,1)","v":56325},{"$f":"TRUNC(H1192+J1192+L1192,0)","v":112650},""]
[null,null,"[ 합           계 ]",{"$nulls":4},{"$f":"TRUNC(SUM(H1188:H1192),0)","v":90726},null,{"$f":"TRUNC(SUM(J1188:J1192),0)","v":91820},null,{"$f":"TRUNC(SUM(L1188:L1192),0)","v":1836},null,{"$f":"H1193+J1193+L1193","v":184382}]
[]
[null,null,"6914011  스텐용접조후렌지  D150  개소"]
["6914011","5115354","SUS 후렌지 (10KG)","D150","EA",2,39520,{"$f":"TRUNC(F1196*G1196,1)","v":79040},0,{"$f":"TRUNC(F1196*I1196,1)","v":0},0,{"$f":"TRUNC(F1196*K1196,1)","v":0},{"$f":"TRUNC(G1196+I1196+K1196,1)","v":39520},{"$f":"TRUNC(H1196+J1196+L1196,0)","v":79040},""]
["6914011","0503096","스텐레스볼트","M16  L80","개",8,899,{"$f":"TRUNC(F1197*G1197,1)","v":7192},0,{"$f":"TRUNC(F1197*I1197,1)","v":0},0,{"$f":"TRUNC(F1197*K1197,1)","v":0},{"$f":"TRUNC(G1197+I1197+K1197,1)","v":899},{"$f":"TRUNC(H1197+J1197+L1197,0)","v":7192},""]
["6914011","0513036","와샤(스텐)","M18","개",16,86.6,{"$f":"TRUNC(F1198*G1198,1)","v":1385.6},0,{"$f":"TRUNC(F1198*I1198,1)","v":0},0,{"$f":"TRUNC(F1198*K1198,1)","v":0},{"$f":"TRUNC(G1198+I1198+K1198,1)","v":86.6},{"$f":"TRUNC(H1198+J1198+L1198,0)","v":1385},""]
["6914011","6199011","후렌지패킹","3.2MMxD150","EA",1,2173,{"$f":"TRUNC(F1199*G1199,1)","v":2173},0,{"$f":"TRUNC(F1199*I1199,1)","v":0},0,{"$f":"TRUNC(F1199*K1199,1)","v":0},{"$f":"TRUNC(G1199+I1199+K1199,1)","v":2173},{"$f":"TRUNC(H1199+J1199+L1199,0)","v":2173},""]
["6914011","6906011","스텐관용접","D150","개소",2,12008,{"$f":"TRUNC(F1200*G1200,1)","v":24016},53293,{"$f":"TRUNC(F1200*I1200,1)","v":106586},1065,{"$f":"TRUNC(F1200*K1200,1)","v":2130},{"$f":"TRUNC(G1200+I1200+K1200,1)","v":66366},{"$f":"TRUNC(H1200+J1200+L1200,0)","v":132732},""]
[null,null,"[ 합           계 ]",{"$nulls":4},{"$f":"TRUNC(SUM(H1196:H1200),0)","v":113806},null,{"$f":"TRUNC(SUM(J1196:J1200),0)","v":106586},null,{"$f":"TRUNC(SUM(L1196:L1200),0)","v":2130},null,{"$f":"H1201+J1201+L1201","v":222522}]
[]
[null,null,"6914012  스텐용접조후렌지  D200  개소"]
["6914012","5115355","SUS 후렌지 (10KG)","D200","EA",2,52585,{"$f":"TRUNC(F1204*G1204,1)","v":105170},0,{"$f":"TRUNC(F1204*I1204,1)","v":0},0,{"$f":"TRUNC(F1204*K1204,1)","v":0},{"$f":"TRUNC(G1204+I1204+K1204,1)","v":52585},{"$f":"TRUNC(H1204+J1204+L1204,0)","v":105170},""]
["6914012","0503096","스텐레스볼트","M16  L80","개",12,899,{"$f":"TRUNC(F1205*G1205,1)","v":10788},0,{"$f":"TRUNC(F1205*I1205,1)","v":0},0,{"$f":"TRUNC(F1205*K1205,1)","v":0},{"$f":"TRUNC(G1205+I1205+K1205,1)","v":899},{"$f":"TRUNC(H1205+J1205+L1205,0)","v":10788},""]
["6914012","0513036","와샤(스텐)","M18","개",24,86.6,{"$f":"TRUNC(F1206*G1206,1)","v":2078.4},0,{"$f":"TRUNC(F1206*I1206,1)","v":0},0,{"$f":"TRUNC(F1206*K1206,1)","v":0},{"$f":"TRUNC(G1206+I1206+K1206,1)","v":86.6},{"$f":"TRUNC(H1206+J1206+L1206,0)","v":2078},""]
["6914012","6199012","후렌지패킹","3.2MMxD200","EA",1,2702,{"$f":"TRUNC(F1207*G1207,1)","v":2702},0,{"$f":"TRUNC(F1207*I1207,1)","v":0},0,{"$f":"TRUNC(F1207*K1207,1)","v":0},{"$f":"TRUNC(G1207+I1207+K1207,1)","v":2702},{"$f":"TRUNC(H1207+J1207+L1207,0)","v":2702},""]
["6914012","6906012","스텐관용접","D200","개소",2,20192,{"$f":"TRUNC(F1208*G1208,1)","v":40384},68058,{"$f":"TRUNC(F1208*I1208,1)","v":136116},1361,{"$f":"TRUNC(F1208*K1208,1)","v":2722},{"$f":"TRUNC(G1208+I1208+K1208,1)","v":89611},{"$f":"TRUNC(H1208+J1208+L1208,0)","v":179222},""]
[null,null,"[ 합           계 ]",{"$nulls":4},{"$f":"TRUNC(SUM(H1204:H1208),0)","v":161122},null,{"$f":"TRUNC(SUM(J1204:J1208),0)","v":136116},null,{"$f":"TRUNC(SUM(L1204:L1208),0)","v":2722},null,{"$f":"H1209+J1209+L1209","v":299960}]
[]
[null,null,"6914013  스텐용접조후렌지  D250  개소"]
["6914013","5115356","SUS 후렌지 (10KG)","D250","EA",2,85150,{"$f":"TRUNC(F1212*G1212,1)","v":170300},0,{"$f":"TRUNC(F1212*I1212,1)","v":0},0,{"$f":"TRUNC(F1212*K1212,1)","v":0},{"$f":"TRUNC(G1212+I1212+K1212,1)","v":85150},{"$f":"TRUNC(H1212+J1212+L1212,0)","v":170300},""]
["6914013","0503126","스텐레스볼트","M20  L100","개",12,1851,{"$f":"TRUNC(F1213*G1213,1)","v":22212},0,{"$f":"TRUNC(F1213*I1213,1)","v":0},0,{"$f":"TRUNC(F1213*K1213,1)","v":0},{"$f":"TRUNC(G1213+I1213+K1213,1)","v":1851},{"$f":"TRUNC(H1213+J1213+L1213,0)","v":22212},""]
["6914013","0513037","와샤(스텐)","M20","개",24,100.8,{"$f":"TRUNC(F1214*G1214,1)","v":2419.1999999999998},0,{"$f":"TRUNC(F1214*I1214,1)","v":0},0,{"$f":"TRUNC(F1214*K1214,1)","v":0},{"$f":"TRUNC(G1214+I1214+K1214,1)","v":100.8},{"$f":"TRUNC(H1214+J1214+L1214,0)","v":2419},""]
["6914013","6199013","후렌지패킹","3.2MMxD250","EA",1,3657,{"$f":"TRUNC(F1215*G1215,1)","v":3657},0,{"$f":"TRUNC(F1215*I1215,1)","v":0},0,{"$f":"TRUNC(F1215*K1215,1)","v":0},{"$f":"TRUNC(G1215+I1215+K1215,1)","v":3657},{"$f":"TRUNC(H1215+J1215+L1215,0)","v":3657},""]
["6914013","6906013","스텐관용접","D250","개소",2,28852,{"$f":"TRUNC(F1216*G1216,1)","v":57704},82823,{"$f":"TRUNC(F1216*I1216,1)","v":165646},1656,{"$f":"TRUNC(F1216*K1216,1)","v":3312},{"$f":"TRUNC(G1216+I1216+K1216,1)","v":113331},{"$f":"TRUNC(H1216+J1216+L1216,0)","v":226662},""]
[null,null,"[ 합           계 ]",{"$nulls":4},{"$f":"TRUNC(SUM(H1212:H1216),0)","v":256292},null,{"$f":"TRUNC(SUM(J1212:J1216),0)","v":165646},null,{"$f":"TRUNC(SUM(L1212:L1216),0)","v":3312},null,{"$f":"H1217+J1217+L1217","v":425250}]
[]
[null,null,"6914014  스텐용접조후렌지  D300  개소"]
["6914014","5115357","SUS 후렌지 (10KG)","D300","EA",2,95095,{"$f":"TRUNC(F1220*G1220,1)","v":190190},0,{"$f":"TRUNC(F1220*I1220,1)","v":0},0,{"$f":"TRUNC(F1220*K1220,1)","v":0},{"$f":"TRUNC(G1220+I1220+K1220,1)","v":95095},{"$f":"TRUNC(H1220+J1220+L1220,0)","v":190190},""]
["6914014","0503126","스텐레스볼트","M20  L100","개",16,1851,{"$f":"TRUNC(F1221*G1221,1)","v":29616},0,{"$f":"TRUNC(F1221*I1221,1)","v":0},0,{"$f":"TRUNC(F1221*K1221,1)","v":0},{"$f":"TRUNC(G1221+I1221+K1221,1)","v":1851},{"$f":"TRUNC(H1221+J1221+L1221,0)","v":29616},""]
["6914014","0513037","와샤(스텐)","M20","개",32,100.8,{"$f":"TRUNC(F1222*G1222,1)","v":3225.6},0,{"$f":"TRUNC(F1222*I1222,1)","v":0},0,{"$f":"TRUNC(F1222*K1222,1)","v":0},{"$f":"TRUNC(G1222+I1222+K1222,1)","v":100.8},{"$f":"TRUNC(H1222+J1222+L1222,0)","v":3225},""]
["6914014","6199014","후렌지패킹","3.2MMxD300","EA",1,4082,{"$f":"TRUNC(F1223*G1223,1)","v":4082},0,{"$f":"TRUNC(F1223*I1223,1)","v":0},0,{"$f":"TRUNC(F1223*K1223,1)","v":0},{"$f":"TRUNC(G1223+I1223+K1223,1)","v":4082},{"$f":"TRUNC(H1223+J1223+L1223,0)","v":4082},""]
["6914014","6906014","스텐관용접","D300","개소",2,39298,{"$f":"TRUNC(F1224*G1224,1)","v":78596},97588,{"$f":"TRUNC(F1224*I1224,1)","v":195176},1951,{"$f":"TRUNC(F1224*K1224,1)","v":3902},{"$f":"TRUNC(G1224+I1224+K1224,1)","v":138837},{"$f":"TRUNC(H1224+J1224+L1224,0)","v":277674},""]
[null,null,"[ 합           계 ]",{"$nulls":4},{"$f":"TRUNC(SUM(H1220:H1224),0)","v":305709},null,{"$f":"TRUNC(SUM(J1220:J1224),0)","v":195176},null,{"$f":"TRUNC(SUM(L1220:L1224),0)","v":3902},null,{"$f":"H1225+J1225+L1225","v":504787}]
[]
[null,null,"6915001  일반행거(달대볼트)  D15  개소"]
["6915001","5802001","파이프행거(일반)","D15","EA",1,320,{"$f":"TRUNC(F1228*G1228,1)","v":320},0,{"$f":"TRUNC(F1228*I1228,1)","v":0},0,{"$f":"TRUNC(F1228*K1228,1)","v":0},{"$f":"TRUNC(G1228+I1228+K1228,1)","v":320},{"$f":"TRUNC(H1228+J1228+L1228,0)","v":320},""]
["6915001","0505013","전산볼트","M10 L1000","개",1,921,{"$f":"TRUNC(F1229*G1229,1)","v":921},0,{"$f":"TRUNC(F1229*I1229,1)","v":0},0,{"$f":"TRUNC(F1229*K1229,1)","v":0},{"$f":"TRUNC(G1229+I1229+K1229,1)","v":921},{"$f":"TRUNC(H1229+J1229+L1229,0)","v":921},""]
["6915001","0509103","스트롱앵커(파이프앙카)","3/8\"  (M10)","EA",1,100,{"$f":"TRUNC(F1230*G1230,1)","v":100},0,{"$f":"TRUNC(F1230*I1230,1)","v":0},0,{"$f":"TRUNC(F1230*K1230,1)","v":0},{"$f":"TRUNC(G1230+I1230+K1230,1)","v":100},{"$f":"TRUNC(H1230+J1230+L1230,0)","v":100},""]
[null,null,"[ 합           계 ]",{"$nulls":4},{"$f":"TRUNC(SUM(H1228:H1230),0)","v":1341},null,{"$f":"TRUNC(SUM(J1228:J1230),0)","v":0},null,{"$f":"TRUNC(SUM(L1228:L1230),0)","v":0},null,{"$f":"H1231+J1231+L1231","v":1341}]
[]
[null,null,"6915002  일반행거(달대볼트)  D20  개소"]
["6915002","5802002","파이프행거(일반)","D20","EA",1,330,{"$f":"TRUNC(F1234*G1234,1)","v":330},0,{"$f":"TRUNC(F1234*I1234,1)","v":0},0,{"$f":"TRUNC(F1234*K1234,1)","v":0},{"$f":"TRUNC(G1234+I1234+K1234,1)","v":330},{"$f":"TRUNC(H1234+J1234+L1234,0)","v":330},""]
["6915002","0505013","전산볼트","M10 L1000","개",1,921,{"$f":"TRUNC(F1235*G1235,1)","v":921},0,{"$f":"TRUNC(F1235*I1235,1)","v":0},0,{"$f":"TRUNC(F1235*K1235,1)","v":0},{"$f":"TRUNC(G1235+I1235+K1235,1)","v":921},{"$f":"TRUNC(H1235+J1235+L1235,0)","v":921},""]
["6915002","0509103","스트롱앵커(파이프앙카)","3/8\"  (M10)","EA",1,100,{"$f":"TRUNC(F1236*G1236,1)","v":100},0,{"$f":"TRUNC(F1236*I1236,1)","v":0},0,{"$f":"TRUNC(F1236*K1236,1)","v":0},{"$f":"TRUNC(G1236+I1236+K1236,1)","v":100},{"$f":"TRUNC(H1236+J1236+L1236,0)","v":100},""]
[null,null,"[ 합           계 ]",{"$nulls":4},{"$f":"TRUNC(SUM(H1234:H1236),0)","v":1351},null,{"$f":"TRUNC(SUM(J1234:J1236),0)","v":0},null,{"$f":"TRUNC(SUM(L1234:L1236),0)","v":0},null,{"$f":"H1237+J1237+L1237","v":1351}]
[]
[null,null,"6915003  일반행거(달대볼트)  D25  개소"]
["6915003","5802003","파이프행거(일반)","D25","EA",1,350,{"$f":"TRUNC(F1240*G1240,1)","v":350},0,{"$f":"TRUNC(F1240*I1240,1)","v":0},0,{"$f":"TRUNC(F1240*K1240,1)","v":0},{"$f":"TRUNC(G1240+I1240+K1240,1)","v":350},{"$f":"TRUNC(H1240+J1240+L1240,0)","v":350},""]
["6915003","0505013","전산볼트","M10 L1000","개",1,921,{"$f":"TRUNC(F1241*G1241,1)","v":921},0,{"$f":"TRUNC(F1241*I1241,1)","v":0},0,{"$f":"TRUNC(F1241*K1241,1)","v":0},{"$f":"TRUNC(G1241+I1241+K1241,1)","v":921},{"$f":"TRUNC(H1241+J1241+L1241,0)","v":921},""]
["6915003","0509103","스트롱앵커(파이프앙카)","3/8\"  (M10)","EA",1,100,{"$f":"TRUNC(F1242*G1242,1)","v":100},0,{"$f":"TRUNC(F1242*I1242,1)","v":0},0,{"$f":"TRUNC(F1242*K1242,1)","v":0},{"$f":"TRUNC(G1242+I1242+K1242,1)","v":100},{"$f":"TRUNC(H1242+J1242+L1242,0)","v":100},""]
[null,null,"[ 합           계 ]",{"$nulls":4},{"$f":"TRUNC(SUM(H1240:H1242),0)","v":1371},null,{"$f":"TRUNC(SUM(J1240:J1242),0)","v":0},null,{"$f":"TRUNC(SUM(L1240:L1242),0)","v":0},null,{"$f":"H1243+J1243+L1243","v":1371}]
[]
[null,null,"6915004  일반행거(달대볼트)  D32  개소"]
["6915004","5802004","파이프행거(일반)","D32","EA",1,370,{"$f":"TRUNC(F1246*G1246,1)","v":370},0,{"$f":"TRUNC(F1246*I1246,1)","v":0},0,{"$f":"TRUNC(F1246*K1246,1)","v":0},{"$f":"TRUNC(G1246+I1246+K1246,1)","v":370},{"$f":"TRUNC(H1246+J1246+L1246,0)","v":370},""]
["6915004","0505013","전산볼트","M10 L1000","개",1,921,{"$f":"TRUNC(F1247*G1247,1)","v":921},0,{"$f":"TRUNC(F1247*I1247,1)","v":0},0,{"$f":"TRUNC(F1247*K1247,1)","v":0},{"$f":"TRUNC(G1247+I1247+K1247,1)","v":921},{"$f":"TRUNC(H1247+J1247+L1247,0)","v":921},""]
["6915004","0509103","스트롱앵커(파이프앙카)","3/8\"  (M10)","EA",1,100,{"$f":"TRUNC(F1248*G1248,1)","v":100},0,{"$f":"TRUNC(F1248*I1248,1)","v":0},0,{"$f":"TRUNC(F1248*K1248,1)","v":0},{"$f":"TRUNC(G1248+I1248+K1248,1)","v":100},{"$f":"TRUNC(H1248+J1248+L1248,0)","v":100},""]
[null,null,"[ 합           계 ]",{"$nulls":4},{"$f":"TRUNC(SUM(H1246:H1248),0)","v":1391},null,{"$f":"TRUNC(SUM(J1246:J1248),0)","v":0},null,{"$f":"TRUNC(SUM(L1246:L1248),0)","v":0},null,{"$f":"H1249+J1249+L1249","v":1391}]
[]
[null,null,"6915005  일반행거(달대볼트)  D40  개소"]
["6915005","5802005","파이프행거(일반)","D40","EA",1,400,{"$f":"TRUNC(F1252*G1252,1)","v":400},0,{"$f":"TRUNC(F1252*I1252,1)","v":0},0,{"$f":"TRUNC(F1252*K1252,1)","v":0},{"$f":"TRUNC(G1252+I1252+K1252,1)","v":400},{"$f":"TRUNC(H1252+J1252+L1252,0)","v":400},""]
["6915005","0505013","전산볼트","M10 L1000","개",1,921,{"$f":"TRUNC(F1253*G1253,1)","v":921},0,{"$f":"TRUNC(F1253*I1253,1)","v":0},0,{"$f":"TRUNC(F1253*K1253,1)","v":0},{"$f":"TRUNC(G1253+I1253+K1253,1)","v":921},{"$f":"TRUNC(H1253+J1253+L1253,0)","v":921},""]
["6915005","0509103","스트롱앵커(파이프앙카)","3/8\"  (M10)","EA",1,100,{"$f":"TRUNC(F1254*G1254,1)","v":100},0,{"$f":"TRUNC(F1254*I1254,1)","v":0},0,{"$f":"TRUNC(F1254*K1254,1)","v":0},{"$f":"TRUNC(G1254+I1254+K1254,1)","v":100},{"$f":"TRUNC(H1254+J1254+L1254,0)","v":100},""]
[null,null,"[ 합           계 ]",{"$nulls":4},{"$f":"TRUNC(SUM(H1252:H1254),0)","v":1421},null,{"$f":"TRUNC(SUM(J1252:J1254),0)","v":0},null,{"$f":"TRUNC(SUM(L1252:L1254),0)","v":0},null,{"$f":"H1255+J1255+L1255","v":1421}]
[]
[null,null,"6915006  일반행거(달대볼트)  D50  개소"]
["6915006","5802006","파이프행거(일반)","D50","EA",1,580,{"$f":"TRUNC(F1258*G1258,1)","v":580},0,{"$f":"TRUNC(F1258*I1258,1)","v":0},0,{"$f":"TRUNC(F1258*K1258,1)","v":0},{"$f":"TRUNC(G1258+I1258+K1258,1)","v":580},{"$f":"TRUNC(H1258+J1258+L1258,0)","v":580},""]
["6915006","0505013","전산볼트","M10 L1000","개",1,921,{"$f":"TRUNC(F1259*G1259,1)","v":921},0,{"$f":"TRUNC(F1259*I1259,1)","v":0},0,{"$f":"TRUNC(F1259*K1259,1)","v":0},{"$f":"TRUNC(G1259+I1259+K1259,1)","v":921},{"$f":"TRUNC(H1259+J1259+L1259,0)","v":921},""]
["6915006","0509103","스트롱앵커(파이프앙카)","3/8\"  (M10)","EA",1,100,{"$f":"TRUNC(F1260*G1260,1)","v":100},0,{"$f":"TRUNC(F1260*I1260,1)","v":0},0,{"$f":"TRUNC(F1260*K1260,1)","v":0},{"$f":"TRUNC(G1260+I1260+K1260,1)","v":100},{"$f":"TRUNC(H1260+J1260+L1260,0)","v":100},""]
[null,null,"[ 합           계 ]",{"$nulls":4},{"$f":"TRUNC(SUM(H1258:H1260),0)","v":1601},null,{"$f":"TRUNC(SUM(J1258:J1260),0)","v":0},null,{"$f":"TRUNC(SUM(L1258:L1260),0)","v":0},null,{"$f":"H1261+J1261+L1261","v":1601}]
[]
[null,null,"6915007  일반행거(달대볼트)  D65  개소"]
["6915007","5802007","파이프행거(일반)","D65","EA",1,630,{"$f":"TRUNC(F1264*G1264,1)","v":630},0,{"$f":"TRUNC(F1264*I1264,1)","v":0},0,{"$f":"TRUNC(F1264*K1264,1)","v":0},{"$f":"TRUNC(G1264+I1264+K1264,1)","v":630},{"$f":"TRUNC(H1264+J1264+L1264,0)","v":630},""]
["6915007","0505013","전산볼트","M10 L1000","개",1,921,{"$f":"TRUNC(F1265*G1265,1)","v":921},0,{"$f":"TRUNC(F1265*I1265,1)","v":0},0,{"$f":"TRUNC(F1265*K1265,1)","v":0},{"$f":"TRUNC(G1265+I1265+K1265,1)","v":921},{"$f":"TRUNC(H1265+J1265+L1265,0)","v":921},""]
["6915007","0509103","스트롱앵커(파이프앙카)","3/8\"  (M10)","EA",1,100,{"$f":"TRUNC(F1266*G1266,1)","v":100},0,{"$f":"TRUNC(F1266*I1266,1)","v":0},0,{"$f":"TRUNC(F1266*K1266,1)","v":0},{"$f":"TRUNC(G1266+I1266+K1266,1)","v":100},{"$f":"TRUNC(H1266+J1266+L1266,0)","v":100},""]
[null,null,"[ 합           계 ]",{"$nulls":4},{"$f":"TRUNC(SUM(H1264:H1266),0)","v":1651},null,{"$f":"TRUNC(SUM(J1264:J1266),0)","v":0},null,{"$f":"TRUNC(SUM(L1264:L1266),0)","v":0},null,{"$f":"H1267+J1267+L1267","v":1651}]
[]
[null,null,"6915008  일반행거(달대볼트)  D80  개소"]
["6915008","5802008","파이프행거(일반)","D80","EA",1,850,{"$f":"TRUNC(F1270*G1270,1)","v":850},0,{"$f":"TRUNC(F1270*I1270,1)","v":0},0,{"$f":"TRUNC(F1270*K1270,1)","v":0},{"$f":"TRUNC(G1270+I1270+K1270,1)","v":850},{"$f":"TRUNC(H1270+J1270+L1270,0)","v":850},""]
["6915008","0505014","전산볼트","M10 L1000","개",1,921,{"$f":"TRUNC(F1271*G1271,1)","v":921},0,{"$f":"TRUNC(F1271*I1271,1)","v":0},0,{"$f":"TRUNC(F1271*K1271,1)","v":0},{"$f":"TRUNC(G1271+I1271+K1271,1)","v":921},{"$f":"TRUNC(H1271+J1271+L1271,0)","v":921},""]
["6915008","0509104","스트롱앵커(파이프앙카)","3/8\"  (M10)","개",1,100,{"$f":"TRUNC(F1272*G1272,1)","v":100},0,{"$f":"TRUNC(F1272*I1272,1)","v":0},0,{"$f":"TRUNC(F1272*K1272,1)","v":0},{"$f":"TRUNC(G1272+I1272+K1272,1)","v":100},{"$f":"TRUNC(H1272+J1272+L1272,0)","v":100},""]
[null,null,"[ 합           계 ]",{"$nulls":4},{"$f":"TRUNC(SUM(H1270:H1272),0)","v":1871},null,{"$f":"TRUNC(SUM(J1270:J1272),0)","v":0},null,{"$f":"TRUNC(SUM(L1270:L1272),0)","v":0},null,{"$f":"H1273+J1273+L1273","v":1871}]
[]
[null,null,"6915009  일반행거(달대볼트)  D100  개소"]
["6915009","5802009","파이프행거(일반)","D100","EA",1,1100,{"$f":"TRUNC(F1276*G1276,1)","v":1100},0,{"$f":"TRUNC(F1276*I1276,1)","v":0},0,{"$f":"TRUNC(F1276*K1276,1)","v":0},{"$f":"TRUNC(G1276+I1276+K1276,1)","v":1100},{"$f":"TRUNC(H1276+J1276+L1276,0)","v":1100},""]
["6915009","0505014","전산볼트","M10 L1000","개",1,921,{"$f":"TRUNC(F1277*G1277,1)","v":921},0,{"$f":"TRUNC(F1277*I1277,1)","v":0},0,{"$f":"TRUNC(F1277*K1277,1)","v":0},{"$f":"TRUNC(G1277+I1277+K1277,1)","v":921},{"$f":"TRUNC(H1277+J1277+L1277,0)","v":921},""]
["6915009","0509104","스트롱앵커(파이프앙카)","3/8\"  (M10)","개",1,100,{"$f":"TRUNC(F1278*G1278,1)","v":100},0,{"$f":"TRUNC(F1278*I1278,1)","v":0},0,{"$f":"TRUNC(F1278*K1278,1)","v":0},{"$f":"TRUNC(G1278+I1278+K1278,1)","v":100},{"$f":"TRUNC(H1278+J1278+L1278,0)","v":100},""]
[null,null,"[ 합           계 ]",{"$nulls":4},{"$f":"TRUNC(SUM(H1276:H1278),0)","v":2121},null,{"$f":"TRUNC(SUM(J1276:J1278),0)","v":0},null,{"$f":"TRUNC(SUM(L1276:L1278),0)","v":0},null,{"$f":"H1279+J1279+L1279","v":2121}]
[]
[null,null,"6915010  일반행거(달대볼트)  D125  개소"]
["6915010","5802010","파이프행거(일반)","D125","EA",1,1500,{"$f":"TRUNC(F1282*G1282,1)","v":1500},0,{"$f":"TRUNC(F1282*I1282,1)","v":0},0,{"$f":"TRUNC(F1282*K1282,1)","v":0},{"$f":"TRUNC(G1282+I1282+K1282,1)","v":1500},{"$f":"TRUNC(H1282+J1282+L1282,0)","v":1500},""]
["6915010","0505014","전산볼트","M12 L1000","개",1,1311,{"$f":"TRUNC(F1283*G1283,1)","v":1311},0,{"$f":"TRUNC(F1283*I1283,1)","v":0},0,{"$f":"TRUNC(F1283*K1283,1)","v":0},{"$f":"TRUNC(G1283+I1283+K1283,1)","v":1311},{"$f":"TRUNC(H1283+J1283+L1283,0)","v":1311},""]
["6915010","0509104","스트롱앵커(파이프앙카)","1/2\"  (M12)","개",1,260,{"$f":"TRUNC(F1284*G1284,1)","v":260},0,{"$f":"TRUNC(F1284*I1284,1)","v":0},0,{"$f":"TRUNC(F1284*K1284,1)","v":0},{"$f":"TRUNC(G1284+I1284+K1284,1)","v":260},{"$f":"TRUNC(H1284+J1284+L1284,0)","v":260},""]
[null,null,"[ 합           계 ]",{"$nulls":4},{"$f":"TRUNC(SUM(H1282:H1284),0)","v":3071},null,{"$f":"TRUNC(SUM(J1282:J1284),0)","v":0},null,{"$f":"TRUNC(SUM(L1282:L1284),0)","v":0},null,{"$f":"H1285+J1285+L1285","v":3071}]
[]
[null,null,"6915011  일반행거(달대볼트)  D150  개소"]
["6915011","5802011","파이프행거(일반)","D150","EA",1,3000,{"$f":"TRUNC(F1288*G1288,1)","v":3000},0,{"$f":"TRUNC(F1288*I1288,1)","v":0},0,{"$f":"TRUNC(F1288*K1288,1)","v":0},{"$f":"TRUNC(G1288+I1288+K1288,1)","v":3000},{"$f":"TRUNC(H1288+J1288+L1288,0)","v":3000},""]
["6915011","0505014","전산볼트","M12 L1000","개",1,1311,{"$f":"TRUNC(F1289*G1289,1)","v":1311},0,{"$f":"TRUNC(F1289*I1289,1)","v":0},0,{"$f":"TRUNC(F1289*K1289,1)","v":0},{"$f":"TRUNC(G1289+I1289+K1289,1)","v":1311},{"$f":"TRUNC(H1289+J1289+L1289,0)","v":1311},""]
["6915011","0509104","스트롱앵커(파이프앙카)","1/2\"  (M12)","개",1,260,{"$f":"TRUNC(F1290*G1290,1)","v":260},0,{"$f":"TRUNC(F1290*I1290,1)","v":0},0,{"$f":"TRUNC(F1290*K1290,1)","v":0},{"$f":"TRUNC(G1290+I1290+K1290,1)","v":260},{"$f":"TRUNC(H1290+J1290+L1290,0)","v":260},""]
[null,null,"[ 합           계 ]",{"$nulls":4},{"$f":"TRUNC(SUM(H1288:H1290),0)","v":4571},null,{"$f":"TRUNC(SUM(J1288:J1290),0)","v":0},null,{"$f":"TRUNC(SUM(L1288:L1290),0)","v":0},null,{"$f":"H1291+J1291+L1291","v":4571}]
[]
[null,null,"6915012  일반행거(달대볼트)  D200  개소"]
["6915012","5802012","파이프행거(일반)","D200","EA",1,3500,{"$f":"TRUNC(F1294*G1294,1)","v":3500},0,{"$f":"TRUNC(F1294*I1294,1)","v":0},0,{"$f":"TRUNC(F1294*K1294,1)","v":0},{"$f":"TRUNC(G1294+I1294+K1294,1)","v":3500},{"$f":"TRUNC(H1294+J1294+L1294,0)","v":3500},""]
["6915012","0505016","전산볼트","M12 L1000","개",1,1311,{"$f":"TRUNC(F1295*G1295,1)","v":1311},0,{"$f":"TRUNC(F1295*I1295,1)","v":0},0,{"$f":"TRUNC(F1295*K1295,1)","v":0},{"$f":"TRUNC(G1295+I1295+K1295,1)","v":1311},{"$f":"TRUNC(H1295+J1295+L1295,0)","v":1311},""]
["6915012","0509106","스트롱앵커(파이프앙카)","3/4\"  (M12)","개",1,260,{"$f":"TRUNC(F1296*G1296,1)","v":260},0,{"$f":"TRUNC(F1296*I1296,1)","v":0},0,{"$f":"TRUNC(F1296*K1296,1)","v":0},{"$f":"TRUNC(G1296+I1296+K1296,1)","v":260},{"$f":"TRUNC(H1296+J1296+L1296,0)","v":260},""]
[null,null,"[ 합           계 ]",{"$nulls":4},{"$f":"TRUNC(SUM(H1294:H1296),0)","v":5071},null,{"$f":"TRUNC(SUM(J1294:J1296),0)","v":0},null,{"$f":"TRUNC(SUM(L1294:L1296),0)","v":0},null,{"$f":"H1297+J1297+L1297","v":5071}]
[]
[null,null,"6915013  일반행거(달대볼트)  D250  개소"]
["6915013","5802013","파이프행거(일반)","D250","EA",1,5000,{"$f":"TRUNC(F1300*G1300,1)","v":5000},0,{"$f":"TRUNC(F1300*I1300,1)","v":0},0,{"$f":"TRUNC(F1300*K1300,1)","v":0},{"$f":"TRUNC(G1300+I1300+K1300,1)","v":5000},{"$f":"TRUNC(H1300+J1300+L1300,0)","v":5000},""]
["6915013","0505016","전산볼트","M12 L1000","개",1,1311,{"$f":"TRUNC(F1301*G1301,1)","v":1311},0,{"$f":"TRUNC(F1301*I1301,1)","v":0},0,{"$f":"TRUNC(F1301*K1301,1)","v":0},{"$f":"TRUNC(G1301+I1301+K1301,1)","v":1311},{"$f":"TRUNC(H1301+J1301+L1301,0)","v":1311},""]
["6915013","0509106","스트롱앵커(파이프앙카)","3/4\"  (M12)","개",1,260,{"$f":"TRUNC(F1302*G1302,1)","v":260},0,{"$f":"TRUNC(F1302*I1302,1)","v":0},0,{"$f":"TRUNC(F1302*K1302,1)","v":0},{"$f":"TRUNC(G1302+I1302+K1302,1)","v":260},{"$f":"TRUNC(H1302+J1302+L1302,0)","v":260},""]
[null,null,"[ 합           계 ]",{"$nulls":4},{"$f":"TRUNC(SUM(H1300:H1302),0)","v":6571},null,{"$f":"TRUNC(SUM(J1300:J1302),0)","v":0},null,{"$f":"TRUNC(SUM(L1300:L1302),0)","v":0},null,{"$f":"H1303+J1303+L1303","v":6571}]
[]
[null,null,"6915014  일반행거(달대볼트)  D300  개소"]
["6915014","5802014","파이프행거(일반)","D300","EA",1,7500,{"$f":"TRUNC(F1306*G1306,1)","v":7500},0,{"$f":"TRUNC(F1306*I1306,1)","v":0},0,{"$f":"TRUNC(F1306*K1306,1)","v":0},{"$f":"TRUNC(G1306+I1306+K1306,1)","v":7500},{"$f":"TRUNC(H1306+J1306+L1306,0)","v":7500},""]
["6915014","0505016","전산볼트","M12 L1000","개",1,1311,{"$f":"TRUNC(F1307*G1307,1)","v":1311},0,{"$f":"TRUNC(F1307*I1307,1)","v":0},0,{"$f":"TRUNC(F1307*K1307,1)","v":0},{"$f":"TRUNC(G1307+I1307+K1307,1)","v":1311},{"$f":"TRUNC(H1307+J1307+L1307,0)","v":1311},""]
["6915014","0509106","스트롱앵커(파이프앙카)","3/4\"  (M12)","개",1,260,{"$f":"TRUNC(F1308*G1308,1)","v":260},0,{"$f":"TRUNC(F1308*I1308,1)","v":0},0,{"$f":"TRUNC(F1308*K1308,1)","v":0},{"$f":"TRUNC(G1308+I1308+K1308,1)","v":260},{"$f":"TRUNC(H1308+J1308+L1308,0)","v":260},""]
[null,null,"[ 합           계 ]",{"$nulls":4},{"$f":"TRUNC(SUM(H1306:H1308),0)","v":9071},null,{"$f":"TRUNC(SUM(J1306:J1308),0)","v":0},null,{"$f":"TRUNC(SUM(L1306:L1308),0)","v":0},null,{"$f":"H1309+J1309+L1309","v":9071}]
[]
[null,null,"6916001  절연행가(달대볼트)  D15  개소"]
["6916001","5802031","절연행거","D15","EA",1,500,{"$f":"TRUNC(F1312*G1312,1)","v":500},0,{"$f":"TRUNC(F1312*I1312,1)","v":0},0,{"$f":"TRUNC(F1312*K1312,1)","v":0},{"$f":"TRUNC(G1312+I1312+K1312,1)","v":500},{"$f":"TRUNC(H1312+J1312+L1312,0)","v":500},""]
["6916001","0505013","전산볼트","M10 L1000","개",1,921,{"$f":"TRUNC(F1313*G1313,1)","v":921},0,{"$f":"TRUNC(F1313*I1313,1)","v":0},0,{"$f":"TRUNC(F1313*K1313,1)","v":0},{"$f":"TRUNC(G1313+I1313+K1313,1)","v":921},{"$f":"TRUNC(H1313+J1313+L1313,0)","v":921},""]
["6916001","0509103","스트롱앵커(파이프앙카)","3/8\"  (M10)","EA",1,100,{"$f":"TRUNC(F1314*G1314,1)","v":100},0,{"$f":"TRUNC(F1314*I1314,1)","v":0},0,{"$f":"TRUNC(F1314*K1314,1)","v":0},{"$f":"TRUNC(G1314+I1314+K1314,1)","v":100},{"$f":"TRUNC(H1314+J1314+L1314,0)","v":100},""]
[null,null,"[ 합           계 ]",{"$nulls":4},{"$f":"TRUNC(SUM(H1312:H1314),0)","v":1521},null,{"$f":"TRUNC(SUM(J1312:J1314),0)","v":0},null,{"$f":"TRUNC(SUM(L1312:L1314),0)","v":0},null,{"$f":"H1315+J1315+L1315","v":1521}]
[]
[null,null,"6916002  절연행가(달대볼트)  D20  개소"]
["6916002","5802032","절연행거","D20","EA",1,550,{"$f":"TRUNC(F1318*G1318,1)","v":550},0,{"$f":"TRUNC(F1318*I1318,1)","v":0},0,{"$f":"TRUNC(F1318*K1318,1)","v":0},{"$f":"TRUNC(G1318+I1318+K1318,1)","v":550},{"$f":"TRUNC(H1318+J1318+L1318,0)","v":550},""]
["6916002","0505013","전산볼트","M10 L1000","개",1,921,{"$f":"TRUNC(F1319*G1319,1)","v":921},0,{"$f":"TRUNC(F1319*I1319,1)","v":0},0,{"$f":"TRUNC(F1319*K1319,1)","v":0},{"$f":"TRUNC(G1319+I1319+K1319,1)","v":921},{"$f":"TRUNC(H1319+J1319+L1319,0)","v":921},""]
["6916002","0509103","스트롱앵커(파이프앙카)","3/8\"  (M10)","EA",1,100,{"$f":"TRUNC(F1320*G1320,1)","v":100},0,{"$f":"TRUNC(F1320*I1320,1)","v":0},0,{"$f":"TRUNC(F1320*K1320,1)","v":0},{"$f":"TRUNC(G1320+I1320+K1320,1)","v":100},{"$f":"TRUNC(H1320+J1320+L1320,0)","v":100},""]
[null,null,"[ 합           계 ]",{"$nulls":4},{"$f":"TRUNC(SUM(H1318:H1320),0)","v":1571},null,{"$f":"TRUNC(SUM(J1318:J1320),0)","v":0},null,{"$f":"TRUNC(SUM(L1318:L1320),0)","v":0},null,{"$f":"H1321+J1321+L1321","v":1571}]
[]
[null,null,"6916003  절연행가(달대볼트)  D25  개소"]
["6916003","5802033","절연행거","D25","EA",1,600,{"$f":"TRUNC(F1324*G1324,1)","v":600},0,{"$f":"TRUNC(F1324*I1324,1)","v":0},0,{"$f":"TRUNC(F1324*K1324,1)","v":0},{"$f":"TRUNC(G1324+I1324+K1324,1)","v":600},{"$f":"TRUNC(H1324+J1324+L1324,0)","v":600},""]
["6916003","0505013","전산볼트","M10 L1000","개",1,921,{"$f":"TRUNC(F1325*G1325,1)","v":921},0,{"$f":"TRUNC(F1325*I1325,1)","v":0},0,{"$f":"TRUNC(F1325*K1325,1)","v":0},{"$f":"TRUNC(G1325+I1325+K1325,1)","v":921},{"$f":"TRUNC(H1325+J1325+L1325,0)","v":921},""]
["6916003","0509103","스트롱앵커(파이프앙카)","3/8\"  (M10)","EA",1,100,{"$f":"TRUNC(F1326*G1326,1)","v":100},0,{"$f":"TRUNC(F1326*I1326,1)","v":0},0,{"$f":"TRUNC(F1326*K1326,1)","v":0},{"$f":"TRUNC(G1326+I1326+K1326,1)","v":100},{"$f":"TRUNC(H1326+J1326+L1326,0)","v":100},""]
[null,null,"[ 합           계 ]",{"$nulls":4},{"$f":"TRUNC(SUM(H1324:H1326),0)","v":1621},null,{"$f":"TRUNC(SUM(J1324:J1326),0)","v":0},null,{"$f":"TRUNC(SUM(L1324:L1326),0)","v":0},null,{"$f":"H1327+J1327+L1327","v":1621}]
[]
[null,null,"6916004  절연행가(달대볼트)  D32  개소"]
["6916004","5802034","절연행거","D32","EA",1,700,{"$f":"TRUNC(F1330*G1330,1)","v":700},0,{"$f":"TRUNC(F1330*I1330,1)","v":0},0,{"$f":"TRUNC(F1330*K1330,1)","v":0},{"$f":"TRUNC(G1330+I1330+K1330,1)","v":700},{"$f":"TRUNC(H1330+J1330+L1330,0)","v":700},""]
["6916004","0505013","전산볼트","M10 L1000","개",1,921,{"$f":"TRUNC(F1331*G1331,1)","v":921},0,{"$f":"TRUNC(F1331*I1331,1)","v":0},0,{"$f":"TRUNC(F1331*K1331,1)","v":0},{"$f":"TRUNC(G1331+I1331+K1331,1)","v":921},{"$f":"TRUNC(H1331+J1331+L1331,0)","v":921},""]
["6916004","0509103","스트롱앵커(파이프앙카)","3/8\"  (M10)","EA",1,100,{"$f":"TRUNC(F1332*G1332,1)","v":100},0,{"$f":"TRUNC(F1332*I1332,1)","v":0},0,{"$f":"TRUNC(F1332*K1332,1)","v":0},{"$f":"TRUNC(G1332+I1332+K1332,1)","v":100},{"$f":"TRUNC(H1332+J1332+L1332,0)","v":100},""]
[null,null,"[ 합           계 ]",{"$nulls":4},{"$f":"TRUNC(SUM(H1330:H1332),0)","v":1721},null,{"$f":"TRUNC(SUM(J1330:J1332),0)","v":0},null,{"$f":"TRUNC(SUM(L1330:L1332),0)","v":0},null,{"$f":"H1333+J1333+L1333","v":1721}]
[]
[null,null,"6916005  절연행가(달대볼트)  D40  개소"]
["6916005","5802035","절연행거","D40","EA",1,750,{"$f":"TRUNC(F1336*G1336,1)","v":750},0,{"$f":"TRUNC(F1336*I1336,1)","v":0},0,{"$f":"TRUNC(F1336*K1336,1)","v":0},{"$f":"TRUNC(G1336+I1336+K1336,1)","v":750},{"$f":"TRUNC(H1336+J1336+L1336,0)","v":750},""]
["6916005","0505013","전산볼트","M10 L1000","개",1,921,{"$f":"TRUNC(F1337*G1337,1)","v":921},0,{"$f":"TRUNC(F1337*I1337,1)","v":0},0,{"$f":"TRUNC(F1337*K1337,1)","v":0},{"$f":"TRUNC(G1337+I1337+K1337,1)","v":921},{"$f":"TRUNC(H1337+J1337+L1337,0)","v":921},""]
["6916005","0509103","스트롱앵커(파이프앙카)","3/8\"  (M10)","EA",1,100,{"$f":"TRUNC(F1338*G1338,1)","v":100},0,{"$f":"TRUNC(F1338*I1338,1)","v":0},0,{"$f":"TRUNC(F1338*K1338,1)","v":0},{"$f":"TRUNC(G1338+I1338+K1338,1)","v":100},{"$f":"TRUNC(H1338+J1338+L1338,0)","v":100},""]
[null,null,"[ 합           계 ]",{"$nulls":4},{"$f":"TRUNC(SUM(H1336:H1338),0)","v":1771},null,{"$f":"TRUNC(SUM(J1336:J1338),0)","v":0},null,{"$f":"TRUNC(SUM(L1336:L1338),0)","v":0},null,{"$f":"H1339+J1339+L1339","v":1771}]
[]
[null,null,"6916006  절연행가(달대볼트)  D50  개소"]
["6916006","5802036","절연행거","D50","EA",1,1000,{"$f":"TRUNC(F1342*G1342,1)","v":1000},0,{"$f":"TRUNC(F1342*I1342,1)","v":0},0,{"$f":"TRUNC(F1342*K1342,1)","v":0},{"$f":"TRUNC(G1342+I1342+K1342,1)","v":1000},{"$f":"TRUNC(H1342+J1342+L1342,0)","v":1000},""]
["6916006","0505013","전산볼트","M10 L1000","개",1,921,{"$f":"TRUNC(F1343*G1343,1)","v":921},0,{"$f":"TRUNC(F1343*I1343,1)","v":0},0,{"$f":"TRUNC(F1343*K1343,1)","v":0},{"$f":"TRUNC(G1343+I1343+K1343,1)","v":921},{"$f":"TRUNC(H1343+J1343+L1343,0)","v":921},""]
["6916006","0509103","스트롱앵커(파이프앙카)","3/8\"  (M10)","EA",1,100,{"$f":"TRUNC(F1344*G1344,1)","v":100},0,{"$f":"TRUNC(F1344*I1344,1)","v":0},0,{"$f":"TRUNC(F1344*K1344,1)","v":0},{"$f":"TRUNC(G1344+I1344+K1344,1)","v":100},{"$f":"TRUNC(H1344+J1344+L1344,0)","v":100},""]
[null,null,"[ 합           계 ]",{"$nulls":4},{"$f":"TRUNC(SUM(H1342:H1344),0)","v":2021},null,{"$f":"TRUNC(SUM(J1342:J1344),0)","v":0},null,{"$f":"TRUNC(SUM(L1342:L1344),0)","v":0},null,{"$f":"H1345+J1345+L1345","v":2021}]
[]
[null,null,"6916007  절연행가(달대볼트)  D65  개소"]
["6916007","5802037","절연행거","D65","EA",1,1200,{"$f":"TRUNC(F1348*G1348,1)","v":1200},0,{"$f":"TRUNC(F1348*I1348,1)","v":0},0,{"$f":"TRUNC(F1348*K1348,1)","v":0},{"$f":"TRUNC(G1348+I1348+K1348,1)","v":1200},{"$f":"TRUNC(H1348+J1348+L1348,0)","v":1200},""]
["6916007","0505013","전산볼트","M10 L1000","개",1,921,{"$f":"TRUNC(F1349*G1349,1)","v":921},0,{"$f":"TRUNC(F1349*I1349,1)","v":0},0,{"$f":"TRUNC(F1349*K1349,1)","v":0},{"$f":"TRUNC(G1349+I1349+K1349,1)","v":921},{"$f":"TRUNC(H1349+J1349+L1349,0)","v":921},""]
["6916007","0509103","스트롱앵커(파이프앙카)","3/8\"  (M10)","EA",1,100,{"$f":"TRUNC(F1350*G1350,1)","v":100},0,{"$f":"TRUNC(F1350*I1350,1)","v":0},0,{"$f":"TRUNC(F1350*K1350,1)","v":0},{"$f":"TRUNC(G1350+I1350+K1350,1)","v":100},{"$f":"TRUNC(H1350+J1350+L1350,0)","v":100},""]
[null,null,"[ 합           계 ]",{"$nulls":4},{"$f":"TRUNC(SUM(H1348:H1350),0)","v":2221},null,{"$f":"TRUNC(SUM(J1348:J1350),0)","v":0},null,{"$f":"TRUNC(SUM(L1348:L1350),0)","v":0},null,{"$f":"H1351+J1351+L1351","v":2221}]
[]
[null,null,"6916008  절연행가(달대볼트)  D80  개소"]
["6916008","5802038","절연행거","D80","EA",1,1800,{"$f":"TRUNC(F1354*G1354,1)","v":1800},0,{"$f":"TRUNC(F1354*I1354,1)","v":0},0,{"$f":"TRUNC(F1354*K1354,1)","v":0},{"$f":"TRUNC(G1354+I1354+K1354,1)","v":1800},{"$f":"TRUNC(H1354+J1354+L1354,0)","v":1800},""]
["6916008","0505014","전산볼트","M10 L1000","개",1,921,{"$f":"TRUNC(F1355*G1355,1)","v":921},0,{"$f":"TRUNC(F1355*I1355,1)","v":0},0,{"$f":"TRUNC(F1355*K1355,1)","v":0},{"$f":"TRUNC(G1355+I1355+K1355,1)","v":921},{"$f":"TRUNC(H1355+J1355+L1355,0)","v":921},""]
["6916008","0509104","스트롱앵커(파이프앙카)","3/8\"  (M10)","개",1,100,{"$f":"TRUNC(F1356*G1356,1)","v":100},0,{"$f":"TRUNC(F1356*I1356,1)","v":0},0,{"$f":"TRUNC(F1356*K1356,1)","v":0},{"$f":"TRUNC(G1356+I1356+K1356,1)","v":100},{"$f":"TRUNC(H1356+J1356+L1356,0)","v":100},""]
[null,null,"[ 합           계 ]",{"$nulls":4},{"$f":"TRUNC(SUM(H1354:H1356),0)","v":2821},null,{"$f":"TRUNC(SUM(J1354:J1356),0)","v":0},null,{"$f":"TRUNC(SUM(L1354:L1356),0)","v":0},null,{"$f":"H1357+J1357+L1357","v":2821}]
[]
[null,null,"6916009  절연행가(달대볼트)  D100  개소"]
["6916009","5802039","절연행거","D100","EA",1,2150,{"$f":"TRUNC(F1360*G1360,1)","v":2150},0,{"$f":"TRUNC(F1360*I1360,1)","v":0},0,{"$f":"TRUNC(F1360*K1360,1)","v":0},{"$f":"TRUNC(G1360+I1360+K1360,1)","v":2150},{"$f":"TRUNC(H1360+J1360+L1360,0)","v":2150},""]
["6916009","0505014","전산볼트","M10 L1000","개",1,921,{"$f":"TRUNC(F1361*G1361,1)","v":921},0,{"$f":"TRUNC(F1361*I1361,1)","v":0},0,{"$f":"TRUNC(F1361*K1361,1)","v":0},{"$f":"TRUNC(G1361+I1361+K1361,1)","v":921},{"$f":"TRUNC(H1361+J1361+L1361,0)","v":921},""]
["6916009","0509104","스트롱앵커(파이프앙카)","3/8\"  (M10)","개",1,100,{"$f":"TRUNC(F1362*G1362,1)","v":100},0,{"$f":"TRUNC(F1362*I1362,1)","v":0},0,{"$f":"TRUNC(F1362*K1362,1)","v":0},{"$f":"TRUNC(G1362+I1362+K1362,1)","v":100},{"$f":"TRUNC(H1362+J1362+L1362,0)","v":100},""]
[null,null,"[ 합           계 ]",{"$nulls":4},{"$f":"TRUNC(SUM(H1360:H1362),0)","v":3171},null,{"$f":"TRUNC(SUM(J1360:J1362),0)","v":0},null,{"$f":"TRUNC(SUM(L1360:L1362),0)","v":0},null,{"$f":"H1363+J1363+L1363","v":3171}]
[]
[null,null,"6916010  절연행가(달대볼트)  D125  개소"]
["6916010","5802040","절연행거","D125","EA",1,2500,{"$f":"TRUNC(F1366*G1366,1)","v":2500},0,{"$f":"TRUNC(F1366*I1366,1)","v":0},0,{"$f":"TRUNC(F1366*K1366,1)","v":0},{"$f":"TRUNC(G1366+I1366+K1366,1)","v":2500},{"$f":"TRUNC(H1366+J1366+L1366,0)","v":2500},""]
["6916010","0505014","전산볼트","M12 L1000","개",1,1311,{"$f":"TRUNC(F1367*G1367,1)","v":1311},0,{"$f":"TRUNC(F1367*I1367,1)","v":0},0,{"$f":"TRUNC(F1367*K1367,1)","v":0},{"$f":"TRUNC(G1367+I1367+K1367,1)","v":1311},{"$f":"TRUNC(H1367+J1367+L1367,0)","v":1311},""]
["6916010","0509104","스트롱앵커(파이프앙카)","1/2\"  (M12)","개",1,260,{"$f":"TRUNC(F1368*G1368,1)","v":260},0,{"$f":"TRUNC(F1368*I1368,1)","v":0},0,{"$f":"TRUNC(F1368*K1368,1)","v":0},{"$f":"TRUNC(G1368+I1368+K1368,1)","v":260},{"$f":"TRUNC(H1368+J1368+L1368,0)","v":260},""]
[null,null,"[ 합           계 ]",{"$nulls":4},{"$f":"TRUNC(SUM(H1366:H1368),0)","v":4071},null,{"$f":"TRUNC(SUM(J1366:J1368),0)","v":0},null,{"$f":"TRUNC(SUM(L1366:L1368),0)","v":0},null,{"$f":"H1369+J1369+L1369","v":4071}]
[]
[null,null,"6916011  절연행가(달대볼트)  D150  개소"]
["6916011","5802041","절연행거","D150","EA",1,4000,{"$f":"TRUNC(F1372*G1372,1)","v":4000},0,{"$f":"TRUNC(F1372*I1372,1)","v":0},0,{"$f":"TRUNC(F1372*K1372,1)","v":0},{"$f":"TRUNC(G1372+I1372+K1372,1)","v":4000},{"$f":"TRUNC(H1372+J1372+L1372,0)","v":4000},""]
["6916011","0505014","전산볼트","M12 L1000","개",1,1311,{"$f":"TRUNC(F1373*G1373,1)","v":1311},0,{"$f":"TRUNC(F1373*I1373,1)","v":0},0,{"$f":"TRUNC(F1373*K1373,1)","v":0},{"$f":"TRUNC(G1373+I1373+K1373,1)","v":1311},{"$f":"TRUNC(H1373+J1373+L1373,0)","v":1311},""]
["6916011","0509104","스트롱앵커(파이프앙카)","1/2\"  (M12)","개",1,260,{"$f":"TRUNC(F1374*G1374,1)","v":260},0,{"$f":"TRUNC(F1374*I1374,1)","v":0},0,{"$f":"TRUNC(F1374*K1374,1)","v":0},{"$f":"TRUNC(G1374+I1374+K1374,1)","v":260},{"$f":"TRUNC(H1374+J1374+L1374,0)","v":260},""]
[null,null,"[ 합           계 ]",{"$nulls":4},{"$f":"TRUNC(SUM(H1372:H1374),0)","v":5571},null,{"$f":"TRUNC(SUM(J1372:J1374),0)","v":0},null,{"$f":"TRUNC(SUM(L1372:L1374),0)","v":0},null,{"$f":"H1375+J1375+L1375","v":5571}]
[]
[null,null,"6916012  절연행가(달대볼트)  D200  개소"]
["6916012","5802042","절연행거","D200","EA",1,5000,{"$f":"TRUNC(F1378*G1378,1)","v":5000},0,{"$f":"TRUNC(F1378*I1378,1)","v":0},0,{"$f":"TRUNC(F1378*K1378,1)","v":0},{"$f":"TRUNC(G1378+I1378+K1378,1)","v":5000},{"$f":"TRUNC(H1378+J1378+L1378,0)","v":5000},""]
["6916012","0505014","전산볼트","M12 L1000","개",1,1311,{"$f":"TRUNC(F1379*G1379,1)","v":1311},0,{"$f":"TRUNC(F1379*I1379,1)","v":0},0,{"$f":"TRUNC(F1379*K1379,1)","v":0},{"$f":"TRUNC(G1379+I1379+K1379,1)","v":1311},{"$f":"TRUNC(H1379+J1379+L1379,0)","v":1311},""]
["6916012","0509104","스트롱앵커(파이프앙카)","1/2\"  (M12)","개",1,260,{"$f":"TRUNC(F1380*G1380,1)","v":260},0,{"$f":"TRUNC(F1380*I1380,1)","v":0},0,{"$f":"TRUNC(F1380*K1380,1)","v":0},{"$f":"TRUNC(G1380+I1380+K1380,1)","v":260},{"$f":"TRUNC(H1380+J1380+L1380,0)","v":260},""]
[null,null,"[ 합           계 ]",{"$nulls":4},{"$f":"TRUNC(SUM(H1378:H1380),0)","v":6571},null,{"$f":"TRUNC(SUM(J1378:J1380),0)","v":0},null,{"$f":"TRUNC(SUM(L1378:L1380),0)","v":0},null,{"$f":"H1381+J1381+L1381","v":6571}]
[]
[null,null,"6917001  강관스리브(지수판제외)설치 - 바닥용  D15  개소"]
["6917001","5001003","백관 (SPP)","D25","m",0.3,4240,{"$f":"TRUNC(F1384*G1384,1)","v":1272},0,{"$f":"TRUNC(F1384*I1384,1)","v":0},0,{"$f":"TRUNC(F1384*K1384,1)","v":0},{"$f":"TRUNC(G1384+I1384+K1384,1)","v":4240},{"$f":"TRUNC(H1384+J1384+L1384,0)","v":1272},""]
["6917001","6903003","강관절단","D25","개소",1,19,{"$f":"TRUNC(F1385*G1385,1)","v":19},642,{"$f":"TRUNC(F1385*I1385,1)","v":642},12,{"$f":"TRUNC(F1385*K1385,1)","v":12},{"$f":"TRUNC(G1385+I1385+K1385,1)","v":673},{"$f":"TRUNC(H1385+J1385+L1385,0)","v":673},""]
["6919001","0001032","노무비","배관공","인",4.2999999999999997E-2,0,{"$f":"TRUNC(F1386*G1386,1)","v":0},202212,{"$f":"TRUNC(F1386*I1386,1)","v":8695.1},0,{"$f":"TRUNC(F1386*K1386,1)","v":0},{"$f":"TRUNC(G1386+I1386+K1386,1)","v":202212},{"$f":"TRUNC(H1386+J1386+L1386,0)","v":8695},""]
["6919001","0001032","노무비","보통인부","인",2.1999999999999999E-2,0,{"$f":"TRUNC(F1387*G1387,1)","v":0},144481,{"$f":"TRUNC(F1387*I1387,1)","v":3178.5},0,{"$f":"TRUNC(F1387*K1387,1)","v":0},{"$f":"TRUNC(G1387+I1387+K1387,1)","v":144481},{"$f":"TRUNC(H1387+J1387+L1387,0)","v":3178},""]
["6919001","M500000","공구손료","노무비의 2%","식",1,null,{"$f":"TRUNC(F1388*G1388,1)","v":0},0,{"$f":"TRUNC(F1388*I1388,1)","v":0},237.4,{"$f":"TRUNC(F1388*K1388,1)","v":237.4},{"$f":"TRUNC(G1388+I1388+K1388,1)","v":237.4},{"$f":"TRUNC(H1388+J1388+L1388,0)","v":237},""]
[null,null,"[ 합           계 ]",{"$nulls":4},{"$f":"TRUNC(SUM(H1384:H1388),0)","v":1291},null,{"$f":"TRUNC(SUM(J1384:J1388),0)","v":12515},null,{"$f":"TRUNC(SUM(L1384:L1388),0)","v":249},null,{"$f":"H1389+J1389+L1389","v":14055}]
[]
[null,null,"6917002  강관스리브(지수판제외)설치 - 바닥용  D20  개소"]
["6917002","5001004","백관 (SPP)","D32","m",0.3,5460,{"$f":"TRUNC(F1392*G1392,1)","v":1638},0,{"$f":"TRUNC(F1392*I1392,1)","v":0},0,{"$f":"TRUNC(F1392*K1392,1)","v":0},{"$f":"TRUNC(G1392+I1392+K1392,1)","v":5460},{"$f":"TRUNC(H1392+J1392+L1392,0)","v":1638},""]
["6917002","6903004","강관절단","D32","개소",1,22,{"$f":"TRUNC(F1393*G1393,1)","v":22},642,{"$f":"TRUNC(F1393*I1393,1)","v":642},12,{"$f":"TRUNC(F1393*K1393,1)","v":12},{"$f":"TRUNC(G1393+I1393+K1393,1)","v":676},{"$f":"TRUNC(H1393+J1393+L1393,0)","v":676},""]
["6919001","0001032","노무비","배관공","인",4.2999999999999997E-2,0,{"$f":"TRUNC(F1394*G1394,1)","v":0},202212,{"$f":"TRUNC(F1394*I1394,1)","v":8695.1},0,{"$f":"TRUNC(F1394*K1394,1)","v":0},{"$f":"TRUNC(G1394+I1394+K1394,1)","v":202212},{"$f":"TRUNC(H1394+J1394+L1394,0)","v":8695},""]
["6919001","0001032","노무비","보통인부","인",2.1999999999999999E-2,0,{"$f":"TRUNC(F1395*G1395,1)","v":0},144481,{"$f":"TRUNC(F1395*I1395,1)","v":3178.5},0,{"$f":"TRUNC(F1395*K1395,1)","v":0},{"$f":"TRUNC(G1395+I1395+K1395,1)","v":144481},{"$f":"TRUNC(H1395+J1395+L1395,0)","v":3178},""]
["6919001","M500000","공구손료","노무비의 2%","식",1,null,{"$f":"TRUNC(F1396*G1396,1)","v":0},0,{"$f":"TRUNC(F1396*I1396,1)","v":0},237.4,{"$f":"TRUNC(F1396*K1396,1)","v":237.4},{"$f":"TRUNC(G1396+I1396+K1396,1)","v":237.4},{"$f":"TRUNC(H1396+J1396+L1396,0)","v":237},""]
[null,null,"[ 합           계 ]",{"$nulls":4},{"$f":"TRUNC(SUM(H1392:H1396),0)","v":1660},null,{"$f":"TRUNC(SUM(J1392:J1396),0)","v":12515},null,{"$f":"TRUNC(SUM(L1392:L1396),0)","v":249},null,{"$f":"H1397+J1397+L1397","v":14424}]
[]
[null,null,"6917003  강관스리브(지수판제외)설치 - 바닥용  D25  개소"]
["6917003","5001005","백관 (SPP)","D40","m",0.3,6260,{"$f":"TRUNC(F1400*G1400,1)","v":1878},0,{"$f":"TRUNC(F1400*I1400,1)","v":0},0,{"$f":"TRUNC(F1400*K1400,1)","v":0},{"$f":"TRUNC(G1400+I1400+K1400,1)","v":6260},{"$f":"TRUNC(H1400+J1400+L1400,0)","v":1878},""]
["6917003","6903005","강관절단","D40","개소",1,26,{"$f":"TRUNC(F1401*G1401,1)","v":26},873,{"$f":"TRUNC(F1401*I1401,1)","v":873},17,{"$f":"TRUNC(F1401*K1401,1)","v":17},{"$f":"TRUNC(G1401+I1401+K1401,1)","v":916},{"$f":"TRUNC(H1401+J1401+L1401,0)","v":916},""]
["6919001","0001032","노무비","배관공","인",4.2999999999999997E-2,0,{"$f":"TRUNC(F1402*G1402,1)","v":0},202212,{"$f":"TRUNC(F1402*I1402,1)","v":8695.1},0,{"$f":"TRUNC(F1402*K1402,1)","v":0},{"$f":"TRUNC(G1402+I1402+K1402,1)","v":202212},{"$f":"TRUNC(H1402+J1402+L1402,0)","v":8695},""]
["6919001","0001032","노무비","보통인부","인",2.1999999999999999E-2,0,{"$f":"TRUNC(F1403*G1403,1)","v":0},144481,{"$f":"TRUNC(F1403*I1403,1)","v":3178.5},0,{"$f":"TRUNC(F1403*K1403,1)","v":0},{"$f":"TRUNC(G1403+I1403+K1403,1)","v":144481},{"$f":"TRUNC(H1403+J1403+L1403,0)","v":3178},""]
["6919001","M500000","공구손료","노무비의 2%","식",1,null,{"$f":"TRUNC(F1404*G1404,1)","v":0},0,{"$f":"TRUNC(F1404*I1404,1)","v":0},237.4,{"$f":"TRUNC(F1404*K1404,1)","v":237.4},{"$f":"TRUNC(G1404+I1404+K1404,1)","v":237.4},{"$f":"TRUNC(H1404+J1404+L1404,0)","v":237},""]
[null,null,"[ 합           계 ]",{"$nulls":4},{"$f":"TRUNC(SUM(H1400:H1404),0)","v":1904},null,{"$f":"TRUNC(SUM(J1400:J1404),0)","v":12746},null,{"$f":"TRUNC(SUM(L1400:L1404),0)","v":254},null,{"$f":"H1405+J1405+L1405","v":14904}]
[]
[null,null,"6917004  강관스리브(지수판제외)설치 - 바닥용  D32  개소"]
["6917004","5001006","백관 (SPP)","D50","m",0.3,8840,{"$f":"TRUNC(F1408*G1408,1)","v":2652},0,{"$f":"TRUNC(F1408*I1408,1)","v":0},0,{"$f":"TRUNC(F1408*K1408,1)","v":0},{"$f":"TRUNC(G1408+I1408+K1408,1)","v":8840},{"$f":"TRUNC(H1408+J1408+L1408,0)","v":2652},""]
["6917004","6903006","강관절단","D50","개소",1,31,{"$f":"TRUNC(F1409*G1409,1)","v":31},873,{"$f":"TRUNC(F1409*I1409,1)","v":873},17,{"$f":"TRUNC(F1409*K1409,1)","v":17},{"$f":"TRUNC(G1409+I1409+K1409,1)","v":921},{"$f":"TRUNC(H1409+J1409+L1409,0)","v":921},""]
["6919001","0001032","노무비","배관공","인",4.2999999999999997E-2,0,{"$f":"TRUNC(F1410*G1410,1)","v":0},202212,{"$f":"TRUNC(F1410*I1410,1)","v":8695.1},0,{"$f":"TRUNC(F1410*K1410,1)","v":0},{"$f":"TRUNC(G1410+I1410+K1410,1)","v":202212},{"$f":"TRUNC(H1410+J1410+L1410,0)","v":8695},""]
["6919001","0001032","노무비","보통인부","인",2.1999999999999999E-2,0,{"$f":"TRUNC(F1411*G1411,1)","v":0},144481,{"$f":"TRUNC(F1411*I1411,1)","v":3178.5},0,{"$f":"TRUNC(F1411*K1411,1)","v":0},{"$f":"TRUNC(G1411+I1411+K1411,1)","v":144481},{"$f":"TRUNC(H1411+J1411+L1411,0)","v":3178},""]
["6919001","M500000","공구손료","노무비의 2%","식",1,null,{"$f":"TRUNC(F1412*G1412,1)","v":0},0,{"$f":"TRUNC(F1412*I1412,1)","v":0},237.4,{"$f":"TRUNC(F1412*K1412,1)","v":237.4},{"$f":"TRUNC(G1412+I1412+K1412,1)","v":237.4},{"$f":"TRUNC(H1412+J1412+L1412,0)","v":237},""]
[null,null,"[ 합           계 ]",{"$nulls":4},{"$f":"TRUNC(SUM(H1408:H1412),0)","v":2683},null,{"$f":"TRUNC(SUM(J1408:J1412),0)","v":12746},null,{"$f":"TRUNC(SUM(L1408:L1412),0)","v":254},null,{"$f":"H1413+J1413+L1413","v":15683}]
[]
[null,null,"6917005  강관스리브(지수판제외)설치 - 바닥용  D40  개소"]
["6917005","5001006","백관 (SPP)","D50","m",0.3,8840,{"$f":"TRUNC(F1416*G1416,1)","v":2652},0,{"$f":"TRUNC(F1416*I1416,1)","v":0},0,{"$f":"TRUNC(F1416*K1416,1)","v":0},{"$f":"TRUNC(G1416+I1416+K1416,1)","v":8840},{"$f":"TRUNC(H1416+J1416+L1416,0)","v":2652},""]
["6917005","6903006","강관절단","D50","개소",1,31,{"$f":"TRUNC(F1417*G1417,1)","v":31},873,{"$f":"TRUNC(F1417*I1417,1)","v":873},17,{"$f":"TRUNC(F1417*K1417,1)","v":17},{"$f":"TRUNC(G1417+I1417+K1417,1)","v":921},{"$f":"TRUNC(H1417+J1417+L1417,0)","v":921},""]
["6919001","0001032","노무비","배관공","인",4.2999999999999997E-2,0,{"$f":"TRUNC(F1418*G1418,1)","v":0},202212,{"$f":"TRUNC(F1418*I1418,1)","v":8695.1},0,{"$f":"TRUNC(F1418*K1418,1)","v":0},{"$f":"TRUNC(G1418+I1418+K1418,1)","v":202212},{"$f":"TRUNC(H1418+J1418+L1418,0)","v":8695},""]
["6919001","0001032","노무비","보통인부","인",2.1999999999999999E-2,0,{"$f":"TRUNC(F1419*G1419,1)","v":0},144481,{"$f":"TRUNC(F1419*I1419,1)","v":3178.5},0,{"$f":"TRUNC(F1419*K1419,1)","v":0},{"$f":"TRUNC(G1419+I1419+K1419,1)","v":144481},{"$f":"TRUNC(H1419+J1419+L1419,0)","v":3178},""]
["6919001","M500000","공구손료","노무비의 2%","식",1,null,{"$f":"TRUNC(F1420*G1420,1)","v":0},0,{"$f":"TRUNC(F1420*I1420,1)","v":0},237.4,{"$f":"TRUNC(F1420*K1420,1)","v":237.4},{"$f":"TRUNC(G1420+I1420+K1420,1)","v":237.4},{"$f":"TRUNC(H1420+J1420+L1420,0)","v":237},""]
[null,null,"[ 합           계 ]",{"$nulls":4},{"$f":"TRUNC(SUM(H1416:H1420),0)","v":2683},null,{"$f":"TRUNC(SUM(J1416:J1420),0)","v":12746},null,{"$f":"TRUNC(SUM(L1416:L1420),0)","v":254},null,{"$f":"H1421+J1421+L1421","v":15683}]
[]
[null,null,"6917006  강관스리브(지수판제외)설치 - 바닥용  D50  개소"]
["6917006","5001007","백관 (SPP)","D65","m",0.3,11290,{"$f":"TRUNC(F1424*G1424,1)","v":3387},0,{"$f":"TRUNC(F1424*I1424,1)","v":0},0,{"$f":"TRUNC(F1424*K1424,1)","v":0},{"$f":"TRUNC(G1424+I1424+K1424,1)","v":11290},{"$f":"TRUNC(H1424+J1424+L1424,0)","v":3387},""]
["6917006","6903007","강관절단","D65","개소",1,39,{"$f":"TRUNC(F1425*G1425,1)","v":39},1285,{"$f":"TRUNC(F1425*I1425,1)","v":1285},25,{"$f":"TRUNC(F1425*K1425,1)","v":25},{"$f":"TRUNC(G1425+I1425+K1425,1)","v":1349},{"$f":"TRUNC(H1425+J1425+L1425,0)","v":1349},""]
["6919001","0001032","노무비","배관공","인",4.2999999999999997E-2,0,{"$f":"TRUNC(F1426*G1426,1)","v":0},202212,{"$f":"TRUNC(F1426*I1426,1)","v":8695.1},0,{"$f":"TRUNC(F1426*K1426,1)","v":0},{"$f":"TRUNC(G1426+I1426+K1426,1)","v":202212},{"$f":"TRUNC(H1426+J1426+L1426,0)","v":8695},""]
["6919001","0001032","노무비","보통인부","인",2.1999999999999999E-2,0,{"$f":"TRUNC(F1427*G1427,1)","v":0},144481,{"$f":"TRUNC(F1427*I1427,1)","v":3178.5},0,{"$f":"TRUNC(F1427*K1427,1)","v":0},{"$f":"TRUNC(G1427+I1427+K1427,1)","v":144481},{"$f":"TRUNC(H1427+J1427+L1427,0)","v":3178},""]
["6919001","M500000","공구손료","노무비의 2%","식",1,null,{"$f":"TRUNC(F1428*G1428,1)","v":0},0,{"$f":"TRUNC(F1428*I1428,1)","v":0},237.4,{"$f":"TRUNC(F1428*K1428,1)","v":237.4},{"$f":"TRUNC(G1428+I1428+K1428,1)","v":237.4},{"$f":"TRUNC(H1428+J1428+L1428,0)","v":237},""]
[null,null,"[ 합           계 ]",{"$nulls":4},{"$f":"TRUNC(SUM(H1424:H1428),0)","v":3426},null,{"$f":"TRUNC(SUM(J1424:J1428),0)","v":13158},null,{"$f":"TRUNC(SUM(L1424:L1428),0)","v":262},null,{"$f":"H1429+J1429+L1429","v":16846}]
[]
[null,null,"6917007  강관스리브(지수판제외)설치 - 바닥용  D65  개소"]
["6917007","5001008","백관 (SPP)","D80","m",0.3,14670,{"$f":"TRUNC(F1432*G1432,1)","v":4401},0,{"$f":"TRUNC(F1432*I1432,1)","v":0},0,{"$f":"TRUNC(F1432*K1432,1)","v":0},{"$f":"TRUNC(G1432+I1432+K1432,1)","v":14670},{"$f":"TRUNC(H1432+J1432+L1432,0)","v":4401},""]
["6917007","6903008","강관절단","D80","개소",1,51,{"$f":"TRUNC(F1433*G1433,1)","v":51},1516,{"$f":"TRUNC(F1433*I1433,1)","v":1516},30,{"$f":"TRUNC(F1433*K1433,1)","v":30},{"$f":"TRUNC(G1433+I1433+K1433,1)","v":1597},{"$f":"TRUNC(H1433+J1433+L1433,0)","v":1597},""]
["6919001","0001032","노무비","배관공","인",5.5000000000000007E-2,0,{"$f":"TRUNC(F1434*G1434,1)","v":0},202212,{"$f":"TRUNC(F1434*I1434,1)","v":11121.6},0,{"$f":"TRUNC(F1434*K1434,1)","v":0},{"$f":"TRUNC(G1434+I1434+K1434,1)","v":202212},{"$f":"TRUNC(H1434+J1434+L1434,0)","v":11121},""]
["6919001","0001032","노무비","보통인부","인",2.9000000000000005E-2,0,{"$f":"TRUNC(F1435*G1435,1)","v":0},144481,{"$f":"TRUNC(F1435*I1435,1)","v":4189.8999999999996},0,{"$f":"TRUNC(F1435*K1435,1)","v":0},{"$f":"TRUNC(G1435+I1435+K1435,1)","v":144481},{"$f":"TRUNC(H1435+J1435+L1435,0)","v":4189},""]
["6919001","M500000","공구손료","노무비의 2%","식",1,null,{"$f":"TRUNC(F1436*G1436,1)","v":0},0,{"$f":"TRUNC(F1436*I1436,1)","v":0},306.2,{"$f":"TRUNC(F1436*K1436,1)","v":306.2},{"$f":"TRUNC(G1436+I1436+K1436,1)","v":306.2},{"$f":"TRUNC(H1436+J1436+L1436,0)","v":306},""]
[null,null,"[ 합           계 ]",{"$nulls":4},{"$f":"TRUNC(SUM(H1432:H1436),0)","v":4452},null,{"$f":"TRUNC(SUM(J1432:J1436),0)","v":16827},null,{"$f":"TRUNC(SUM(L1432:L1436),0)","v":336},null,{"$f":"H1437+J1437+L1437","v":21615}]
[]
[null,null,"6917008  강관스리브(지수판제외)설치 - 바닥용  D80  개소"]
["6917008","5001009","백관 (SPP)","D100","m",0.3,21040,{"$f":"TRUNC(F1440*G1440,1)","v":6312},0,{"$f":"TRUNC(F1440*I1440,1)","v":0},0,{"$f":"TRUNC(F1440*K1440,1)","v":0},{"$f":"TRUNC(G1440+I1440+K1440,1)","v":21040},{"$f":"TRUNC(H1440+J1440+L1440,0)","v":6312},""]
["6917008","6903009","강관절단","D100","개소",1,99,{"$f":"TRUNC(F1441*G1441,1)","v":99},2801,{"$f":"TRUNC(F1441*I1441,1)","v":2801},56,{"$f":"TRUNC(F1441*K1441,1)","v":56},{"$f":"TRUNC(G1441+I1441+K1441,1)","v":2956},{"$f":"TRUNC(H1441+J1441+L1441,0)","v":2956},""]
["6919001","0001032","노무비","배관공","인",5.5000000000000007E-2,0,{"$f":"TRUNC(F1442*G1442,1)","v":0},202212,{"$f":"TRUNC(F1442*I1442,1)","v":11121.6},0,{"$f":"TRUNC(F1442*K1442,1)","v":0},{"$f":"TRUNC(G1442+I1442+K1442,1)","v":202212},{"$f":"TRUNC(H1442+J1442+L1442,0)","v":11121},""]
["6919001","0001032","노무비","보통인부","인",2.9000000000000005E-2,0,{"$f":"TRUNC(F1443*G1443,1)","v":0},144481,{"$f":"TRUNC(F1443*I1443,1)","v":4189.8999999999996},0,{"$f":"TRUNC(F1443*K1443,1)","v":0},{"$f":"TRUNC(G1443+I1443+K1443,1)","v":144481},{"$f":"TRUNC(H1443+J1443+L1443,0)","v":4189},""]
["6919001","M500000","공구손료","노무비의 2%","식",1,null,{"$f":"TRUNC(F1444*G1444,1)","v":0},0,{"$f":"TRUNC(F1444*I1444,1)","v":0},306.2,{"$f":"TRUNC(F1444*K1444,1)","v":306.2},{"$f":"TRUNC(G1444+I1444+K1444,1)","v":306.2},{"$f":"TRUNC(H1444+J1444+L1444,0)","v":306},""]
[null,null,"[ 합           계 ]",{"$nulls":4},{"$f":"TRUNC(SUM(H1440:H1444),0)","v":6411},null,{"$f":"TRUNC(SUM(J1440:J1444),0)","v":18112},null,{"$f":"TRUNC(SUM(L1440:L1444),0)","v":362},null,{"$f":"H1445+J1445+L1445","v":24885}]
[]
[null,null,"6917009  강관스리브(지수판제외)설치 - 바닥용  D100  개소"]
["6917009","5001010","백관 (SPP)","D125","m",0.3,27880,{"$f":"TRUNC(F1448*G1448,1)","v":8364},0,{"$f":"TRUNC(F1448*I1448,1)","v":0},0,{"$f":"TRUNC(F1448*K1448,1)","v":0},{"$f":"TRUNC(G1448+I1448+K1448,1)","v":27880},{"$f":"TRUNC(H1448+J1448+L1448,0)","v":8364},""]
["6917009","6903010","강관절단","D125","개소",1,182,{"$f":"TRUNC(F1449*G1449,1)","v":182},3213,{"$f":"TRUNC(F1449*I1449,1)","v":3213},64,{"$f":"TRUNC(F1449*K1449,1)","v":64},{"$f":"TRUNC(G1449+I1449+K1449,1)","v":3459},{"$f":"TRUNC(H1449+J1449+L1449,0)","v":3459},""]
["6919001","0001032","노무비","배관공","인",5.5000000000000007E-2,0,{"$f":"TRUNC(F1450*G1450,1)","v":0},202212,{"$f":"TRUNC(F1450*I1450,1)","v":11121.6},0,{"$f":"TRUNC(F1450*K1450,1)","v":0},{"$f":"TRUNC(G1450+I1450+K1450,1)","v":202212},{"$f":"TRUNC(H1450+J1450+L1450,0)","v":11121},""]
["6919001","0001032","노무비","보통인부","인",2.9000000000000005E-2,0,{"$f":"TRUNC(F1451*G1451,1)","v":0},144481,{"$f":"TRUNC(F1451*I1451,1)","v":4189.8999999999996},0,{"$f":"TRUNC(F1451*K1451,1)","v":0},{"$f":"TRUNC(G1451+I1451+K1451,1)","v":144481},{"$f":"TRUNC(H1451+J1451+L1451,0)","v":4189},""]
["6919001","M500000","공구손료","노무비의 2%","식",1,null,{"$f":"TRUNC(F1452*G1452,1)","v":0},0,{"$f":"TRUNC(F1452*I1452,1)","v":0},306.2,{"$f":"TRUNC(F1452*K1452,1)","v":306.2},{"$f":"TRUNC(G1452+I1452+K1452,1)","v":306.2},{"$f":"TRUNC(H1452+J1452+L1452,0)","v":306},""]
[null,null,"[ 합           계 ]",{"$nulls":4},{"$f":"TRUNC(SUM(H1448:H1452),0)","v":8546},null,{"$f":"TRUNC(SUM(J1448:J1452),0)","v":18524},null,{"$f":"TRUNC(SUM(L1448:L1452),0)","v":370},null,{"$f":"H1453+J1453+L1453","v":27440}]
[]
[null,null,"6917010  강관스리브(지수판제외)설치 - 바닥용  D125  개소"]
["6917010","5001011","백관 (SPP)","D150","m",0.3,33130,{"$f":"TRUNC(F1456*G1456,1)","v":9939},0,{"$f":"TRUNC(F1456*I1456,1)","v":0},0,{"$f":"TRUNC(F1456*K1456,1)","v":0},{"$f":"TRUNC(G1456+I1456+K1456,1)","v":33130},{"$f":"TRUNC(H1456+J1456+L1456,0)","v":9939},""]
["6917010","6903011","강관절단","D150","개소",1,281,{"$f":"TRUNC(F1457*G1457,1)","v":281},4317,{"$f":"TRUNC(F1457*I1457,1)","v":4317},86,{"$f":"TRUNC(F1457*K1457,1)","v":86},{"$f":"TRUNC(G1457+I1457+K1457,1)","v":4684},{"$f":"TRUNC(H1457+J1457+L1457,0)","v":4684},""]
["6919001","0001032","노무비","배관공","인",6.6000000000000003E-2,0,{"$f":"TRUNC(F1458*G1458,1)","v":0},202212,{"$f":"TRUNC(F1458*I1458,1)","v":13345.9},0,{"$f":"TRUNC(F1458*K1458,1)","v":0},{"$f":"TRUNC(G1458+I1458+K1458,1)","v":202212},{"$f":"TRUNC(H1458+J1458+L1458,0)","v":13345},""]
["6919001","0001032","노무비","보통인부","인",3.5000000000000003E-2,0,{"$f":"TRUNC(F1459*G1459,1)","v":0},144481,{"$f":"TRUNC(F1459*I1459,1)","v":5056.8},0,{"$f":"TRUNC(F1459*K1459,1)","v":0},{"$f":"TRUNC(G1459+I1459+K1459,1)","v":144481},{"$f":"TRUNC(H1459+J1459+L1459,0)","v":5056},""]
["6919001","M500000","공구손료","노무비의 2%","식",1,null,{"$f":"TRUNC(F1460*G1460,1)","v":0},0,{"$f":"TRUNC(F1460*I1460,1)","v":0},368,{"$f":"TRUNC(F1460*K1460,1)","v":368},{"$f":"TRUNC(G1460+I1460+K1460,1)","v":368},{"$f":"TRUNC(H1460+J1460+L1460,0)","v":368},""]
[null,null,"[ 합           계 ]",{"$nulls":4},{"$f":"TRUNC(SUM(H1456:H1460),0)","v":10220},null,{"$f":"TRUNC(SUM(J1456:J1460),0)","v":22719},null,{"$f":"TRUNC(SUM(L1456:L1460),0)","v":454},null,{"$f":"H1461+J1461+L1461","v":33393}]
[]
[null,null,"6917011  강관스리브(지수판제외)설치 - 바닥용  D150  개소"]
["6917011","5001012","백관 (SPP)","D200","m",0.3,52440,{"$f":"TRUNC(F1464*G1464,1)","v":15732},0,{"$f":"TRUNC(F1464*I1464,1)","v":0},0,{"$f":"TRUNC(F1464*K1464,1)","v":0},{"$f":"TRUNC(G1464+I1464+K1464,1)","v":52440},{"$f":"TRUNC(H1464+J1464+L1464,0)","v":15732},""]
["6917011","6903012","강관절단","D200","개소",1,463,{"$f":"TRUNC(F1465*G1465,1)","v":463},5191,{"$f":"TRUNC(F1465*I1465,1)","v":5191},103,{"$f":"TRUNC(F1465*K1465,1)","v":103},{"$f":"TRUNC(G1465+I1465+K1465,1)","v":5757},{"$f":"TRUNC(H1465+J1465+L1465,0)","v":5757},""]
["6919001","0001032","노무비","배관공","인",6.6000000000000003E-2,0,{"$f":"TRUNC(F1466*G1466,1)","v":0},202212,{"$f":"TRUNC(F1466*I1466,1)","v":13345.9},0,{"$f":"TRUNC(F1466*K1466,1)","v":0},{"$f":"TRUNC(G1466+I1466+K1466,1)","v":202212},{"$f":"TRUNC(H1466+J1466+L1466,0)","v":13345},""]
["6919001","0001032","노무비","보통인부","인",3.5000000000000003E-2,0,{"$f":"TRUNC(F1467*G1467,1)","v":0},144481,{"$f":"TRUNC(F1467*I1467,1)","v":5056.8},0,{"$f":"TRUNC(F1467*K1467,1)","v":0},{"$f":"TRUNC(G1467+I1467+K1467,1)","v":144481},{"$f":"TRUNC(H1467+J1467+L1467,0)","v":5056},""]
["6919001","M500000","공구손료","노무비의 2%","식",1,null,{"$f":"TRUNC(F1468*G1468,1)","v":0},0,{"$f":"TRUNC(F1468*I1468,1)","v":0},368,{"$f":"TRUNC(F1468*K1468,1)","v":368},{"$f":"TRUNC(G1468+I1468+K1468,1)","v":368},{"$f":"TRUNC(H1468+J1468+L1468,0)","v":368},""]
[null,null,"[ 합           계 ]",{"$nulls":4},{"$f":"TRUNC(SUM(H1464:H1468),0)","v":16195},null,{"$f":"TRUNC(SUM(J1464:J1468),0)","v":23593},null,{"$f":"TRUNC(SUM(L1464:L1468),0)","v":471},null,{"$f":"H1469+J1469+L1469","v":40259}]
[]
[null,null,"6917012  강관스리브(지수판제외)설치 - 바닥용  D200  개소"]
["6917012","5001013","백관 (SPP)","D250","m",0.3,74930,{"$f":"TRUNC(F1472*G1472,1)","v":22479},0,{"$f":"TRUNC(F1472*I1472,1)","v":0},0,{"$f":"TRUNC(F1472*K1472,1)","v":0},{"$f":"TRUNC(G1472+I1472+K1472,1)","v":74930},{"$f":"TRUNC(H1472+J1472+L1472,0)","v":22479},""]
["6917012","6903013","강관절단","D250","개소",1,813,{"$f":"TRUNC(F1473*G1473,1)","v":813},6476,{"$f":"TRUNC(F1473*I1473,1)","v":6476},129,{"$f":"TRUNC(F1473*K1473,1)","v":129},{"$f":"TRUNC(G1473+I1473+K1473,1)","v":7418},{"$f":"TRUNC(H1473+J1473+L1473,0)","v":7418},""]
["6919001","0001032","노무비","배관공","인",7.6999999999999999E-2,0,{"$f":"TRUNC(F1474*G1474,1)","v":0},202212,{"$f":"TRUNC(F1474*I1474,1)","v":15570.3},0,{"$f":"TRUNC(F1474*K1474,1)","v":0},{"$f":"TRUNC(G1474+I1474+K1474,1)","v":202212},{"$f":"TRUNC(H1474+J1474+L1474,0)","v":15570},""]
["6919001","0001032","노무비","보통인부","인",4.1000000000000002E-2,0,{"$f":"TRUNC(F1475*G1475,1)","v":0},144481,{"$f":"TRUNC(F1475*I1475,1)","v":5923.7},0,{"$f":"TRUNC(F1475*K1475,1)","v":0},{"$f":"TRUNC(G1475+I1475+K1475,1)","v":144481},{"$f":"TRUNC(H1475+J1475+L1475,0)","v":5923},""]
["6919001","M500000","공구손료","노무비의 2%","식",1,null,{"$f":"TRUNC(F1476*G1476,1)","v":0},0,{"$f":"TRUNC(F1476*I1476,1)","v":0},429.8,{"$f":"TRUNC(F1476*K1476,1)","v":429.8},{"$f":"TRUNC(G1476+I1476+K1476,1)","v":429.8},{"$f":"TRUNC(H1476+J1476+L1476,0)","v":429},""]
[null,null,"[ 합           계 ]",{"$nulls":4},{"$f":"TRUNC(SUM(H1472:H1476),0)","v":23292},null,{"$f":"TRUNC(SUM(J1472:J1476),0)","v":27970},null,{"$f":"TRUNC(SUM(L1472:L1476),0)","v":558},null,{"$f":"H1477+J1477+L1477","v":51820}]
[]
[null,null,"6917013  강관스리브(지수판제외)설치 - 바닥용 D250  개소"]
["6917013","5001014","백관 (SPP)","D300","m",0.3,97810,{"$f":"TRUNC(F1480*G1480,1)","v":29343},0,{"$f":"TRUNC(F1480*I1480,1)","v":0},0,{"$f":"TRUNC(F1480*K1480,1)","v":0},{"$f":"TRUNC(G1480+I1480+K1480,1)","v":97810},{"$f":"TRUNC(H1480+J1480+L1480,0)","v":29343},""]
["6917013","6903014","강관절단","D300","개소",1,1068,{"$f":"TRUNC(F1481*G1481,1)","v":1068},8635,{"$f":"TRUNC(F1481*I1481,1)","v":8635},172,{"$f":"TRUNC(F1481*K1481,1)","v":172},{"$f":"TRUNC(G1481+I1481+K1481,1)","v":9875},{"$f":"TRUNC(H1481+J1481+L1481,0)","v":9875},""]
["6919001","0001032","노무비","배관공","인",7.6999999999999999E-2,0,{"$f":"TRUNC(F1482*G1482,1)","v":0},202212,{"$f":"TRUNC(F1482*I1482,1)","v":15570.3},0,{"$f":"TRUNC(F1482*K1482,1)","v":0},{"$f":"TRUNC(G1482+I1482+K1482,1)","v":202212},{"$f":"TRUNC(H1482+J1482+L1482,0)","v":15570},""]
["6919001","0001032","노무비","보통인부","인",4.1000000000000002E-2,0,{"$f":"TRUNC(F1483*G1483,1)","v":0},144481,{"$f":"TRUNC(F1483*I1483,1)","v":5923.7},0,{"$f":"TRUNC(F1483*K1483,1)","v":0},{"$f":"TRUNC(G1483+I1483+K1483,1)","v":144481},{"$f":"TRUNC(H1483+J1483+L1483,0)","v":5923},""]
["6919001","M500000","공구손료","노무비의 2%","식",1,null,{"$f":"TRUNC(F1484*G1484,1)","v":0},0,{"$f":"TRUNC(F1484*I1484,1)","v":0},429.8,{"$f":"TRUNC(F1484*K1484,1)","v":429.8},{"$f":"TRUNC(G1484+I1484+K1484,1)","v":429.8},{"$f":"TRUNC(H1484+J1484+L1484,0)","v":429},""]
[null,null,"[ 합           계 ]",{"$nulls":4},{"$f":"TRUNC(SUM(H1480:H1484),0)","v":30411},null,{"$f":"TRUNC(SUM(J1480:J1484),0)","v":30129},null,{"$f":"TRUNC(SUM(L1480:L1484),0)","v":601},null,{"$f":"H1485+J1485+L1485","v":61141}]
[]
[null,null,"6917014  강관스리브(지수판제외)설치 - 바닥용  D300  개소"]
["6917014","5001015","백관 (SPP)","D350","m",0.3,118650,{"$f":"TRUNC(F1488*G1488,1)","v":35595},0,{"$f":"TRUNC(F1488*I1488,1)","v":0},0,{"$f":"TRUNC(F1488*K1488,1)","v":0},{"$f":"TRUNC(G1488+I1488+K1488,1)","v":118650},{"$f":"TRUNC(H1488+J1488+L1488,0)","v":35595},""]
["6917014","6903015","강관절단","D350","개소",1,1258,{"$f":"TRUNC(F1489*G1489,1)","v":1258},11667,{"$f":"TRUNC(F1489*I1489,1)","v":11667},233,{"$f":"TRUNC(F1489*K1489,1)","v":233},{"$f":"TRUNC(G1489+I1489+K1489,1)","v":13158},{"$f":"TRUNC(H1489+J1489+L1489,0)","v":13158},""]
["6919001","0001032","노무비","배관공","인",8.8999999999999996E-2,0,{"$f":"TRUNC(F1490*G1490,1)","v":0},202212,{"$f":"TRUNC(F1490*I1490,1)","v":17996.8},0,{"$f":"TRUNC(F1490*K1490,1)","v":0},{"$f":"TRUNC(G1490+I1490+K1490,1)","v":202212},{"$f":"TRUNC(H1490+J1490+L1490,0)","v":17996},""]
["6919001","0001032","노무비","보통인부","인",4.7E-2,0,{"$f":"TRUNC(F1491*G1491,1)","v":0},144481,{"$f":"TRUNC(F1491*I1491,1)","v":6790.6},0,{"$f":"TRUNC(F1491*K1491,1)","v":0},{"$f":"TRUNC(G1491+I1491+K1491,1)","v":144481},{"$f":"TRUNC(H1491+J1491+L1491,0)","v":6790},""]
["6919001","M500000","공구손료","노무비의 2%","식",1,null,{"$f":"TRUNC(F1492*G1492,1)","v":0},0,{"$f":"TRUNC(F1492*I1492,1)","v":0},495.7,{"$f":"TRUNC(F1492*K1492,1)","v":495.7},{"$f":"TRUNC(G1492+I1492+K1492,1)","v":495.7},{"$f":"TRUNC(H1492+J1492+L1492,0)","v":495},""]
[null,null,"[ 합           계 ]",{"$nulls":4},{"$f":"TRUNC(SUM(H1488:H1492),0)","v":36853},null,{"$f":"TRUNC(SUM(J1488:J1492),0)","v":36454},null,{"$f":"TRUNC(SUM(L1488:L1492),0)","v":728},null,{"$f":"H1493+J1493+L1493","v":74035}]
[]
[null,null,"6917015  강관스리브(지수판제외)설치 - 벽체용  D15  개소"]
["6917001","5001003","백관 (SPP)","D25","m",0.3,4240,{"$f":"TRUNC(F1496*G1496,1)","v":1272},0,{"$f":"TRUNC(F1496*I1496,1)","v":0},0,{"$f":"TRUNC(F1496*K1496,1)","v":0},{"$f":"TRUNC(G1496+I1496+K1496,1)","v":4240},{"$f":"TRUNC(H1496+J1496+L1496,0)","v":1272},""]
["6917001","6903003","강관절단","D25","개소",1,19,{"$f":"TRUNC(F1497*G1497,1)","v":19},642,{"$f":"TRUNC(F1497*I1497,1)","v":642},12,{"$f":"TRUNC(F1497*K1497,1)","v":12},{"$f":"TRUNC(G1497+I1497+K1497,1)","v":673},{"$f":"TRUNC(H1497+J1497+L1497,0)","v":673},""]
["6919001","0001032","노무비","배관공","인",0.06,0,{"$f":"TRUNC(F1498*G1498,1)","v":0},202212,{"$f":"TRUNC(F1498*I1498,1)","v":12132.7},0,{"$f":"TRUNC(F1498*K1498,1)","v":0},{"$f":"TRUNC(G1498+I1498+K1498,1)","v":202212},{"$f":"TRUNC(H1498+J1498+L1498,0)","v":12132},""]
["6919001","0001032","노무비","보통인부","인",1.2E-2,0,{"$f":"TRUNC(F1499*G1499,1)","v":0},144481,{"$f":"TRUNC(F1499*I1499,1)","v":1733.7},0,{"$f":"TRUNC(F1499*K1499,1)","v":0},{"$f":"TRUNC(G1499+I1499+K1499,1)","v":144481},{"$f":"TRUNC(H1499+J1499+L1499,0)","v":1733},""]
["6919001","M500000","공구손료","노무비의 2%","식",1,null,{"$f":"TRUNC(F1500*G1500,1)","v":0},0,{"$f":"TRUNC(F1500*I1500,1)","v":0},277.3,{"$f":"TRUNC(F1500*K1500,1)","v":277.3},{"$f":"TRUNC(G1500+I1500+K1500,1)","v":277.3},{"$f":"TRUNC(H1500+J1500+L1500,0)","v":277},""]
[null,null,"[ 합           계 ]",{"$nulls":4},{"$f":"TRUNC(SUM(H1496:H1500),0)","v":1291},null,{"$f":"TRUNC(SUM(J1496:J1500),0)","v":14508},null,{"$f":"TRUNC(SUM(L1496:L1500),0)","v":289},null,{"$f":"H1501+J1501+L1501","v":16088}]
[]
[null,null,"6917016  강관스리브(지수판제외)설치 - 벽체용  D20  개소"]
["6917002","5001004","백관 (SPP)","D32","m",0.3,5460,{"$f":"TRUNC(F1504*G1504,1)","v":1638},0,{"$f":"TRUNC(F1504*I1504,1)","v":0},0,{"$f":"TRUNC(F1504*K1504,1)","v":0},{"$f":"TRUNC(G1504+I1504+K1504,1)","v":5460},{"$f":"TRUNC(H1504+J1504+L1504,0)","v":1638},""]
["6917002","6903004","강관절단","D32","개소",1,22,{"$f":"TRUNC(F1505*G1505,1)","v":22},642,{"$f":"TRUNC(F1505*I1505,1)","v":642},12,{"$f":"TRUNC(F1505*K1505,1)","v":12},{"$f":"TRUNC(G1505+I1505+K1505,1)","v":676},{"$f":"TRUNC(H1505+J1505+L1505,0)","v":676},""]
["6919001","0001032","노무비","배관공","인",0.06,0,{"$f":"TRUNC(F1506*G1506,1)","v":0},202212,{"$f":"TRUNC(F1506*I1506,1)","v":12132.7},0,{"$f":"TRUNC(F1506*K1506,1)","v":0},{"$f":"TRUNC(G1506+I1506+K1506,1)","v":202212},{"$f":"TRUNC(H1506+J1506+L1506,0)","v":12132},""]
["6919001","0001032","노무비","보통인부","인",1.2E-2,0,{"$f":"TRUNC(F1507*G1507,1)","v":0},144481,{"$f":"TRUNC(F1507*I1507,1)","v":1733.7},0,{"$f":"TRUNC(F1507*K1507,1)","v":0},{"$f":"TRUNC(G1507+I1507+K1507,1)","v":144481},{"$f":"TRUNC(H1507+J1507+L1507,0)","v":1733},""]
["6919001","M500000","공구손료","노무비의 2%","식",1,null,{"$f":"TRUNC(F1508*G1508,1)","v":0},0,{"$f":"TRUNC(F1508*I1508,1)","v":0},277.3,{"$f":"TRUNC(F1508*K1508,1)","v":277.3},{"$f":"TRUNC(G1508+I1508+K1508,1)","v":277.3},{"$f":"TRUNC(H1508+J1508+L1508,0)","v":277},""]
[null,null,"[ 합           계 ]",{"$nulls":4},{"$f":"TRUNC(SUM(H1504:H1508),0)","v":1660},null,{"$f":"TRUNC(SUM(J1504:J1508),0)","v":14508},null,{"$f":"TRUNC(SUM(L1504:L1508),0)","v":289},null,{"$f":"H1509+J1509+L1509","v":16457}]
[]
[null,null,"6917017  강관스리브(지수판제외)설치 - 벽체용  D25  개소"]
["6917003","5001005","백관 (SPP)","D40","m",0.3,6260,{"$f":"TRUNC(F1512*G1512,1)","v":1878},0,{"$f":"TRUNC(F1512*I1512,1)","v":0},0,{"$f":"TRUNC(F1512*K1512,1)","v":0},{"$f":"TRUNC(G1512+I1512+K1512,1)","v":6260},{"$f":"TRUNC(H1512+J1512+L1512,0)","v":1878},""]
["6917003","6903005","강관절단","D40","개소",1,26,{"$f":"TRUNC(F1513*G1513,1)","v":26},873,{"$f":"TRUNC(F1513*I1513,1)","v":873},17,{"$f":"TRUNC(F1513*K1513,1)","v":17},{"$f":"TRUNC(G1513+I1513+K1513,1)","v":916},{"$f":"TRUNC(H1513+J1513+L1513,0)","v":916},""]
["6919001","0001032","노무비","배관공","인",0.06,0,{"$f":"TRUNC(F1514*G1514,1)","v":0},202212,{"$f":"TRUNC(F1514*I1514,1)","v":12132.7},0,{"$f":"TRUNC(F1514*K1514,1)","v":0},{"$f":"TRUNC(G1514+I1514+K1514,1)","v":202212},{"$f":"TRUNC(H1514+J1514+L1514,0)","v":12132},""]
["6919001","0001032","노무비","보통인부","인",1.2E-2,0,{"$f":"TRUNC(F1515*G1515,1)","v":0},144481,{"$f":"TRUNC(F1515*I1515,1)","v":1733.7},0,{"$f":"TRUNC(F1515*K1515,1)","v":0},{"$f":"TRUNC(G1515+I1515+K1515,1)","v":144481},{"$f":"TRUNC(H1515+J1515+L1515,0)","v":1733},""]
["6919001","M500000","공구손료","노무비의 2%","식",1,null,{"$f":"TRUNC(F1516*G1516,1)","v":0},0,{"$f":"TRUNC(F1516*I1516,1)","v":0},277.3,{"$f":"TRUNC(F1516*K1516,1)","v":277.3},{"$f":"TRUNC(G1516+I1516+K1516,1)","v":277.3},{"$f":"TRUNC(H1516+J1516+L1516,0)","v":277},""]
[null,null,"[ 합           계 ]",{"$nulls":4},{"$f":"TRUNC(SUM(H1512:H1516),0)","v":1904},null,{"$f":"TRUNC(SUM(J1512:J1516),0)","v":14739},null,{"$f":"TRUNC(SUM(L1512:L1516),0)","v":294},null,{"$f":"H1517+J1517+L1517","v":16937}]
[]
[null,null,"66917018  강관스리브(지수판제외)설치 - 벽체용  D32  개소"]
["6917004","5001006","백관 (SPP)","D50","m",0.3,8840,{"$f":"TRUNC(F1520*G1520,1)","v":2652},0,{"$f":"TRUNC(F1520*I1520,1)","v":0},0,{"$f":"TRUNC(F1520*K1520,1)","v":0},{"$f":"TRUNC(G1520+I1520+K1520,1)","v":8840},{"$f":"TRUNC(H1520+J1520+L1520,0)","v":2652},""]
["6917004","6903006","강관절단","D50","개소",1,31,{"$f":"TRUNC(F1521*G1521,1)","v":31},873,{"$f":"TRUNC(F1521*I1521,1)","v":873},17,{"$f":"TRUNC(F1521*K1521,1)","v":17},{"$f":"TRUNC(G1521+I1521+K1521,1)","v":921},{"$f":"TRUNC(H1521+J1521+L1521,0)","v":921},""]
["6919001","0001032","노무비","배관공","인",0.06,0,{"$f":"TRUNC(F1522*G1522,1)","v":0},202212,{"$f":"TRUNC(F1522*I1522,1)","v":12132.7},0,{"$f":"TRUNC(F1522*K1522,1)","v":0},{"$f":"TRUNC(G1522+I1522+K1522,1)","v":202212},{"$f":"TRUNC(H1522+J1522+L1522,0)","v":12132},""]
["6919001","0001032","노무비","보통인부","인",1.2E-2,0,{"$f":"TRUNC(F1523*G1523,1)","v":0},144481,{"$f":"TRUNC(F1523*I1523,1)","v":1733.7},0,{"$f":"TRUNC(F1523*K1523,1)","v":0},{"$f":"TRUNC(G1523+I1523+K1523,1)","v":144481},{"$f":"TRUNC(H1523+J1523+L1523,0)","v":1733},""]
["6919001","M500000","공구손료","노무비의 2%","식",1,null,{"$f":"TRUNC(F1524*G1524,1)","v":0},0,{"$f":"TRUNC(F1524*I1524,1)","v":0},277.3,{"$f":"TRUNC(F1524*K1524,1)","v":277.3},{"$f":"TRUNC(G1524+I1524+K1524,1)","v":277.3},{"$f":"TRUNC(H1524+J1524+L1524,0)","v":277},""]
[null,null,"[ 합           계 ]",{"$nulls":4},{"$f":"TRUNC(SUM(H1520:H1524),0)","v":2683},null,{"$f":"TRUNC(SUM(J1520:J1524),0)","v":14739},null,{"$f":"TRUNC(SUM(L1520:L1524),0)","v":294},null,{"$f":"H1525+J1525+L1525","v":17716}]
[]
[null,null,"6917019  강관스리브(지수판제외)설치 - 벽체용  D40  개소"]
["6917005","5001006","백관 (SPP)","D50","m",0.3,8840,{"$f":"TRUNC(F1528*G1528,1)","v":2652},0,{"$f":"TRUNC(F1528*I1528,1)","v":0},0,{"$f":"TRUNC(F1528*K1528,1)","v":0},{"$f":"TRUNC(G1528+I1528+K1528,1)","v":8840},{"$f":"TRUNC(H1528+J1528+L1528,0)","v":2652},""]
["6917005","6903006","강관절단","D50","개소",1,31,{"$f":"TRUNC(F1529*G1529,1)","v":31},873,{"$f":"TRUNC(F1529*I1529,1)","v":873},17,{"$f":"TRUNC(F1529*K1529,1)","v":17},{"$f":"TRUNC(G1529+I1529+K1529,1)","v":921},{"$f":"TRUNC(H1529+J1529+L1529,0)","v":921},""]
["6919001","0001032","노무비","배관공","인",0.06,0,{"$f":"TRUNC(F1530*G1530,1)","v":0},202212,{"$f":"TRUNC(F1530*I1530,1)","v":12132.7},0,{"$f":"TRUNC(F1530*K1530,1)","v":0},{"$f":"TRUNC(G1530+I1530+K1530,1)","v":202212},{"$f":"TRUNC(H1530+J1530+L1530,0)","v":12132},""]
["6919001","0001032","노무비","보통인부","인",1.2E-2,0,{"$f":"TRUNC(F1531*G1531,1)","v":0},144481,{"$f":"TRUNC(F1531*I1531,1)","v":1733.7},0,{"$f":"TRUNC(F1531*K1531,1)","v":0},{"$f":"TRUNC(G1531+I1531+K1531,1)","v":144481},{"$f":"TRUNC(H1531+J1531+L1531,0)","v":1733},""]
["6919001","M500000","공구손료","노무비의 2%","식",1,null,{"$f":"TRUNC(F1532*G1532,1)","v":0},0,{"$f":"TRUNC(F1532*I1532,1)","v":0},277.3,{"$f":"TRUNC(F1532*K1532,1)","v":277.3},{"$f":"TRUNC(G1532+I1532+K1532,1)","v":277.3},{"$f":"TRUNC(H1532+J1532+L1532,0)","v":277},""]
[null,null,"[ 합           계 ]",{"$nulls":4},{"$f":"TRUNC(SUM(H1528:H1532),0)","v":2683},null,{"$f":"TRUNC(SUM(J1528:J1532),0)","v":14739},null,{"$f":"TRUNC(SUM(L1528:L1532),0)","v":294},null,{"$f":"H1533+J1533+L1533","v":17716}]
[]
[null,null,"6917020  강관스리브(지수판제외)설치 - 벽체용  D50  개소"]
["6917006","5001007","백관 (SPP)","D65","m",0.3,11290,{"$f":"TRUNC(F1536*G1536,1)","v":3387},0,{"$f":"TRUNC(F1536*I1536,1)","v":0},0,{"$f":"TRUNC(F1536*K1536,1)","v":0},{"$f":"TRUNC(G1536+I1536+K1536,1)","v":11290},{"$f":"TRUNC(H1536+J1536+L1536,0)","v":3387},""]
["6917006","6903007","강관절단","D65","개소",1,39,{"$f":"TRUNC(F1537*G1537,1)","v":39},1285,{"$f":"TRUNC(F1537*I1537,1)","v":1285},25,{"$f":"TRUNC(F1537*K1537,1)","v":25},{"$f":"TRUNC(G1537+I1537+K1537,1)","v":1349},{"$f":"TRUNC(H1537+J1537+L1537,0)","v":1349},""]
["6919001","0001032","노무비","배관공","인",0.06,0,{"$f":"TRUNC(F1538*G1538,1)","v":0},202212,{"$f":"TRUNC(F1538*I1538,1)","v":12132.7},0,{"$f":"TRUNC(F1538*K1538,1)","v":0},{"$f":"TRUNC(G1538+I1538+K1538,1)","v":202212},{"$f":"TRUNC(H1538+J1538+L1538,0)","v":12132},""]
["6919001","0001032","노무비","보통인부","인",1.2E-2,0,{"$f":"TRUNC(F1539*G1539,1)","v":0},144481,{"$f":"TRUNC(F1539*I1539,1)","v":1733.7},0,{"$f":"TRUNC(F1539*K1539,1)","v":0},{"$f":"TRUNC(G1539+I1539+K1539,1)","v":144481},{"$f":"TRUNC(H1539+J1539+L1539,0)","v":1733},""]
["6919001","M500000","공구손료","노무비의 2%","식",1,null,{"$f":"TRUNC(F1540*G1540,1)","v":0},0,{"$f":"TRUNC(F1540*I1540,1)","v":0},277.3,{"$f":"TRUNC(F1540*K1540,1)","v":277.3},{"$f":"TRUNC(G1540+I1540+K1540,1)","v":277.3},{"$f":"TRUNC(H1540+J1540+L1540,0)","v":277},""]
[null,null,"[ 합           계 ]",{"$nulls":4},{"$f":"TRUNC(SUM(H1536:H1540),0)","v":3426},null,{"$f":"TRUNC(SUM(J1536:J1540),0)","v":15151},null,{"$f":"TRUNC(SUM(L1536:L1540),0)","v":302},null,{"$f":"H1541+J1541+L1541","v":18879}]
[]
[null,null,"6917021  강관스리브(지수판제외)설치 - 벽체용  D65  개소"]
["6917007","5001008","백관 (SPP)","D80","m",0.3,14670,{"$f":"TRUNC(F1544*G1544,1)","v":4401},0,{"$f":"TRUNC(F1544*I1544,1)","v":0},0,{"$f":"TRUNC(F1544*K1544,1)","v":0},{"$f":"TRUNC(G1544+I1544+K1544,1)","v":14670},{"$f":"TRUNC(H1544+J1544+L1544,0)","v":4401},""]
["6917007","6903008","강관절단","D80","개소",1,51,{"$f":"TRUNC(F1545*G1545,1)","v":51},1516,{"$f":"TRUNC(F1545*I1545,1)","v":1516},30,{"$f":"TRUNC(F1545*K1545,1)","v":30},{"$f":"TRUNC(G1545+I1545+K1545,1)","v":1597},{"$f":"TRUNC(H1545+J1545+L1545,0)","v":1597},""]
["6919001","0001032","노무비","배관공","인",6.9000000000000006E-2,0,{"$f":"TRUNC(F1546*G1546,1)","v":0},202212,{"$f":"TRUNC(F1546*I1546,1)","v":13952.6},0,{"$f":"TRUNC(F1546*K1546,1)","v":0},{"$f":"TRUNC(G1546+I1546+K1546,1)","v":202212},{"$f":"TRUNC(H1546+J1546+L1546,0)","v":13952},""]
["6919001","0001032","노무비","보통인부","인",1.7999999999999999E-2,0,{"$f":"TRUNC(F1547*G1547,1)","v":0},144481,{"$f":"TRUNC(F1547*I1547,1)","v":2600.6},0,{"$f":"TRUNC(F1547*K1547,1)","v":0},{"$f":"TRUNC(G1547+I1547+K1547,1)","v":144481},{"$f":"TRUNC(H1547+J1547+L1547,0)","v":2600},""]
["6919001","M500000","공구손료","노무비의 2%","식",1,null,{"$f":"TRUNC(F1548*G1548,1)","v":0},0,{"$f":"TRUNC(F1548*I1548,1)","v":0},331,{"$f":"TRUNC(F1548*K1548,1)","v":331},{"$f":"TRUNC(G1548+I1548+K1548,1)","v":331},{"$f":"TRUNC(H1548+J1548+L1548,0)","v":331},""]
[null,null,"[ 합           계 ]",{"$nulls":4},{"$f":"TRUNC(SUM(H1544:H1548),0)","v":4452},null,{"$f":"TRUNC(SUM(J1544:J1548),0)","v":18069},null,{"$f":"TRUNC(SUM(L1544:L1548),0)","v":361},null,{"$f":"H1549+J1549+L1549","v":22882}]
[]
[null,null,"6917022  강관스리브(지수판제외)설치 - 벽체용  D80  개소"]
["6917008","5001009","백관 (SPP)","D100","m",0.3,21040,{"$f":"TRUNC(F1552*G1552,1)","v":6312},0,{"$f":"TRUNC(F1552*I1552,1)","v":0},0,{"$f":"TRUNC(F1552*K1552,1)","v":0},{"$f":"TRUNC(G1552+I1552+K1552,1)","v":21040},{"$f":"TRUNC(H1552+J1552+L1552,0)","v":6312},""]
["6917008","6903009","강관절단","D100","개소",1,99,{"$f":"TRUNC(F1553*G1553,1)","v":99},2801,{"$f":"TRUNC(F1553*I1553,1)","v":2801},56,{"$f":"TRUNC(F1553*K1553,1)","v":56},{"$f":"TRUNC(G1553+I1553+K1553,1)","v":2956},{"$f":"TRUNC(H1553+J1553+L1553,0)","v":2956},""]
["6919001","0001032","노무비","배관공","인",6.9000000000000006E-2,0,{"$f":"TRUNC(F1554*G1554,1)","v":0},202212,{"$f":"TRUNC(F1554*I1554,1)","v":13952.6},0,{"$f":"TRUNC(F1554*K1554,1)","v":0},{"$f":"TRUNC(G1554+I1554+K1554,1)","v":202212},{"$f":"TRUNC(H1554+J1554+L1554,0)","v":13952},""]
["6919001","0001032","노무비","보통인부","인",1.7999999999999999E-2,0,{"$f":"TRUNC(F1555*G1555,1)","v":0},144481,{"$f":"TRUNC(F1555*I1555,1)","v":2600.6},0,{"$f":"TRUNC(F1555*K1555,1)","v":0},{"$f":"TRUNC(G1555+I1555+K1555,1)","v":144481},{"$f":"TRUNC(H1555+J1555+L1555,0)","v":2600},""]
["6919001","M500000","공구손료","노무비의 2%","식",1,null,{"$f":"TRUNC(F1556*G1556,1)","v":0},0,{"$f":"TRUNC(F1556*I1556,1)","v":0},331,{"$f":"TRUNC(F1556*K1556,1)","v":331},{"$f":"TRUNC(G1556+I1556+K1556,1)","v":331},{"$f":"TRUNC(H1556+J1556+L1556,0)","v":331},""]
[null,null,"[ 합           계 ]",{"$nulls":4},{"$f":"TRUNC(SUM(H1552:H1556),0)","v":6411},null,{"$f":"TRUNC(SUM(J1552:J1556),0)","v":19354},null,{"$f":"TRUNC(SUM(L1552:L1556),0)","v":387},null,{"$f":"H1557+J1557+L1557","v":26152}]
[]
[null,null,"6917023  강관스리브(지수판제외)설치 - 벽체용  D100  개소"]
["6917009","5001010","백관 (SPP)","D125","m",0.3,27880,{"$f":"TRUNC(F1560*G1560,1)","v":8364},0,{"$f":"TRUNC(F1560*I1560,1)","v":0},0,{"$f":"TRUNC(F1560*K1560,1)","v":0},{"$f":"TRUNC(G1560+I1560+K1560,1)","v":27880},{"$f":"TRUNC(H1560+J1560+L1560,0)","v":8364},""]
["6917009","6903010","강관절단","D125","개소",1,182,{"$f":"TRUNC(F1561*G1561,1)","v":182},3213,{"$f":"TRUNC(F1561*I1561,1)","v":3213},64,{"$f":"TRUNC(F1561*K1561,1)","v":64},{"$f":"TRUNC(G1561+I1561+K1561,1)","v":3459},{"$f":"TRUNC(H1561+J1561+L1561,0)","v":3459},""]
["6919001","0001032","노무비","배관공","인",6.9000000000000006E-2,0,{"$f":"TRUNC(F1562*G1562,1)","v":0},202212,{"$f":"TRUNC(F1562*I1562,1)","v":13952.6},0,{"$f":"TRUNC(F1562*K1562,1)","v":0},{"$f":"TRUNC(G1562+I1562+K1562,1)","v":202212},{"$f":"TRUNC(H1562+J1562+L1562,0)","v":13952},""]
["6919001","0001032","노무비","보통인부","인",1.7999999999999999E-2,0,{"$f":"TRUNC(F1563*G1563,1)","v":0},144481,{"$f":"TRUNC(F1563*I1563,1)","v":2600.6},0,{"$f":"TRUNC(F1563*K1563,1)","v":0},{"$f":"TRUNC(G1563+I1563+K1563,1)","v":144481},{"$f":"TRUNC(H1563+J1563+L1563,0)","v":2600},""]
["6919001","M500000","공구손료","노무비의 2%","식",1,null,{"$f":"TRUNC(F1564*G1564,1)","v":0},0,{"$f":"TRUNC(F1564*I1564,1)","v":0},331,{"$f":"TRUNC(F1564*K1564,1)","v":331},{"$f":"TRUNC(G1564+I1564+K1564,1)","v":331},{"$f":"TRUNC(H1564+J1564+L1564,0)","v":331},""]
[null,null,"[ 합           계 ]",{"$nulls":4},{"$f":"TRUNC(SUM(H1560:H1564),0)","v":8546},null,{"$f":"TRUNC(SUM(J1560:J1564),0)","v":19766},null,{"$f":"TRUNC(SUM(L1560:L1564),0)","v":395},null,{"$f":"H1565+J1565+L1565","v":28707}]
[]
[null,null,"6917024  강관스리브(지수판제외)설치 - 벽체용  D125  개소"]
["6917010","5001011","백관 (SPP)","D150","m",0.3,33130,{"$f":"TRUNC(F1568*G1568,1)","v":9939},0,{"$f":"TRUNC(F1568*I1568,1)","v":0},0,{"$f":"TRUNC(F1568*K1568,1)","v":0},{"$f":"TRUNC(G1568+I1568+K1568,1)","v":33130},{"$f":"TRUNC(H1568+J1568+L1568,0)","v":9939},""]
["6917010","6903011","강관절단","D150","개소",1,281,{"$f":"TRUNC(F1569*G1569,1)","v":281},4317,{"$f":"TRUNC(F1569*I1569,1)","v":4317},86,{"$f":"TRUNC(F1569*K1569,1)","v":86},{"$f":"TRUNC(G1569+I1569+K1569,1)","v":4684},{"$f":"TRUNC(H1569+J1569+L1569,0)","v":4684},""]
["6919001","0001032","노무비","배관공","인",8.5000000000000006E-2,0,{"$f":"TRUNC(F1570*G1570,1)","v":0},202212,{"$f":"TRUNC(F1570*I1570,1)","v":17188},0,{"$f":"TRUNC(F1570*K1570,1)","v":0},{"$f":"TRUNC(G1570+I1570+K1570,1)","v":202212},{"$f":"TRUNC(H1570+J1570+L1570,0)","v":17188},""]
["6919001","0001032","노무비","보통인부","인",2.9000000000000005E-2,0,{"$f":"TRUNC(F1571*G1571,1)","v":0},144481,{"$f":"TRUNC(F1571*I1571,1)","v":4189.8999999999996},0,{"$f":"TRUNC(F1571*K1571,1)","v":0},{"$f":"TRUNC(G1571+I1571+K1571,1)","v":144481},{"$f":"TRUNC(H1571+J1571+L1571,0)","v":4189},""]
["6919001","M500000","공구손료","노무비의 2%","식",1,null,{"$f":"TRUNC(F1572*G1572,1)","v":0},0,{"$f":"TRUNC(F1572*I1572,1)","v":0},427.5,{"$f":"TRUNC(F1572*K1572,1)","v":427.5},{"$f":"TRUNC(G1572+I1572+K1572,1)","v":427.5},{"$f":"TRUNC(H1572+J1572+L1572,0)","v":427},""]
[null,null,"[ 합           계 ]",{"$nulls":4},{"$f":"TRUNC(SUM(H1568:H1572),0)","v":10220},null,{"$f":"TRUNC(SUM(J1568:J1572),0)","v":25694},null,{"$f":"TRUNC(SUM(L1568:L1572),0)","v":513},null,{"$f":"H1573+J1573+L1573","v":36427}]
[]
[null,null,"6917025  강관스리브(지수판제외)설치 - 벽체용  D150  개소"]
["6917011","5001012","백관 (SPP)","D200","m",0.3,52440,{"$f":"TRUNC(F1576*G1576,1)","v":15732},0,{"$f":"TRUNC(F1576*I1576,1)","v":0},0,{"$f":"TRUNC(F1576*K1576,1)","v":0},{"$f":"TRUNC(G1576+I1576+K1576,1)","v":52440},{"$f":"TRUNC(H1576+J1576+L1576,0)","v":15732},""]
["6917011","6903012","강관절단","D200","개소",1,463,{"$f":"TRUNC(F1577*G1577,1)","v":463},5191,{"$f":"TRUNC(F1577*I1577,1)","v":5191},103,{"$f":"TRUNC(F1577*K1577,1)","v":103},{"$f":"TRUNC(G1577+I1577+K1577,1)","v":5757},{"$f":"TRUNC(H1577+J1577+L1577,0)","v":5757},""]
["6919001","0001032","노무비","배관공","인",8.5000000000000006E-2,0,{"$f":"TRUNC(F1578*G1578,1)","v":0},202212,{"$f":"TRUNC(F1578*I1578,1)","v":17188},0,{"$f":"TRUNC(F1578*K1578,1)","v":0},{"$f":"TRUNC(G1578+I1578+K1578,1)","v":202212},{"$f":"TRUNC(H1578+J1578+L1578,0)","v":17188},""]
["6919001","0001032","노무비","보통인부","인",2.9000000000000005E-2,0,{"$f":"TRUNC(F1579*G1579,1)","v":0},144481,{"$f":"TRUNC(F1579*I1579,1)","v":4189.8999999999996},0,{"$f":"TRUNC(F1579*K1579,1)","v":0},{"$f":"TRUNC(G1579+I1579+K1579,1)","v":144481},{"$f":"TRUNC(H1579+J1579+L1579,0)","v":4189},""]
["6919001","M500000","공구손료","노무비의 2%","식",1,null,{"$f":"TRUNC(F1580*G1580,1)","v":0},0,{"$f":"TRUNC(F1580*I1580,1)","v":0},427.5,{"$f":"TRUNC(F1580*K1580,1)","v":427.5},{"$f":"TRUNC(G1580+I1580+K1580,1)","v":427.5},{"$f":"TRUNC(H1580+J1580+L1580,0)","v":427},""]
[null,null,"[ 합           계 ]",{"$nulls":4},{"$f":"TRUNC(SUM(H1576:H1580),0)","v":16195},null,{"$f":"TRUNC(SUM(J1576:J1580),0)","v":26568},null,{"$f":"TRUNC(SUM(L1576:L1580),0)","v":530},null,{"$f":"H1581+J1581+L1581","v":43293}]
[]
[null,null,"6917026  강관스리브(지수판제외)설치 - 벽체용  D200  개소"]
["6917012","5001013","백관 (SPP)","D250","m",0.3,74930,{"$f":"TRUNC(F1584*G1584,1)","v":22479},0,{"$f":"TRUNC(F1584*I1584,1)","v":0},0,{"$f":"TRUNC(F1584*K1584,1)","v":0},{"$f":"TRUNC(G1584+I1584+K1584,1)","v":74930},{"$f":"TRUNC(H1584+J1584+L1584,0)","v":22479},""]
["6917012","6903013","강관절단","D250","개소",1,813,{"$f":"TRUNC(F1585*G1585,1)","v":813},6476,{"$f":"TRUNC(F1585*I1585,1)","v":6476},129,{"$f":"TRUNC(F1585*K1585,1)","v":129},{"$f":"TRUNC(G1585+I1585+K1585,1)","v":7418},{"$f":"TRUNC(H1585+J1585+L1585,0)","v":7418},""]
["6919001","0001032","노무비","배관공","인",0.104,0,{"$f":"TRUNC(F1586*G1586,1)","v":0},202212,{"$f":"TRUNC(F1586*I1586,1)","v":21030},0,{"$f":"TRUNC(F1586*K1586,1)","v":0},{"$f":"TRUNC(G1586+I1586+K1586,1)","v":202212},{"$f":"TRUNC(H1586+J1586+L1586,0)","v":21030},""]
["6919001","0001032","노무비","보통인부","인",4.7E-2,0,{"$f":"TRUNC(F1587*G1587,1)","v":0},144481,{"$f":"TRUNC(F1587*I1587,1)","v":6790.6},0,{"$f":"TRUNC(F1587*K1587,1)","v":0},{"$f":"TRUNC(G1587+I1587+K1587,1)","v":144481},{"$f":"TRUNC(H1587+J1587+L1587,0)","v":6790},""]
["6919001","M500000","공구손료","노무비의 2%","식",1,null,{"$f":"TRUNC(F1588*G1588,1)","v":0},0,{"$f":"TRUNC(F1588*I1588,1)","v":0},556.4,{"$f":"TRUNC(F1588*K1588,1)","v":556.4},{"$f":"TRUNC(G1588+I1588+K1588,1)","v":556.4},{"$f":"TRUNC(H1588+J1588+L1588,0)","v":556},""]
[null,null,"[ 합           계 ]",{"$nulls":4},{"$f":"TRUNC(SUM(H1584:H1588),0)","v":23292},null,{"$f":"TRUNC(SUM(J1584:J1588),0)","v":34296},null,{"$f":"TRUNC(SUM(L1584:L1588),0)","v":685},null,{"$f":"H1589+J1589+L1589","v":58273}]
[]
[null,null,"6917027  강관스리브(지수판제외)설치 - 벽체용 D250  개소"]
["6917013","5001014","백관 (SPP)","D300","m",0.3,97810,{"$f":"TRUNC(F1592*G1592,1)","v":29343},0,{"$f":"TRUNC(F1592*I1592,1)","v":0},0,{"$f":"TRUNC(F1592*K1592,1)","v":0},{"$f":"TRUNC(G1592+I1592+K1592,1)","v":97810},{"$f":"TRUNC(H1592+J1592+L1592,0)","v":29343},""]
["6917013","6903014","강관절단","D300","개소",0.104,1068,{"$f":"TRUNC(F1593*G1593,1)","v":111},8635,{"$f":"TRUNC(F1593*I1593,1)","v":898},172,{"$f":"TRUNC(F1593*K1593,1)","v":17.8},{"$f":"TRUNC(G1593+I1593+K1593,1)","v":9875},{"$f":"TRUNC(H1593+J1593+L1593,0)","v":1026},""]
["6919001","0001032","노무비","배관공","인",0.104,0,{"$f":"TRUNC(F1594*G1594,1)","v":0},202212,{"$f":"TRUNC(F1594*I1594,1)","v":21030},0,{"$f":"TRUNC(F1594*K1594,1)","v":0},{"$f":"TRUNC(G1594+I1594+K1594,1)","v":202212},{"$f":"TRUNC(H1594+J1594+L1594,0)","v":21030},""]
["6919001","0001032","노무비","보통인부","인",4.7E-2,0,{"$f":"TRUNC(F1595*G1595,1)","v":0},144481,{"$f":"TRUNC(F1595*I1595,1)","v":6790.6},0,{"$f":"TRUNC(F1595*K1595,1)","v":0},{"$f":"TRUNC(G1595+I1595+K1595,1)","v":144481},{"$f":"TRUNC(H1595+J1595+L1595,0)","v":6790},""]
["6919001","M500000","공구손료","노무비의 2%","식",1,null,{"$f":"TRUNC(F1596*G1596,1)","v":0},0,{"$f":"TRUNC(F1596*I1596,1)","v":0},556.4,{"$f":"TRUNC(F1596*K1596,1)","v":556.4},{"$f":"TRUNC(G1596+I1596+K1596,1)","v":556.4},{"$f":"TRUNC(H1596+J1596+L1596,0)","v":556},""]
[null,null,"[ 합           계 ]",{"$nulls":4},{"$f":"TRUNC(SUM(H1592:H1596),0)","v":29454},null,{"$f":"TRUNC(SUM(J1592:J1596),0)","v":28718},null,{"$f":"TRUNC(SUM(L1592:L1596),0)","v":574},null,{"$f":"H1597+J1597+L1597","v":58746}]
[]
[null,null,"6917028  강관스리브(지수판제외)설치 - 벽체용  D300  개소"]
["6917014","5001015","백관 (SPP)","D350","m",0.3,118650,{"$f":"TRUNC(F1600*G1600,1)","v":35595},0,{"$f":"TRUNC(F1600*I1600,1)","v":0},0,{"$f":"TRUNC(F1600*K1600,1)","v":0},{"$f":"TRUNC(G1600+I1600+K1600,1)","v":118650},{"$f":"TRUNC(H1600+J1600+L1600,0)","v":35595},""]
["6917014","6903015","강관절단","D350","개소",1,1258,{"$f":"TRUNC(F1601*G1601,1)","v":1258},11667,{"$f":"TRUNC(F1601*I1601,1)","v":11667},233,{"$f":"TRUNC(F1601*K1601,1)","v":233},{"$f":"TRUNC(G1601+I1601+K1601,1)","v":13158},{"$f":"TRUNC(H1601+J1601+L1601,0)","v":13158},""]
["6919001","0001032","노무비","배관공","인",0.124,0,{"$f":"TRUNC(F1602*G1602,1)","v":0},202212,{"$f":"TRUNC(F1602*I1602,1)","v":25074.2},0,{"$f":"TRUNC(F1602*K1602,1)","v":0},{"$f":"TRUNC(G1602+I1602+K1602,1)","v":202212},{"$f":"TRUNC(H1602+J1602+L1602,0)","v":25074},""]
["6919001","0001032","노무비","보통인부","인",7.1999999999999995E-2,0,{"$f":"TRUNC(F1603*G1603,1)","v":0},144481,{"$f":"TRUNC(F1603*I1603,1)","v":10402.6},0,{"$f":"TRUNC(F1603*K1603,1)","v":0},{"$f":"TRUNC(G1603+I1603+K1603,1)","v":144481},{"$f":"TRUNC(H1603+J1603+L1603,0)","v":10402},""]
["6919001","M500000","공구손료","노무비의 2%","식",1,null,{"$f":"TRUNC(F1604*G1604,1)","v":0},0,{"$f":"TRUNC(F1604*I1604,1)","v":0},709.5,{"$f":"TRUNC(F1604*K1604,1)","v":709.5},{"$f":"TRUNC(G1604+I1604+K1604,1)","v":709.5},{"$f":"TRUNC(H1604+J1604+L1604,0)","v":709},""]
[null,null,"[ 합           계 ]",{"$nulls":4},{"$f":"TRUNC(SUM(H1600:H1604),0)","v":36853},null,{"$f":"TRUNC(SUM(J1600:J1604),0)","v":47143},null,{"$f":"TRUNC(SUM(L1600:L1604),0)","v":942},null,{"$f":"H1605+J1605+L1605","v":84938}]
[]
[null,null,"6918001  강관스리브 (지수판포함)설치 - 벽체용  D40  개소"]
["6918001","5001006","백관 (SPP)","D50","m",0.3,8840,{"$f":"TRUNC(F1608*G1608,1)","v":2652},0,{"$f":"TRUNC(F1608*I1608,1)","v":0},0,{"$f":"TRUNC(F1608*K1608,1)","v":0},{"$f":"TRUNC(G1608+I1608+K1608,1)","v":8840},{"$f":"TRUNC(H1608+J1608+L1608,0)","v":2652},""]
["6918001","6903006","강관절단","D50","개소",1,31,{"$f":"TRUNC(F1609*G1609,1)","v":31},873,{"$f":"TRUNC(F1609*I1609,1)","v":873},17,{"$f":"TRUNC(F1609*K1609,1)","v":17},921,921,""]
["6918001","0106003","열연강판(철판)","3.2t*914*1829","kg",0.46700000000000003,730,340.9,0,0,0,0,730,340,""]
["6918001","0106003","코킹콤파운더",null,"kg",0.2,3500,700,0,0,0,0,3500,700,""]
["6918001","6901001","강판절단","3.2MM","m",0.66800000000000004,174,116.2,1478,987.3,29,19.3,1681,1122,""]
["6918001","6902001","강판용접","3.2MM","m",0.48,632,303.3,10299,4943.5,205,98.4,11136,5345,""]
["6919001","0001032","노무비","배관공","인",0.06,0,0,202212,12132.7,0,0,202212,12132,""]
["6919001","0001032","노무비","보통인부","인",1.2E-2,0,0,144481,1733.7,0,0,144481,1733,""]
["6919001","M500000","공구손료","노무비의 2%","식",1,null,0,0,0,277.3,277.3,277.3,277,""]
[null,null,"[ 합           계 ]",{"$nulls":4},{"$f":"TRUNC(SUM(H1608:H1616),0)","v":4143},null,{"$f":"TRUNC(SUM(J1608:J1616),0)","v":20670},null,{"$f":"TRUNC(SUM(L1608:L1616),0)","v":412},null,{"$f":"H1617+J1617+L1617","v":25225}]
[]
[null,null,"6918002  강관스리브 (지수판포함)설치 - 벽체용  D50  개소"]
["6918002","5001007","백관 (SPP)","D65","m",0.3,11290,{"$f":"TRUNC(F1620*G1620,1)","v":3387},0,{"$f":"TRUNC(F1620*I1620,1)","v":0},0,{"$f":"TRUNC(F1620*K1620,1)","v":0},{"$f":"TRUNC(G1620+I1620+K1620,1)","v":11290},{"$f":"TRUNC(H1620+J1620+L1620,0)","v":3387},""]
["6918002","6903007","강관절단","D65","개소",1,39,{"$f":"TRUNC(F1621*G1621,1)","v":39},1285,{"$f":"TRUNC(F1621*I1621,1)","v":1285},25,{"$f":"TRUNC(F1621*K1621,1)","v":25},1349,1349,""]
["6918002","0106003","열연강판(철판)","3.2t*914*1829","kg",0.55900000000000005,730,408,0,0,0,0,730,408,""]
["6918001","0106003","코킹콤파운더",null,"kg",0.25,3500,875,0,0,0,0,3500,875,""]
["6918002","6901001","강판절단","3.2MM","m",0.748,174,130.1,1478,1105.5,29,21.6,1681,1257,""]
["6918002","6902001","강판용접","3.2MM","m",0.56000000000000005,632,353.9,10299,5767.4,205,114.8,11136,6236,""]
["6919001","0001032","노무비","배관공","인",0.06,0,0,202212,12132.7,0,0,202212,12132,""]
["6919001","0001032","노무비","보통인부","인",1.2E-2,0,0,144481,1733.7,0,0,144481,1733,""]
["6919001","M500000","공구손료","노무비의 2%","식",1,null,0,0,0,277.3,277.3,277.3,277,""]
[null,null,"[ 합           계 ]",{"$nulls":4},{"$f":"TRUNC(SUM(H1620:H1628),0)","v":5193},null,{"$f":"TRUNC(SUM(J1620:J1628),0)","v":22024},null,{"$f":"TRUNC(SUM(L1620:L1628),0)","v":438},null,{"$f":"H1629+J1629+L1629","v":27655}]
[]
[null,null,"6918003  강관스리브 (지수판포함)설치 - 벽체용  D65  개소"]
["6918003","5001008","백관 (SPP)","D80","m",0.3,14670,{"$f":"TRUNC(F1632*G1632,1)","v":4401},0,{"$f":"TRUNC(F1632*I1632,1)","v":0},0,{"$f":"TRUNC(F1632*K1632,1)","v":0},{"$f":"TRUNC(G1632+I1632+K1632,1)","v":14670},{"$f":"TRUNC(H1632+J1632+L1632,0)","v":4401},""]
["6918003","6903008","강관절단","D80","개소",1,51,{"$f":"TRUNC(F1633*G1633,1)","v":51},1516,{"$f":"TRUNC(F1633*I1633,1)","v":1516},30,{"$f":"TRUNC(F1633*K1633,1)","v":30},1597,1597,""]
["6918003","0106003","열연강판(철판)","3.2t*914*1829","kg",0.76400000000000001,730,557.70000000000005,0,0,0,0,730,557,""]
["6918001","0106003","코킹콤파운더",null,"kg",0.38800000000000001,3500,1358,0,0,0,0,3500,1358,""]
["6918003","6901001","강판절단","3.2MM","m",0.90600000000000003,174,157.6,1478,1339,29,26.2,1681,1522,""]
["6918003","6902001","강판용접","3.2MM","m",0.71799999999999997,632,453.7,10299,7394.6,205,147.1,11136,7995,""]
["6919001","0001032","노무비","배관공","인",6.9000000000000006E-2,0,0,202212,13952.6,0,0,202212,13952,""]
["6919001","0001032","노무비","보통인부","인",1.7999999999999999E-2,0,0,144481,2600.6,0,0,144481,2600,""]
["6919001","M500000","공구손료","노무비의 2%","식",1,null,0,0,0,331,331,331,331,""]
[null,null,"[ 합           계 ]",{"$nulls":4},{"$f":"TRUNC(SUM(H1632:H1640),0)","v":6979},null,{"$f":"TRUNC(SUM(J1632:J1640),0)","v":26802},null,{"$f":"TRUNC(SUM(L1632:L1640),0)","v":534},null,{"$f":"H1641+J1641+L1641","v":34315}]
[]
[null,null,"6918004  강관스리브 (지수판포함)설치 - 벽체용  D80  개소"]
["6918004","5001009","백관 (SPP)","D100","m",0.3,21040,{"$f":"TRUNC(F1644*G1644,1)","v":6312},0,{"$f":"TRUNC(F1644*I1644,1)","v":0},0,{"$f":"TRUNC(F1644*K1644,1)","v":0},{"$f":"TRUNC(G1644+I1644+K1644,1)","v":21040},{"$f":"TRUNC(H1644+J1644+L1644,0)","v":6312},""]
["6918004","6903009","강관절단","D100","개소",1,99,{"$f":"TRUNC(F1645*G1645,1)","v":99},2801,{"$f":"TRUNC(F1645*I1645,1)","v":2801},56,{"$f":"TRUNC(F1645*K1645,1)","v":56},2956,2956,""]
["6918004","0106003","열연강판(철판)","3.2t*914*1829","kg",1.004,730,732.9,0,0,0,0,730,732,""]
["6918001","0106003","코킹콤파운더",null,"kg",1.1100000000000001,3500,3885,0,0,0,0,3500,3885,""]
["6918004","6901001","강판절단","3.2MM","m",1.0660000000000001,174,185.4,1478,1575.5,29,30.9,1681,1791,""]
["6918004","6902001","강판용접","3.2MM","m",0.878,632,554.79999999999995,10299,9042.5,205,179.9,11136,9777,""]
["6919001","0001032","노무비","배관공","인",6.9000000000000006E-2,0,0,202212,13952.6,0,0,202212,13952,""]
["6919001","0001032","노무비","보통인부","인",1.7999999999999999E-2,0,0,144481,2600.6,0,0,144481,2600,""]
["6919001","M500000","공구손료","노무비의 2%","식",1,null,0,0,0,331,331,331,331,""]
[null,null,"[ 합           계 ]",{"$nulls":4},{"$f":"TRUNC(SUM(H1644:H1652),0)","v":11769},null,{"$f":"TRUNC(SUM(J1644:J1652),0)","v":29972},null,{"$f":"TRUNC(SUM(L1644:L1652),0)","v":597},null,{"$f":"H1653+J1653+L1653","v":42338}]
[]
[null,null,"6918005  강관스리브 (지수판포함)설치 - 벽체용  D100  개소"]
["6918005","5001010","백관 (SPP)","D125","m",0.3,27880,{"$f":"TRUNC(F1656*G1656,1)","v":8364},0,{"$f":"TRUNC(F1656*I1656,1)","v":0},0,{"$f":"TRUNC(F1656*K1656,1)","v":0},{"$f":"TRUNC(G1656+I1656+K1656,1)","v":27880},{"$f":"TRUNC(H1656+J1656+L1656,0)","v":8364},""]
["6918005","6903010","강관절단","D125","개소",1,182,{"$f":"TRUNC(F1657*G1657,1)","v":182},3213,{"$f":"TRUNC(F1657*I1657,1)","v":3213},64,{"$f":"TRUNC(F1657*K1657,1)","v":64},3459,3459,""]
["6918005","0106003","열연강판(철판)","3.2t*914*1829","kg",1.2749999999999999,730,930.7,0,0,0,0,730,930,""]
["6918001","0106003","코킹콤파운더",null,"kg",1.36,3500,4760,0,0,0,0,3500,4760,""]
["6918005","6901001","강판절단","3.2MM","m",1.226,174,213.3,1478,1812,29,35.5,1681,2060,""]
["6918005","6902001","강판용접","3.2MM","m",1.038,632,656,10299,10690.3,205,212.7,11136,11559,""]
["6919001","0001032","노무비","배관공","인",6.9000000000000006E-2,0,0,202212,13952.6,0,0,202212,13952,""]
["6919001","0001032","노무비","보통인부","인",1.7999999999999999E-2,0,0,144481,2600.6,0,0,144481,2600,""]
["6919001","M500000","공구손료","노무비의 2%","식",1,null,0,0,0,331,331,331,331,""]
[null,null,"[ 합           계 ]",{"$nulls":4},{"$f":"TRUNC(SUM(H1656:H1664),0)","v":15106},null,{"$f":"TRUNC(SUM(J1656:J1664),0)","v":32268},null,{"$f":"TRUNC(SUM(L1656:L1664),0)","v":643},null,{"$f":"H1665+J1665+L1665","v":48017}]
[]
[null,null,"6918006  강관스리브 (지수판포함)설치 - 벽체용  D125  개소"]
["6918006","5001011","백관 (SPP)","D150","m",0.3,33130,{"$f":"TRUNC(F1668*G1668,1)","v":9939},0,{"$f":"TRUNC(F1668*I1668,1)","v":0},0,{"$f":"TRUNC(F1668*K1668,1)","v":0},{"$f":"TRUNC(G1668+I1668+K1668,1)","v":33130},{"$f":"TRUNC(H1668+J1668+L1668,0)","v":9939},""]
["6918006","6903011","강관절단","D150","개소",1,281,{"$f":"TRUNC(F1669*G1669,1)","v":281},4317,{"$f":"TRUNC(F1669*I1669,1)","v":4317},86,{"$f":"TRUNC(F1669*K1669,1)","v":86},4684,4684,""]
["6918006","0106003","열연강판(철판)","3.2t*914*1829","kg",1.919,730,1400.8,0,0,0,0,730,1400,""]
["6918001","0106003","코킹콤파운더",null,"kg",1.63,3500,5705,0,0,0,0,3500,5705,""]
["6918006","6901001","강판절단","3.2MM","m",1.5469999999999999,174,269.10000000000002,1478,2286.4,29,44.8,1681,2600,""]
["6918006","6902001","강판용접","3.2MM","m",1.3580000000000001,632,858.2,10299,13986,205,278.3,11136,15122,""]
["6919001","0001032","노무비","배관공","인",8.5000000000000006E-2,0,0,202212,17188,0,0,202212,17188,""]
["6919001","0001032","노무비","보통인부","인",2.9000000000000005E-2,0,0,144481,4189.8999999999996,0,0,144481,4189,""]
["6919001","M500000","공구손료","노무비의 2%","식",1,null,0,0,0,427.5,427.5,427.5,427,""]
[null,null,"[ 합           계 ]",{"$nulls":4},{"$f":"TRUNC(SUM(H1668:H1676),0)","v":18453},null,{"$f":"TRUNC(SUM(J1668:J1676),0)","v":41967},null,{"$f":"TRUNC(SUM(L1668:L1676),0)","v":836},null,{"$f":"H1677+J1677+L1677","v":61256}]
[]
[null,null,"6918007  강관스리브 (지수판포함)설치 - 벽체용 D150  개소"]
["6918007","5001012","백관 (SPP)","D200","m",0.3,52440,{"$f":"TRUNC(F1680*G1680,1)","v":15732},0,{"$f":"TRUNC(F1680*I1680,1)","v":0},0,{"$f":"TRUNC(F1680*K1680,1)","v":0},{"$f":"TRUNC(G1680+I1680+K1680,1)","v":52440},{"$f":"TRUNC(H1680+J1680+L1680,0)","v":15732},""]
["6918007","6903012","강관절단","D200","개소",1,463,{"$f":"TRUNC(F1681*G1681,1)","v":463},5191,{"$f":"TRUNC(F1681*I1681,1)","v":5191},103,{"$f":"TRUNC(F1681*K1681,1)","v":103},5757,5757,""]
["6918007","0106003","열연강판(철판)","3.2t*914*1829","kg",2.6949999999999998,730,1967.3,0,0,0,0,730,1967,""]
["6918001","0106003","코킹콤파운더",null,"kg",5.14,3500,17990,0,0,0,0,3500,17990,""]
["6918007","6901001","강판절단","3.2MM","m",1.8680000000000001,174,325,1478,2760.9,29,54.1,1681,3140,""]
["6918007","6902001","강판용접","3.2MM","m",1.68,632,1061.7,10299,17302.3,205,344.4,11136,18708,""]
["6919001","0001032","노무비","배관공","인",8.5000000000000006E-2,0,0,202212,17188,0,0,202212,17188,""]
["6919001","0001032","노무비","보통인부","인",2.9000000000000005E-2,0,0,144481,4189.8999999999996,0,0,144481,4189,""]
["6919001","M500000","공구손료","노무비의 2%","식",1,null,0,0,0,427.5,427.5,427.5,427,""]
[null,null,"[ 합           계 ]",{"$nulls":4},{"$f":"TRUNC(SUM(H1680:H1688),0)","v":37539},null,{"$f":"TRUNC(SUM(J1680:J1688),0)","v":46632},null,{"$f":"TRUNC(SUM(L1680:L1688),0)","v":929},null,{"$f":"H1689+J1689+L1689","v":85100}]
[]
[null,null,"6918008  강관스리브 (지수판포함)설치 - 벽체용  D200  개소"]
["6918008","5001013","백관 (SPP)","D250","m",0.3,74930,{"$f":"TRUNC(F1692*G1692,1)","v":22479},0,{"$f":"TRUNC(F1692*I1692,1)","v":0},0,{"$f":"TRUNC(F1692*K1692,1)","v":0},{"$f":"TRUNC(G1692+I1692+K1692,1)","v":74930},{"$f":"TRUNC(H1692+J1692+L1692,0)","v":22479},""]
["6918008","6903013","강관절단","D250","개소",1,813,{"$f":"TRUNC(F1693*G1693,1)","v":813},6476,{"$f":"TRUNC(F1693*I1693,1)","v":6476},129,{"$f":"TRUNC(F1693*K1693,1)","v":129},7418,7418,""]
["6918008","0106003","열연강판(철판)","3.2t*914*1829","kg",3.6019999999999999,730,2629.4,0,0,0,0,730,2629,""]
["6918001","0106003","코킹콤파운더",null,"kg",6.37,3500,22295,0,0,0,0,3500,22295,""]
["6918008","6901001","강판절단","3.2MM","m",2.1880000000000002,174,380.7,1478,3233.8,29,63.4,1681,3677,""]
["6918008","6902001","강판용접","3.2MM","m",2,632,1264,10299,20598,205,410,11136,22272,""]
["6919001","0001032","노무비","배관공","인",0.104,0,0,202212,21030,0,0,202212,21030,""]
["6919001","0001032","노무비","보통인부","인",4.7E-2,0,0,144481,6790.6,0,0,144481,6790,""]
["6919001","M500000","공구손료","노무비의 2%","식",1,null,0,0,0,556.4,556.4,556.4,556,""]
[null,null,"[ 합           계 ]",{"$nulls":4},{"$f":"TRUNC(SUM(H1692:H1700),0)","v":49861},null,{"$f":"TRUNC(SUM(J1692:J1700),0)","v":58128},null,{"$f":"TRUNC(SUM(L1692:L1700),0)","v":1158},null,{"$f":"H1701+J1701+L1701","v":109147}]
[]
[null,null,"6918009  강관스리브 (지수판포함)설치 - 벽체용  D250  개소"]
["6917013","5001014","백관 (SPP)","D300","m",0.3,97810,{"$f":"TRUNC(F1704*G1704,1)","v":29343},0,{"$f":"TRUNC(F1704*I1704,1)","v":0},0,{"$f":"TRUNC(F1704*K1704,1)","v":0},{"$f":"TRUNC(G1704+I1704+K1704,1)","v":97810},{"$f":"TRUNC(H1704+J1704+L1704,0)","v":29343},""]
["6917013","6903014","강관절단","D300","개소",1,1068,{"$f":"TRUNC(F1705*G1705,1)","v":1068},8635,{"$f":"TRUNC(F1705*I1705,1)","v":8635},172,{"$f":"TRUNC(F1705*K1705,1)","v":172},9875,9875,""]
["6918008","0106003","열연강판(철판)","3.2t*914*1829","kg",4.5679999999999996,730,3334.6,0,0,0,0,730,3334,""]
["6918001","0106003","코킹콤파운더",null,"kg",7.52,3500,26320,0,0,0,0,3500,26320,""]
["6918008","6901001","강판절단","3.2MM","m",3.258,174,566.79999999999995,1478,4815.3,29,94.4,1681,5476,""]
["6918008","6902001","강판용접","3.2MM","m",2,632,1264,10299,20598,205,410,11136,22272,""]
["6919001","0001032","노무비","배관공","인",0.104,0,0,202212,21030,0,0,202212,21030,""]
["6919001","0001032","노무비","보통인부","인",4.7E-2,0,0,144481,6790.6,0,0,144481,6790,""]
["6919001","M500000","공구손료","노무비의 2%","식",1,null,0,0,0,556.4,556.4,556.4,556,""]
[null,null,"[ 합           계 ]",{"$nulls":4},{"$f":"TRUNC(SUM(H1704:H1712),0)","v":61896},null,{"$f":"TRUNC(SUM(J1704:J1712),0)","v":61868},null,{"$f":"TRUNC(SUM(L1704:L1712),0)","v":1232},null,{"$f":"H1713+J1713+L1713","v":124996}]
[]
[null,null,"6919001  실내배관보온(발포폴리에틸렌 내열 난연 AL)  25TxD15  M당"]
["6919001","6101201","발포폴리에틸렌보온통","D15","M",1.05,1836,{"$f":"TRUNC(F1716*G1716,1)","v":1927.8},0,{"$f":"TRUNC(F1716*I1716,1)","v":0},0,{"$f":"TRUNC(F1716*K1716,1)","v":0},{"$f":"TRUNC(G1716+I1716+K1716,1)","v":1836},{"$f":"TRUNC(H1716+J1716+L1716,0)","v":1927},""]
["6919001","M300000","소모품비","보온재의 3%","식",1,57.8,57.8,0,0,0,0,57.8,57,""]
["6919001","6112081","AL밴드","0.3x30W","M",0.27,360,97.2,0,0,0,0,360,97,""]
["6919001","6112048","매직테이프 0.2T","100MM x 15M","㎡",0.31,1950,604.5,0,0,0,0,1950,604,""]
["6919001","0001032","노무비","보온공","인",2.4E-2,0,0,183071,4393.7,0,0,183071,4393,""]
["6919001","0001032","노무비","보통인부","인",2E-3,0,0,144481,288.89999999999998,0,0,144481,288,""]
["6919001","M500000","공구손료","노무비의 2%","식",1,null,0,0,0,93.6,93.6,93.6,93,""]
[null,null,"[ 합           계 ]",{"$nulls":4},{"$f":"TRUNC(SUM(H1716:H1722),0)","v":2687},null,{"$f":"TRUNC(SUM(J1716:J1722),0)","v":4682},null,{"$f":"TRUNC(SUM(L1716:L1722),0)","v":93},null,{"$f":"H1723+J1723+L1723","v":7462}]
[]
[null,null,"6919002  실내배관보온(발포폴리에틸렌 내열 난연 AL)  25TxD20  M당"]
["6919001","6101201","발포폴리에틸렌보온통","D20","M",1.05,1901,{"$f":"TRUNC(F1726*G1726,1)","v":1996},0,{"$f":"TRUNC(F1726*I1726,1)","v":0},0,{"$f":"TRUNC(F1726*K1726,1)","v":0},{"$f":"TRUNC(G1726+I1726+K1726,1)","v":1901},{"$f":"TRUNC(H1726+J1726+L1726,0)","v":1996},""]
["6919001","M300000","소모품비","보온재의 3%","식",1,59.8,59.8,0,0,0,0,59.8,59,""]
["6919001","6112081","AL밴드","0.3x30W","M",0.28999999999999998,360,104.4,0,0,0,0,360,104,""]
["6919001","6112048","매직테이프 0.2T","100MM x 15M","㎡",0.33,1950,643.5,0,0,0,0,1950,643,""]
["6919001","0001032","노무비","보온공","인",2.8000000000000004E-2,0,0,183071,5125.8999999999996,0,0,183071,5125,""]
["6919001","0001032","노무비","보통인부","인",2E-3,0,0,144481,288.89999999999998,0,0,144481,288,""]
["6919001","M500000","공구손료","노무비의 2%","식",1,null,0,0,0,108.2,108.2,108.2,108,""]
[null,null,"[ 합           계 ]",{"$nulls":4},{"$f":"TRUNC(SUM(H1726:H1732),0)","v":2803},null,{"$f":"TRUNC(SUM(J1726:J1732),0)","v":5414},null,{"$f":"TRUNC(SUM(L1726:L1732),0)","v":108},null,{"$f":"H1733+J1733+L1733","v":8325}]
[]
[null,null,"6919003  실내배관보온(발포폴리에틸렌 내열 난연 AL)  25TxD25  M당"]
["6919001","6101201","발포폴리에틸렌보온통","D25","M",1.05,2033,{"$f":"TRUNC(F1736*G1736,1)","v":2134.6},0,{"$f":"TRUNC(F1736*I1736,1)","v":0},0,{"$f":"TRUNC(F1736*K1736,1)","v":0},{"$f":"TRUNC(G1736+I1736+K1736,1)","v":2033},{"$f":"TRUNC(H1736+J1736+L1736,0)","v":2134},""]
["6919001","M300000","소모품비","보온재의 3%","식",1,64,64,0,0,0,0,64,64,""]
["6919001","6112081","AL밴드","0.3x30W","M",0.32,360,115.2,0,0,0,0,360,115,""]
["6919001","6112048","매직테이프 0.2T","100MM x 15M","㎡",0.36,1950,702,0,0,0,0,1950,702,""]
["6919001","0001032","노무비","보온공","인",3.1E-2,0,0,183071,5675.2,0,0,183071,5675,""]
["6919001","0001032","노무비","보통인부","인",2E-3,0,0,144481,288.89999999999998,0,0,144481,288,""]
["6919001","M500000","공구손료","노무비의 2%","식",1,null,0,0,0,119.2,119.2,119.2,119,""]
[null,null,"[ 합           계 ]",{"$nulls":4},{"$f":"TRUNC(SUM(H1736:H1742),0)","v":3015},null,{"$f":"TRUNC(SUM(J1736:J1742),0)","v":5964},null,{"$f":"TRUNC(SUM(L1736:L1742),0)","v":119},null,{"$f":"H1743+J1743+L1743","v":9098}]
[]
[null,null,"6919004  실내배관보온(발포폴리에틸렌 내열 난연 AL)  25TxD32  M당"]
["6919001","6101201","발포폴리에틸렌보온통","D32","M",1.05,2261,{"$f":"TRUNC(F1746*G1746,1)","v":2374},0,{"$f":"TRUNC(F1746*I1746,1)","v":0},0,{"$f":"TRUNC(F1746*K1746,1)","v":0},{"$f":"TRUNC(G1746+I1746+K1746,1)","v":2261},{"$f":"TRUNC(H1746+J1746+L1746,0)","v":2374},""]
["6919001","M300000","소모품비","보온재의 3%","식",1,71.2,71.2,0,0,0,0,71.2,71,""]
["6919001","6112081","AL밴드","0.3x30W","M",0.35,360,126,0,0,0,0,360,126,""]
["6919001","6112048","매직테이프 0.2T","100MM x 15M","㎡",0.4,1950,780,0,0,0,0,1950,780,""]
["6919001","0001032","노무비","보온공","인",3.5999999999999997E-2,0,0,183071,6590.5,0,0,183071,6590,""]
["6919001","0001032","노무비","보통인부","인",3.0000000000000001E-3,0,0,144481,433.4,0,0,144481,433,""]
["6919001","M500000","공구손료","노무비의 2%","식",1,null,0,0,0,140.4,140.4,140.4,140,""]
[null,null,"[ 합           계 ]",{"$nulls":4},{"$f":"TRUNC(SUM(H1746:H1752),0)","v":3351},null,{"$f":"TRUNC(SUM(J1746:J1752),0)","v":7023},null,{"$f":"TRUNC(SUM(L1746:L1752),0)","v":140},null,{"$f":"H1753+J1753+L1753","v":10514}]
[]
[null,null,"6919005  실내배관보온(발포폴리에틸렌 내열 난연 AL)  25TxD40  M당"]
["6919001","6101201","발포폴리에틸렌보온통","D40","M",1.05,2462,{"$f":"TRUNC(F1756*G1756,1)","v":2585.1},0,{"$f":"TRUNC(F1756*I1756,1)","v":0},0,{"$f":"TRUNC(F1756*K1756,1)","v":0},{"$f":"TRUNC(G1756+I1756+K1756,1)","v":2462},{"$f":"TRUNC(H1756+J1756+L1756,0)","v":2585},""]
["6919001","M300000","소모품비","보온재의 3%","식",1,77.5,77.5,0,0,0,0,77.5,77,""]
["6919001","6112081","AL밴드","0.3x30W","M",0.37,360,133.19999999999999,0,0,0,0,360,133,""]
["6919001","6112048","매직테이프 0.2T","100MM x 15M","㎡",0.43,1950,838.5,0,0,0,0,1950,838,""]
["6919001","0001032","노무비","보온공","인",4.2000000000000003E-2,0,0,183071,7688.9,0,0,183071,7688,""]
["6919001","0001032","노무비","보통인부","인",3.0000000000000001E-3,0,0,144481,433.4,0,0,144481,433,""]
["6919001","M500000","공구손료","노무비의 2%","식",1,null,0,0,0,162.4,162.4,162.4,162,""]
[null,null,"[ 합           계 ]",{"$nulls":4},{"$f":"TRUNC(SUM(H1756:H1762),0)","v":3634},null,{"$f":"TRUNC(SUM(J1756:J1762),0)","v":8122},null,{"$f":"TRUNC(SUM(L1756:L1762),0)","v":162},null,{"$f":"H1763+J1763+L1763","v":11918}]
[]
[null,null,"6919006  실내배관보온(발포폴리에틸렌 내열 난연 AL)  25TxD50  M당"]
["6919001","6101201","발포폴리에틸렌보온통","D50","M",1.05,2732,{"$f":"TRUNC(F1766*G1766,1)","v":2868.6},0,{"$f":"TRUNC(F1766*I1766,1)","v":0},0,{"$f":"TRUNC(F1766*K1766,1)","v":0},{"$f":"TRUNC(G1766+I1766+K1766,1)","v":2732},{"$f":"TRUNC(H1766+J1766+L1766,0)","v":2868},""]
["6919001","M300000","소모품비","보온재의 3%","식",1,86,86,0,0,0,0,86,86,""]
["6919001","6112081","AL밴드","0.3x30W","M",0.42,360,151.19999999999999,0,0,0,0,360,151,""]
["6919001","6112048","매직테이프 0.2T","100MM x 15M","㎡",0.48,1950,936,0,0,0,0,1950,936,""]
["6919001","0001032","노무비","보온공","인",4.9000000000000002E-2,0,0,183071,8970.4,0,0,183071,8970,""]
["6919001","0001032","노무비","보통인부","인",4.0000000000000001E-3,0,0,144481,577.9,0,0,144481,577,""]
["6919001","M500000","공구손료","노무비의 2%","식",1,null,0,0,0,190.9,190.9,190.9,190,""]
[null,null,"[ 합           계 ]",{"$nulls":4},{"$f":"TRUNC(SUM(H1766:H1772),0)","v":4041},null,{"$f":"TRUNC(SUM(J1766:J1772),0)","v":9548},null,{"$f":"TRUNC(SUM(L1766:L1772),0)","v":190},null,{"$f":"H1773+J1773+L1773","v":13779}]
[]
[null,null,"6919007  실내배관보온(발포폴리에틸렌 내열 난연 AL)  25TxD65  M당"]
["6919001","6101201","발포폴리에틸렌보온통","D65","M",1.05,3310,{"$f":"TRUNC(F1776*G1776,1)","v":3475.5},0,{"$f":"TRUNC(F1776*I1776,1)","v":0},0,{"$f":"TRUNC(F1776*K1776,1)","v":0},{"$f":"TRUNC(G1776+I1776+K1776,1)","v":3310},{"$f":"TRUNC(H1776+J1776+L1776,0)","v":3475},""]
["6919001","M300000","소모품비","보온재의 3%","식",1,104.2,104.2,0,0,0,0,104.2,104,""]
["6919001","6112081","AL밴드","0.3x30W","M",0.48,360,172.8,0,0,0,0,360,172,""]
["6919001","6112048","매직테이프 0.2T","100MM x 15M","㎡",0.55000000000000004,1950,1072.5,0,0,0,0,1950,1072,""]
["6919001","0001032","노무비","보온공","인",5.8999999999999997E-2,0,0,183071,10801.1,0,0,183071,10801,""]
["6919001","0001032","노무비","보통인부","인",5.0000000000000001E-3,0,0,144481,722.4,0,0,144481,722,""]
["6919001","M500000","공구손료","노무비의 2%","식",1,null,0,0,0,230.4,230.4,230.4,230,""]
[null,null,"[ 합           계 ]",{"$nulls":4},{"$f":"TRUNC(SUM(H1776:H1782),0)","v":4825},null,{"$f":"TRUNC(SUM(J1776:J1782),0)","v":11523},null,{"$f":"TRUNC(SUM(L1776:L1782),0)","v":230},null,{"$f":"H1783+J1783+L1783","v":16578}]
[]
[null,null,"6919008  실내배관보온(발포폴리에틸렌 내열 난연 AL)  25TxD80  M당"]
["6919001","6101201","발포폴리에틸렌보온통","D80","M",1.05,3640,{"$f":"TRUNC(F1786*G1786,1)","v":3822},0,{"$f":"TRUNC(F1786*I1786,1)","v":0},0,{"$f":"TRUNC(F1786*K1786,1)","v":0},{"$f":"TRUNC(G1786+I1786+K1786,1)","v":3640},{"$f":"TRUNC(H1786+J1786+L1786,0)","v":3822},""]
["6919001","M300000","소모품비","보온재의 3%","식",1,114.6,114.6,0,0,0,0,114.6,114,""]
["6919001","6112081","AL밴드","0.3x30W","M",0.53,360,190.8,0,0,0,0,360,190,""]
["6919001","6112048","매직테이프 0.2T","100MM x 15M","㎡",0.6,1950,1170,0,0,0,0,1950,1170,""]
["6919001","0001032","노무비","보온공","인",7.0000000000000007E-2,0,0,183071,12814.9,0,0,183071,12814,""]
["6919001","0001032","노무비","보통인부","인",5.0000000000000001E-3,0,0,144481,722.4,0,0,144481,722,""]
["6919001","M500000","공구손료","노무비의 2%","식",1,null,0,0,0,270.7,270.7,270.7,270,""]
[null,null,"[ 합           계 ]",{"$nulls":4},{"$f":"TRUNC(SUM(H1786:H1792),0)","v":5297},null,{"$f":"TRUNC(SUM(J1786:J1792),0)","v":13537},null,{"$f":"TRUNC(SUM(L1786:L1792),0)","v":270},null,{"$f":"H1793+J1793+L1793","v":19104}]
[]
[null,null,"6919009  실내배관보온(발포폴리에틸렌 내열 난연 AL)  25TxD100  M당"]
["6919001","6101201","발포폴리에틸렌보온통","D100","M",1.05,4505,{"$f":"TRUNC(F1796*G1796,1)","v":4730.2},0,{"$f":"TRUNC(F1796*I1796,1)","v":0},0,{"$f":"TRUNC(F1796*K1796,1)","v":0},{"$f":"TRUNC(G1796+I1796+K1796,1)","v":4505},{"$f":"TRUNC(H1796+J1796+L1796,0)","v":4730},""]
["6919001","M300000","소모품비","보온재의 3%","식",1,141.9,141.9,0,0,0,0,141.9,141,""]
["6919001","6112081","AL밴드","0.3x30W","M",0.63,360,226.8,0,0,0,0,360,226,""]
["6919001","6112048","매직테이프 0.2T","100MM x 15M","㎡",0.72,1950,1404,0,0,0,0,1950,1404,""]
["6919001","0001032","노무비","보온공","인",8.4000000000000005E-2,0,0,183071,15377.9,0,0,183071,15377,""]
["6919001","0001032","노무비","보통인부","인",6.0000000000000001E-3,0,0,144481,866.8,0,0,144481,866,""]
["6919001","M500000","공구손료","노무비의 2%","식",1,null,0,0,0,324.8,324.8,324.8,324,""]
[null,null,"[ 합           계 ]",{"$nulls":4},{"$f":"TRUNC(SUM(H1796:H1802),0)","v":6502},null,{"$f":"TRUNC(SUM(J1796:J1802),0)","v":16244},null,{"$f":"TRUNC(SUM(L1796:L1802),0)","v":324},null,{"$f":"H1803+J1803+L1803","v":23070}]
[]
[null,null,"6919010  실내배관보온(발포폴리에틸렌 내열 난연 AL)  25TxD125  M당"]
["6919001","6101201","발포폴리에틸렌보온통","D125","M",1.05,6019,{"$f":"TRUNC(F1806*G1806,1)","v":6319.9},0,{"$f":"TRUNC(F1806*I1806,1)","v":0},0,{"$f":"TRUNC(F1806*K1806,1)","v":0},{"$f":"TRUNC(G1806+I1806+K1806,1)","v":6019},{"$f":"TRUNC(H1806+J1806+L1806,0)","v":6319},""]
["6919001","M300000","소모품비","보온재의 3%","식",1,189.5,189.5,0,0,0,0,189.5,189,""]
["6919001","6112081","AL밴드","0.3x30W","M",0.72,360,259.2,0,0,0,0,360,259,""]
["6919001","6112048","매직테이프 0.2T","100MM x 15M","㎡",0.83,1950,1618.5,0,0,0,0,1950,1618,""]
["6919001","0001032","노무비","보온공","인",0.10100000000000001,0,0,183071,18490.099999999999,0,0,183071,18490,""]
["6919001","0001032","노무비","보통인부","인",8.0000000000000002E-3,0,0,144481,{"$f":"TRUNC(F1811*I1811,1)","v":1155.8},0,0,144481,1155,""]
["6919001","M500000","공구손료","노무비의 2%","식",1,null,0,0,0,392.9,392.9,392.9,392,""]
[null,null,"[ 합           계 ]",{"$nulls":4},{"$f":"TRUNC(SUM(H1806:H1812),0)","v":8387},null,{"$f":"TRUNC(SUM(J1806:J1812),0)","v":19645},null,{"$f":"TRUNC(SUM(L1806:L1812),0)","v":392},null,{"$f":"H1813+J1813+L1813","v":28424}]
[]
[null,null,"6919011  실내배관보온(발포폴리에틸렌 내열 난연 AL)  25TxD150  M당"]
["6919001","6101201","발포폴리에틸렌보온통","D150","M",1.05,7778,{"$f":"TRUNC(F1816*G1816,1)","v":8166.9},0,{"$f":"TRUNC(F1816*I1816,1)","v":0},0,{"$f":"TRUNC(F1816*K1816,1)","v":0},{"$f":"TRUNC(G1816+I1816+K1816,1)","v":7778},{"$f":"TRUNC(H1816+J1816+L1816,0)","v":8166},""]
["6919001","M300000","소모품비","보온재의 3%","식",1,245,245,0,0,0,0,245,245,""]
["6919001","6112081","AL밴드","0.3x30W","M",0.82,360,295.2,0,0,0,0,360,295,""]
["6919001","6112048","매직테이프 0.2T","100MM x 15M","㎡",0.94,1950,1833,0,0,0,0,1950,1833,""]
["6919001","0001032","노무비","보온공","인",0.11899999999999999,0,0,183071,21785.4,0,0,183071,21785,""]
["6919001","0001032","노무비","보통인부","인",8.9999999999999993E-3,0,0,144481,{"$f":"TRUNC(F1821*I1821,1)","v":1300.3},0,0,144481,1300,""]
["6919001","M500000","공구손료","노무비의 2%","식",1,null,0,0,0,461.7,461.7,461.7,461,""]
[null,null,"[ 합           계 ]",{"$nulls":4},{"$f":"TRUNC(SUM(H1816:H1822),0)","v":10540},null,{"$f":"TRUNC(SUM(J1816:J1822),0)","v":23085},null,{"$f":"TRUNC(SUM(L1816:L1822),0)","v":461},null,{"$f":"H1823+J1823+L1823","v":34086}]
[]
[null,null,"6919012  실내배관보온(발포폴리에틸렌 내열 난연 AL)  25TxD200  M당"]
["6919001","6101201","발포폴리에틸렌보온통","D200","M",1.05,10735,{"$f":"TRUNC(F1826*G1826,1)","v":11271.7},0,{"$f":"TRUNC(F1826*I1826,1)","v":0},0,{"$f":"TRUNC(F1826*K1826,1)","v":0},{"$f":"TRUNC(G1826+I1826+K1826,1)","v":10735},{"$f":"TRUNC(H1826+J1826+L1826,0)","v":11271},""]
["6919001","M300000","소모품비","보온재의 3%","식",1,338.1,338.1,0,0,0,0,338.1,338,""]
["6919001","6112081","AL밴드","0.3x30W","M",1.05,360,378,0,0,0,0,360,378,""]
["6919001","6112048","매직테이프 0.2T","100MM x 15M","㎡",1.17,1950,2281.5,0,0,0,0,1950,2281,""]
["6919001","0001032","노무비","보온공","인",0.154,0,0,183071,28192.9,0,0,183071,28192,""]
["6919001","0001032","노무비","보통인부","인",1.2E-2,0,0,144481,{"$f":"TRUNC(F1831*I1831,1)","v":1733.7},0,0,144481,1733,""]
["6919001","M500000","공구손료","노무비의 2%","식",1,null,0,0,0,598.5,598.5,598.5,598,""]
[null,null,"[ 합           계 ]",{"$nulls":4},{"$f":"TRUNC(SUM(H1826:H1832),0)","v":14269},null,{"$f":"TRUNC(SUM(J1826:J1832),0)","v":29926},null,{"$f":"TRUNC(SUM(L1826:L1832),0)","v":598},null,{"$f":"H1833+J1833+L1833","v":44793}]
[]
[null,null,"6919001-1  실내배관보온(발포폴리에틸렌 내열 난연 AL)  40TxD15  M당"]
["6919001","6101201","발포폴리에틸렌보온통","D15","M",1.05,3889,{"$f":"TRUNC(F1836*G1836,1)","v":4083.4},0,{"$f":"TRUNC(F1836*I1836,1)","v":0},0,{"$f":"TRUNC(F1836*K1836,1)","v":0},{"$f":"TRUNC(G1836+I1836+K1836,1)","v":3889},{"$f":"TRUNC(H1836+J1836+L1836,0)","v":4083},""]
["6919001","M300000","소모품비","보온재의 3%","식",1,122.5,122.5,0,0,0,0,122.5,122,""]
["6919001","6112081","AL밴드","0.3x30W","M",0.39,360,140.4,0,0,0,0,360,140,""]
["6919001","6112048","매직테이프 0.2T","100MM x 15M","㎡",0.44,1950,858,0,0,0,0,1950,858,""]
["6919001","0001032","노무비","보온공","인",0.04,0,0,183071,7322.8,0,0,183071,7322,""]
["6919001","0001032","노무비","보통인부","인",3.0000000000000001E-3,0,0,144481,{"$f":"TRUNC(F1841*I1841,1)","v":433.4},0,0,144481,433,""]
["6919001","M500000","공구손료","노무비의 2%","식",1,null,0,0,0,155.1,155.1,155.1,155,""]
[null,null,"[ 합           계 ]",{"$nulls":4},{"$f":"TRUNC(SUM(H1836:H1842),0)","v":5204},null,{"$f":"TRUNC(SUM(J1836:J1842),0)","v":7756},null,{"$f":"TRUNC(SUM(L1836:L1842),0)","v":155},null,{"$f":"H1843+J1843+L1843","v":13115}]
[]
[null,null,"6919002-1  실내배관보온(발포폴리에틸렌 내열 난연 AL)  40TxD20  M당"]
["6919001","6101201","발포폴리에틸렌보온통","D20","M",1.05,4021,{"$f":"TRUNC(F1846*G1846,1)","v":4222},0,{"$f":"TRUNC(F1846*I1846,1)","v":0},0,{"$f":"TRUNC(F1846*K1846,1)","v":0},{"$f":"TRUNC(G1846+I1846+K1846,1)","v":4021},{"$f":"TRUNC(H1846+J1846+L1846,0)","v":4222},""]
["6919001","M300000","소모품비","보온재의 3%","식",1,126.6,126.6,0,0,0,0,126.6,126,""]
["6919001","6112081","AL밴드","0.3x30W","M",0.41,360,147.6,0,0,0,0,360,147,""]
["6919001","6112048","매직테이프 0.2T","100MM x 15M","㎡",0.46,1950,897,0,0,0,0,1950,897,""]
["6919001","0001032","노무비","보온공","인",4.5999999999999999E-2,0,0,183071,8421.2000000000007,0,0,183071,8421,""]
["6919001","0001032","노무비","보통인부","인",3.0000000000000001E-3,0,0,144481,{"$f":"TRUNC(F1851*I1851,1)","v":433.4},0,0,144481,433,""]
["6919001","M500000","공구손료","노무비의 2%","식",1,null,0,0,0,177,177,177,177,""]
[null,null,"[ 합           계 ]",{"$nulls":4},{"$f":"TRUNC(SUM(H1846:H1852),0)","v":5393},null,{"$f":"TRUNC(SUM(J1846:J1852),0)","v":8854},null,{"$f":"TRUNC(SUM(L1846:L1852),0)","v":177},null,{"$f":"H1853+J1853+L1853","v":14424}]
[]
[null,null,"6919003-1  실내배관보온(발포폴리에틸렌 내열 난연 AL)  40TxD25  M당"]
["6919001","6101201","발포폴리에틸렌보온통","D25","M",1.05,4315,{"$f":"TRUNC(F1856*G1856,1)","v":4530.7},0,{"$f":"TRUNC(F1856*I1856,1)","v":0},0,{"$f":"TRUNC(F1856*K1856,1)","v":0},{"$f":"TRUNC(G1856+I1856+K1856,1)","v":4315},{"$f":"TRUNC(H1856+J1856+L1856,0)","v":4530},""]
["6919001","M300000","소모품비","보온재의 3%","식",1,135.9,135.9,0,0,0,0,135.9,135,""]
["6919001","6112081","AL밴드","0.3x30W","M",0.43,360,154.80000000000001,0,0,0,0,360,154,""]
["6919001","6112048","매직테이프 0.2T","100MM x 15M","㎡",0.49,1950,955.5,0,0,0,0,1950,955,""]
["6919001","0001032","노무비","보온공","인",4.8000000000000001E-2,0,0,183071,8787.4,0,0,183071,8787,""]
["6919001","0001032","노무비","보통인부","인",3.0000000000000001E-3,0,0,144481,{"$f":"TRUNC(F1861*I1861,1)","v":433.4},0,0,144481,433,""]
["6919001","M500000","공구손료","노무비의 2%","식",1,null,0,0,0,184.4,184.4,184.4,184,""]
[null,null,"[ 합           계 ]",{"$nulls":4},{"$f":"TRUNC(SUM(H1856:H1862),0)","v":5776},null,{"$f":"TRUNC(SUM(J1856:J1862),0)","v":9220},null,{"$f":"TRUNC(SUM(L1856:L1862),0)","v":184},null,{"$f":"H1863+J1863+L1863","v":15180}]
[]
[null,null,"6919004-1  실내배관보온(발포폴리에틸렌 내열 난연 AL)  40TxD32  M당"]
["6919001","6101201","발포폴리에틸렌보온통","D32","M",1.05,4619,{"$f":"TRUNC(F1866*G1866,1)","v":4849.8999999999996},0,{"$f":"TRUNC(F1866*I1866,1)","v":0},0,{"$f":"TRUNC(F1866*K1866,1)","v":0},{"$f":"TRUNC(G1866+I1866+K1866,1)","v":4619},{"$f":"TRUNC(H1866+J1866+L1866,0)","v":4849},""]
["6919001","M300000","소모품비","보온재의 3%","식",1,145.4,145.4,0,0,0,0,145.4,145,""]
["6919001","6112081","AL밴드","0.3x30W","M",0.47,360,169.2,0,0,0,0,360,169,""]
["6919001","6112048","매직테이프 0.2T","100MM x 15M","㎡",0.54,1950,1053,0,0,0,0,1950,1053,""]
["6919001","0001032","노무비","보온공","인",5.5000000000000007E-2,0,0,183071,10068.9,0,0,183071,10068,""]
["6919001","0001032","노무비","보통인부","인",5.0000000000000001E-3,0,0,144481,{"$f":"TRUNC(F1871*I1871,1)","v":722.4},0,0,144481,722,""]
["6919001","M500000","공구손료","노무비의 2%","식",1,null,0,0,0,215.8,215.8,215.8,215,""]
[null,null,"[ 합           계 ]",{"$nulls":4},{"$f":"TRUNC(SUM(H1866:H1872),0)","v":6217},null,{"$f":"TRUNC(SUM(J1866:J1872),0)","v":10791},null,{"$f":"TRUNC(SUM(L1866:L1872),0)","v":215},null,{"$f":"H1873+J1873+L1873","v":17223}]
[]
[null,null,"6919005-1  실내배관보온(발포폴리에틸렌 내열 난연 AL)  40TxD40  M당"]
["6919001","6101201","발포폴리에틸렌보온통","D40","M",1.05,4950,{"$f":"TRUNC(F1876*G1876,1)","v":5197.5},0,{"$f":"TRUNC(F1876*I1876,1)","v":0},0,{"$f":"TRUNC(F1876*K1876,1)","v":0},{"$f":"TRUNC(G1876+I1876+K1876,1)","v":4950},{"$f":"TRUNC(H1876+J1876+L1876,0)","v":5197},""]
["6919001","M300000","소모품비","보온재의 3%","식",1,155.9,155.9,0,0,0,0,155.9,155,""]
["6919001","6112081","AL밴드","0.3x30W","M",0.49,360,176.4,0,0,0,0,360,176,""]
["6919001","6112048","매직테이프 0.2T","100MM x 15M","㎡",0.56999999999999995,1950,1111.5,0,0,0,0,1950,1111,""]
["6919001","0001032","노무비","보온공","인",6.4000000000000001E-2,0,0,183071,11716.5,0,0,183071,11716,""]
["6919001","0001032","노무비","보통인부","인",5.0000000000000001E-3,0,0,144481,{"$f":"TRUNC(F1881*I1881,1)","v":722.4},0,0,144481,722,""]
["6919001","M500000","공구손료","노무비의 2%","식",1,null,0,0,0,248.7,248.7,248.7,248,""]
[null,null,"[ 합           계 ]",{"$nulls":4},{"$f":"TRUNC(SUM(H1876:H1882),0)","v":6641},null,{"$f":"TRUNC(SUM(J1876:J1882),0)","v":12438},null,{"$f":"TRUNC(SUM(L1876:L1882),0)","v":248},null,{"$f":"H1883+J1883+L1883","v":19327}]
[]
[null,null,"6919006-1  실내배관보온(발포폴리에틸렌 내열 난연 AL)  40TxD50  M당"]
["6919001","6101201","발포폴리에틸렌보온통","D50","M",1.05,5251,{"$f":"TRUNC(F1886*G1886,1)","v":5513.5},0,{"$f":"TRUNC(F1886*I1886,1)","v":0},0,{"$f":"TRUNC(F1886*K1886,1)","v":0},{"$f":"TRUNC(G1886+I1886+K1886,1)","v":5251},{"$f":"TRUNC(H1886+J1886+L1886,0)","v":5513},""]
["6919001","M300000","소모품비","보온재의 3%","식",1,165.4,165.4,0,0,0,0,165.4,165,""]
["6919001","6112081","AL밴드","0.3x30W","M",0.53,360,190.8,0,0,0,0,360,190,""]
["6919001","6112048","매직테이프 0.2T","100MM x 15M","㎡",0.62,1950,1209,0,0,0,0,1950,1209,""]
["6919001","0001032","노무비","보온공","인",7.4999999999999997E-2,0,0,183071,13730.3,0,0,183071,13730,""]
["6919001","0001032","노무비","보통인부","인",6.0000000000000001E-3,0,0,144481,{"$f":"TRUNC(F1891*I1891,1)","v":866.8},0,0,144481,866,""]
["6919001","M500000","공구손료","노무비의 2%","식",1,null,0,0,0,291.89999999999998,291.89999999999998,291.89999999999998,291,""]
[null,null,"[ 합           계 ]",{"$nulls":4},{"$f":"TRUNC(SUM(H1886:H1892),0)","v":7078},null,{"$f":"TRUNC(SUM(J1886:J1892),0)","v":14597},null,{"$f":"TRUNC(SUM(L1886:L1892),0)","v":291},null,{"$f":"H1893+J1893+L1893","v":21966}]
[]
[null,null,"6919007-1  실내배관보온(발포폴리에틸렌 내열 난연 AL)  40TxD65  M당"]
["6919001","6101201","발포폴리에틸렌보온통","D65","M",1.05,5914,{"$f":"TRUNC(F1896*G1896,1)","v":6209.7},0,{"$f":"TRUNC(F1896*I1896,1)","v":0},0,{"$f":"TRUNC(F1896*K1896,1)","v":0},{"$f":"TRUNC(G1896+I1896+K1896,1)","v":5914},{"$f":"TRUNC(H1896+J1896+L1896,0)","v":6209},""]
["6919001","M300000","소모품비","보온재의 3%","식",1,186.2,186.2,0,0,0,0,186.2,186,""]
["6919001","6112081","AL밴드","0.3x30W","M",0.59,360,212.4,0,0,0,0,360,212,""]
["6919001","6112048","매직테이프 0.2T","100MM x 15M","㎡",0.69,1950,1345.5,0,0,0,0,1950,1345,""]
["6919001","0001032","노무비","보온공","인",0.08,0,0,183071,14645.6,0,0,183071,14645,""]
["6919001","0001032","노무비","보통인부","인",7.000000000000001E-3,0,0,144481,{"$f":"TRUNC(F1901*I1901,1)","v":1011.3},0,0,144481,1011,""]
["6919001","M500000","공구손료","노무비의 2%","식",1,null,0,0,0,313.10000000000002,313.10000000000002,313.10000000000002,313,""]
[null,null,"[ 합           계 ]",{"$nulls":4},{"$f":"TRUNC(SUM(H1896:H1902),0)","v":7953},null,{"$f":"TRUNC(SUM(J1896:J1902),0)","v":15656},null,{"$f":"TRUNC(SUM(L1896:L1902),0)","v":313},null,{"$f":"H1903+J1903+L1903","v":23922}]
[]
[null,null,"6919008-1  실내배관보온(발포폴리에틸렌 내열 난연 AL)  40TxD80  M당"]
["6919001","6101201","발포폴리에틸렌보온통","D80","M",1.05,6478,{"$f":"TRUNC(F1906*G1906,1)","v":6801.9},0,{"$f":"TRUNC(F1906*I1906,1)","v":0},0,{"$f":"TRUNC(F1906*K1906,1)","v":0},{"$f":"TRUNC(G1906+I1906+K1906,1)","v":6478},{"$f":"TRUNC(H1906+J1906+L1906,0)","v":6801},""]
["6919001","M300000","소모품비","보온재의 3%","식",1,204,204,0,0,0,0,204,204,""]
["6919001","6112081","AL밴드","0.3x30W","M",0.64,360,230.4,0,0,0,0,360,230,""]
["6919001","6112048","매직테이프 0.2T","100MM x 15M","㎡",0.74,1950,1443,0,0,0,0,1950,1443,""]
["6919001","0001032","노무비","보온공","인",9.1999999999999998E-2,0,0,183071,16842.5,0,0,183071,16842,""]
["6919001","0001032","노무비","보통인부","인",7.000000000000001E-3,0,0,144481,{"$f":"TRUNC(F1911*I1911,1)","v":1011.3},0,0,144481,1011,""]
["6919001","M500000","공구손료","노무비의 2%","식",1,null,0,0,0,357,357,357,357,""]
[null,null,"[ 합           계 ]",{"$nulls":4},{"$f":"TRUNC(SUM(H1906:H1912),0)","v":8679},null,{"$f":"TRUNC(SUM(J1906:J1912),0)","v":17853},null,{"$f":"TRUNC(SUM(L1906:L1912),0)","v":357},null,{"$f":"H1913+J1913+L1913","v":26889}]
[]
[null,null,"6919009-1  실내배관보온(발포폴리에틸렌 내열 난연 AL)  40TxD100  M당"]
["6919001","6101201","발포폴리에틸렌보온통","D100","M",1.05,7710,{"$f":"TRUNC(F1916*G1916,1)","v":8095.5},0,{"$f":"TRUNC(F1916*I1916,1)","v":0},0,{"$f":"TRUNC(F1916*K1916,1)","v":0},{"$f":"TRUNC(G1916+I1916+K1916,1)","v":7710},{"$f":"TRUNC(H1916+J1916+L1916,0)","v":8095},""]
["6919001","M300000","소모품비","보온재의 3%","식",1,242.8,242.8,0,0,0,0,242.8,242,""]
["6919001","6112081","AL밴드","0.3x30W","M",0.74,360,266.39999999999998,0,0,0,0,360,266,""]
["6919001","6112048","매직테이프 0.2T","100MM x 15M","㎡",0.86,1950,1677,0,0,0,0,1950,1677,""]
["6919001","0001032","노무비","보온공","인",0.105,0,0,183071,19222.400000000001,0,0,183071,19222,""]
["6919001","0001032","노무비","보통인부","인",8.0000000000000002E-3,0,0,144481,{"$f":"TRUNC(F1921*I1921,1)","v":1155.8},0,0,144481,1155,""]
["6919001","M500000","공구손료","노무비의 2%","식",1,null,0,0,0,407.5,407.5,407.5,407,""]
[null,null,"[ 합           계 ]",{"$nulls":4},{"$f":"TRUNC(SUM(H1916:H1922),0)","v":10281},null,{"$f":"TRUNC(SUM(J1916:J1922),0)","v":20378},null,{"$f":"TRUNC(SUM(L1916:L1922),0)","v":407},null,{"$f":"H1923+J1923+L1923","v":31066}]
[]
[null,null,"6919010-1  실내배관보온(발포폴리에틸렌 내열 난연 AL)  40TxD125  M당"]
["6919001","6101201","발포폴리에틸렌보온통","D125","M",1.05,10181,{"$f":"TRUNC(F1926*G1926,1)","v":10690},0,{"$f":"TRUNC(F1926*I1926,1)","v":0},0,{"$f":"TRUNC(F1926*K1926,1)","v":0},{"$f":"TRUNC(G1926+I1926+K1926,1)","v":10181},{"$f":"TRUNC(H1926+J1926+L1926,0)","v":10690},""]
["6919001","M300000","소모품비","보온재의 3%","식",1,320.7,320.7,0,0,0,0,320.7,320,""]
["6919001","6112081","AL밴드","0.3x30W","M",0.84,360,302.39999999999998,0,0,0,0,360,302,""]
["6919001","6112048","매직테이프 0.2T","100MM x 15M","㎡",0.97,1950,1891.5,0,0,0,0,1950,1891,""]
["6919001","0001032","노무비","보온공","인",0.126,0,0,183071,23066.9,0,0,183071,23066,""]
["6919001","0001032","노무비","보통인부","인",0.01,0,0,144481,{"$f":"TRUNC(F1931*I1931,1)","v":1444.8},0,0,144481,1444,""]
["6919001","M500000","공구손료","노무비의 2%","식",1,null,0,0,0,490.2,490.2,490.2,490,""]
[null,null,"[ 합           계 ]",{"$nulls":4},{"$f":"TRUNC(SUM(H1926:H1932),0)","v":13204},null,{"$f":"TRUNC(SUM(J1926:J1932),0)","v":24511},null,{"$f":"TRUNC(SUM(L1926:L1932),0)","v":490},null,{"$f":"H1933+J1933+L1933","v":38205}]
[]
[null,null,"6919011-1  실내배관보온(발포폴리에틸렌 내열 난연 AL)  40TxD150  M당"]
["6919001","6101201","발포폴리에틸렌보온통","D150","M",1.05,12610,{"$f":"TRUNC(F1936*G1936,1)","v":13240.5},0,{"$f":"TRUNC(F1936*I1936,1)","v":0},0,{"$f":"TRUNC(F1936*K1936,1)","v":0},{"$f":"TRUNC(G1936+I1936+K1936,1)","v":12610},{"$f":"TRUNC(H1936+J1936+L1936,0)","v":13240},""]
["6919001","M300000","소모품비","보온재의 3%","식",1,397.2,397.2,0,0,0,0,397.2,397,""]
["6919001","6112081","AL밴드","0.3x30W","M",0.94,360,338.4,0,0,0,0,360,338,""]
["6919001","6112048","매직테이프 0.2T","100MM x 15M","㎡",1.08,1950,2106,0,0,0,0,1950,2106,""]
["6919001","0001032","노무비","보온공","인",0.14699999999999999,0,0,183071,26911.4,0,0,183071,26911,""]
["6919001","0001032","노무비","보통인부","인",1.0999999999999999E-2,0,0,144481,{"$f":"TRUNC(F1941*I1941,1)","v":1589.2},0,0,144481,1589,""]
["6919001","M500000","공구손료","노무비의 2%","식",1,null,0,0,0,570,570,570,570,""]
[null,null,"[ 합           계 ]",{"$nulls":4},{"$f":"TRUNC(SUM(H1936:H1942),0)","v":16082},null,{"$f":"TRUNC(SUM(J1936:J1942),0)","v":28500},null,{"$f":"TRUNC(SUM(L1936:L1942),0)","v":570},null,{"$f":"H1943+J1943+L1943","v":45152}]
[]
[null,null,"6919012-1  실내배관보온(발포폴리에틸렌 내열 난연 AL)  40TxD200  M당"]
["6919001","6101201","발포폴리에틸렌보온통","D200","M",1.05,17896,{"$f":"TRUNC(F1946*G1946,1)","v":18790.8},0,{"$f":"TRUNC(F1946*I1946,1)","v":0},0,{"$f":"TRUNC(F1946*K1946,1)","v":0},{"$f":"TRUNC(G1946+I1946+K1946,1)","v":17896},{"$f":"TRUNC(H1946+J1946+L1946,0)","v":18790},""]
["6919001","M300000","소모품비","보온재의 3%","식",1,563.70000000000005,563.70000000000005,0,0,0,0,563.70000000000005,563,""]
["6919001","6112081","AL밴드","0.3x30W","M",1.1299999999999999,360,406.8,0,0,0,0,360,406,""]
["6919001","6112048","매직테이프 0.2T","100MM x 15M","㎡",1.31,1950,2554.5,0,0,0,0,1950,2554,""]
["6919001","0001032","노무비","보온공","인",0.17499999999999999,0,0,183071,32037.4,0,0,183071,32037,""]
["6919001","0001032","노무비","보통인부","인",1.4E-2,0,0,144481,{"$f":"TRUNC(F1951*I1951,1)","v":2022.7},0,0,144481,2022,""]
["6919001","M500000","공구손료","노무비의 2%","식",1,null,0,0,0,681.2,681.2,681.2,681,""]
[null,null,"[ 합           계 ]",{"$nulls":4},{"$f":"TRUNC(SUM(H1946:H1952),0)","v":22315},null,{"$f":"TRUNC(SUM(J1946:J1952),0)","v":34060},null,{"$f":"TRUNC(SUM(L1946:L1952),0)","v":681},null,{"$f":"H1953+J1953+L1953","v":57056}]
[]
[null,null,"6919001-2  실내배관보온(유리솜)  25TxD15  M당"]
["6919002","6101202","유리솜보온통 (25T)","D15","M",1.05,1101,{"$f":"TRUNC(F1956*G1956,1)","v":1156},0,{"$f":"TRUNC(F1956*I1956,1)","v":0},0,{"$f":"TRUNC(F1956*K1956,1)","v":0},{"$f":"TRUNC(G1956+I1956+K1956,1)","v":1101},{"$f":"TRUNC(H1956+J1956+L1956,0)","v":1156},""]
["6919002","M300000","소모품비(아연철선포함)","보온재의 3%","식",1,34.6,34.6,0,0,0,0,34.6,34,""]
["6919002","6112002","아스팔트휄트","25㎏","㎡",0.31,1619.047619047619,501.9,0,0,0,0,1619,501,""]
["6919002","6112048","매직테이프 0.2T","100MM x 15M","㎡",0.31,1950,604.5,0,0,0,0,1950,604,""]
["6919002","6112081","AL밴드","0.3x30W","M",0.27,360,97.2,0,0,0,0,360,97,""]
["6919002","0001032","노무비","보온공","인",3.1E-2,0,0,183071,5675.2,0,0,183071,5675,"",null,"보온공",3.4000000000000002E-2,0.9,{"$f":"R1961*S1961","v":3.0600000000000002E-2}]
["6919001","0001032","노무비","보통인부","인",4.4999999999999997E-3,0,0,144481,{"$f":"TRUNC(F1962*I1962,1)","v":650.1},0,0,144481,650,"",null,"보통인부",5.0000000000000001E-3,0.9,{"$f":"R1962*S1962","v":4.5000000000000005E-3}]
["6919002","M500000","공구손료","노무비의 2%","식",1,null,0,0,0,126.5,126.5,126.5,126,""]
[null,null,"[ 합           계 ]",{"$nulls":4},{"$f":"TRUNC(SUM(H1956:H1963),0)","v":2394},null,{"$f":"TRUNC(SUM(J1956:J1963),0)","v":6325},null,{"$f":"TRUNC(SUM(L1956:L1963),0)","v":126},null,{"$f":"H1964+J1964+L1964","v":8845}]
[]
[null,null,"6919002-2  실내배관보온(유리솜)  25TxD20  M당"]
["6919002","6101202","유리솜보온통 (25T)","D20","M",1.05,1212,{"$f":"TRUNC(F1967*G1967,1)","v":1272.5999999999999},0,{"$f":"TRUNC(F1967*I1967,1)","v":0},0,{"$f":"TRUNC(F1967*K1967,1)","v":0},{"$f":"TRUNC(G1967+I1967+K1967,1)","v":1212},{"$f":"TRUNC(H1967+J1967+L1967,0)","v":1272},""]
["6919002","M300000","소모품비(아연철선포함)","보온재의 3%","식",1,38.1,38.1,0,0,0,0,38.1,38,""]
["6919002","6112002","아스팔트휄트","25㎏","㎡",0.33,1619.047619047619,534.20000000000005,0,0,0,0,1619,534,""]
["6919002","6112048","매직테이프 0.2T","100MM x 15M","㎡",0.33,1950,643.5,0,0,0,0,1950,643,""]
["6919002","6112081","AL밴드","0.3x30W","M",0.28999999999999998,360,104.4,0,0,0,0,360,104,""]
["6919002","0001032","노무비","보온공","인",3.5999999999999997E-2,0,0,183071,6590.5,0,0,183071,6590,"",null,"보온공",0.04,0.9,{"$f":"R1972*S1972","v":3.6000000000000004E-2}]
["6919001","0001032","노무비","보통인부","인",4.4999999999999997E-3,0,0,144481,{"$f":"TRUNC(F1973*I1973,1)","v":650.1},0,0,144481,650,"",null,"보통인부",5.0000000000000001E-3,0.9,{"$f":"R1973*S1973","v":4.5000000000000005E-3}]
["6919002","M500000","공구손료","노무비의 2%","식",1,null,0,0,0,144.80000000000001,144.80000000000001,144.80000000000001,144,""]
[null,null,"[ 합           계 ]",{"$nulls":4},{"$f":"TRUNC(SUM(H1967:H1974),0)","v":2592},null,{"$f":"TRUNC(SUM(J1967:J1974),0)","v":7240},null,{"$f":"TRUNC(SUM(L1967:L1974),0)","v":144},null,{"$f":"H1975+J1975+L1975","v":9976}]
[]
[null,null,"6919003-2  실내배관보온(유리솜)  25TxD25  M당"]
["6919003","6101203","유리솜보온통 (25T)","D25","M",1.05,1349,{"$f":"TRUNC(F1978*G1978,1)","v":1416.4},0,{"$f":"TRUNC(F1978*I1978,1)","v":0},0,{"$f":"TRUNC(F1978*K1978,1)","v":0},{"$f":"TRUNC(G1978+I1978+K1978,1)","v":1349},{"$f":"TRUNC(H1978+J1978+L1978,0)","v":1416},""]
["6919003","M300000","소모품비(아연철선포함)","보온재의 3%","식",1,42.4,42.4,0,0,0,0,42.4,42,""]
["6919003","6112002","아스팔트휄트","25㎏","㎡",0.36,1619.047619047619,582.79999999999995,0,0,0,0,1619,582,""]
["6919003","6112048","매직테이프 0.2T","100MM x 15M","㎡",0.36,1950,702,0,0,0,0,1950,702,""]
["6919003","6112081","AL밴드","0.3x30W","M",0.32,360,115.2,0,0,0,0,360,115,""]
["6919003","0001032","노무비","보온공","인",4.1000000000000002E-2,0,0,183071,7505.9,0,0,183071,7505,"",null,"보온공",4.4999999999999998E-2,0.9,{"$f":"R1983*S1983","v":4.0500000000000001E-2}]
["6919001","0001032","노무비","보통인부","인",5.4000000000000003E-3,0,0,144481,{"$f":"TRUNC(F1984*I1984,1)","v":780.1},0,0,144481,780,"",null,"보통인부",6.0000000000000001E-3,0.9,{"$f":"R1984*S1984","v":5.4000000000000003E-3}]
["6919003","M500000","공구손료","노무비의 2%","식",1,null,0,0,0,165.7,165.7,165.7,165,""]
[null,null,"[ 합           계 ]",{"$nulls":4},{"$f":"TRUNC(SUM(H1978:H1985),0)","v":2858},null,{"$f":"TRUNC(SUM(J1978:J1985),0)","v":8286},null,{"$f":"TRUNC(SUM(L1978:L1985),0)","v":165},null,{"$f":"H1986+J1986+L1986","v":11309}]
[]
[null,null,"6919004-2  실내배관보온(유리솜)  25TxD32  M당"]
["6919004","6101204","유리솜보온통 (25T)","D32","M",1.05,1472,{"$f":"TRUNC(F1989*G1989,1)","v":1545.6},0,{"$f":"TRUNC(F1989*I1989,1)","v":0},0,{"$f":"TRUNC(F1989*K1989,1)","v":0},{"$f":"TRUNC(G1989+I1989+K1989,1)","v":1472},{"$f":"TRUNC(H1989+J1989+L1989,0)","v":1545},""]
["6919004","M300000","소모품비(아연철선포함)","보온재의 3%","식",1,46.3,46.3,0,0,0,0,46.3,46,""]
["6919004","6112002","아스팔트휄트","25㎏","㎡",0.4,1619.047619047619,647.6,0,0,0,0,1619,647,""]
["6919004","6112048","매직테이프 0.2T","100MM x 15M","㎡",0.4,1950,780,0,0,0,0,1950,780,""]
["6919004","6112081","AL밴드","0.3x30W","M",0.35,360,126,0,0,0,0,360,126,""]
["6919004","0001032","노무비","보온공","인",4.8000000000000001E-2,0,0,183071,8787.4,0,0,183071,8787,"",null,"보온공",5.3000000000000005E-2,0.9,{"$f":"R1994*S1994","v":4.7700000000000006E-2}]
["6919001","0001032","노무비","보통인부","인",6.3E-3,0,0,144481,{"$f":"TRUNC(F1995*I1995,1)","v":910.2},0,0,144481,910,"",null,"보통인부",7.000000000000001E-3,0.9,{"$f":"R1995*S1995","v":6.3000000000000009E-3}]
["6919004","M500000","공구손료","노무비의 2%","식",1,null,0,0,0,193.9,193.9,193.9,193,""]
[null,null,"[ 합           계 ]",{"$nulls":4},{"$f":"TRUNC(SUM(H1989:H1996),0)","v":3145},null,{"$f":"TRUNC(SUM(J1989:J1996),0)","v":9697},null,{"$f":"TRUNC(SUM(L1989:L1996),0)","v":193},null,{"$f":"H1997+J1997+L1997","v":13035}]
[]
[null,null,"6919005-2  실내배관보온(유리솜)  25TxD40  M당"]
["6919005","6101205","유리솜보온통 (25T)","D40","M",1.05,1603,{"$f":"TRUNC(F2000*G2000,1)","v":1683.1},0,{"$f":"TRUNC(F2000*I2000,1)","v":0},0,{"$f":"TRUNC(F2000*K2000,1)","v":0},{"$f":"TRUNC(G2000+I2000+K2000,1)","v":1603},{"$f":"TRUNC(H2000+J2000+L2000,0)","v":1683},""]
["6919005","M300000","소모품비(아연철선포함)","보온재의 3%","식",1,50.4,50.4,0,0,0,0,50.4,50,""]
["6919005","6112002","아스팔트휄트","25㎏","㎡",0.43,1619.047619047619,696.1,0,0,0,0,1619,696,""]
["6919005","6112048","매직테이프 0.2T","100MM x 15M","㎡",0.43,1950,838.5,0,0,0,0,1950,838,""]
["6919005","6112081","AL밴드","0.3x30W","M",0.37,360,133.19999999999999,0,0,0,0,360,133,""]
["6919005","0001032","노무비","보온공","인",5.6000000000000008E-2,0,0,183071,10251.9,0,0,183071,10251,"",null,"보온공",6.2E-2,0.9,{"$f":"R2005*S2005","v":5.5800000000000002E-2}]
["6919001","0001032","노무비","보통인부","인",7.1999999999999998E-3,0,0,144481,{"$f":"TRUNC(F2006*I2006,1)","v":1040.2},0,0,144481,1040,"",null,"보통인부",8.0000000000000002E-3,0.9,{"$f":"R2006*S2006","v":7.2000000000000007E-3}]
["6919005","M500000","공구손료","노무비의 2%","식",1,null,0,0,0,225.8,225.8,225.8,225,""]
[null,null,"[ 합           계 ]",{"$nulls":4},{"$f":"TRUNC(SUM(H2000:H2007),0)","v":3401},null,{"$f":"TRUNC(SUM(J2000:J2007),0)","v":11292},null,{"$f":"TRUNC(SUM(L2000:L2007),0)","v":225},null,{"$f":"H2008+J2008+L2008","v":14918}]
[]
[null,null,"6919006-2  실내배관보온(유리솜)  25TxD50  M당"]
["6919006","6101206","유리솜보온통 (25T)","D50","M",1.05,1881,{"$f":"TRUNC(F2011*G2011,1)","v":1975},0,{"$f":"TRUNC(F2011*I2011,1)","v":0},0,{"$f":"TRUNC(F2011*K2011,1)","v":0},{"$f":"TRUNC(G2011+I2011+K2011,1)","v":1881},{"$f":"TRUNC(H2011+J2011+L2011,0)","v":1975},""]
["6919006","M300000","소모품비(아연철선포함)","보온재의 3%","식",1,59.2,59.2,0,0,0,0,59.2,59,""]
["6919006","6112002","아스팔트휄트","25㎏","㎡",0.48,1619.047619047619,777.1,0,0,0,0,1619,777,""]
["6919006","6112048","매직테이프 0.2T","100MM x 15M","㎡",0.48,1950,936,0,0,0,0,1950,936,""]
["6919006","6112081","AL밴드","0.3x30W","M",0.42,360,151.19999999999999,0,0,0,0,360,151,""]
["6919006","0001032","노무비","보온공","인",6.6000000000000003E-2,0,0,183071,12082.6,0,0,183071,12082,"",null,"보온공",7.2999999999999995E-2,0.9,{"$f":"R2016*S2016","v":6.5699999999999995E-2}]
["6919001","0001032","노무비","보통인부","인",8.9999999999999993E-3,0,0,144481,{"$f":"TRUNC(F2017*I2017,1)","v":1300.3},0,0,144481,1300,"",null,"보통인부",0.01,0.9,{"$f":"R2017*S2017","v":9.0000000000000011E-3}]
["6919006","M500000","공구손료","노무비의 2%","식",1,null,0,0,0,267.60000000000002,267.60000000000002,267.60000000000002,267,""]
[null,null,"[ 합           계 ]",{"$nulls":4},{"$f":"TRUNC(SUM(H2011:H2018),0)","v":3898},null,{"$f":"TRUNC(SUM(J2011:J2018),0)","v":13382},null,{"$f":"TRUNC(SUM(L2011:L2018),0)","v":267},null,{"$f":"H2019+J2019+L2019","v":17547}]
[]
[null,null,"6919007-2  실내배관보온(유리솜)  25TxD65  M당"]
["6919007","6101207","유리솜보온통 (25T)","D65","M",1.05,2073,{"$f":"TRUNC(F2022*G2022,1)","v":2176.6},0,{"$f":"TRUNC(F2022*I2022,1)","v":0},0,{"$f":"TRUNC(F2022*K2022,1)","v":0},{"$f":"TRUNC(G2022+I2022+K2022,1)","v":2073},{"$f":"TRUNC(H2022+J2022+L2022,0)","v":2176},""]
["6919007","M300000","소모품비(아연철선포함)","보온재의 3%","식",1,65.2,65.2,0,0,0,0,65.2,65,""]
["6919007","6112002","아스팔트휄트","25㎏","㎡",0.55000000000000004,1619.047619047619,890.4,0,0,0,0,1619,890,""]
["6919007","6112048","매직테이프 0.2T","100MM x 15M","㎡",0.55000000000000004,1950,1072.5,0,0,0,0,1950,1072,""]
["6919007","6112081","AL밴드","0.3x30W","M",0.48,360,172.8,0,0,0,0,360,172,""]
["6919007","0001032","노무비","보온공","인",0.08,0,0,183071,14645.6,0,0,183071,14645,"",null,"보온공",8.8999999999999996E-2,0.9,{"$f":"R2027*S2027","v":8.0100000000000005E-2}]
["6919001","0001032","노무비","보통인부","인",1.0800000000000001E-2,0,0,144481,{"$f":"TRUNC(F2028*I2028,1)","v":1560.3},0,0,144481,1560,"",null,"보통인부",1.2E-2,0.9,{"$f":"R2028*S2028","v":1.0800000000000001E-2}]
["6919007","M500000","공구손료","노무비의 2%","식",1,null,0,0,0,292.89999999999998,292.89999999999998,292.89999999999998,292,""]
[null,null,"[ 합           계 ]",{"$nulls":4},{"$f":"TRUNC(SUM(H2022:H2029),0)","v":4377},null,{"$f":"TRUNC(SUM(J2022:J2029),0)","v":16205},null,{"$f":"TRUNC(SUM(L2022:L2029),0)","v":292},null,{"$f":"H2030+J2030+L2030","v":20874}]
[]
[null,null,"6919008-2  실내배관보온(유리솜)  25TxD80  M당"]
["6919008","6101208","유리솜보온통 (25T)","D80","M",1.05,2360,{"$f":"TRUNC(F2033*G2033,1)","v":2478},0,{"$f":"TRUNC(F2033*I2033,1)","v":0},0,{"$f":"TRUNC(F2033*K2033,1)","v":0},{"$f":"TRUNC(G2033+I2033+K2033,1)","v":2360},{"$f":"TRUNC(H2033+J2033+L2033,0)","v":2478},""]
["6919008","M300000","소모품비(아연철선포함)","보온재의 3%","식",1,74.3,74.3,0,0,0,0,74.3,74,""]
["6919008","6112002","아스팔트휄트","25㎏","㎡",0.6,1619.047619047619,971.4,0,0,0,0,1619,971,""]
["6919008","6112048","매직테이프 0.2T","100MM x 15M","㎡",0.6,1950,1170,0,0,0,0,1950,1170,""]
["6919008","6112081","AL밴드","0.3x30W","M",0.53,360,190.8,0,0,0,0,360,190,""]
["6919008","0001032","노무비","보온공","인",9.5000000000000001E-2,0,0,183071,17391.7,0,0,183071,17391,"",null,"보온공",0.106,0.9,{"$f":"R2038*S2038","v":9.5399999999999999E-2}]
["6919001","0001032","노무비","보통인부","인",1.26E-2,0,0,144481,{"$f":"TRUNC(F2039*I2039,1)","v":1820.4},0,0,144481,1820,"",null,"보통인부",1.4E-2,0.9,{"$f":"R2039*S2039","v":1.26E-2}]
["6919008","M500000","공구손료","노무비의 2%","식",1,null,0,0,0,384.2,384.2,384.2,384,""]
[null,null,"[ 합           계 ]",{"$nulls":4},{"$f":"TRUNC(SUM(H2033:H2040),0)","v":4884},null,{"$f":"TRUNC(SUM(J2033:J2040),0)","v":19212},null,{"$f":"TRUNC(SUM(L2033:L2040),0)","v":384},null,{"$f":"H2041+J2041+L2041","v":24480}]
[]
[null,null,"6919009-2  실내배관보온(유리솜)  25TxD100  M당"]
["6919009","6101209","유리솜보온통 (25T)","D100","M",1.05,2752,{"$f":"TRUNC(F2044*G2044,1)","v":2889.6},0,{"$f":"TRUNC(F2044*I2044,1)","v":0},0,{"$f":"TRUNC(F2044*K2044,1)","v":0},{"$f":"TRUNC(G2044+I2044+K2044,1)","v":2752},{"$f":"TRUNC(H2044+J2044+L2044,0)","v":2889},""]
["6919009","M300000","소모품비(아연철선포함)","보온재의 3%","식",1,86.6,86.6,0,0,0,0,86.6,86,""]
["6919009","6112002","아스팔트휄트","25㎏","㎡",0.72,1619.047619047619,1165.7,0,0,0,0,1619,1165,""]
["6919009","6112048","매직테이프 0.2T","100MM x 15M","㎡",0.72,1950,1404,0,0,0,0,1950,1404,""]
["6919009","6112081","AL밴드","0.3x30W","M",0.63,360,226.8,0,0,0,0,360,226,""]
["6919009","0001032","노무비","보온공","인",0.115,0,0,183071,21053.1,0,0,183071,21053,"",null,"보온공",0.128,0.9,{"$f":"R2049*S2049","v":0.11520000000000001}]
["6919001","0001032","노무비","보통인부","인",1.5299999999999999E-2,0,0,144481,{"$f":"TRUNC(F2050*I2050,1)","v":2210.5},0,0,144481,2210,"",null,"보통인부",1.7000000000000001E-2,0.9,{"$f":"R2050*S2050","v":1.5300000000000001E-2}]
["6919009","M500000","공구손료","노무비의 2%","식",1,null,0,0,0,465.2,465.2,465.2,465,""]
[null,null,"[ 합           계 ]",{"$nulls":4},{"$f":"TRUNC(SUM(H2044:H2051),0)","v":5772},null,{"$f":"TRUNC(SUM(J2044:J2051),0)","v":23263},null,{"$f":"TRUNC(SUM(L2044:L2051),0)","v":465},null,{"$f":"H2052+J2052+L2052","v":29500}]
[]
[null,null,"6919001-3  실내배관보온(유리솜)  40TxD15  M당"]
["6919010","6101301","유리솜보온통 (40T)","D15","M",1.05,2019,{"$f":"TRUNC(F2055*G2055,1)","v":2119.9},0,{"$f":"TRUNC(F2055*I2055,1)","v":0},0,{"$f":"TRUNC(F2055*K2055,1)","v":0},{"$f":"TRUNC(G2055+I2055+K2055,1)","v":2019},{"$f":"TRUNC(H2055+J2055+L2055,0)","v":2119},""]
["6919010","M300000","소모품비(아연철선포함)","보온재의 3%","식",1,63.5,63.5,0,0,0,0,63.5,63,""]
["6919010","6112002","아스팔트휄트","25㎏","㎡",0.44,1619.047619047619,712.3,0,0,0,0,1619,712,""]
["6919010","6112048","매직테이프 0.2T","100MM x 15M","㎡",0.44,1950,858,0,0,0,0,1950,858,""]
["6919010","6112081","AL밴드","0.3x30W","M",0.39,360,140.4,0,0,0,0,360,140,""]
["6919010","0001032","노무비","보온공","인",5.1000000000000004E-2,0,0,183071,9336.6,0,0,183071,9336,"",null,"보온공",5.7000000000000009E-2,0.9,{"$f":"R2060*S2060","v":5.1300000000000012E-2}]
["6919001","0001032","노무비","보통인부","인",7.1999999999999998E-3,0,0,144481,{"$f":"TRUNC(F2061*I2061,1)","v":1040.2},0,0,144481,1040,"",null,"보통인부",8.0000000000000002E-3,0.9,{"$f":"R2061*S2061","v":7.2000000000000007E-3}]
["6919010","M500000","공구손료","노무비의 2%","식",1,null,0,0,0,207.5,207.5,207.5,207,""]
[null,null,"[ 합           계 ]",{"$nulls":4},{"$f":"TRUNC(SUM(H2055:H2062),0)","v":3894},null,{"$f":"TRUNC(SUM(J2055:J2062),0)","v":10376},null,{"$f":"TRUNC(SUM(L2055:L2062),0)","v":207},null,{"$f":"H2063+J2063+L2063","v":14477}]
[]
[null,null,"6919002-3  실내배관보온(유리솜)  40TxD20  M당"]
["6919011","6101302","유리솜보온통 (40T)","D20","M",1.05,2230,{"$f":"TRUNC(F2066*G2066,1)","v":2341.5},0,{"$f":"TRUNC(F2066*I2066,1)","v":0},0,{"$f":"TRUNC(F2066*K2066,1)","v":0},{"$f":"TRUNC(G2066+I2066+K2066,1)","v":2230},{"$f":"TRUNC(H2066+J2066+L2066,0)","v":2341},""]
["6919011","M300000","소모품비(아연철선포함)","보온재의 3%","식",1,70.2,70.2,0,0,0,0,70.2,70,""]
["6919011","6112002","아스팔트휄트","25㎏","㎡",0.46,1619.047619047619,744.7,0,0,0,0,1619,744,""]
["6919011","6112048","매직테이프 0.2T","100MM x 15M","㎡",0.46,1950,897,0,0,0,0,1950,897,""]
["6919011","6112081","AL밴드","0.3x30W","M",0.41,360,147.6,0,0,0,0,360,147,""]
["6919011","0001032","노무비","보온공","인",5.8999999999999997E-2,0,0,183071,10801.1,0,0,183071,10801,"",null,"보온공",6.5000000000000002E-2,0.9,{"$f":"R2071*S2071","v":5.8500000000000003E-2}]
["6919001","0001032","노무비","보통인부","인",7.1999999999999998E-3,0,0,144481,{"$f":"TRUNC(F2072*I2072,1)","v":1040.2},0,0,144481,1040,"",null,"보통인부",8.0000000000000002E-3,0.9,{"$f":"R2072*S2072","v":7.2000000000000007E-3}]
["6919011","M500000","공구손료","노무비의 2%","식",1,null,0,0,0,236.8,236.8,236.8,236,""]
[null,null,"[ 합           계 ]",{"$nulls":4},{"$f":"TRUNC(SUM(H2066:H2073),0)","v":4201},null,{"$f":"TRUNC(SUM(J2066:J2073),0)","v":11841},null,{"$f":"TRUNC(SUM(L2066:L2073),0)","v":236},null,{"$f":"H2074+J2074+L2074","v":16278}]
[]
[null,null,"6919003-3  실내배관보온(유리솜)  40TxD25  M당"]
["6919012","6101303","유리솜보온통 (40T)","D25","M",1.05,2459,{"$f":"TRUNC(F2077*G2077,1)","v":2581.9},0,{"$f":"TRUNC(F2077*I2077,1)","v":0},0,{"$f":"TRUNC(F2077*K2077,1)","v":0},{"$f":"TRUNC(G2077+I2077+K2077,1)","v":2459},{"$f":"TRUNC(H2077+J2077+L2077,0)","v":2581},""]
["6919012","M300000","소모품비(아연철선포함)","보온재의 3%","식",1,77.400000000000006,77.400000000000006,0,0,0,0,77.400000000000006,77,""]
["6919012","6112002","아스팔트휄트","25㎏","㎡",0.49,1619.047619047619,793.3,0,0,0,0,1619,793,""]
["6919012","6112048","매직테이프 0.2T","100MM x 15M","㎡",0.49,1950,955.5,0,0,0,0,1950,955,""]
["6919012","6112081","AL밴드","0.3x30W","M",0.43,360,154.80000000000001,0,0,0,0,360,154,""]
["6919012","0001032","노무비","보온공","인",6.2E-2,0,0,183071,11350.4,0,0,183071,11350,"",null,"보온공",6.9000000000000006E-2,0.9,{"$f":"R2082*S2082","v":6.2100000000000009E-2}]
["6919001","0001032","노무비","보통인부","인",8.0999999999999996E-3,0,0,144481,{"$f":"TRUNC(F2083*I2083,1)","v":1170.2},0,0,144481,1170,"",null,"보통인부",8.9999999999999993E-3,0.9,{"$f":"R2083*S2083","v":8.0999999999999996E-3}]
["6919012","M500000","공구손료","노무비의 2%","식",1,null,0,0,0,250.4,250.4,250.4,250,""]
[null,null,"[ 합           계 ]",{"$nulls":4},{"$f":"TRUNC(SUM(H2077:H2084),0)","v":4562},null,{"$f":"TRUNC(SUM(J2077:J2084),0)","v":12520},null,{"$f":"TRUNC(SUM(L2077:L2084),0)","v":250},null,{"$f":"H2085+J2085+L2085","v":17332}]
[]
[null,null,"6919004-3  실내배관보온(유리솜)  40TxD32  M당"]
["6919013","6101304","유리솜보온통 (40T)","D32","M",1.05,2596,{"$f":"TRUNC(F2088*G2088,1)","v":2725.8},0,{"$f":"TRUNC(F2088*I2088,1)","v":0},0,{"$f":"TRUNC(F2088*K2088,1)","v":0},{"$f":"TRUNC(G2088+I2088+K2088,1)","v":2596},{"$f":"TRUNC(H2088+J2088+L2088,0)","v":2725},""]
["6919013","M300000","소모품비(아연철선포함)","보온재의 3%","식",1,81.7,81.7,0,0,0,0,81.7,81,""]
["6919013","6112002","아스팔트휄트","25㎏","㎡",0.53,1619.047619047619,858,0,0,0,0,1619,858,""]
["6919013","6112048","매직테이프 0.2T","100MM x 15M","㎡",0.53,1950,1033.5,0,0,0,0,1950,1033,""]
["6919013","6112081","AL밴드","0.3x30W","M",0.47,360,169.2,0,0,0,0,360,169,""]
["6919013","0001032","노무비","보온공","인",7.3999999999999996E-2,0,0,183071,13547.2,0,0,183071,13547,"",null,"보온공",8.2000000000000003E-2,0.9,{"$f":"R2093*S2093","v":7.3800000000000004E-2}]
["6919001","0001032","노무비","보통인부","인",9.9000000000000008E-3,0,0,144481,{"$f":"TRUNC(F2094*I2094,1)","v":1430.3},0,0,144481,1430,"",null,"보통인부",1.0999999999999999E-2,0.9,{"$f":"R2094*S2094","v":9.8999999999999991E-3}]
["6919013","M500000","공구손료","노무비의 2%","식",1,null,0,0,0,299.5,299.5,299.5,299,""]
[null,null,"[ 합           계 ]",{"$nulls":4},{"$f":"TRUNC(SUM(H2088:H2095),0)","v":4868},null,{"$f":"TRUNC(SUM(J2088:J2095),0)","v":14977},null,{"$f":"TRUNC(SUM(L2088:L2095),0)","v":299},null,{"$f":"H2096+J2096+L2096","v":20144}]
[]
[null,null,"6919005-3  실내배관보온(유리솜)  40TxD40  M당"]
["6919014","6101305","유리솜보온통 (40T)","D40","M",1.05,2787,{"$f":"TRUNC(F2099*G2099,1)","v":2926.3},0,{"$f":"TRUNC(F2099*I2099,1)","v":0},0,{"$f":"TRUNC(F2099*K2099,1)","v":0},{"$f":"TRUNC(G2099+I2099+K2099,1)","v":2787},{"$f":"TRUNC(H2099+J2099+L2099,0)","v":2926},""]
["6919014","M300000","소모품비(아연철선포함)","보온재의 3%","식",1,87.7,87.7,0,0,0,0,87.7,87,""]
["6919014","6112002","아스팔트휄트","25㎏","㎡",0.56999999999999995,1619.047619047619,922.8,0,0,0,0,1619,922,""]
["6919014","6112048","매직테이프 0.2T","100MM x 15M","㎡",0.56999999999999995,1950,1111.5,0,0,0,0,1950,1111,""]
["6919014","6112081","AL밴드","0.3x30W","M",0.49,360,176.4,0,0,0,0,360,176,""]
["6919014","0001032","노무비","보온공","인",8.5999999999999993E-2,0,0,183071,15744.1,0,0,183071,15744,"",null,"보온공",9.5000000000000001E-2,0.9,{"$f":"R2104*S2104","v":8.5500000000000007E-2}]
["6919001","0001032","노무비","보통인부","인",1.0800000000000001E-2,0,0,144481,{"$f":"TRUNC(F2105*I2105,1)","v":1560.3},0,0,144481,1560,"",null,"보통인부",1.2E-2,0.9,{"$f":"R2105*S2105","v":1.0800000000000001E-2}]
["6919014","M500000","공구손료","노무비의 2%","식",1,null,0,0,0,346,346,346,346,""]
[null,null,"[ 합           계 ]",{"$nulls":4},{"$f":"TRUNC(SUM(H2099:H2106),0)","v":5224},null,{"$f":"TRUNC(SUM(J2099:J2106),0)","v":17304},null,{"$f":"TRUNC(SUM(L2099:L2106),0)","v":346},null,{"$f":"H2107+J2107+L2107","v":22874}]
[]
[null,null,"6919006-3  실내배관보온(유리솜)  40TxD50  M당"]
["6919015","6101306","유리솜보온통 (40T)","D50","M",1.05,3162,{"$f":"TRUNC(F2110*G2110,1)","v":3320.1},0,{"$f":"TRUNC(F2110*I2110,1)","v":0},0,{"$f":"TRUNC(F2110*K2110,1)","v":0},{"$f":"TRUNC(G2110+I2110+K2110,1)","v":3162},{"$f":"TRUNC(H2110+J2110+L2110,0)","v":3320},""]
["6919015","M300000","소모품비(아연철선포함)","보온재의 3%","식",1,99.6,99.6,0,0,0,0,99.6,99,""]
["6919015","6112002","아스팔트휄트","25㎏","㎡",0.62,1619.047619047619,1003.8,0,0,0,0,1619,1003,""]
["6919015","6112048","매직테이프 0.2T","100MM x 15M","㎡",0.62,1950,1209,0,0,0,0,1950,1209,""]
["6919015","6112081","AL밴드","0.3x30W","M",0.53,360,190.8,0,0,0,0,360,190,""]
["6919015","0001032","노무비","보온공","인",0.10100000000000001,0,0,183071,18490.099999999999,0,0,183071,18490,"",null,"보온공",0.112,0.9,{"$f":"R2115*S2115","v":0.1008}]
["6919001","0001032","노무비","보통인부","인",1.3500000000000002E-2,0,0,144481,{"$f":"TRUNC(F2116*I2116,1)","v":1950.4},0,0,144481,1950,"",null,"보통인부",1.4999999999999999E-2,0.9,{"$f":"R2116*S2116","v":1.35E-2}]
["6919015","M500000","공구손료","노무비의 2%","식",1,null,0,0,0,408.8,408.8,408.8,408,""]
[null,null,"[ 합           계 ]",{"$nulls":4},{"$f":"TRUNC(SUM(H2110:H2117),0)","v":5823},null,{"$f":"TRUNC(SUM(J2110:J2117),0)","v":20440},null,{"$f":"TRUNC(SUM(L2110:L2117),0)","v":408},null,{"$f":"H2118+J2118+L2118","v":26671}]
[]
[null,null,"6919007-3  실내배관보온(유리솜)  40TxD65  M당"]
["6919016","6101307","유리솜보온통 (40T)","D65","M",1.05,3658,{"$f":"TRUNC(F2121*G2121,1)","v":3840.9},0,{"$f":"TRUNC(F2121*I2121,1)","v":0},0,{"$f":"TRUNC(F2121*K2121,1)","v":0},{"$f":"TRUNC(G2121+I2121+K2121,1)","v":3658},{"$f":"TRUNC(H2121+J2121+L2121,0)","v":3840},""]
["6919016","M300000","소모품비(아연철선포함)","보온재의 3%","식",1,115.2,115.2,0,0,0,0,115.2,115,""]
["6919016","6112002","아스팔트휄트","25㎏","㎡",0.69,1619.047619047619,1117.0999999999999,0,0,0,0,1619,1117,""]
["6919016","6112048","매직테이프 0.2T","100MM x 15M","㎡",0.69,1950,1345.5,0,0,0,0,1950,1345,""]
["6919016","6112081","AL밴드","0.3x30W","M",0.59,360,212.4,0,0,0,0,360,212,""]
["6919016","0001032","노무비","보온공","인",0.108,0,0,183071,19771.599999999999,0,0,183071,19771,"",null,"보온공",0.12,0.9,{"$f":"R2126*S2126","v":0.108}]
["6919001","0001032","노무비","보통인부","인",1.44E-2,0,0,144481,{"$f":"TRUNC(F2127*I2127,1)","v":2080.5},0,0,144481,2080,"",null,"보통인부",1.6E-2,0.9,{"$f":"R2127*S2127","v":1.4400000000000001E-2}]
["6919016","M500000","공구손료","노무비의 2%","식",1,null,0,0,0,437,437,437,437,""]
[null,null,"[ 합           계 ]",{"$nulls":4},{"$f":"TRUNC(SUM(H2121:H2128),0)","v":6631},null,{"$f":"TRUNC(SUM(J2121:J2128),0)","v":21852},null,{"$f":"TRUNC(SUM(L2121:L2128),0)","v":437},null,{"$f":"H2129+J2129+L2129","v":28920}]
[]
[null,null,"6919008-3  실내배관보온(유리솜)  40TxD80  M당"]
["6919017","6101308","유리솜보온통 (40T)","D80","M",1.05,4041,{"$f":"TRUNC(F2132*G2132,1)","v":4243},0,{"$f":"TRUNC(F2132*I2132,1)","v":0},0,{"$f":"TRUNC(F2132*K2132,1)","v":0},{"$f":"TRUNC(G2132+I2132+K2132,1)","v":4041},{"$f":"TRUNC(H2132+J2132+L2132,0)","v":4243},""]
["6919017","M300000","소모품비(아연철선포함)","보온재의 3%","식",1,127.2,127.2,0,0,0,0,127.2,127,""]
["6919017","6112002","아스팔트휄트","25㎏","㎡",0.74,1619.047619047619,1198,0,0,0,0,1619,1198,""]
["6919017","6112048","매직테이프 0.2T","100MM x 15M","㎡",0.74,1950,1443,0,0,0,0,1950,1443,""]
["6919017","6112081","AL밴드","0.3x30W","M",0.64,360,230.4,0,0,0,0,360,230,""]
["6919017","0001032","노무비","보온공","인",0.126,0,0,183071,23066.9,0,0,183071,23066,"",null,"보온공",0.14000000000000001,0.9,{"$f":"R2137*S2137","v":0.12600000000000003}]
["6919001","0001032","노무비","보통인부","인",1.6199999999999999E-2,0,0,144481,{"$f":"TRUNC(F2138*I2138,1)","v":2340.5},0,0,144481,2340,"",null,"보통인부",1.7999999999999999E-2,0.9,{"$f":"R2138*S2138","v":1.6199999999999999E-2}]
["6919017","M500000","공구손료","노무비의 2%","식",1,null,0,0,0,508.1,508.1,508.1,508,""]
[null,null,"[ 합           계 ]",{"$nulls":4},{"$f":"TRUNC(SUM(H2132:H2139),0)","v":7241},null,{"$f":"TRUNC(SUM(J2132:J2139),0)","v":25407},null,{"$f":"TRUNC(SUM(L2132:L2139),0)","v":508},null,{"$f":"H2140+J2140+L2140","v":33156}]
[]
[null,null,"6919009-3  실내배관보온(유리솜)  40TxD100  M당"]
["6919018","6101309","유리솜보온통 (40T)","D100","M",1.05,4825,{"$f":"TRUNC(F2143*G2143,1)","v":5066.2},0,{"$f":"TRUNC(F2143*I2143,1)","v":0},0,{"$f":"TRUNC(F2143*K2143,1)","v":0},{"$f":"TRUNC(G2143+I2143+K2143,1)","v":4825},{"$f":"TRUNC(H2143+J2143+L2143,0)","v":5066},""]
["6919018","M300000","소모품비(아연철선포함)","보온재의 3%","식",1,151.9,151.9,0,0,0,0,151.9,151,""]
["6919018","6112002","아스팔트휄트","25㎏","㎡",0.86,1619.047619047619,1392.3,0,0,0,0,1619,1392,""]
["6919018","6112048","매직테이프 0.2T","100MM x 15M","㎡",0.86,1950,1677,0,0,0,0,1950,1677,""]
["6919018","6112081","AL밴드","0.3x30W","M",0.74,360,266.39999999999998,0,0,0,0,360,266,""]
["6919018","0001032","노무비","보온공","인",0.14399999999999999,0,0,183071,26362.2,0,0,183071,26362,"",null,"보온공",0.16,0.9,{"$f":"R2148*S2148","v":0.14400000000000002}]
["6919001","0001032","노무비","보통인부","인",1.89E-2,0,0,144481,{"$f":"TRUNC(F2149*I2149,1)","v":2730.6},0,0,144481,2730,"",null,"보통인부",2.1000000000000001E-2,0.9,{"$f":"R2149*S2149","v":1.89E-2}]
["6919018","M500000","공구손료","노무비의 2%","식",1,null,0,0,0,581.79999999999995,581.79999999999995,581.79999999999995,581,""]
[null,null,"[ 합           계 ]",{"$nulls":4},{"$f":"TRUNC(SUM(H2143:H2150),0)","v":8553},null,{"$f":"TRUNC(SUM(J2143:J2150),0)","v":29092},null,{"$f":"TRUNC(SUM(L2143:L2150),0)","v":581},null,{"$f":"H2151+J2151+L2151","v":38226}]
[]
[null,null,"6919010-3  실내배관보온(유리솜)  40TxD125  M당"]
["6919019","6101310","유리솜보온통 (40T)","D125","M",1.05,5618,{"$f":"TRUNC(F2154*G2154,1)","v":5898.9},0,{"$f":"TRUNC(F2154*I2154,1)","v":0},0,{"$f":"TRUNC(F2154*K2154,1)","v":0},{"$f":"TRUNC(G2154+I2154+K2154,1)","v":5618},{"$f":"TRUNC(H2154+J2154+L2154,0)","v":5898},""]
["6919019","M300000","소모품비(아연철선포함)","보온재의 3%","식",1,176.9,176.9,0,0,0,0,176.9,176,""]
["6919019","6112002","아스팔트휄트","25㎏","㎡",0.97,1619.047619047619,1570.4,0,0,0,0,1619,1570,""]
["6919019","6112048","매직테이프 0.2T","100MM x 15M","㎡",0.97,1950,1891.5,0,0,0,0,1950,1891,""]
["6919019","6112081","AL밴드","0.3x30W","M",0.84,360,302.39999999999998,0,0,0,0,360,302,""]
["6919019","0001032","노무비","보온공","인",0.17499999999999999,0,0,183071,32037.4,0,0,183071,32037,"",null,"보온공",0.19400000000000001,0.9,{"$f":"R2159*S2159","v":0.17460000000000001}]
["6919001","0001032","노무비","보통인부","인",2.3400000000000001E-2,0,0,144481,{"$f":"TRUNC(F2160*I2160,1)","v":3380.8},0,0,144481,3380,"",null,"보통인부",2.6000000000000002E-2,0.9,{"$f":"R2160*S2160","v":2.3400000000000004E-2}]
["6919019","M500000","공구손료","노무비의 2%","식",1,null,0,0,0,708.3,708.3,708.3,708,""]
[null,null,"[ 합           계 ]",{"$nulls":4},{"$f":"TRUNC(SUM(H2154:H2161),0)","v":9840},null,{"$f":"TRUNC(SUM(J2154:J2161),0)","v":35418},null,{"$f":"TRUNC(SUM(L2154:L2161),0)","v":708},null,{"$f":"H2162+J2162+L2162","v":45966}]
[]
[null,null,"6919011-3  실내배관보온(유리솜)  40TxD150  M당"]
["6919020","6101311","유리솜보온통 (40T)","D150","M",1.05,6454,{"$f":"TRUNC(F2165*G2165,1)","v":6776.7},0,{"$f":"TRUNC(F2165*I2165,1)","v":0},0,{"$f":"TRUNC(F2165*K2165,1)","v":0},{"$f":"TRUNC(G2165+I2165+K2165,1)","v":6454},{"$f":"TRUNC(H2165+J2165+L2165,0)","v":6776},""]
["6919020","M300000","소모품비(아연철선포함)","보온재의 3%","식",1,203.3,203.3,0,0,0,0,203.3,203,""]
["6919020","6112002","아스팔트휄트","25㎏","㎡",1.08,1619.047619047619,1748.5,0,0,0,0,1619,1748,""]
["6919020","6112048","매직테이프 0.2T","100MM x 15M","㎡",1.08,1950,2106,0,0,0,0,1950,2106,""]
["6919020","6112081","AL밴드","0.3x30W","M",0.94,360,338.4,0,0,0,0,360,338,""]
["6919020","0001032","노무비","보온공","인",0.20399999999999999,0,0,183071,37346.400000000001,0,0,183071,37346,"",null,"보온공",0.22700000000000001,0.9,{"$f":"R2170*S2170","v":0.20430000000000001}]
["6919001","0001032","노무비","보통인부","인",2.7900000000000005E-2,0,0,144481,{"$f":"TRUNC(F2171*I2171,1)","v":4031},0,0,144481,4031,"",null,"보통인부",3.1E-2,0.9,{"$f":"R2171*S2171","v":2.7900000000000001E-2}]
["6919020","M500000","공구손료","노무비의 2%","식",1,null,0,0,0,827.5,827.5,827.5,827,""]
[null,null,"[ 합           계 ]",{"$nulls":4},{"$f":"TRUNC(SUM(H2165:H2172),0)","v":11172},null,{"$f":"TRUNC(SUM(J2165:J2172),0)","v":41377},null,{"$f":"TRUNC(SUM(L2165:L2172),0)","v":827},null,{"$f":"H2173+J2173+L2173","v":53376}]
[]
[null,null,"6919012-3  실내배관보온(유리솜)  40TxD200  M당"]
["6919021","6101312","유리솜보온통 (40T)","D200","M",1.05,8022,{"$f":"TRUNC(F2176*G2176,1)","v":8423.1},0,{"$f":"TRUNC(F2176*I2176,1)","v":0},0,{"$f":"TRUNC(F2176*K2176,1)","v":0},{"$f":"TRUNC(G2176+I2176+K2176,1)","v":8022},{"$f":"TRUNC(H2176+J2176+L2176,0)","v":8423},""]
["6919021","M300000","소모품비(아연철선포함)","보온재의 3%","식",1,252.6,252.6,0,0,0,0,252.6,252,""]
["6919021","6112002","아스팔트휄트","25㎏","㎡",1.31,1619.047619047619,2120.9,0,0,0,0,1619,2120,""]
["6919021","6112048","매직테이프 0.2T","100MM x 15M","㎡",1.31,1950,2554.5,0,0,0,0,1950,2554,""]
["6919021","6112081","AL밴드","0.3x30W","M",1.1299999999999999,360,406.8,0,0,0,0,360,406,""]
["6919021","0001032","노무비","보온공","인",0.24,0,0,183071,43937,0,0,183071,43937,"",null,"보온공",0.26700000000000002,0.9,{"$f":"R2181*S2181","v":0.24030000000000001}]
["6919001","0001032","노무비","보통인부","인",3.2399999999999998E-2,0,0,144481,{"$f":"TRUNC(F2182*I2182,1)","v":4681.1000000000004},0,0,144481,4681,"",null,"보통인부",3.5999999999999997E-2,0.9,{"$f":"R2182*S2182","v":3.2399999999999998E-2}]
["6919021","M500000","공구손료","노무비의 2%","식",1,null,0,0,0,972.3,972.3,972.3,972,""]
[null,null,"[ 합           계 ]",{"$nulls":4},{"$f":"TRUNC(SUM(H2176:H2183),0)","v":13757},null,{"$f":"TRUNC(SUM(J2176:J2183),0)","v":48618},null,{"$f":"TRUNC(SUM(L2176:L2183),0)","v":972},null,{"$f":"H2184+J2184+L2184","v":63347}]
[]
[null,null,"6920001  실외배관보온(칼라함석)(발포폴리에틸렌 내열 난연 AL) 50TxD15  M당"]
["6920601","6101501","발포폴리에틸렌보온통(50T)","D15","M",1.05,7662,{"$f":"TRUNC(F2187*G2187,1)","v":8045.1},0,{"$f":"TRUNC(F2187*I2187,1)","v":0},0,{"$f":"TRUNC(F2187*K2187,1)","v":0},{"$f":"TRUNC(G2187+I2187+K2187,1)","v":7662},{"$f":"TRUNC(H2187+J2187+L2187,0)","v":8045},""]
["6920601","M300000","소모품비(아연철선포함)","보온재의 3%","식",1,241.3,241.3,0,0,0,0,241.3,241,""]
["6920601","0110610","착색아연도강판","0.3tx1219x2438","㎡",0.51,5282.7766004625955,2694.2,0,0,0,0,5282.7,2694,""]
["6920601","0001032","노무비","보온공","인",4.9000000000000002E-2,0,0,183071,8970.4,0,0,183071,8970,""]
["6920601","0001111","노무비","덕트공","인",7.8E-2,0,0,181078,14124,0,0,181078,14124,""]
["6920601","M500000","공구손료","노무비의 2%","식",1,null,0,0,0,461.8,461.8,461.8,461,""]
[null,null,"[ 합           계 ]",{"$nulls":4},{"$f":"TRUNC(SUM(H2187:H2192),0)","v":10980},null,{"$f":"TRUNC(SUM(J2187:J2192),0)","v":23094},null,{"$f":"TRUNC(SUM(L2187:L2192),0)","v":461},null,{"$f":"H2193+J2193+L2193","v":34535}]
[]
[]
[null,null,"6920002  실외배관보온(칼라함석)(발포폴리에틸렌 내열 난연 AL) 50TxD20  M당"]
["6920602","6101502","발포폴리에틸렌보온통(50T)","D20","M",1.05,8005,{"$f":"TRUNC(F2197*G2197,1)","v":8405.2000000000007},0,{"$f":"TRUNC(F2197*I2197,1)","v":0},0,{"$f":"TRUNC(F2197*K2197,1)","v":0},{"$f":"TRUNC(G2197+I2197+K2197,1)","v":8005},{"$f":"TRUNC(H2197+J2197+L2197,0)","v":8405},""]
["6920602","M300000","소모품비(아연철선포함)","보온재의 3%","식",1,252.1,252.1,0,0,0,0,252.1,252,""]
["6920602","0110610","착색아연도강판","0.3tx1219x2438","㎡",0.53,5282.7766004625955,2799.8,0,0,0,0,5282.7,2799,""]
["6920602","0001032","노무비","보온공","인",5.2000000000000005E-2,0,0,183071,9519.6,0,0,183071,9519,""]
["6920602","0001111","노무비","덕트공","인",8.2000000000000003E-2,0,0,181078,14848.3,0,0,181078,14848,""]
["6920602","M500000","공구손료","노무비의 2%","식",1,null,0,0,0,487.3,487.3,487.3,487,""]
[null,null,"[ 합           계 ]",{"$nulls":4},{"$f":"TRUNC(SUM(H2197:H2202),0)","v":11457},null,{"$f":"TRUNC(SUM(J2197:J2202),0)","v":24367},null,{"$f":"TRUNC(SUM(L2197:L2202),0)","v":487},null,{"$f":"H2203+J2203+L2203","v":36311}]
[]
[null,null,"6920003  실외배관보온(칼라함석)(발포폴리에틸렌 내열 난연 AL) 50TxD25  M당"]
["6920603","6101503","발포폴리에틸렌보온통(50T)","D25","M",1.05,8682,{"$f":"TRUNC(F2206*G2206,1)","v":9116.1},0,{"$f":"TRUNC(F2206*I2206,1)","v":0},0,{"$f":"TRUNC(F2206*K2206,1)","v":0},{"$f":"TRUNC(G2206+I2206+K2206,1)","v":8682},{"$f":"TRUNC(H2206+J2206+L2206,0)","v":9116},""]
["6920603","M300000","소모품비(아연철선포함)","보온재의 3%","식",1,273.39999999999998,273.39999999999998,0,0,0,0,273.39999999999998,273,""]
["6920603","0110610","착색아연도강판","0.3tx1219x2438","㎡",0.56000000000000005,5282.7766004625955,2958.3,0,0,0,0,5282.7,2958,""]
["6920603","0001032","노무비","보온공","인",5.6000000000000008E-2,0,0,183071,10251.9,0,0,183071,10251,""]
["6920603","0001111","노무비","덕트공","인",8.7999999999999995E-2,0,0,181078,15934.8,0,0,181078,15934,""]
["6920603","M500000","공구손료","노무비의 2%","식",1,null,0,0,0,523.70000000000005,523.70000000000005,523.70000000000005,523,""]
[null,null,"[ 합           계 ]",{"$nulls":4},{"$f":"TRUNC(SUM(H2206:H2211),0)","v":12347},null,{"$f":"TRUNC(SUM(J2206:J2211),0)","v":26186},null,{"$f":"TRUNC(SUM(L2206:L2211),0)","v":523},null,{"$f":"H2212+J2212+L2212","v":39056}]
[]
[null,null,"6920004  실외배관보온(칼라함석)(발포폴리에틸렌 내열 난연 AL) 50TxD32  M당"]
["6920604","6101504","발포폴리에틸렌보온통(50T)","D32","M",1.05,9056,{"$f":"TRUNC(F2215*G2215,1)","v":9508.7999999999993},0,{"$f":"TRUNC(F2215*I2215,1)","v":0},0,{"$f":"TRUNC(F2215*K2215,1)","v":0},{"$f":"TRUNC(G2215+I2215+K2215,1)","v":9056},{"$f":"TRUNC(H2215+J2215+L2215,0)","v":9508},""]
["6920604","M300000","소모품비(아연철선포함)","보온재의 3%","식",1,285.2,285.2,0,0,0,0,285.2,285,""]
["6920604","0110610","착색아연도강판","0.3tx1219x2438","㎡",0.6,5282.7766004625955,3169.6,0,0,0,0,5282.7,3169,""]
["6920604","0001032","노무비","보온공","인",6.2E-2,0,0,183071,11350.4,0,0,183071,11350,""]
["6920604","0001111","노무비","덕트공","인",0.10299999999999999,0,0,181078,18651,0,0,181078,18651,""]
["6920604","M500000","공구손료","노무비의 2%","식",1,null,0,0,0,600,600,600,600,""]
[null,null,"[ 합           계 ]",{"$nulls":4},{"$f":"TRUNC(SUM(H2215:H2220),0)","v":12963},null,{"$f":"TRUNC(SUM(J2215:J2220),0)","v":30001},null,{"$f":"TRUNC(SUM(L2215:L2220),0)","v":600},null,{"$f":"H2221+J2221+L2221","v":43564}]
[]
[null,null,"6920005  실외배관보온(칼라함석)(발포폴리에틸렌 내열 난연 AL) 50TxD40  M당"]
["6920605","6101505","발포폴리에틸렌보온통(50T)","D40","M",1.05,9436,{"$f":"TRUNC(F2224*G2224,1)","v":9907.7999999999993},0,{"$f":"TRUNC(F2224*I2224,1)","v":0},0,{"$f":"TRUNC(F2224*K2224,1)","v":0},{"$f":"TRUNC(G2224+I2224+K2224,1)","v":9436},{"$f":"TRUNC(H2224+J2224+L2224,0)","v":9907},""]
["6920605","M300000","소모품비(아연철선포함)","보온재의 3%","식",1,297.2,297.2,0,0,0,0,297.2,297,""]
["6920605","0110610","착색아연도강판","0.3tx1219x2438","㎡",0.63,5282.7766004625955,3328.1,0,0,0,0,5282.7,3328,""]
["6920605","0001032","노무비","보온공","인",6.8000000000000005E-2,0,0,183071,12448.8,0,0,183071,12448,""]
["6920605","0001111","노무비","덕트공","인",0.106,0,0,181078,19194.2,0,0,181078,19194,""]
["6920605","M500000","공구손료","노무비의 2%","식",1,null,0,0,0,632.79999999999995,632.79999999999995,632.79999999999995,632,""]
[null,null,"[ 합           계 ]",{"$nulls":4},{"$f":"TRUNC(SUM(H2224:H2229),0)","v":13533},null,{"$f":"TRUNC(SUM(J2224:J2229),0)","v":31643},null,{"$f":"TRUNC(SUM(L2224:L2229),0)","v":632},null,{"$f":"H2230+J2230+L2230","v":45808}]
[]
[null,null,"6920006  실외배관보온(칼라함석)(발포폴리에틸렌 내열 난연 AL) 50TxD50  M당"]
["6920606","6101506","발포폴리에틸렌보온통(50T)","D50","M",1.05,9867,{"$f":"TRUNC(F2233*G2233,1)","v":10360.299999999999},0,{"$f":"TRUNC(F2233*I2233,1)","v":0},0,{"$f":"TRUNC(F2233*K2233,1)","v":0},{"$f":"TRUNC(G2233+I2233+K2233,1)","v":9867},{"$f":"TRUNC(H2233+J2233+L2233,0)","v":10360},""]
["6920606","M300000","소모품비(아연철선포함)","보온재의 3%","식",1,310.8,310.8,0,0,0,0,310.8,310,""]
["6920606","0110610","착색아연도강판","0.3tx1219x2438","㎡",0.67,5282.7766004625955,3539.4,0,0,0,0,5282.7,3539,""]
["6920606","0001032","노무비","보온공","인",7.3999999999999996E-2,0,0,183071,13547.2,0,0,183071,13547,""]
["6920606","0001111","노무비","덕트공","인",0.11600000000000001,0,0,181078,21005,0,0,181078,21005,""]
["6920606","M500000","공구손료","노무비의 2%","식",1,null,0,0,0,691,691,691,691,""]
[null,null,"[ 합           계 ]",{"$nulls":4},{"$f":"TRUNC(SUM(H2233:H2238),0)","v":14210},null,{"$f":"TRUNC(SUM(J2233:J2238),0)","v":34552},null,{"$f":"TRUNC(SUM(L2233:L2238),0)","v":691},null,{"$f":"H2239+J2239+L2239","v":49453}]
[]
[null,null,"6920007  실외배관보온(칼라함석)(발포폴리에틸렌 내열 난연 AL) 50TxD65  M당"]
["6920607","6101507","발포폴리에틸렌보온통(50T)","D65","M",1.05,10715,{"$f":"TRUNC(F2242*G2242,1)","v":11250.7},0,{"$f":"TRUNC(F2242*I2242,1)","v":0},0,{"$f":"TRUNC(F2242*K2242,1)","v":0},{"$f":"TRUNC(G2242+I2242+K2242,1)","v":10715},{"$f":"TRUNC(H2242+J2242+L2242,0)","v":11250},""]
["6920607","M300000","소모품비(아연철선포함)","보온재의 3%","식",1,337.5,337.5,0,0,0,0,337.5,337,""]
["6920607","0110610","착색아연도강판","0.3tx1219x2438","㎡",0.74,5282.7766004625955,3909.2,0,0,0,0,5282.7,3909,""]
["6920607","0001032","노무비","보온공","인",0.09,0,0,183071,16476.3,0,0,183071,16476,""]
["6920607","0001111","노무비","덕트공","인",0.14899999999999999,0,0,181078,26980.6,0,0,181078,26980,""]
["6920607","M500000","공구손료","노무비의 2%","식",1,null,0,0,0,869.1,869.1,869.1,869,""]
[null,null,"[ 합           계 ]",{"$nulls":4},{"$f":"TRUNC(SUM(H2242:H2247),0)","v":15497},null,{"$f":"TRUNC(SUM(J2242:J2247),0)","v":43456},null,{"$f":"TRUNC(SUM(L2242:L2247),0)","v":869},null,{"$f":"H2248+J2248+L2248","v":59822}]
[]
[null,null,"6920008  실외배관보온(칼라함석)(발포폴리에틸렌 내열 난연 AL) 50TxD80  M당"]
["6920608","6101508","발포폴리에틸렌보온통(50T)","D80","M",1.05,11700,{"$f":"TRUNC(F2251*G2251,1)","v":12285},0,{"$f":"TRUNC(F2251*I2251,1)","v":0},0,{"$f":"TRUNC(F2251*K2251,1)","v":0},{"$f":"TRUNC(G2251+I2251+K2251,1)","v":11700},{"$f":"TRUNC(H2251+J2251+L2251,0)","v":12285},""]
["6920608","M300000","소모품비(아연철선포함)","보온재의 3%","식",1,368.5,368.5,0,0,0,0,368.5,368,""]
["6920608","0110610","착색아연도강판","0.3tx1219x2438","㎡",0.79,5282.7766004625955,4173.3,0,0,0,0,5282.7,4173,""]
["6920608","0001032","노무비","보온공","인",9.9000000000000005E-2,0,0,183071,18124,0,0,183071,18124,""]
["6920608","0001111","노무비","덕트공","인",0.156,0,0,181078,28248.1,0,0,181078,28248,""]
["6920608","M500000","공구손료","노무비의 2%","식",1,null,0,0,0,927.4,927.4,927.4,927,""]
[null,null,"[ 합           계 ]",{"$nulls":4},{"$f":"TRUNC(SUM(H2251:H2256),0)","v":16826},null,{"$f":"TRUNC(SUM(J2251:J2256),0)","v":46372},null,{"$f":"TRUNC(SUM(L2251:L2256),0)","v":927},null,{"$f":"H2257+J2257+L2257","v":64125}]
[]
[null,null,"6920009  실외배관보온(칼라함석)(발포폴리에틸렌 내열 난연 AL) 50TxD100  M당"]
["6920609","6101509","발포폴리에틸렌보온통(50T)","D100","M",1.05,13533,{"$f":"TRUNC(F2260*G2260,1)","v":14209.6},0,{"$f":"TRUNC(F2260*I2260,1)","v":0},0,{"$f":"TRUNC(F2260*K2260,1)","v":0},{"$f":"TRUNC(G2260+I2260+K2260,1)","v":13533},{"$f":"TRUNC(H2260+J2260+L2260,0)","v":14209},""]
["6920609","M300000","소모품비(아연철선포함)","보온재의 3%","식",1,426.2,426.2,0,0,0,0,426.2,426,""]
["6920609","0110610","착색아연도강판","0.3tx1219x2438","㎡",0.9,5282.7766004625955,4754.3999999999996,0,0,0,0,5282.7,4754,""]
["6920609","0001032","노무비","보온공","인",0.129,0,0,183071,23616.1,0,0,183071,23616,""]
["6920609","0001111","노무비","덕트공","인",0.17699999999999999,0,0,181078,32050.799999999999,0,0,181078,32050,""]
["6920609","M500000","공구손료","노무비의 2%","식",1,null,0,0,0,1113.3,1113.3,1113.3,1113,""]
[null,null,"[ 합           계 ]",{"$nulls":4},{"$f":"TRUNC(SUM(H2260:H2265),0)","v":19390},null,{"$f":"TRUNC(SUM(J2260:J2265),0)","v":55666},null,{"$f":"TRUNC(SUM(L2260:L2265),0)","v":1113},null,{"$f":"H2266+J2266+L2266","v":76169}]
[]
[null,null,"6920010  실외배관보온(칼라함석)(발포폴리에틸렌 내열 난연 AL) 50TxD125  M당"]
["6920610","6101510","발포폴리에틸렌보온통(50T)","D125","M",1.05,17661,{"$f":"TRUNC(F2269*G2269,1)","v":18544},0,{"$f":"TRUNC(F2269*I2269,1)","v":0},0,{"$f":"TRUNC(F2269*K2269,1)","v":0},{"$f":"TRUNC(G2269+I2269+K2269,1)","v":17661},{"$f":"TRUNC(H2269+J2269+L2269,0)","v":18544},""]
["6920610","M300000","소모품비(아연철선포함)","보온재의 3%","식",1,556.29999999999995,556.29999999999995,0,0,0,0,556.29999999999995,556,""]
["6920610","0110610","착색아연도강판","0.3tx1219x2438","㎡",1.01,5282.7766004625955,5335.6,0,0,0,0,5282.7,5335,""]
["6920610","0001032","노무비","보온공","인",0.14799999999999999,0,0,183071,27094.5,0,0,183071,27094,""]
["6920610","0001111","노무비","덕트공","인",0.19900000000000001,0,0,181078,36034.5,0,0,181078,36034,""]
["6920610","M500000","공구손료","노무비의 2%","식",1,null,0,0,0,1262.5,1262.5,1262.5,1262,""]
[null,null,"[ 합           계 ]",{"$nulls":4},{"$f":"TRUNC(SUM(H2269:H2274),0)","v":24435},null,{"$f":"TRUNC(SUM(J2269:J2274),0)","v":63129},null,{"$f":"TRUNC(SUM(L2269:L2274),0)","v":1262},null,{"$f":"H2275+J2275+L2275","v":88826}]
[]
[null,null,"6920011  실외배관보온(칼라함석)(발포폴리에틸렌 내열 난연 AL) 50TxD150  M당"]
["6920611","6101511","발포폴리에틸렌보온통(50T)","D150","M",1.05,22709,{"$f":"TRUNC(F2278*G2278,1)","v":23844.400000000001},0,{"$f":"TRUNC(F2278*I2278,1)","v":0},0,{"$f":"TRUNC(F2278*K2278,1)","v":0},{"$f":"TRUNC(G2278+I2278+K2278,1)","v":22709},{"$f":"TRUNC(H2278+J2278+L2278,0)","v":23844},""]
["6920611","M300000","소모품비(아연철선포함)","보온재의 3%","식",1,715.3,715.3,0,0,0,0,715.3,715,""]
["6920611","0110610","착색아연도강판","0.3tx1219x2438","㎡",1.1200000000000001,5282.7766004625955,5916.7,0,0,0,0,5282.7,5916,""]
["6920611","0001032","노무비","보온공","인",0.17399999999999999,0,0,183071,31854.3,0,0,183071,31854,""]
["6920611","0001111","노무비","덕트공","인",0.22,0,0,181078,39837.1,0,0,181078,39837,""]
["6920611","M500000","공구손료","노무비의 2%","식",1,null,0,0,0,1433.8,1433.8,1433.8,1433,""]
[null,null,"[ 합           계 ]",{"$nulls":4},{"$f":"TRUNC(SUM(H2278:H2283),0)","v":30476},null,{"$f":"TRUNC(SUM(J2278:J2283),0)","v":71691},null,{"$f":"TRUNC(SUM(L2278:L2283),0)","v":1433},null,{"$f":"H2284+J2284+L2284","v":103600}]
[]
[null,null,"6920012  실외배관보온(칼라함석)(발포폴리에틸렌 내열 난연 AL) 50TxD200  M당"]
["6920612","6101512","발포폴리에틸렌보온통(50T)","D200","M",1.05,30364,{"$f":"TRUNC(F2287*G2287,1)","v":31882.2},0,{"$f":"TRUNC(F2287*I2287,1)","v":0},0,{"$f":"TRUNC(F2287*K2287,1)","v":0},{"$f":"TRUNC(G2287+I2287+K2287,1)","v":30364},{"$f":"TRUNC(H2287+J2287+L2287,0)","v":31882},""]
["6920612","M300000","소모품비(아연철선포함)","보온재의 3%","식",1,956.4,956.4,0,0,0,0,956.4,956,""]
["6920612","0110610","착색아연도강판","0.3tx1219x2438","㎡",1.35,5282.7766004625955,7131.7,0,0,0,0,5282.7,7131,""]
["6920612","0001032","노무비","보온공","인",0.218,0,0,183071,39909.4,0,0,183071,39909,""]
["6920612","0001111","노무비","덕트공","인",0.27700000000000002,0,0,181078,50158.6,0,0,181078,50158,""]
["6920612","M500000","공구손료","노무비의 2%","식",1,null,0,0,0,1801.3,1801.3,1801.3,1801,""]
[null,null,"[ 합           계 ]",{"$nulls":4},{"$f":"TRUNC(SUM(H2287:H2292),0)","v":39970},null,{"$f":"TRUNC(SUM(J2287:J2292),0)","v":90068},null,{"$f":"TRUNC(SUM(L2287:L2292),0)","v":1801},null,{"$f":"H2293+J2293+L2293","v":131839}]
[]
[null,null,"6920001-1  실외배관보온(스테인리스강판)(발포폴리에틸렌 내열 난연 AL) 50TxD15  M당"]
["6920601","6101501","발포폴리에틸렌보온통(50T)","D15","M",1.05,7662,{"$f":"TRUNC(F2296*G2296,1)","v":8045.1},0,{"$f":"TRUNC(F2296*I2296,1)","v":0},0,{"$f":"TRUNC(F2296*K2296,1)","v":0},{"$f":"TRUNC(G2296+I2296+K2296,1)","v":7662},{"$f":"TRUNC(H2296+J2296+L2296,0)","v":8045},""]
["6920601","M300000","소모품비(아연철선포함)","보온재의 3%","식",1,241.3,241.3,0,0,0,0,241.3,241,""]
["6920601","0110610","스텐인리스강판","0.3tx1000x2000","㎡",0.51,8945.0400000000009,4561.8999999999996,0,0,0,0,8945,4561,""]
["6920601","0001032","노무비","보온공","인",4.9000000000000002E-2,0,0,183071,8970.4,0,0,183071,8970,""]
["6920601","0001111","노무비","덕트공","인",7.8E-2,0,0,181078,14124,0,0,181078,14124,""]
["6920601","M500000","공구손료","노무비의 2%","식",1,null,0,0,0,461.8,461.8,461.8,461,""]
[null,null,"[ 합           계 ]",{"$nulls":4},{"$f":"TRUNC(SUM(H2296:H2301),0)","v":12848},null,{"$f":"TRUNC(SUM(J2296:J2301),0)","v":23094},null,{"$f":"TRUNC(SUM(L2296:L2301),0)","v":461},null,{"$f":"H2302+J2302+L2302","v":36403}]
[]
[]
[null,null,"6920002-1  실외배관보온(스테인리스강판)(발포폴리에틸렌 내열 난연 AL) 50TxD20  M당"]
["6920602","6101502","발포폴리에틸렌보온통(50T)","D20","M",1.05,8005,{"$f":"TRUNC(F2306*G2306,1)","v":8405.2000000000007},0,{"$f":"TRUNC(F2306*I2306,1)","v":0},0,{"$f":"TRUNC(F2306*K2306,1)","v":0},{"$f":"TRUNC(G2306+I2306+K2306,1)","v":8005},{"$f":"TRUNC(H2306+J2306+L2306,0)","v":8405},""]
["6920602","M300000","소모품비(아연철선포함)","보온재의 3%","식",1,252.1,252.1,0,0,0,0,252.1,252,""]
["6920602","0110610","스텐인리스강판","0.3tx1000x2000","㎡",0.53,8945.0400000000009,4740.8,0,0,0,0,8945,4740,""]
["6920602","0001032","노무비","보온공","인",5.2000000000000005E-2,0,0,183071,9519.6,0,0,183071,9519,""]
["6920602","0001111","노무비","덕트공","인",8.2000000000000003E-2,0,0,181078,14848.3,0,0,181078,14848,""]
["6920602","M500000","공구손료","노무비의 2%","식",1,null,0,0,0,487.3,487.3,487.3,487,""]
[null,null,"[ 합           계 ]",{"$nulls":4},{"$f":"TRUNC(SUM(H2306:H2311),0)","v":13398},null,{"$f":"TRUNC(SUM(J2306:J2311),0)","v":24367},null,{"$f":"TRUNC(SUM(L2306:L2311),0)","v":487},null,{"$f":"H2312+J2312+L2312","v":38252}]
[]
[null,null,"6920003-1  실외배관보온(스테인리스강판)(발포폴리에틸렌 내열 난연 AL) 50TxD25  M당"]
["6920603","6101503","발포폴리에틸렌보온통(50T)","D25","M",1.05,8682,{"$f":"TRUNC(F2315*G2315,1)","v":9116.1},0,{"$f":"TRUNC(F2315*I2315,1)","v":0},0,{"$f":"TRUNC(F2315*K2315,1)","v":0},{"$f":"TRUNC(G2315+I2315+K2315,1)","v":8682},{"$f":"TRUNC(H2315+J2315+L2315,0)","v":9116},""]
["6920603","M300000","소모품비(아연철선포함)","보온재의 3%","식",1,273.39999999999998,273.39999999999998,0,0,0,0,273.39999999999998,273,""]
["6920603","0110610","스텐인리스강판","0.3tx1000x2000","㎡",0.56000000000000005,8945.0400000000009,5009.2,0,0,0,0,8945,5009,""]
["6920603","0001032","노무비","보온공","인",5.6000000000000008E-2,0,0,183071,10251.9,0,0,183071,10251,""]
["6920603","0001111","노무비","덕트공","인",8.7999999999999995E-2,0,0,181078,15934.8,0,0,181078,15934,""]
["6920603","M500000","공구손료","노무비의 2%","식",1,null,0,0,0,523.70000000000005,523.70000000000005,523.70000000000005,523,""]
[null,null,"[ 합           계 ]",{"$nulls":4},{"$f":"TRUNC(SUM(H2315:H2320),0)","v":14398},null,{"$f":"TRUNC(SUM(J2315:J2320),0)","v":26186},null,{"$f":"TRUNC(SUM(L2315:L2320),0)","v":523},null,{"$f":"H2321+J2321+L2321","v":41107}]
[]
[null,null,"6920004-1  실외배관보온(스테인리스강판)(발포폴리에틸렌 내열 난연 AL) 50TxD32  M당"]
["6920604","6101504","발포폴리에틸렌보온통(50T)","D32","M",1.05,9056,{"$f":"TRUNC(F2324*G2324,1)","v":9508.7999999999993},0,{"$f":"TRUNC(F2324*I2324,1)","v":0},0,{"$f":"TRUNC(F2324*K2324,1)","v":0},{"$f":"TRUNC(G2324+I2324+K2324,1)","v":9056},{"$f":"TRUNC(H2324+J2324+L2324,0)","v":9508},""]
["6920604","M300000","소모품비(아연철선포함)","보온재의 3%","식",1,285.2,285.2,0,0,0,0,285.2,285,""]
["6920604","0110610","스텐인리스강판","0.3tx1000x2000","㎡",0.6,8945.0400000000009,5367,0,0,0,0,8945,5367,""]
["6920604","0001032","노무비","보온공","인",6.2E-2,0,0,183071,11350.4,0,0,183071,11350,""]
["6920604","0001111","노무비","덕트공","인",0.10299999999999999,0,0,181078,18651,0,0,181078,18651,""]
["6920604","M500000","공구손료","노무비의 2%","식",1,null,0,0,0,600,600,600,600,""]
[null,null,"[ 합           계 ]",{"$nulls":4},{"$f":"TRUNC(SUM(H2324:H2329),0)","v":15161},null,{"$f":"TRUNC(SUM(J2324:J2329),0)","v":30001},null,{"$f":"TRUNC(SUM(L2324:L2329),0)","v":600},null,{"$f":"H2330+J2330+L2330","v":45762}]
[]
[null,null,"6920005-1  실외배관보온(스테인리스강판)(발포폴리에틸렌 내열 난연 AL) 50TxD40  M당"]
["6920605","6101505","발포폴리에틸렌보온통(50T)","D40","M",1.05,9436,{"$f":"TRUNC(F2333*G2333,1)","v":9907.7999999999993},0,{"$f":"TRUNC(F2333*I2333,1)","v":0},0,{"$f":"TRUNC(F2333*K2333,1)","v":0},{"$f":"TRUNC(G2333+I2333+K2333,1)","v":9436},{"$f":"TRUNC(H2333+J2333+L2333,0)","v":9907},""]
["6920605","M300000","소모품비(아연철선포함)","보온재의 3%","식",1,297.2,297.2,0,0,0,0,297.2,297,""]
["6920605","0110610","스텐인리스강판","0.3tx1000x2000","㎡",0.63,8945.0400000000009,5635.3,0,0,0,0,8945,5635,""]
["6920605","0001032","노무비","보온공","인",6.8000000000000005E-2,0,0,183071,12448.8,0,0,183071,12448,""]
["6920605","0001111","노무비","덕트공","인",0.106,0,0,181078,19194.2,0,0,181078,19194,""]
["6920605","M500000","공구손료","노무비의 2%","식",1,null,0,0,0,632.79999999999995,632.79999999999995,632.79999999999995,632,""]
[null,null,"[ 합           계 ]",{"$nulls":4},{"$f":"TRUNC(SUM(H2333:H2338),0)","v":15840},null,{"$f":"TRUNC(SUM(J2333:J2338),0)","v":31643},null,{"$f":"TRUNC(SUM(L2333:L2338),0)","v":632},null,{"$f":"H2339+J2339+L2339","v":48115}]
[]
[null,null,"6920006-1  실외배관보온(스테인리스강판)(발포폴리에틸렌 내열 난연 AL) 50TxD50  M당"]
["6920606","6101506","발포폴리에틸렌보온통(50T)","D50","M",1.05,9867,{"$f":"TRUNC(F2342*G2342,1)","v":10360.299999999999},0,{"$f":"TRUNC(F2342*I2342,1)","v":0},0,{"$f":"TRUNC(F2342*K2342,1)","v":0},{"$f":"TRUNC(G2342+I2342+K2342,1)","v":9867},{"$f":"TRUNC(H2342+J2342+L2342,0)","v":10360},""]
["6920606","M300000","소모품비(아연철선포함)","보온재의 3%","식",1,310.8,310.8,0,0,0,0,310.8,310,""]
["6920606","0110610","스텐인리스강판","0.3tx1000x2000","㎡",0.67,8945.0400000000009,5993.1,0,0,0,0,8945,5993,""]
["6920606","0001032","노무비","보온공","인",7.3999999999999996E-2,0,0,183071,13547.2,0,0,183071,13547,""]
["6920606","0001111","노무비","덕트공","인",0.11600000000000001,0,0,181078,21005,0,0,181078,21005,""]
["6920606","M500000","공구손료","노무비의 2%","식",1,null,0,0,0,691,691,691,691,""]
[null,null,"[ 합           계 ]",{"$nulls":4},{"$f":"TRUNC(SUM(H2342:H2347),0)","v":16664},null,{"$f":"TRUNC(SUM(J2342:J2347),0)","v":34552},null,{"$f":"TRUNC(SUM(L2342:L2347),0)","v":691},null,{"$f":"H2348+J2348+L2348","v":51907}]
[]
[null,null,"6920007-1  실외배관보온(스테인리스강판)(발포폴리에틸렌 내열 난연 AL) 50TxD65  M당"]
["6920607","6101507","발포폴리에틸렌보온통(50T)","D65","M",1.05,10715,{"$f":"TRUNC(F2351*G2351,1)","v":11250.7},0,{"$f":"TRUNC(F2351*I2351,1)","v":0},0,{"$f":"TRUNC(F2351*K2351,1)","v":0},{"$f":"TRUNC(G2351+I2351+K2351,1)","v":10715},{"$f":"TRUNC(H2351+J2351+L2351,0)","v":11250},""]
["6920607","M300000","소모품비(아연철선포함)","보온재의 3%","식",1,337.5,337.5,0,0,0,0,337.5,337,""]
["6920607","0110610","스텐인리스강판","0.3tx1000x2000","㎡",0.74,8945.0400000000009,6619.3,0,0,0,0,8945,6619,""]
["6920607","0001032","노무비","보온공","인",0.09,0,0,183071,16476.3,0,0,183071,16476,""]
["6920607","0001111","노무비","덕트공","인",0.14599999999999999,0,0,181078,26437.3,0,0,181078,26437,""]
["6920607","M500000","공구손료","노무비의 2%","식",1,null,0,0,0,858.2,858.2,858.2,858,""]
[null,null,"[ 합           계 ]",{"$nulls":4},{"$f":"TRUNC(SUM(H2351:H2356),0)","v":18207},null,{"$f":"TRUNC(SUM(J2351:J2356),0)","v":42913},null,{"$f":"TRUNC(SUM(L2351:L2356),0)","v":858},null,{"$f":"H2357+J2357+L2357","v":61978}]
[]
[null,null,"6920008-1  실외배관보온(스테인리스강판)(발포폴리에틸렌 내열 난연 AL) 50TxD80  M당"]
["6920608","6101508","발포폴리에틸렌보온통(50T)","D80","M",1.05,11700,{"$f":"TRUNC(F2360*G2360,1)","v":12285},0,{"$f":"TRUNC(F2360*I2360,1)","v":0},0,{"$f":"TRUNC(F2360*K2360,1)","v":0},{"$f":"TRUNC(G2360+I2360+K2360,1)","v":11700},{"$f":"TRUNC(H2360+J2360+L2360,0)","v":12285},""]
["6920608","M300000","소모품비(아연철선포함)","보온재의 3%","식",1,368.5,368.5,0,0,0,0,368.5,368,""]
["6920608","0110610","스텐인리스강판","0.3tx1000x2000","㎡",0.79,8945.0400000000009,7066.5,0,0,0,0,8945,7066,""]
["6920608","0001032","노무비","보온공","인",9.9000000000000005E-2,0,0,183071,18124,0,0,183071,18124,""]
["6920608","0001111","노무비","덕트공","인",0.156,0,0,181078,28248.1,0,0,181078,28248,""]
["6920608","M500000","공구손료","노무비의 2%","식",1,null,0,0,0,927.4,927.4,927.4,927,""]
[null,null,"[ 합           계 ]",{"$nulls":4},{"$f":"TRUNC(SUM(H2360:H2365),0)","v":19720},null,{"$f":"TRUNC(SUM(J2360:J2365),0)","v":46372},null,{"$f":"TRUNC(SUM(L2360:L2365),0)","v":927},null,{"$f":"H2366+J2366+L2366","v":67019}]
[]
[null,null,"6920009-1  실외배관보온(스테인리스강판)(발포폴리에틸렌 내열 난연 AL) 50TxD100  M당"]
["6920609","6101509","발포폴리에틸렌보온통(50T)","D100","M",1.05,13533,{"$f":"TRUNC(F2369*G2369,1)","v":14209.6},0,{"$f":"TRUNC(F2369*I2369,1)","v":0},0,{"$f":"TRUNC(F2369*K2369,1)","v":0},{"$f":"TRUNC(G2369+I2369+K2369,1)","v":13533},{"$f":"TRUNC(H2369+J2369+L2369,0)","v":14209},""]
["6920609","M300000","소모품비(아연철선포함)","보온재의 3%","식",1,426.2,426.2,0,0,0,0,426.2,426,""]
["6920609","0110610","스텐인리스강판","0.3tx1000x2000","㎡",0.9,8945.0400000000009,8050.5,0,0,0,0,8945,8050,""]
["6920609","0001032","노무비","보온공","인",0.129,0,0,183071,23616.1,0,0,183071,23616,""]
["6920609","0001111","노무비","덕트공","인",0.17699999999999999,0,0,181078,32050.799999999999,0,0,181078,32050,""]
["6920609","M500000","공구손료","노무비의 2%","식",1,null,0,0,0,1113.3,1113.3,1113.3,1113,""]
[null,null,"[ 합           계 ]",{"$nulls":4},{"$f":"TRUNC(SUM(H2369:H2374),0)","v":22686},null,{"$f":"TRUNC(SUM(J2369:J2374),0)","v":55666},null,{"$f":"TRUNC(SUM(L2369:L2374),0)","v":1113},null,{"$f":"H2375+J2375+L2375","v":79465}]
[]
[null,null,"6920010-1  실외배관보온(스테인리스강판)(발포폴리에틸렌 내열 난연 AL) 50TxD125  M당"]
["6920610","6101510","발포폴리에틸렌보온통(50T)","D125","M",1.05,17661,{"$f":"TRUNC(F2378*G2378,1)","v":18544},0,{"$f":"TRUNC(F2378*I2378,1)","v":0},0,{"$f":"TRUNC(F2378*K2378,1)","v":0},{"$f":"TRUNC(G2378+I2378+K2378,1)","v":17661},{"$f":"TRUNC(H2378+J2378+L2378,0)","v":18544},""]
["6920610","M300000","소모품비(아연철선포함)","보온재의 3%","식",1,556.29999999999995,556.29999999999995,0,0,0,0,556.29999999999995,556,""]
["6920610","0110610","스텐인리스강판","0.3tx1000x2000","㎡",1.01,8945.0400000000009,9034.4,0,0,0,0,8945,9034,""]
["6920610","0001032","노무비","보온공","인",0.14799999999999999,0,0,183071,27094.5,0,0,183071,27094,""]
["6920610","0001111","노무비","덕트공","인",0.19900000000000001,0,0,181078,36034.5,0,0,181078,36034,""]
["6920610","M500000","공구손료","노무비의 2%","식",1,null,0,0,0,1262.5,1262.5,1262.5,1262,""]
[null,null,"[ 합           계 ]",{"$nulls":4},{"$f":"TRUNC(SUM(H2378:H2383),0)","v":28134},null,{"$f":"TRUNC(SUM(J2378:J2383),0)","v":63129},null,{"$f":"TRUNC(SUM(L2378:L2383),0)","v":1262},null,{"$f":"H2384+J2384+L2384","v":92525}]
[]
[null,null,"6920011-1  실외배관보온(스테인리스강판)(발포폴리에틸렌 내열 난연 AL) 50TxD150  M당"]
["6920611","6101511","발포폴리에틸렌보온통(50T)","D150","M",1.05,22709,{"$f":"TRUNC(F2387*G2387,1)","v":23844.400000000001},0,{"$f":"TRUNC(F2387*I2387,1)","v":0},0,{"$f":"TRUNC(F2387*K2387,1)","v":0},{"$f":"TRUNC(G2387+I2387+K2387,1)","v":22709},{"$f":"TRUNC(H2387+J2387+L2387,0)","v":23844},""]
["6920611","M300000","소모품비(아연철선포함)","보온재의 3%","식",1,715.3,715.3,0,0,0,0,715.3,715,""]
["6920611","0110610","스텐인리스강판","0.3tx1000x2000","㎡",1.1200000000000001,8945.0400000000009,10018.4,0,0,0,0,8945,10018,""]
["6920611","0001032","노무비","보온공","인",0.17399999999999999,0,0,183071,31854.3,0,0,183071,31854,""]
["6920611","0001111","노무비","덕트공","인",0.22,0,0,181078,39837.1,0,0,181078,39837,""]
["6920611","M500000","공구손료","노무비의 2%","식",1,null,0,0,0,1433.8,1433.8,1433.8,1433,""]
[null,null,"[ 합           계 ]",{"$nulls":4},{"$f":"TRUNC(SUM(H2387:H2392),0)","v":34578},null,{"$f":"TRUNC(SUM(J2387:J2392),0)","v":71691},null,{"$f":"TRUNC(SUM(L2387:L2392),0)","v":1433},null,{"$f":"H2393+J2393+L2393","v":107702}]
[]
[null,null,"6921001  실외밸브보온 (칼라함석-현장가공)  50TxD50이하  개소"]
["6921001","6108022","발포폴리에틸렌보온판","50T","M2",1.21,6358,{"$f":"TRUNC(F2396*G2396,1)","v":7693.1},0,{"$f":"TRUNC(F2396*I2396,1)","v":0},0,{"$f":"TRUNC(F2396*K2396,1)","v":0},{"$f":"TRUNC(G2396+I2396+K2396,1)","v":6358},{"$f":"TRUNC(H2396+J2396+L2396,0)","v":7693},""]
["6921001","M400000","소모품비","보온재의 5%","식",1,384.6,384.6,0,0,0,0,384.6,384,""]
["6921001","0110610","착색아연도강판","0.4tx1219x2438","㎡",1.21,6292.2243585127726,7613.5,0,0,0,0,6292.2,7613,""]
["6921001","0001032","노무비","보온공","인",0.19400000000000001,0,0,183071,35515.699999999997,0,0,183071,35515,""]
["6921001","0001111","노무비","덕트공","인",0.65300000000000002,0,0,181078,118243.9,0,0,181078,118243,""]
["6921001","M500000","공구손료","노무비의 2%","식",1,null,0,0,0,3075.1,3075.1,3075.1,3075,""]
[null,null,"[ 합           계 ]",{"$nulls":4},{"$f":"TRUNC(SUM(H2396:H2401),0)","v":15691},null,{"$f":"TRUNC(SUM(J2396:J2401),0)","v":153759},null,{"$f":"TRUNC(SUM(L2396:L2401),0)","v":3075},null,{"$f":"H2402+J2402+L2402","v":172525}]
[]
[null,null,"6921002  실외밸브보온 (칼라함석-현장가공)  50TxD65  개소"]
["6921002","6108022","발포폴리에틸렌보온판","50T","M2",1.31,6358,{"$f":"TRUNC(F2405*G2405,1)","v":8328.9},0,{"$f":"TRUNC(F2405*I2405,1)","v":0},0,{"$f":"TRUNC(F2405*K2405,1)","v":0},{"$f":"TRUNC(G2405+I2405+K2405,1)","v":6358},{"$f":"TRUNC(H2405+J2405+L2405,0)","v":8328},""]
["6921002","M400000","소모품비","보온재의 5%","식",1,416.4,416.4,0,0,0,0,416.4,416,""]
["6921002","0110610","착색아연도강판","0.4tx1219x2438","㎡",1.31,6292.2243585127726,8242.7999999999993,0,0,0,0,6292.2,8242,""]
["6921002","0001032","노무비","보온공","인",0.20599999999999999,0,0,183071,37712.6,0,0,183071,37712,""]
["6921002","0001111","노무비","덕트공","인",0.746,0,0,181078,135084.1,0,0,181078,135084,""]
["6921002","M500000","공구손료","노무비의 2%","식",1,null,0,0,0,3455.9,3455.9,3455.9,3455,""]
[null,null,"[ 합           계 ]",{"$nulls":4},{"$f":"TRUNC(SUM(H2405:H2410),0)","v":16988},null,{"$f":"TRUNC(SUM(J2405:J2410),0)","v":172796},null,{"$f":"TRUNC(SUM(L2405:L2410),0)","v":3455},null,{"$f":"H2411+J2411+L2411","v":193239}]
[]
[null,null,"6921003  실외밸브보온 (칼라함석-현장가공)  50TxD80  개소"]
["6921003","6108022","발포폴리에틸렌보온판","50T","M2",1.51,6358,{"$f":"TRUNC(F2414*G2414,1)","v":9600.5},0,{"$f":"TRUNC(F2414*I2414,1)","v":0},0,{"$f":"TRUNC(F2414*K2414,1)","v":0},{"$f":"TRUNC(G2414+I2414+K2414,1)","v":6358},{"$f":"TRUNC(H2414+J2414+L2414,0)","v":9600},""]
["6921003","M400000","소모품비","보온재의 5%","식",1,480,480,0,0,0,0,480,480,""]
["6921003","0110610","착색아연도강판","0.4tx1219x2438","㎡",1.51,6292.2243585127726,9501.2000000000007,0,0,0,0,6292.2,9501,""]
["6921003","0001032","노무비","보온공","인",0.219,0,0,183071,40092.5,0,0,183071,40092,""]
["6921003","0001111","노무비","덕트공","인",0.84,0,0,181078,152105.5,0,0,181078,152105,""]
["6921003","M500000","공구손료","노무비의 2%","식",1,null,0,0,0,3843.9,3843.9,3843.9,3843,""]
[null,null,"[ 합           계 ]",{"$nulls":4},{"$f":"TRUNC(SUM(H2414:H2419),0)","v":19581},null,{"$f":"TRUNC(SUM(J2414:J2419),0)","v":192198},null,{"$f":"TRUNC(SUM(L2414:L2419),0)","v":3843},null,{"$f":"H2420+J2420+L2420","v":215622}]
[]
[null,null,"6921004  실외밸브보온 (칼라함석-현장가공)  50TxD100  개소"]
["6921004","6108022","발포폴리에틸렌보온판","50T","M2",1.72,6358,{"$f":"TRUNC(F2423*G2423,1)","v":10935.7},0,{"$f":"TRUNC(F2423*I2423,1)","v":0},0,{"$f":"TRUNC(F2423*K2423,1)","v":0},{"$f":"TRUNC(G2423+I2423+K2423,1)","v":6358},{"$f":"TRUNC(H2423+J2423+L2423,0)","v":10935},""]
["6921004","M400000","소모품비","보온재의 5%","식",1,546.70000000000005,546.70000000000005,0,0,0,0,546.70000000000005,546,""]
["6921004","0110610","착색아연도강판","0.4tx1219x2438","㎡",1.72,6292.2243585127726,10822.6,0,0,0,0,6292.2,10822,""]
["6921004","0001032","노무비","보온공","인",0.28499999999999998,0,0,183071,52175.199999999997,0,0,183071,52175,""]
["6921004","0001111","노무비","덕트공","인",0.93300000000000005,0,0,181078,168945.7,0,0,181078,168945,""]
["6921004","M500000","공구손료","노무비의 2%","식",1,null,0,0,0,4422.3999999999996,4422.3999999999996,4422.3999999999996,4422,""]
[null,null,"[ 합           계 ]",{"$nulls":4},{"$f":"TRUNC(SUM(H2423:H2428),0)","v":22305},null,{"$f":"TRUNC(SUM(J2423:J2428),0)","v":221120},null,{"$f":"TRUNC(SUM(L2423:L2428),0)","v":4422},null,{"$f":"H2429+J2429+L2429","v":247847}]
[]
[null,null,"6921005  실외밸브보온 (칼라함석-현장가공)  50TxD125  개소"]
["6921005","6108022","발포폴리에틸렌보온판","50T","M2",2.06,6358,{"$f":"TRUNC(F2432*G2432,1)","v":13097.4},0,{"$f":"TRUNC(F2432*I2432,1)","v":0},0,{"$f":"TRUNC(F2432*K2432,1)","v":0},{"$f":"TRUNC(G2432+I2432+K2432,1)","v":6358},{"$f":"TRUNC(H2432+J2432+L2432,0)","v":13097},""]
["6921005","M400000","소모품비","보온재의 5%","식",1,654.79999999999995,654.79999999999995,0,0,0,0,654.79999999999995,654,""]
["6921005","0110610","착색아연도강판","0.4tx1219x2438","㎡",2.06,6292.2243585127726,12961.9,0,0,0,0,6292.2,12961,""]
["6921005","0001032","노무비","보온공","인",0.311,0,0,183071,56935,0,0,183071,56935,""]
["6921005","0001111","노무비","덕트공","인",1.028,0,0,181078,186148.1,0,0,181078,186148,""]
["6921005","M500000","공구손료","노무비의 2%","식",1,null,0,0,0,4861.6000000000004,4861.6000000000004,4861.6000000000004,4861,""]
[null,null,"[ 합           계 ]",{"$nulls":4},{"$f":"TRUNC(SUM(H2432:H2437),0)","v":26714},null,{"$f":"TRUNC(SUM(J2432:J2437),0)","v":243083},null,{"$f":"TRUNC(SUM(L2432:L2437),0)","v":4861},null,{"$f":"H2438+J2438+L2438","v":274658}]
[]
[null,null,"6921006  실외밸브보온 (칼라함석-현장가공)  50TxD150  개소"]
["6921006","6108022","발포폴리에틸렌보온판","50T","M2",2.39,6358,{"$f":"TRUNC(F2441*G2441,1)","v":15195.6},0,{"$f":"TRUNC(F2441*I2441,1)","v":0},0,{"$f":"TRUNC(F2441*K2441,1)","v":0},{"$f":"TRUNC(G2441+I2441+K2441,1)","v":6358},{"$f":"TRUNC(H2441+J2441+L2441,0)","v":15195},""]
["6921006","M400000","소모품비","보온재의 5%","식",1,759.7,759.7,0,0,0,0,759.7,759,""]
["6921006","0110610","착색아연도강판","0.4tx1219x2438","㎡",2.39,6292.2243585127726,15038.4,0,0,0,0,6292.2,15038,""]
["6921006","0001032","노무비","보온공","인",0.33800000000000002,0,0,183071,61877.9,0,0,183071,61877,""]
["6921006","0001111","노무비","덕트공","인",1.1200000000000001,0,0,181078,202807.3,0,0,181078,202807,""]
["6921006","M500000","공구손료","노무비의 2%","식",1,null,0,0,0,5293.7,5293.7,5293.7,5293,""]
[null,null,"[ 합           계 ]",{"$nulls":4},{"$f":"TRUNC(SUM(H2441:H2446),0)","v":30993},null,{"$f":"TRUNC(SUM(J2441:J2446),0)","v":264685},null,{"$f":"TRUNC(SUM(L2441:L2446),0)","v":5293},null,{"$f":"H2447+J2447+L2447","v":300971}]
[]
[null,null,"6921007  실외밸브보온 (칼라함석-현장가공)  50TxD200  개소"]
["6921007","6108022","발포폴리에틸렌보온판","50T","M2",3.16,6358,{"$f":"TRUNC(F2450*G2450,1)","v":20091.2},0,{"$f":"TRUNC(F2450*I2450,1)","v":0},0,{"$f":"TRUNC(F2450*K2450,1)","v":0},{"$f":"TRUNC(G2450+I2450+K2450,1)","v":6358},{"$f":"TRUNC(H2450+J2450+L2450,0)","v":20091},""]
["6921007","M400000","소모품비","보온재의 5%","식",1,1004.5,1004.5,0,0,0,0,1004.5,1004,""]
["6921007","0110610","착색아연도강판","0.4tx1219x2438","㎡",3.16,6292.2243585127726,19883.400000000001,0,0,0,0,6292.2,19883,""]
["6921007","0001032","노무비","보온공","인",0.379,0,0,183071,69383.899999999994,0,0,183071,69383,""]
["6921007","0001111","노무비","덕트공","인",1.306,0,0,181078,236487.8,0,0,181078,236487,""]
["6921007","M500000","공구손료","노무비의 2%","식",1,null,0,0,0,6117.4,6117.4,6117.4,6117,""]
[null,null,"[ 합           계 ]",{"$nulls":4},{"$f":"TRUNC(SUM(H2450:H2455),0)","v":40979},null,{"$f":"TRUNC(SUM(J2450:J2455),0)","v":305871},null,{"$f":"TRUNC(SUM(L2450:L2455),0)","v":6117},null,{"$f":"H2456+J2456+L2456","v":352967}]
[]
[null,null,"6921001-1  실외밸브보온 (칼라함석-공장가공)  50TxD50이하  개소"]
["6921001","6108022","발포폴리에틸렌보온판","50T","M2",1.21,6358,{"$f":"TRUNC(F2459*G2459,1)","v":7693.1},0,{"$f":"TRUNC(F2459*I2459,1)","v":0},0,{"$f":"TRUNC(F2459*K2459,1)","v":0},{"$f":"TRUNC(G2459+I2459+K2459,1)","v":6358},{"$f":"TRUNC(H2459+J2459+L2459,0)","v":7693},""]
["6921001","M400000","소모품비","보온재의 5%","식",1,384.6,384.6,0,0,0,0,384.6,384,""]
["6921001","0110610","밸브락킹커버(칼라함석)","50mm","개",1,20900,20900,0,0,0,0,20900,20900,""]
["6921001","0001032","노무비","보온공","인",0.20599999999999999,0,0,183071,37712.6,0,0,183071,37712,""]
["6921001","0001111","노무비","보통인부","인",3.3000000000000002E-2,0,0,144481,4767.8,0,0,144481,4767,""]
["6921001","M500000","공구손료","노무비의 2%","식",1,null,0,0,0,849.6,849.6,849.6,849,""]
[null,null,"[ 합           계 ]",{"$nulls":4},{"$f":"TRUNC(SUM(H2459:H2464),0)","v":28977},null,{"$f":"TRUNC(SUM(J2459:J2464),0)","v":42480},null,{"$f":"TRUNC(SUM(L2459:L2464),0)","v":849},null,{"$f":"H2465+J2465+L2465","v":72306}]
[]
[null,null,"6921002-1  실외밸브보온 (칼라함석-공장가공)  50TxD65  개소"]
["6921002","6108022","발포폴리에틸렌보온판","50T","M2",1.31,6358,{"$f":"TRUNC(F2468*G2468,1)","v":8328.9},0,{"$f":"TRUNC(F2468*I2468,1)","v":0},0,{"$f":"TRUNC(F2468*K2468,1)","v":0},{"$f":"TRUNC(G2468+I2468+K2468,1)","v":6358},{"$f":"TRUNC(H2468+J2468+L2468,0)","v":8328},""]
["6921002","M400000","소모품비","보온재의 5%","식",1,416.4,416.4,0,0,0,0,416.4,416,""]
["6921001","0110610","밸브락킹커버(칼라함석)","65mm","개",1,24200,24200,0,0,0,0,24200,24200,""]
["6921001","0001032","노무비","보온공","인",0.23100000000000001,0,0,183071,42289.4,0,0,183071,42289,""]
["6921001","0001111","노무비","보통인부","인",3.5999999999999997E-2,0,0,144481,{"$f":"TRUNC(F2472*I2472,1)","v":5201.3},0,0,144481,5201,""]
["6921002","M500000","공구손료","노무비의 2%","식",1,null,0,0,0,949.8,949.8,949.8,949,""]
[null,null,"[ 합           계 ]",{"$nulls":4},{"$f":"TRUNC(SUM(H2468:H2473),0)","v":32945},null,{"$f":"TRUNC(SUM(J2468:J2473),0)","v":47490},null,{"$f":"TRUNC(SUM(L2468:L2473),0)","v":949},null,{"$f":"H2474+J2474+L2474","v":81384}]
[]
[null,null,"6921003-1  실외밸브보온 (칼라함석-공장가공)  50TxD80  개소"]
["6921003","6108022","발포폴리에틸렌보온판","50T","M2",1.51,6358,{"$f":"TRUNC(F2477*G2477,1)","v":9600.5},0,{"$f":"TRUNC(F2477*I2477,1)","v":0},0,{"$f":"TRUNC(F2477*K2477,1)","v":0},{"$f":"TRUNC(G2477+I2477+K2477,1)","v":6358},{"$f":"TRUNC(H2477+J2477+L2477,0)","v":9600},""]
["6921003","M400000","소모품비","보온재의 5%","식",1,480,480,0,0,0,0,480,480,""]
["6921001","0110610","밸브락킹커버(칼라함석)","80mm","개",1,24200,24200,0,0,0,0,24200,24200,""]
["6921001","0001032","노무비","보온공","인",0.255,0,0,183071,46683.1,0,0,183071,46683,""]
["6921001","0001111","노무비","보통인부","인",0.04,0,0,144481,{"$f":"TRUNC(F2481*I2481,1)","v":5779.2},0,0,144481,5779,""]
["6921003","M500000","공구손료","노무비의 2%","식",1,null,0,0,0,1049.2,1049.2,1049.2,1049,""]
[null,null,"[ 합           계 ]",{"$nulls":4},{"$f":"TRUNC(SUM(H2477:H2482),0)","v":34280},null,{"$f":"TRUNC(SUM(J2477:J2482),0)","v":52462},null,{"$f":"TRUNC(SUM(L2477:L2482),0)","v":1049},null,{"$f":"H2483+J2483+L2483","v":87791}]
[]
[null,null,"6921004-1  실외밸브보온 (칼라함석-공장가공)  50TxD100  개소"]
["6921004","6108022","발포폴리에틸렌보온판","50T","M2",1.72,6358,{"$f":"TRUNC(F2486*G2486,1)","v":10935.7},0,{"$f":"TRUNC(F2486*I2486,1)","v":0},0,{"$f":"TRUNC(F2486*K2486,1)","v":0},{"$f":"TRUNC(G2486+I2486+K2486,1)","v":6358},{"$f":"TRUNC(H2486+J2486+L2486,0)","v":10935},""]
["6921004","M400000","소모품비","보온재의 5%","식",1,546.70000000000005,546.70000000000005,0,0,0,0,546.70000000000005,546,""]
["6921001","0110610","밸브락킹커버(칼라함석)","100mm","개",1,30000,30000,0,0,0,0,30000,30000,""]
["6921001","0001032","노무비","보온공","인",0.28799999999999998,0,0,183071,52724.4,0,0,183071,52724,""]
["6921001","0001111","노무비","보통인부","인",4.5999999999999999E-2,0,0,144481,{"$f":"TRUNC(F2490*I2490,1)","v":6646.1},0,0,144481,6646,""]
["6921004","M500000","공구손료","노무비의 2%","식",1,null,0,0,0,1187.4000000000001,1187.4000000000001,1187.4000000000001,1187,""]
[null,null,"[ 합           계 ]",{"$nulls":4},{"$f":"TRUNC(SUM(H2486:H2491),0)","v":41482},null,{"$f":"TRUNC(SUM(J2486:J2491),0)","v":59370},null,{"$f":"TRUNC(SUM(L2486:L2491),0)","v":1187},null,{"$f":"H2492+J2492+L2492","v":102039}]
[]
[null,null,"6921005-1  실외밸브보온 (칼라함석-공장가공)  50TxD125  개소"]
["6921005","6108022","발포폴리에틸렌보온판","50T","M2",2.06,6358,{"$f":"TRUNC(F2495*G2495,1)","v":13097.4},0,{"$f":"TRUNC(F2495*I2495,1)","v":0},0,{"$f":"TRUNC(F2495*K2495,1)","v":0},{"$f":"TRUNC(G2495+I2495+K2495,1)","v":6358},{"$f":"TRUNC(H2495+J2495+L2495,0)","v":13097},""]
["6921005","M400000","소모품비","보온재의 5%","식",1,654.79999999999995,654.79999999999995,0,0,0,0,654.79999999999995,654,""]
["6921001","0110610","밸브락킹커버(칼라함석)","125mm","개",1,30000,30000,0,0,0,0,30000,30000,""]
["6921001","0001032","노무비","보온공","인",0.32900000000000001,0,0,183071,60230.3,0,0,183071,60230,""]
["6921001","0001111","노무비","보통인부","인",5.2000000000000005E-2,0,0,144481,{"$f":"TRUNC(F2499*I2499,1)","v":7513},0,0,144481,7513,""]
["6921005","M500000","공구손료","노무비의 2%","식",1,null,0,0,0,1354.8,1354.8,1354.8,1354,""]
[null,null,"[ 합           계 ]",{"$nulls":4},{"$f":"TRUNC(SUM(H2495:H2500),0)","v":43752},null,{"$f":"TRUNC(SUM(J2495:J2500),0)","v":67743},null,{"$f":"TRUNC(SUM(L2495:L2500),0)","v":1354},null,{"$f":"H2501+J2501+L2501","v":112849}]
[]
[null,null,"6921006-1  실외밸브보온 (칼라함석-공장가공)  50TxD150  개소"]
["6921006","6108022","발포폴리에틸렌보온판","50T","M2",2.39,6358,{"$f":"TRUNC(F2504*G2504,1)","v":15195.6},0,{"$f":"TRUNC(F2504*I2504,1)","v":0},0,{"$f":"TRUNC(F2504*K2504,1)","v":0},{"$f":"TRUNC(G2504+I2504+K2504,1)","v":6358},{"$f":"TRUNC(H2504+J2504+L2504,0)","v":15195},""]
["6921006","M400000","소모품비","보온재의 5%","식",1,759.7,759.7,0,0,0,0,759.7,759,""]
["6921001","0110610","밸브락킹커버(칼라함석)","150mm","개",1,35000,35000,0,0,0,0,35000,35000,""]
["6921001","0001032","노무비","보온공","인",0.37,0,0,183071,67736.2,0,0,183071,67736,""]
["6921001","0001111","노무비","보통인부","인",5.800000000000001E-2,0,0,144481,{"$f":"TRUNC(F2508*I2508,1)","v":8379.7999999999993},0,0,144481,8379,""]
["6921006","M500000","공구손료","노무비의 2%","식",1,null,0,0,0,1522.3,1522.3,1522.3,1522,""]
[null,null,"[ 합           계 ]",{"$nulls":4},{"$f":"TRUNC(SUM(H2504:H2509),0)","v":50955},null,{"$f":"TRUNC(SUM(J2504:J2509),0)","v":76116},null,{"$f":"TRUNC(SUM(L2504:L2509),0)","v":1522},null,{"$f":"H2510+J2510+L2510","v":128593}]
[]
[null,null,"6921007-1  실외밸브보온 (칼라함석-공장가공)  50TxD200  개소"]
["6921007","6108022","발포폴리에틸렌보온판","50T","M2",3.16,6358,{"$f":"TRUNC(F2513*G2513,1)","v":20091.2},0,{"$f":"TRUNC(F2513*I2513,1)","v":0},0,{"$f":"TRUNC(F2513*K2513,1)","v":0},{"$f":"TRUNC(G2513+I2513+K2513,1)","v":6358},{"$f":"TRUNC(H2513+J2513+L2513,0)","v":20091},""]
["6921007","M400000","소모품비","보온재의 5%","식",1,1004.5,1004.5,0,0,0,0,1004.5,1004,""]
["6921001","0110610","밸브락킹커버(칼라함석)","200mm","개",1,35000,35000,0,0,0,0,35000,35000,""]
["6921001","0001032","노무비","보온공","인",0.45200000000000001,0,0,183071,82748,0,0,183071,82748,""]
["6921001","0001111","노무비","보통인부","인",7.0999999999999994E-2,0,0,144481,{"$f":"TRUNC(F2517*I2517,1)","v":10258.1},0,0,144481,10258,""]
["6921007","M500000","공구손료","노무비의 2%","식",1,null,0,0,0,1860.1,1860.1,1860.1,1860,""]
[null,null,"[ 합           계 ]",{"$nulls":4},{"$f":"TRUNC(SUM(H2513:H2518),0)","v":56095},null,{"$f":"TRUNC(SUM(J2513:J2518),0)","v":93006},null,{"$f":"TRUNC(SUM(L2513:L2518),0)","v":1860},null,{"$f":"H2519+J2519+L2519","v":150961}]
[]
[null,null,"6922001  잡철물제작설치  간단  TON"]
["6922001","0206002","용접봉(연강용)","∮3.2  CS-200  KSE-4301","kg",18.48,2836,{"$f":"TRUNC(F2522*G2522,1)","v":52409.2},0,{"$f":"TRUNC(F2522*I2522,1)","v":0},0,{"$f":"TRUNC(F2522*K2522,1)","v":0},{"$f":"TRUNC(G2522+I2522+K2522,1)","v":2836},{"$f":"TRUNC(H2522+J2522+L2522,0)","v":52409},""]
["6922001","0803005","산소","(기체.공업용99.9%)","ℓ",6300,1.8333333333333333,11550,0,0,0,0,1.8,11550,""]
["6922001","0803001","아세틸렌(잡철물)","98% 공업용","kg",2.8,12000,33600,0,0,0,0,12000,33600,""]
["6922001","0206514","용접기 손료","","시간",20.83,0,0,0,0,93,{"$f":"TRUNC(F2525*K2525,1)","v":1937.1},93,1937,""]
["6922001","0805023","전력(4kw이상.1년초과)*","사용요금(그밖의 철)","kwh",126,92.9,11705.4,0,0,null,null,92.9,11705,""]
["6922001","0001007","노무비","철공","인",27.65,0,0,202032,5586184.7999999998,0,0,202032,5586184,""]
["6922001","0001084","노무비","보통인부","인",0.66,0,0,144481,95357.4,0,0,144481,95357,""]
["6922001","0001112","노무비","용접공(일반)","인",2.6,0,0,230706,599835.6,0,0,230706,599835,""]
["6922001","0001083","노무비","특별인부","인",0.74,0,0,181293,134156.79999999999,0,0,181293,134156,""]
["6922001","M500000","공구손료","노무비의 3%","식",1,null,0,0,0,192466,192466,192466,192466,""]
[null,null,"[ 합           계 ]",{"$nulls":4},{"$f":"TRUNC(SUM(H2522:H2531),0)","v":109264},null,{"$f":"TRUNC(SUM(J2522:J2531),0)","v":6415534},null,{"$f":"TRUNC(SUM(L2522:L2531),0)","v":194403},null,{"$f":"H2532+J2532+L2532","v":6719201}]
[]
[null,null,"6922002  잡철물제작설치  보통  TON"]
["6922001","0206002","용접봉(연강용)","∮3.2  CS-200  KSE-4301","kg",{"$f":"18.48*1.2","v":22.175999999999998},2836,{"$f":"TRUNC(F2535*G2535,1)","v":62891.1},0,{"$f":"TRUNC(F2535*I2535,1)","v":0},0,{"$f":"TRUNC(F2535*K2535,1)","v":0},{"$f":"TRUNC(G2535+I2535+K2535,1)","v":2836},{"$f":"TRUNC(H2535+J2535+L2535,0)","v":62891},""]
["6922001","0803005","산소","(기체.공업용99.9%)","ℓ",{"$f":"6300*1.2","v":7560},1.8333333333333333,13860,0,0,0,{"$f":"TRUNC(F2536*K2536,1)","v":0},1.8,13860,""]
["6922001","0803001","아세틸렌(잡철물)","98% 공업용","kg",{"$f":"2.8*1.2","v":3.36},12000,40320,0,0,0,{"$f":"TRUNC(F2537*K2537,1)","v":0},12000,40320,""]
["6922001","0206514","용접기 손료","","시간",{"$f":"20.83*1.2","v":24.995999999999999},0,0,0,0,93,{"$f":"TRUNC(F2538*K2538,1)","v":2324.6},93,2324,""]
["6922001","0805023","전력(4kw이상.1년초과)*","사용요금(그밖의 철)","kwh",{"$f":"126*1.2","v":151.19999999999999},92.9,14046.4,0,0,null,null,92.9,14046,""]
["6922001","0001007","노무비","철공","인",{"$f":"27.65*1.2","v":33.18},0,0,202032,6703421.7000000002,0,{"$f":"TRUNC(F2540*K2540,1)","v":0},202032,6703421,""]
["6922001","0001084","노무비","보통인부","인",{"$f":"0.66*1.2","v":0.79200000000000004},0,0,144481,114428.9,0,{"$f":"TRUNC(F2541*K2541,1)","v":0},144481,114428,""]
["6922001","0001112","노무비","용접공(일반)","인",{"$f":"2.6*1.2","v":3.12},0,0,230706,719802.7,0,{"$f":"TRUNC(F2542*K2542,1)","v":0},230706,719802,""]
["6922001","0001083","노무비","특별인부","인",{"$f":"0.74*1.2","v":0.88800000000000001},0,0,181293,160988.1,0,{"$f":"TRUNC(F2543*K2543,1)","v":0},181293,160988,""]
["6922001","M500000","공구손료","노무비의 3%","식",1,null,0,0,0,230959.2,{"$f":"TRUNC(F2544*K2544,1)","v":230959.2},230959.2,230959,""]
[null,null,"[ 합           계 ]",{"$nulls":4},{"$f":"TRUNC(SUM(H2535:H2544),0)","v":131117},null,{"$f":"TRUNC(SUM(J2535:J2544),0)","v":7698641},null,{"$f":"TRUNC(SUM(L2535:L2544),0)","v":233283},null,{"$f":"H2545+J2545+L2545","v":8063041}]
[]
[null,null,"6922003  잡철물제작설치  복잡  TON"]
["6922002","0206002","용접봉(연강용)","∮3.2  CS-200  KSE-4301","kg",{"$f":"18.48*1.4","v":25.872},2836,{"$f":"TRUNC(F2548*G2548,1)","v":73372.899999999994},0,{"$f":"TRUNC(F2548*I2548,1)","v":0},0,{"$f":"TRUNC(F2548*K2548,1)","v":0},{"$f":"TRUNC(G2548+I2548+K2548,1)","v":2836},{"$f":"TRUNC(H2548+J2548+L2548,0)","v":73372},""]
["6922002","0803005","산소","(기체.공업용99.9%)","ℓ",{"$f":"6300*1.4","v":8820},1.8333333333333333,16170,0,0,0,0,1.8,16170,""]
["6922002","0803001","아세틸렌(잡철물)","98% 공업용","kg",{"$f":"2.8*1.4","v":3.9199999999999995},12000,47040,0,0,0,0,12000,47040,""]
["6922002","0206514","용접기 손료","","시간",{"$f":"20.83*1.4","v":29.161999999999995},0,0,0,0,93,{"$f":"TRUNC(F2551*K2551,1)","v":2712},93,2712,""]
["6922002","0805023","전력(4kw이상.1년초과)*","사용요금(그밖의 철)","kwh",{"$f":"126*1.4","v":176.39999999999998},92.9,16387.5,0,0,0,0,92.9,16387,""]
["6922002","0001007","노무비","철공","인",{"$f":"27.65*1.4","v":38.709999999999994},0,0,202032,7820658.7000000002,0,0,202032,7820658,""]
["6922002","0001084","노무비","보통인부","인",{"$f":"0.66*1.4","v":0.92399999999999993},0,0,144481,133500.4,0,0,144481,133500,""]
["6922002","0001112","노무비","용접공(일반)","인",{"$f":"2.6*1.4","v":3.6399999999999997},0,0,230706,839769.8,0,0,230706,839769,""]
["6922002","0001083","노무비","특별인부","인",{"$f":"0.74*1.4","v":1.036},0,0,181293,187819.5,0,0,181293,187819,""]
["6922002","M500000","공구손료","노무비의 3%","식",1,null,0,0,0,269452.40000000002,269452.40000000002,269452.40000000002,269452,""]
[null,null,"[ 합           계 ]",{"$nulls":4},{"$f":"TRUNC(SUM(H2548:H2557),0)","v":152970},null,{"$f":"TRUNC(SUM(J2548:J2557),0)","v":8981748},null,{"$f":"TRUNC(SUM(L2548:L2557),0)","v":272164},null,{"$f":"H2558+J2558+L2558","v":9406882}]
[]
[null,null,"6922004  잡철물제작설치(스텐)  간단  TON"]
["6922003","0206041","용접봉(스텐용)","∮2.6  AWSE308L","kg",18.48,10817,{"$f":"TRUNC(F2561*G2561,1)","v":199898.1},0,{"$f":"TRUNC(F2561*I2561,1)","v":0},0,{"$f":"TRUNC(F2561*K2561,1)","v":0},{"$f":"TRUNC(G2561+I2561+K2561,1)","v":10817},{"$f":"TRUNC(H2561+J2561+L2561,0)","v":199898},""]
["6922003","0803005","산소","(기체.공업용99.9%)","ℓ",6300,1.8333333333333333,11550,0,0,0,0,1.8,11550,""]
["6922003","0803001","아세틸렌(잡철물)","98% 공업용","kg",2.8,12000,33600,0,0,0,0,12000,33600,""]
["6922003","0206514","용접기 손료","","시간",20.83,0,0,0,0,93,{"$f":"TRUNC(F2564*K2564,1)","v":1937.1},93,1937,""]
["6922003","0805023","전력(4kw이상.1년초과)*","사용요금(그밖의 철)","kwh",126,92.9,11705.4,0,0,0,0,92.9,11705,""]
["6922003","0001007","노무비","철공","인",27.65,0,0,202032,5586184.7999999998,0,0,202032,5586184,""]
["6922003","0001084","노무비","보통인부","인",0.66,0,0,144481,95357.4,0,0,144481,95357,""]
["6922003","0001112","노무비","용접공(일반)","인",2.6,0,0,230706,599835.6,0,0,230706,599835,""]
["6922003","0001083","노무비","특별인부","인",0.74,0,0,181293,134156.79999999999,0,0,181293,134156,""]
["6922003","M500000","공구손료","노무비의 2%","식",1,null,0,0,0,128310.6,128310.6,128310.6,128310,""]
[null,null,"[ 합           계 ]",{"$nulls":4},{"$f":"TRUNC(SUM(H2561:H2570),0)","v":256753},null,{"$f":"TRUNC(SUM(J2561:J2570),0)","v":6415534},null,{"$f":"TRUNC(SUM(L2561:L2570),0)","v":130247},null,{"$f":"H2571+J2571+L2571","v":6802534}]
[]
[null,null,"6922001-1  잡철물제작  간단  TON"]
["6922001","0206002","용접봉(연강용)","∮3.2  CS-200  KSE-4301","kg",15.71,2836,{"$f":"TRUNC(F2574*G2574,1)","v":44553.5},0,{"$f":"TRUNC(F2574*I2574,1)","v":0},0,{"$f":"TRUNC(F2574*K2574,1)","v":0},{"$f":"TRUNC(G2574+I2574+K2574,1)","v":2836},{"$f":"TRUNC(H2574+J2574+L2574,0)","v":44553},""]
["6922001","0803005","산소","(기체.공업용99.9%)","ℓ",5355,1.8333333333333333,9817.5,0,0,0,0,1.8,9817,""]
["6922001","0803001","아세틸렌(잡철물)","98% 공업용","kg",2.4,12000,28800,0,0,0,0,12000,28800,""]
["6922001","0206514","용접기 손료","","시간",17.71,0,0,0,0,93,{"$f":"TRUNC(F2577*K2577,1)","v":1647},93,1647,""]
["6922001","0805023","전력(4kw이상.1년초과)*","사용요금(그밖의 철)","kwh",107.1,92.9,9949.5,0,0,0,0,92.9,9949,""]
["6922001","0001007","노무비","철공","인",21.8,0,0,202032,4404297.5999999996,0,0,202032,4404297,""]
["6922001","0001084","노무비","보통인부","인",0.56000000000000005,0,0,144481,80909.3,0,0,144481,80909,""]
["6922001","0001112","노무비","용접공(일반)","인",2.21,0,0,230706,509860.2,0,0,230706,509860,""]
["6922001","0001083","노무비","특별인부","인",0.63,0,0,181293,114214.5,0,0,181293,114214,""]
["6922001","M500000","공구손료","노무비의 2%","식",1,null,0,0,0,102185.60000000001,102185.60000000001,102185.60000000001,102185,""]
[null,null,"[ 합           계 ]",{"$nulls":4},{"$f":"TRUNC(SUM(H2574:H2583),0)","v":93120},null,{"$f":"TRUNC(SUM(J2574:J2583),0)","v":5109281},null,{"$f":"TRUNC(SUM(L2574:L2583),0)","v":103832},null,{"$f":"H2584+J2584+L2584","v":5306233}]
[]
[null,null,"6922002-1  잡철물제작  복잡  TON"]
["6922002","0206002","용접봉(연강용)","∮3.2  CS-200  KSE-4301","kg",{"$f":"15.71*1.4","v":21.994},2836,{"$f":"TRUNC(F2587*G2587,1)","v":62374.9},0,{"$f":"TRUNC(F2587*I2587,1)","v":0},0,{"$f":"TRUNC(F2587*K2587,1)","v":0},{"$f":"TRUNC(G2587+I2587+K2587,1)","v":2836},{"$f":"TRUNC(H2587+J2587+L2587,0)","v":62374},""]
["6922002","0803005","산소","(기체.공업용99.9%)","ℓ",{"$f":"5355*1.4","v":7496.9999999999991},1.8333333333333333,13744.5,0,0,0,0,1.8,13744,""]
["6922002","0803001","아세틸렌(잡철물)","98% 공업용","kg",{"$f":"2.4*1.4","v":3.36},12000,40320,0,0,0,0,12000,40320,""]
["6922002","0206514","용접기 손료","","시간",{"$f":"17.71*1.4","v":24.794},0,0,0,0,93,{"$f":"TRUNC(F2590*K2590,1)","v":2305.8000000000002},93,2305,""]
["6922002","0805023","전력(4kw이상.1년초과)*","사용요금(그밖의 철)","kwh",{"$f":"107.1*1.4","v":149.93999999999997},92.9,13929.4,0,0,0,0,92.9,13929,""]
["6922002","0001007","노무비","철공","인",{"$f":"21.8*1.4","v":30.52},0,0,202032,6166016.5999999996,0,0,202032,6166016,""]
["6922002","0001084","노무비","보통인부","인",{"$f":"0.56*1.4","v":0.78400000000000003},0,0,144481,113273.1,0,0,144481,113273,""]
["6922002","0001112","노무비","용접공(일반)","인",{"$f":"2.21*1.4","v":3.0939999999999999},0,0,230706,713804.3,0,0,230706,713804,""]
["6922002","0001083","노무비","특별인부","인",{"$f":"0.63*1.4","v":0.8819999999999999},0,0,181293,159900.4,0,0,181293,159900,""]
["6922002","M500000","공구손료","노무비의 2%","식",1,null,0,0,0,143059.79999999999,143059.79999999999,143059.79999999999,143059,""]
[null,null,"[ 합           계 ]",{"$nulls":4},{"$f":"TRUNC(SUM(H2587:H2596),0)","v":130368},null,{"$f":"TRUNC(SUM(J2587:J2596),0)","v":7152994},null,{"$f":"TRUNC(SUM(L2587:L2596),0)","v":145365},null,{"$f":"H2597+J2597+L2597","v":7428727}]
[]
[null,null,"6922003-1  잡철물제작(스텐)  간단  TON"]
["6922003","0206041","용접봉(스텐용)","∮2.6  AWSE308L","kg",15.71,10817,{"$f":"TRUNC(F2600*G2600,1)","v":169935},0,{"$f":"TRUNC(F2600*I2600,1)","v":0},0,{"$f":"TRUNC(F2600*K2600,1)","v":0},{"$f":"TRUNC(G2600+I2600+K2600,1)","v":10817},{"$f":"TRUNC(H2600+J2600+L2600,0)","v":169935},""]
["6922003","0803005","산소","(기체.공업용99.9%)","ℓ",5355,1.8333333333333333,9817.5,0,0,0,0,1.8,9817,""]
["6922003","0803001","아세틸렌(잡철물)","98% 공업용","kg",2.4,12000,28800,0,0,0,0,12000,28800,""]
["6922003","0206514","용접기 손료","","시간",17.71,0,0,0,0,93,{"$f":"TRUNC(F2603*K2603,1)","v":1647},93,1647,""]
["6922003","0805023","전력(4kw이상.1년초과)*","사용요금(그밖의 철)","kwh",107.1,92.9,9949.5,0,0,0,0,92.9,9949,""]
["6922003","0001007","노무비","철공","인",21.8,0,0,202032,4404297.5999999996,0,0,202032,4404297,""]
["6922003","0001084","노무비","보통인부","인",0.56000000000000005,0,0,144481,80909.3,0,0,144481,80909,""]
["6922003","0001112","노무비","용접공(일반)","인",2.21,0,0,230706,509860.2,0,0,230706,509860,""]
["6922003","0001083","노무비","특별인부","인",0.63,0,0,181293,114214.5,0,0,181293,114214,""]
["6922003","M500000","공구손료","노무비의 2%","식",1,null,0,0,0,102185.60000000001,102185.60000000001,102185.60000000001,102185,""]
[null,null,"[ 합           계 ]",{"$nulls":4},{"$f":"TRUNC(SUM(H2600:H2609),0)","v":218502},null,{"$f":"TRUNC(SUM(J2600:J2609),0)","v":5109281},null,{"$f":"TRUNC(SUM(L2600:L2609),0)","v":103832},null,{"$f":"H2610+J2610+L2610","v":5431615}]
[]
[null,null,"6923001  각형닥트제작설치(아연도금강판덕트)  (0.5T)  ㎡당"]
["6923006","0109210","아연도강판","0.50t(#26)","㎡",1.28,6844.0557995802028,{"$f":"TRUNC(F2613*G2613,1)","v":8760.2999999999993},0,{"$f":"TRUNC(F2613*I2613,1)","v":0},0,{"$f":"TRUNC(F2613*K2613,1)","v":0},{"$f":"TRUNC(G2613+I2613+K2613,1)","v":6844},{"$f":"TRUNC(H2613+J2613+L2613,0)","v":8760},""]
["6923006","5721025","플렌지","아연도강판 0.5T","M2",0.11,4108.4523752642226,451.9,0,0,0,0,4108.3999999999996,451,""]
["6923006","5721023","코너플레이트","30폭x105길이x1.6t","EA",5.9,147,867.3,0,0,0,0,147,867,""]
["6923006","0501520","볼트너트","M8x25","EA",5.9,42.400000000000006,250.1,0,0,0,0,42.4,250,""]
["6923006","5721008","C크리트바","20X25X1.0t","M",0.7,1680,1176,0,0,0,0,1680,1176,""]
["6923006","5721010","행거레일","20X25X1.2t","M",0.3,1785,535.5,0,0,0,0,1785,535,""]
["6923006","5721015","행가로드","9 Φ","M",1.1000000000000001,980,1078,0,0,0,0,980,1078,""]
["6923006","0501803","너트","M9","EA",0.8,15.55,12.4,0,0,0,0,15.5,12,""]
["6923006","5721012","패킹재","30wX5t","M",1.1000000000000001,235,258.5,0,0,0,0,235,258,""]
["6923006","0509103","스트롱앵커","3/8\"  (M9너트포함)","EA",0.7,100,70,0,0,0,0,100,70,""]
["6923006","5901015","콤파운드","비초산계","g",60,60,3600,0,0,0,0,60,3600,""]
["6923006","M200000","잡재료비","재료비의3%","식",1,511.79999999999995,511.8,0,0,0,0,511.8,511,""]
["6923006","0001115","노무비","덕트공","인",{"$f":"0.18+0.182","v":0.36199999999999999},0,0,181078,65550.2,0,0,181078,65550,""]
["6923006","0001115","노무비","보통인부","인",3.1E-2,0,{"$f":"TRUNC(F2626*G2626,1)","v":0},144481,{"$f":"TRUNC(F2626*I2626,1)","v":4478.8999999999996},0,{"$f":"TRUNC(F2626*K2626,1)","v":0},{"$f":"TRUNC(G2626+I2626+K2626,1)","v":144481},{"$f":"TRUNC(H2626+J2626+L2626,0)","v":4478},""]
["6923006","M500000","공구손료","노무비의 2%","식",1,null,0,0,0,1400.5,1400.5,1400.5,1400,""]
[null,null,"[ 합           계 ]",{"$nulls":4},{"$f":"TRUNC(SUM(H2613:H2627),0)","v":17571},null,{"$f":"TRUNC(SUM(J2613:J2627),0)","v":70029},null,{"$f":"TRUNC(SUM(L2613:L2627),0)","v":1400},null,{"$f":"H2628+J2628+L2628","v":89000}]
[]
[null,null,"6923002  각형닥트제작설치(아연도금강판덕트)  (0.6T)  ㎡당"]
["6923007","0109212","아연도강판","0.60t(#24)","㎡",1.28,8065.4875868209174,{"$f":"TRUNC(F2631*G2631,1)","v":10323.799999999999},0,{"$f":"TRUNC(F2631*I2631,1)","v":0},0,{"$f":"TRUNC(F2631*K2631,1)","v":0},{"$f":"TRUNC(G2631+I2631+K2631,1)","v":8065.4},{"$f":"TRUNC(H2631+J2631+L2631,0)","v":10323},""]
["6923007","5721026","플렌지","아연도강판 0.6T","M2",0.11,4778.052721437507,525.5,0,0,0,0,4778,525,""]
["6923007","5721023","코너플레이트","30폭x105길이x1.6t","EA",3.6,147,529.20000000000005,0,0,0,0,147,529,""]
["6923007","0501520","볼트너트","M8x25","EA",3.6,42.400000000000006,152.6,0,0,0,0,42.4,152,""]
["6923007","5721008","C크리트바","20X25X1.0t","M",0.7,1680,1176,0,0,0,0,1680,1176,""]
["6923007","5721010","행거레일","20X25X1.2t","M",0.3,1785,535.5,0,0,0,0,1785,535,""]
["6923007","5721015","행가로드","9 Φ","M",0.7,980,686,0,0,0,0,980,686,""]
["6923007","0501803","너트","M9","EA",0.5,15.55,7.7,0,0,0,0,15.5,7,""]
["6923007","5721012","패킹재","30wX5t","M",1.1000000000000001,235,258.5,0,0,0,0,235,258,""]
["6923007","0509103","스트롱앵커","3/8\"  (M9너트포함)","EA",0.5,100,50,0,0,0,0,100,50,""]
["6923007","5901015","콤파운드","비초산계","g",60,60,3600,0,0,0,0,60,3600,""]
["6923007","M200000","잡재료비","재료비의3%","식",1,535.34400000000005,535.29999999999995,0,0,0,0,535.29999999999995,535,""]
["6923007","0001115","노무비","덕트공","인",{"$f":"0.19+0.171","v":0.36099999999999999},0,0,181078,65369.1,0,0,181078,65369,""]
["6923007","0001115","노무비","보통인부","인",2.9000000000000005E-2,0,{"$f":"TRUNC(F2644*G2644,1)","v":0},144481,{"$f":"TRUNC(F2644*I2644,1)","v":4189.8999999999996},0,{"$f":"TRUNC(F2644*K2644,1)","v":0},{"$f":"TRUNC(G2644+I2644+K2644,1)","v":144481},{"$f":"TRUNC(H2644+J2644+L2644,0)","v":4189},""]
["6923007","M500000","공구손료","노무비의 2%","식",1,null,0,0,0,1391.1,1391.1,1391.1,1391,""]
[null,null,"[ 합           계 ]",{"$nulls":4},{"$f":"TRUNC(SUM(H2631:H2645),0)","v":18380},null,{"$f":"TRUNC(SUM(J2631:J2645),0)","v":69559},null,{"$f":"TRUNC(SUM(L2631:L2645),0)","v":1391},null,{"$f":"H2646+J2646+L2646","v":89330}]
[]
[null,null,"6923003  각형닥트제작설치(아연도금강판덕트)  (0.8T)  ㎡당"]
["6923008","0109214","아연도강판","0.80t(#22)","㎡",1.28,10515.080813022681,{"$f":"TRUNC(F2649*G2649,1)","v":13459.3},0,{"$f":"TRUNC(F2649*I2649,1)","v":0},0,{"$f":"TRUNC(F2649*K2649,1)","v":0},{"$f":"TRUNC(G2649+I2649+K2649,1)","v":10515},{"$f":"TRUNC(H2649+J2649+L2649,0)","v":13459},""]
["6923008","5721027","플렌지","아연도강판 0.8T","M2",0.11,6187.9147568475883,680.6,0,0,0,0,6187.9,680,""]
["6923008","5721023","코너플레이트","30폭x105길이x1.6t","EA",2,147,294,0,0,0,0,147,294,""]
["6923008","0501520","볼트너트","M8x25","EA",2,42.400000000000006,84.8,0,0,0,0,42.4,84,""]
["6923008","5721008","C크리트바","20X25X1.0t","M",0.7,1680,1176,0,0,0,0,1680,1176,""]
["6923008","5721010","행거레일","20X25X1.2t","M",0.3,1785,535.5,0,0,0,0,1785,535,""]
["6923008","5721015","행가로드","9 Φ","M",0.4,980,392,0,0,0,0,980,392,""]
["6923008","0501803","너트","M9","EA",0.3,15.55,4.5999999999999996,0,0,0,0,15.5,4,""]
["6923008","5721012","패킹재","30wX5t","M",1.1000000000000001,235,258.5,0,0,0,0,235,258,""]
["6923008","0509103","스트롱앵커","3/8\"  (M9너트포함)","EA",0.3,100,30,0,0,0,0,100,30,""]
["6923008","5901015","콤파운드","비초산계","g",60,60,3600,0,0,0,0,60,3600,""]
["6923008","5721018","보강바","30x35x0.8t","M",0.6,2100,1260,0,0,0,0,2100,1260,""]
["6923008","5721020","직결비스","13mm","EA",5.6,8,44.8,0,0,0,0,8,44,""]
["6923008","M200000","잡재료비","재료비의3%","식",1,654.60299999999984,654.6,0,0,0,0,654.6,654,""]
["6923008","0001115","노무비","덕트공","인",{"$f":"0.21+0.179","v":0.38900000000000001},0,0,181078,70439.3,0,0,181078,70439,""]
["6923007","0001115","노무비","보통인부","인",0.03,0,0,144481,4334.3999999999996,0,0,144481,4334,""]
["6923008","M500000","공구손료","노무비의 2%","식",1,null,0,0,0,1495.4,1495.4,1495.4,1495,""]
[null,null,"[ 합           계 ]",{"$nulls":4},{"$f":"TRUNC(SUM(H2649:H2665),0)","v":22474},null,{"$f":"TRUNC(SUM(J2649:J2665),0)","v":74773},null,{"$f":"TRUNC(SUM(L2649:L2665),0)","v":1495},null,{"$f":"H2666+J2666+L2666","v":98742}]
[]
[null,null,"6923004  각형닥트제작설치(아연도금강판덕트)  (1.0T)  ㎡당"]
["6923009","0109216","아연도강판","1.00t(#20)","㎡",1.28,13062.253989169296,{"$f":"TRUNC(F2669*G2669,1)","v":16719.599999999999},0,{"$f":"TRUNC(F2669*I2669,1)","v":0},0,{"$f":"TRUNC(F2669*K2669,1)","v":0},{"$f":"TRUNC(G2669+I2669+K2669,1)","v":13062.2},{"$f":"TRUNC(H2669+J2669+L2669,0)","v":16719},""]
["6923009","5721028","플렌지","아연도강판 1.0T","M2",0.11,7550.6692302153269,830.5,0,0,0,0,7550.6,830,""]
["6923009","5721023","코너플레이트","30폭x105길이x1.6t","EA",1.2,147,176.4,0,0,0,0,147,176,""]
["6923009","0501520","볼트너트","M8x25","EA",1.2,42.400000000000006,50.8,0,0,0,0,42.4,50,""]
["6923009","5721008","C크리트바","20X25X1.0t","M",0.7,1680,1176,0,0,0,0,1680,1176,""]
["6923009","5721010","행거레일","20X25X1.2t","M",0.3,1785,535.5,0,0,0,0,1785,535,""]
["6923009","5721015","행가로드","9 Φ","M",0.3,980,294,0,0,0,0,980,294,""]
["6923009","0501803","너트","M9","EA",0.2,15.55,3.1,0,0,0,0,15.5,3,""]
["6923009","5721012","패킹재","30wX5t","M",1.1000000000000001,235,258.5,0,0,0,0,235,258,""]
["6923009","0509103","스트롱앵커","3/8\"  (M9너트포함)","EA",0.2,100,20,0,0,0,0,100,20,""]
["6923009","5901015","콤파운드","비초산계","g",60,60,3600,0,0,0,0,60,3600,""]
["6923009","5721018","보강바","30x35x0.8t","M",0.6,2100,1260,0,0,0,0,2100,1260,""]
["6923009","5721020","직결비스","13mm","EA",5.9,8,47.2,0,0,0,0,8,47,""]
["6923009","M200000","잡재료비","재료비의3%","식",1,749.14799999999991,749.1,0,0,0,0,749.1,749,""]
["6923009","0001115","노무비","덕트공","인",{"$f":"0.24+0.219","v":0.45899999999999996},0,0,181078,83114.8,0,0,181078,83114,""]
["6923007","0001115","노무비","보통인부","인",3.6999999999999998E-2,0,0,144481,5345.7,0,0,144481,5345,""]
["6923009","M500000","공구손료","노무비의 2%","식",1,null,0,0,0,1769.2,1769.2,1769.2,1769,""]
[null,null,"[ 합           계 ]",{"$nulls":4},{"$f":"TRUNC(SUM(H2669:H2685),0)","v":25720},null,{"$f":"TRUNC(SUM(J2669:J2685),0)","v":88460},null,{"$f":"TRUNC(SUM(L2669:L2685),0)","v":1769},null,{"$f":"H2686+J2686+L2686","v":115949}]
[]
[null,null,"6923005  각형닥트제작설치(아연도금강판덕트)  (1.2T)  ㎡당"]
["6923010","0109217","아연도강판","1.20t(#18)","㎡",1.28,15461.374827468551,{"$f":"TRUNC(F2689*G2689,1)","v":19790.5},0,{"$f":"TRUNC(F2689*I2689,1)","v":0},0,{"$f":"TRUNC(F2689*K2689,1)","v":0},{"$f":"TRUNC(G2689+I2689+K2689,1)","v":15461.3},{"$f":"TRUNC(H2689+J2689+L2689,0)","v":19790},""]
["6923010","5721029","플렌지","아연도강판 1.2T","M2",0.11,9037.9222604092556,994.1,0,0,0,0,9037.9,994,""]
["6923010","5721023","코너플레이트","30폭x105길이x1.6t","EA",0.9,147,132.30000000000001,0,0,0,0,147,132,""]
["6923010","0501520","볼트너트","M8x25","EA",0.9,42.400000000000006,38.1,0,0,0,0,42.4,38,""]
["6923010","5721008","C크리트바","20X25X1.0t","M",0.7,1680,1176,0,0,0,0,1680,1176,""]
["6923010","5721010","행거레일","20X25X1.2t","M",0.3,1785,535.5,0,0,0,0,1785,535,""]
["6923010","5721015","행가로드","9 Φ","M",0.2,980,196,0,0,0,0,980,196,""]
["6923010","0501803","너트","M9","EA",0.1,15.55,1.5,0,0,0,0,15.5,1,""]
["6923010","5721012","패킹재","30wX5t","M",1.1000000000000001,235,258.5,0,0,0,0,235,258,""]
["6923010","0509103","스트롱앵커","3/8\"  (M9너트포함)","EA",0.1,100,10,0,0,0,0,100,10,""]
["6923010","5901015","콤파운드","비초산계","g",60,60,3600,0,0,0,0,60,3600,""]
["6923010","5721018","보강바","30x35x0.8t","M",0.6,2100,1260,0,0,0,0,2100,1260,""]
["6923010","5721020","직결비스","13mm","EA",5.9,8,47.2,0,0,0,0,8,47,""]
["6923010","M200000","잡재료비","재료비의3%","식",1,841.19099999999992,841.1,0,0,0,0,841.1,841,""]
["6923010","0001115","노무비","덕트공","인",{"$f":"0.27+0.252","v":0.52200000000000002},0,0,181078,94522.7,0,0,181078,94522,""]
["6923007","0001115","노무비","보통인부","인",4.2999999999999997E-2,0,0,144481,6212.6,0,0,144481,6212,""]
["6923010","M500000","공구손료","노무비의 2%","식",1,null,0,0,0,2014.7,2014.7,2014.7,2014,""]
[null,null,"[ 합           계 ]",{"$nulls":4},{"$f":"TRUNC(SUM(H2689:H2705),0)","v":28880},null,{"$f":"TRUNC(SUM(J2689:J2705),0)","v":100735},null,{"$f":"TRUNC(SUM(L2689:L2705),0)","v":2014},null,{"$f":"H2706+J2706+L2706","v":131629}]
[]
[null,null,"6924001  스텐닥트제작설치(기계)  (0.5T)  ㎡당"]
["6923011","0201023","스텐레스강판(27종)","0.5t (STS304)","㎡",1.28,15873.015873015873,{"$f":"TRUNC(F2709*G2709,1)","v":20317.400000000001},0,{"$f":"TRUNC(F2709*I2709,1)","v":0},0,{"$f":"TRUNC(F2709*K2709,1)","v":0},{"$f":"TRUNC(G2709+I2709+K2709,1)","v":15873},{"$f":"TRUNC(H2709+J2709+L2709,0)","v":20317},""]
["6923011","5721025","플렌지","STS강판 0.5T","M2",0.11,13888.888888888889,1527.7,0,0,0,0,13888.8,1527,""]
["6923011","5721023","코너플레이트","30폭x105길이x1.6t","EA",5.9,147,867.3,0,0,0,0,147,867,""]
["6923011","0501520","볼트너트","M8x25","EA",5.9,42.400000000000006,250.1,0,0,0,0,42.4,250,""]
["6923011","5721008","C크리트바","20X25X1.0t","M",0.7,1680,1176,0,0,0,0,1680,1176,""]
["6923011","5721010","행거레일","20X25X1.2t","M",0.3,1785,535.5,0,0,0,0,1785,535,""]
["6923011","5721015","행가로드","9 Φ","M",1.1000000000000001,980,1078,0,0,0,0,980,1078,""]
["6923011","0501803","너트","M9","EA",0.8,15.55,12.4,0,0,0,0,15.5,12,""]
["6923011","5721012","패킹재","30wX5t","M",1.1000000000000001,235,258.5,0,0,0,0,235,258,""]
["6923011","0509103","스트롱앵커","3/8\"  (M9너트포함)","EA",0.7,100,70,0,0,0,0,100,70,""]
["6923011","5901015","콤파운드","비초산계","g",60,60,3600,0,0,0,0,60,3600,""]
["6923011","M200000","잡재료비","재료비의3%","식",1,890.78700000000003,890.7,0,0,0,0,890.7,890,""]
["6923011","0001115","노무비","덕트공","인",{"$f":"0.36+0.238","v":0.59799999999999998},0,0,181078,108284.6,0,0,181078,108284,""]
["6923007","0001115","노무비","보통인부","인",4.1000000000000002E-2,0,0,144481,5923.7,0,0,144481,5923,""]
["6923011","M500000","공구손료","노무비의 2%","식",1,null,0,0,0,2284.1,2284.1,2284.1,2284,""]
[null,null,"[ 합           계 ]",{"$nulls":4},{"$f":"TRUNC(SUM(H2709:H2723),0)","v":30583},null,{"$f":"TRUNC(SUM(J2709:J2723),0)","v":114208},null,{"$f":"TRUNC(SUM(L2709:L2723),0)","v":2284},null,{"$f":"H2724+J2724+L2724","v":147075}]
[]
[null,null,"6924002  스텐닥트제작설치(기계)  (0.6T)  ㎡당"]
["6923012","0201024","스텐레스강판(27종)","0.6t (STS304)","㎡",1.28,18571.428571428572,{"$f":"TRUNC(F2727*G2727,1)","v":23771.4},0,{"$f":"TRUNC(F2727*I2727,1)","v":0},0,{"$f":"TRUNC(F2727*K2727,1)","v":0},{"$f":"TRUNC(G2727+I2727+K2727,1)","v":18571.400000000001},{"$f":"TRUNC(H2727+J2727+L2727,0)","v":23771},""]
["6923012","5721026","플렌지","STS강판 0.6T","M2",0.11,16190.476190476191,1780.9,0,0,0,0,16190.4,1780,""]
["6923012","5721023","코너플레이트","30폭x105길이x1.6t","EA",3.6,147,529.20000000000005,0,0,0,0,147,529,""]
["6923012","0501520","볼트너트","M8x25","EA",3.6,42.400000000000006,152.6,0,0,0,0,42.4,152,""]
["6923012","5721008","C크리트바","20X25X1.0t","M",0.7,1680,1176,0,0,0,0,1680,1176,""]
["6923012","5721010","행거레일","20X25X1.2t","M",0.3,1785,535.5,0,0,0,0,1785,535,""]
["6923012","5721015","행가로드","9 Φ","M",0.7,980,686,0,0,0,0,980,686,""]
["6923012","0501803","너트","M9","EA",0.5,15.55,7.7,0,0,0,0,15.5,7,""]
["6923012","5721012","패킹재","30wX5t","M",1.1000000000000001,235,258.5,0,0,0,0,235,258,""]
["6923012","0509103","스트롱앵커","3/8\"  (M9너트포함)","EA",0.5,100,50,0,0,0,0,100,50,""]
["6923012","5901015","콤파운드","비초산계","g",60,60,3600,0,0,0,0,60,3600,""]
["6923012","M200000","잡재료비","재료비의3%","식",1,976.43400000000008,976.4,0,0,0,0,976.4,976,""]
["6923012","0001115","노무비","덕트공","인",{"$f":"0.37+0.224","v":0.59399999999999997},0,0,181078,107560.3,0,0,181078,107560,""]
["6923007","0001115","노무비","보통인부","인",3.7999999999999999E-2,0,0,144481,5490.2,0,0,144481,5490,""]
["6923012","M500000","공구손료","노무비의 2%","식",1,null,0,0,0,2261,2261,2261,2261,""]
[null,null,"[ 합           계 ]",{"$nulls":4},{"$f":"TRUNC(SUM(H2727:H2741),0)","v":33524},null,{"$f":"TRUNC(SUM(J2727:J2741),0)","v":113050},null,{"$f":"TRUNC(SUM(L2727:L2741),0)","v":2261},null,{"$f":"H2742+J2742+L2742","v":148835}]
[]
[null,null,"6924003  스텐닥트제작설치(기계)  (0.8T)  ㎡당"]
["6923013","0201026","스텐레스강판(27종)","0.8t (STS304)","㎡",1.28,24050.632911392404,{"$f":"TRUNC(F2745*G2745,1)","v":30784.799999999999},0,{"$f":"TRUNC(F2745*I2745,1)","v":0},0,{"$f":"TRUNC(F2745*K2745,1)","v":0},{"$f":"TRUNC(G2745+I2745+K2745,1)","v":24050.6},{"$f":"TRUNC(H2745+J2745+L2745,0)","v":30784},""]
["6923013","5721027","플렌지","STS강판 0.8T","M2",0.11,20886.075949367088,2297.4,0,0,0,0,20886,2297,""]
["6923013","5721023","코너플레이트","30폭x105길이x1.6t","EA",2,147,294,0,0,0,0,147,294,""]
["6923013","0501520","볼트너트","M8x25","EA",2,42.400000000000006,84.8,0,0,0,0,42.4,84,""]
["6923013","5721008","C크리트바","20X25X1.0t","M",0.7,1680,1176,0,0,0,0,1680,1176,""]
["6923013","5721010","행거레일","20X25X1.2t","M",0.3,1785,535.5,0,0,0,0,1785,535,""]
["6923013","5721015","행가로드","9 Φ","M",0.4,980,392,0,0,0,0,980,392,""]
["6923013","0501803","너트","M9","EA",0.3,15.55,4.5999999999999996,0,0,0,0,15.5,4,""]
["6923013","5721012","패킹재","30wX5t","M",1.1000000000000001,235,258.5,0,0,0,0,235,258,""]
["6923013","0509103","스트롱앵커","3/8\"  (M9너트포함)","EA",0.3,100,30,0,0,0,0,100,30,""]
["6923013","5901015","콤파운드","비초산계","g",60,60,3600,0,0,0,0,60,3600,""]
["6923013","5721018","보강바","30x35x0.8t","M",0.6,2100,1260,0,0,0,0,2100,1260,""]
["6923013","5721020","직결비스","13mm","EA",5.6,8,44.8,0,0,0,0,8,44,""]
["6923013","M200000","잡재료비","재료비의3%","식",1,1222.8720000000001,1222.8,0,0,0,0,1222.8,1222,""]
["6923013","0001115","노무비","덕트공","인",{"$f":"0.4+0.244","v":0.64400000000000002},0,0,181078,116614.2,0,0,181078,116614,""]
["6923007","0001115","노무비","보통인부","인",4.2000000000000003E-2,0,0,144481,6068.2,0,0,144481,6068,""]
["6923013","M500000","공구손료","노무비의 2%","식",1,null,0,0,0,2453.6,2453.6,2453.6,2453,""]
[null,null,"[ 합           계 ]",{"$nulls":4},{"$f":"TRUNC(SUM(H2745:H2761),0)","v":41985},null,{"$f":"TRUNC(SUM(J2745:J2761),0)","v":122682},null,{"$f":"TRUNC(SUM(L2745:L2761),0)","v":2453},null,{"$f":"H2762+J2762+L2762","v":167120}]
[]
[null,null,"6924004  스텐닥트제작설치(기계)  (1.0T)  ㎡당"]
["6923014","0201028","스텐레스강판(27종)","1.0t (STS304)","㎡",1.28,29285.714285714286,{"$f":"TRUNC(F2765*G2765,1)","v":37485.699999999997},0,{"$f":"TRUNC(F2765*I2765,1)","v":0},0,{"$f":"TRUNC(F2765*K2765,1)","v":0},{"$f":"TRUNC(G2765+I2765+K2765,1)","v":29285.7},{"$f":"TRUNC(H2765+J2765+L2765,0)","v":37485},""]
["6923014","5721028","플렌지","STS강판 1.0T","M2",0.11,25317.460317460318,2784.9,0,0,0,0,25317.4,2784,""]
["6923014","5721023","코너플레이트","30폭x105길이x1.6t","EA",1.2,147,176.4,0,0,0,0,147,176,""]
["6923014","0501520","볼트너트","M8x25","EA",1.2,42.400000000000006,50.8,0,0,0,0,42.4,50,""]
["6923014","5721008","C크리트바","20X25X1.0t","M",0.7,1680,1176,0,0,0,0,1680,1176,""]
["6923014","5721010","행거레일","20X25X1.2t","M",0.3,1785,535.5,0,0,0,0,1785,535,""]
["6923014","5721015","행가로드","9 Φ","M",0.3,980,294,0,0,0,0,980,294,""]
["6923014","0501803","너트","M9","EA",0.2,15.55,3.1,0,0,0,0,15.5,3,""]
["6923014","5721012","패킹재","30wX5t","M",1.1000000000000001,235,258.5,0,0,0,0,235,258,""]
["6923014","0509103","스트롱앵커","3/8\"  (M9너트포함)","EA",0.2,100,20,0,0,0,0,100,20,""]
["6923014","5901015","콤파운드","비초산계","g",60,60,3600,0,0,0,0,60,3600,""]
["6923014","5721018","보강바","30x35x0.8t","M",0.6,2100,1260,0,0,0,0,2100,1260,""]
["6923014","5721020","직결비스","13mm","EA",5.9,8,47.2,0,0,0,0,8,47,""]
["6923014","M200000","잡재료비","재료비의3%","식",1,1430.7629999999999,1430.7,0,0,0,0,1430.7,1430,""]
["6923014","0001115","노무비","덕트공","인",{"$f":"0.49+0.3","v":0.79},0,0,181078,143051.6,0,0,181078,143051,""]
["6923007","0001115","노무비","보통인부","인",5.1000000000000004E-2,0,0,144481,7368.5,0,0,144481,7368,""]
["6923014","M500000","공구손료","노무비의 2%","식",1,null,0,0,0,3008.4,3008.4,3008.4,3008,""]
[null,null,"[ 합           계 ]",{"$nulls":4},{"$f":"TRUNC(SUM(H2765:H2781),0)","v":49122},null,{"$f":"TRUNC(SUM(J2765:J2781),0)","v":150420},null,{"$f":"TRUNC(SUM(L2765:L2781),0)","v":3008},null,{"$f":"H2782+J2782+L2782","v":202550}]
[]
[null,null,"6924005  캔버스이음 제작설치  1.6T  ㎡당"]
["6923100","5723002","비석면그라스포","1.6T","m²",1.2,3080,{"$f":"TRUNC(F2785*G2785,1)","v":3696},0,{"$f":"TRUNC(F2785*I2785,1)","v":0},0,{"$f":"TRUNC(F2785*K2785,1)","v":0},{"$f":"TRUNC(G2785+I2785+K2785,1)","v":3080},{"$f":"TRUNC(H2785+J2785+L2785,0)","v":3696},""]
["6923100","0104707","앵글","30x30x3t","kg",5,1180,5900,0,0,0,0,1180,5900,""]
["6923100","0501541","볼트너트","M10x20","EA",100,75.2,7520,0,0,0,0,75.2,7520,""]
["6923100","0599001","동리벳","D4","EA",150,16.3,2445,0,0,0,0,16.3,2445,""]
["6923100","0001115","노무비","덕트공","인",0.28999999999999998,0,0,181078,52512.6,0,0,181078,52512,""]
["6923100","M500000","공구손료","노무비의 2%","식",1,null,0,0,0,1050.2,1050.2,1050.2,1050,""]
[null,null,"[ 합           계 ]",{"$nulls":4},{"$f":"TRUNC(SUM(H2785:H2790),0)","v":19561},null,{"$f":"TRUNC(SUM(J2785:J2790),0)","v":52512},null,{"$f":"TRUNC(SUM(L2785:L2790),0)","v":1050},null,{"$f":"H2791+J2791+L2791","v":73123}]
[]
[null,null,"6924006  각형닥트보온  25T  M2"]
["6924001","6108021","발포폴리에틸렌보온판","25T","M2",1.2,3179,{"$f":"TRUNC(F2794*G2794,1)","v":3814.8},0,{"$f":"TRUNC(F2794*I2794,1)","v":0},0,{"$f":"TRUNC(F2794*K2794,1)","v":0},{"$f":"TRUNC(G2794+I2794+K2794,1)","v":3179},{"$f":"TRUNC(H2794+J2794+L2794,0)","v":3814},""]
["6924001","M400000","후렌지보온재","5T*10cm","m",1,302,302,0,0,0,0,302,302,""]
["6924001","6112142","접착제","내열 아크릴","㎏",1.2,7000,8400,0,0,0,0,7000,8400,""]
["6924001","6112152","AL밴드","1.8cm","M",1.35,360,486,0,0,0,0,360,486,""]
["6924001","6112060","은박 LAMI",null,"㎡",1.2,700,840,0,0,0,0,700,840,""]
["6924001","0001032","노무비","보온공","인",0.25700000000000001,0,0,183071,47049.2,0,0,183071,47049,""]
["6924001","0001032","노무비","보통인부","인",4.5999999999999999E-2,0,{"$f":"TRUNC(F2800*G2800,1)","v":0},144481,{"$f":"TRUNC(F2800*I2800,1)","v":6646.1},0,{"$f":"TRUNC(F2800*K2800,1)","v":0},{"$f":"TRUNC(G2800+I2800+K2800,1)","v":144481},{"$f":"TRUNC(H2800+J2800+L2800,0)","v":6646},""]
["6924001","M500000","공구손료","노무비의 2%","식",1,null,0,0,0,1073.9000000000001,1073.9000000000001,1073.9000000000001,1073,""]
[null,null,"[ 합           계 ]",{"$nulls":4},{"$f":"TRUNC(SUM(H2794:H2801),0)","v":13842},null,{"$f":"TRUNC(SUM(J2794:J2801),0)","v":53695},null,{"$f":"TRUNC(SUM(L2794:L2801),0)","v":1073},null,{"$f":"H2802+J2802+L2802","v":68610}]
[]
[null,null,"6924007  각형닥트보온  50T M2"]
["6924002","6108022","발포폴리에틸렌보온판","50T","M2",1.2,6358,{"$f":"TRUNC(F2805*G2805,1)","v":7629.6},0,{"$f":"TRUNC(F2805*I2805,1)","v":0},0,{"$f":"TRUNC(F2805*K2805,1)","v":0},{"$f":"TRUNC(G2805+I2805+K2805,1)","v":6358},{"$f":"TRUNC(H2805+J2805+L2805,0)","v":7629},""]
["6924001","M400000","후렌지보온재","5T*10cm","m",1,302,302,0,0,0,0,302,302,""]
["6924002","6112142","접착제","내열 아크릴","㎏",1.2,7000,8400,0,0,0,0,7000,8400,""]
["6924001","6112152","AL밴드","1.8cm","M",1.4,360,504,0,0,0,0,360,504,""]
["6924002","6112060","은박 LAMI",null,"㎡",1.2,700,840,0,0,0,0,700,840,""]
["6924002","0001032","노무비","보온공","인",0.28599999999999998,0,0,183071,52358.3,0,0,183071,52358,""]
["6924001","0001032","노무비","보통인부","인",5.1000000000000004E-2,0,0,144481,7368.5,0,0,144481,7368,""]
["6924002","M500000","공구손료","노무비의 2%","식",1,null,0,0,0,1194.5,1194.5,1194.5,1194,""]
[null,null,"[ 합           계 ]",{"$nulls":4},{"$f":"TRUNC(SUM(H2805:H2812),0)","v":17675},null,{"$f":"TRUNC(SUM(J2805:J2812),0)","v":59726},null,{"$f":"TRUNC(SUM(L2805:L2812),0)","v":1194},null,{"$f":"H2813+J2813+L2813","v":78595}]
[]
[null,null,"6925001  녹막이페인트칠  2회  M2"]
["6925001","3603002","녹막이페인트","KSM-6030   1종 5류","ℓ",0.161,9750,{"$f":"TRUNC(F2816*G2816,1)","v":1569.7},0,{"$f":"TRUNC(F2816*I2816,1)","v":0},0,{"$f":"TRUNC(F2816*K2816,1)","v":0},{"$f":"TRUNC(G2816+I2816+K2816,1)","v":9750},{"$f":"TRUNC(H2816+J2816+L2816,0)","v":1569},""]
["6925001","3610402","도료용희석재(신너)","KSM-6060   2종 조합페인트용","ℓ",8.0000000000000002E-3,3875,31,0,0,0,0,3875,31,""]
["6925001","3613002","잡재료비","페인트.신너의 3%","식",1,48,48,0,0,0,0,48,48,""]
["6925001","0001033","노무비","도장공","인",{"$f":"0.015*2","v":0.03},0,0,217123,6513.6,0,0,217123,6513,""]
["6925001","0001033","노무비","보통인부","인",{"$f":"0.003*2","v":6.0000000000000001E-3},0,0,144481,866.8,0,0,144481,866,""]
["6925001","M500000","공구손료","노무비의 2%","식",1,null,0,0,0,147.6,147.6,147.6,147,""]
[null,null,"[ 합           계 ]",{"$nulls":4},{"$f":"TRUNC(SUM(H2816:H2821),0)","v":1648},null,{"$f":"TRUNC(SUM(J2816:J2821),0)","v":7380},null,{"$f":"TRUNC(SUM(L2816:L2821),0)","v":147},null,{"$f":"H2822+J2822+L2822","v":9175}]
[]
[null,null,"6925002  유성페인트칠  철재면2회  M2"]
["6925002","3601011","조합페인트","KSM-6020   2급 흑색","ℓ",0.16600000000000001,5388.8888888888887,{"$f":"TRUNC(F2825*G2825,1)","v":894.5},0,{"$f":"TRUNC(F2825*I2825,1)","v":0},0,{"$f":"TRUNC(F2825*K2825,1)","v":0},{"$f":"TRUNC(G2825+I2825+K2825,1)","v":5388.8},{"$f":"TRUNC(H2825+J2825+L2825,0)","v":894},""]
["6925002","3610402","도료용희석재(신너)","KSM-6060   2종 조합페인트용","ℓ",8.0000000000000002E-3,3875,31,0,0,0,0,3875,31,""]
["6925001","3613002","잡재료비","페인트.신너의 4%","식",1,37,{"$f":"TRUNC(F2827*G2827,1)","v":37},0,{"$f":"TRUNC(F2827*I2827,1)","v":0},0,{"$f":"TRUNC(F2827*K2827,1)","v":0},{"$f":"TRUNC(G2827+I2827+K2827,1)","v":37},{"$f":"TRUNC(H2827+J2827+L2827,0)","v":37},""]
["6925002","0001033","노무비","도장공","인",{"$f":"0.02*2","v":0.04},0,0,217123,8684.9,0,0,217123,8684,""]
["6925001","0001033","노무비","보통인부","인",{"$f":"0.004*2","v":8.0000000000000002E-3},0,{"$f":"TRUNC(F2829*G2829,1)","v":0},144481,{"$f":"TRUNC(F2829*I2829,1)","v":1155.8},0,{"$f":"TRUNC(F2829*K2829,1)","v":0},{"$f":"TRUNC(G2829+I2829+K2829,1)","v":144481},{"$f":"TRUNC(H2829+J2829+L2829,0)","v":1155},""]
["6925002","M500000","공구손료","노무비의 2%","식",1,null,0,0,0,196.8,196.8,196.8,196,""]
[null,null,"[ 합           계 ]",{"$nulls":4},{"$f":"TRUNC(SUM(H2825:H2830),0)","v":962},null,{"$f":"TRUNC(SUM(J2825:J2830),0)","v":9840},null,{"$f":"TRUNC(SUM(L2825:L2830),0)","v":196},null,{"$f":"H2831+J2831+L2831","v":10998}]
[]
[null,null,"6925003  수성페인트칠  2회  M2"]
["6925003","3602003","합성수지에멀션페인트","KSM-6010   2급 외.백색","ℓ",0.19700000000000001,2850,{"$f":"TRUNC(F2834*G2834,1)","v":561.4},0,{"$f":"TRUNC(F2834*I2834,1)","v":0},0,{"$f":"TRUNC(F2834*K2834,1)","v":0},{"$f":"TRUNC(G2834+I2834+K2834,1)","v":2850},{"$f":"TRUNC(H2834+J2834+L2834,0)","v":561},""]
["6925001","3613002","잡재료비","페인트의 6%","식",1,33.6,{"$f":"TRUNC(F2835*G2835,1)","v":33.6},0,{"$f":"TRUNC(F2835*I2835,1)","v":0},0,{"$f":"TRUNC(F2835*K2835,1)","v":0},{"$f":"TRUNC(G2835+I2835+K2835,1)","v":33.6},{"$f":"TRUNC(H2835+J2835+L2835,0)","v":33},""]
["6925002","0001033","노무비","도장공","인",{"$f":"0.022*2","v":4.3999999999999997E-2},0,{"$f":"TRUNC(F2836*G2836,1)","v":0},217123,{"$f":"TRUNC(F2836*I2836,1)","v":9553.4},0,{"$f":"TRUNC(F2836*K2836,1)","v":0},{"$f":"TRUNC(G2836+I2836+K2836,1)","v":217123},{"$f":"TRUNC(H2836+J2836+L2836,0)","v":9553},""]
["6925001","0001033","노무비","보통인부","인",{"$f":"0.004*2","v":8.0000000000000002E-3},0,{"$f":"TRUNC(F2837*G2837,1)","v":0},144481,{"$f":"TRUNC(F2837*I2837,1)","v":1155.8},0,{"$f":"TRUNC(F2837*K2837,1)","v":0},{"$f":"TRUNC(G2837+I2837+K2837,1)","v":144481},{"$f":"TRUNC(H2837+J2837+L2837,0)","v":1155},""]
["6925003","M500000","공구손료","노무비의 2%","식",1,null,{"$f":"TRUNC(F2838*G2838,1)","v":0},0,{"$f":"TRUNC(F2838*I2838,1)","v":0},214.1,{"$f":"TRUNC(F2838*K2838,1)","v":214.1},{"$f":"TRUNC(G2838+I2838+K2838,1)","v":214.1},{"$f":"TRUNC(H2838+J2838+L2838,0)","v":214},""]
[null,null,"[ 합           계 ]",{"$nulls":4},{"$f":"TRUNC(SUM(H2834:H2838),0)","v":595},null,{"$f":"TRUNC(SUM(J2834:J2838),0)","v":10709},null,{"$f":"TRUNC(SUM(L2834:L2838),0)","v":214},null,{"$f":"H2839+J2839+L2839","v":11518}]
[]
[null,null,"6925004  알미늄페인트칠(은분)  2회  M2"]
["6925004","3613001","알미늄페인트(은분)","KSM-6020   3종","ℓ",0.14599999999999999,7100,{"$f":"TRUNC(F2842*G2842,1)","v":1036.5999999999999},0,{"$f":"TRUNC(F2842*I2842,1)","v":0},0,{"$f":"TRUNC(F2842*K2842,1)","v":0},{"$f":"TRUNC(G2842+I2842+K2842,1)","v":7100},{"$f":"TRUNC(H2842+J2842+L2842,0)","v":1036},""]
["6925004","0001033","노무비","도장공","인",5.4000000000000006E-2,0,{"$f":"TRUNC(F2843*G2843,1)","v":0},217123,{"$f":"TRUNC(F2843*I2843,1)","v":11724.6},0,{"$f":"TRUNC(F2843*K2843,1)","v":0},{"$f":"TRUNC(G2843+I2843+K2843,1)","v":217123},{"$f":"TRUNC(H2843+J2843+L2843,0)","v":11724},""]
["6925004","M500000","공구손료","노무비의 2%","식",1,null,{"$f":"TRUNC(F2844*G2844,1)","v":0},0,{"$f":"TRUNC(F2844*I2844,1)","v":0},234.4,{"$f":"TRUNC(F2844*K2844,1)","v":234.4},{"$f":"TRUNC(G2844+I2844+K2844,1)","v":234.4},{"$f":"TRUNC(H2844+J2844+L2844,0)","v":234},""]
[null,null,"[ 합           계 ]",{"$nulls":4},{"$f":"TRUNC(SUM(H2842:H2844),0)","v":1036},null,{"$f":"TRUNC(SUM(J2842:J2844),0)","v":11724},null,{"$f":"TRUNC(SUM(L2842:L2844),0)","v":234},null,{"$f":"H2845+J2845+L2845","v":12994}]
[]
[null,null,"6925005  콜탈도장  2회  M2"]
["6925005","5901007","타르에폭시","","kg",0.34599999999999997,5000,{"$f":"TRUNC(F2848*G2848,1)","v":1730},0,{"$f":"TRUNC(F2848*I2848,1)","v":0},0,{"$f":"TRUNC(F2848*K2848,1)","v":0},{"$f":"TRUNC(G2848+I2848+K2848,1)","v":5000},{"$f":"TRUNC(H2848+J2848+L2848,0)","v":1730},""]
["6925005","0001033","노무비","도장공","인",{"$f":"0.054*1.6","v":8.6400000000000005E-2},0,{"$f":"TRUNC(F2849*G2849,1)","v":0},217123,{"$f":"TRUNC(F2849*I2849,1)","v":18759.400000000001},0,{"$f":"TRUNC(F2849*K2849,1)","v":0},{"$f":"TRUNC(G2849+I2849+K2849,1)","v":217123},{"$f":"TRUNC(H2849+J2849+L2849,0)","v":18759},""]
["6925005","M500000","공구손료","노무비의 2%","식",1,null,{"$f":"TRUNC(F2850*G2850,1)","v":0},0,{"$f":"TRUNC(F2850*I2850,1)","v":0},375.1,{"$f":"TRUNC(F2850*K2850,1)","v":375.1},{"$f":"TRUNC(G2850+I2850+K2850,1)","v":375.1},{"$f":"TRUNC(H2850+J2850+L2850,0)","v":375},""]
[null,null,"[ 합           계 ]",{"$nulls":4},{"$f":"TRUNC(SUM(H2848:H2850),0)","v":1730},null,{"$f":"TRUNC(SUM(J2848:J2850),0)","v":18759},null,{"$f":"TRUNC(SUM(L2848:L2850),0)","v":375},null,{"$f":"H2851+J2851+L2851","v":20864}]
[]
[null,null,"6926001  압력계설치    조"]
["6926001","5406004","압력계","D100x10KG","EA",1,8310,{"$f":"TRUNC(F2854*G2854,1)","v":8310},0,{"$f":"TRUNC(F2854*I2854,1)","v":0},0,{"$f":"TRUNC(F2854*K2854,1)","v":0},{"$f":"TRUNC(G2854+I2854+K2854,1)","v":8310},{"$f":"TRUNC(H2854+J2854+L2854,0)","v":8310},""]
["6926001","5408009","볼밸브 (황동.10kg)","D10","EA",1,3800,{"$f":"TRUNC(F2855*G2855,1)","v":3800},0,{"$f":"TRUNC(F2855*I2855,1)","v":0},0,{"$f":"TRUNC(F2855*K2855,1)","v":0},{"$f":"TRUNC(G2855+I2855+K2855,1)","v":3800},{"$f":"TRUNC(H2855+J2855+L2855,0)","v":3800},""]
["6926001","5601101","사이폰관(압력계설치용)","","EA",1,1000,{"$f":"TRUNC(F2856*G2856,1)","v":1000},0,{"$f":"TRUNC(F2856*I2856,1)","v":0},0,{"$f":"TRUNC(F2856*K2856,1)","v":0},{"$f":"TRUNC(G2856+I2856+K2856,1)","v":1000},{"$f":"TRUNC(H2856+J2856+L2856,0)","v":1000},""]
["6926001","0001029","노무비","배관공","인",0.05,0,{"$f":"TRUNC(F2857*G2857,1)","v":0},202212,{"$f":"TRUNC(F2857*I2857,1)","v":10110.6},0,{"$f":"TRUNC(F2857*K2857,1)","v":0},{"$f":"TRUNC(G2857+I2857+K2857,1)","v":202212},{"$f":"TRUNC(H2857+J2857+L2857,0)","v":10110},""]
["6926001","M500000","공구손료","노무비의 2%","식",1,null,{"$f":"TRUNC(F2858*G2858,1)","v":0},0,{"$f":"TRUNC(F2858*I2858,1)","v":0},202.2,{"$f":"TRUNC(F2858*K2858,1)","v":202.2},{"$f":"TRUNC(G2858+I2858+K2858,1)","v":202.2},{"$f":"TRUNC(H2858+J2858+L2858,0)","v":202},""]
[null,null,"[ 합           계 ]",{"$nulls":4},{"$f":"TRUNC(SUM(H2854:H2858),0)","v":13110},null,{"$f":"TRUNC(SUM(J2854:J2858),0)","v":10110},null,{"$f":"TRUNC(SUM(L2854:L2858),0)","v":202},null,{"$f":"H2859+J2859+L2859","v":23422}]
[]
[null,null,"6926002  온도계설치    조"]
["6926002","5406013","온도계 T형","D100 (0~150°C)","EA",1,28890,{"$f":"TRUNC(F2862*G2862,1)","v":28890},0,{"$f":"TRUNC(F2862*I2862,1)","v":0},0,{"$f":"TRUNC(F2862*K2862,1)","v":0},{"$f":"TRUNC(G2862+I2862+K2862,1)","v":28890},{"$f":"TRUNC(H2862+J2862+L2862,0)","v":28890},""]
["6926002","5102202","백소켓 (나사)","D15","EA",1,650,{"$f":"TRUNC(F2863*G2863,1)","v":650},0,{"$f":"TRUNC(F2863*I2863,1)","v":0},0,{"$f":"TRUNC(F2863*K2863,1)","v":0},{"$f":"TRUNC(G2863+I2863+K2863,1)","v":650},{"$f":"TRUNC(H2863+J2863+L2863,0)","v":650},""]
["6926002","5102001","백니플 (나사)","D15","EA",1,790,{"$f":"TRUNC(F2864*G2864,1)","v":790},0,{"$f":"TRUNC(F2864*I2864,1)","v":0},0,{"$f":"TRUNC(F2864*K2864,1)","v":0},{"$f":"TRUNC(G2864+I2864+K2864,1)","v":790},{"$f":"TRUNC(H2864+J2864+L2864,0)","v":790},""]
["6926002","0001029","노무비","배관공","인",0.05,0,{"$f":"TRUNC(F2865*G2865,1)","v":0},202212,{"$f":"TRUNC(F2865*I2865,1)","v":10110.6},0,{"$f":"TRUNC(F2865*K2865,1)","v":0},{"$f":"TRUNC(G2865+I2865+K2865,1)","v":202212},{"$f":"TRUNC(H2865+J2865+L2865,0)","v":10110},""]
["6926002","M500000","공구손료","노무비의 2%","식",1,null,{"$f":"TRUNC(F2866*G2866,1)","v":0},0,{"$f":"TRUNC(F2866*I2866,1)","v":0},202.2,{"$f":"TRUNC(F2866*K2866,1)","v":202.2},{"$f":"TRUNC(G2866+I2866+K2866,1)","v":202.2},{"$f":"TRUNC(H2866+J2866+L2866,0)","v":202},""]
[null,null,"[ 합           계 ]",{"$nulls":4},{"$f":"TRUNC(SUM(H2862:H2866),0)","v":30330},null,{"$f":"TRUNC(SUM(J2862:J2866),0)","v":10110},null,{"$f":"TRUNC(SUM(L2862:L2866),0)","v":202},null,{"$f":"H2867+J2867+L2867","v":40642}]
[]
[null,null,"6927001  물탱크이설(4TON)  1000x2000x2000  "]
["6928001","5903001","시링테이프","50mm","M",46,700,{"$f":"TRUNC(F2870*G2870,1)","v":32200},0,{"$f":"TRUNC(F2870*I2870,1)","v":0},0,{"$f":"TRUNC(F2870*K2870,1)","v":0},{"$f":"TRUNC(G2870+I2870+K2870,1)","v":700},{"$f":"TRUNC(H2870+J2870+L2870,0)","v":32200},""]
["6928001","5903002","시링테이프","120mm","M",8,1500,12000,0,0,0,0,1500,12000,""]
["6928001","0503202","스텐레스볼트,너트,와셔","M12*45","EA",155,449.40000000000003,69657,0,0,0,0,449.4,69657,""]
["6928004","0503208","기초앙카볼트","기초앙카볼트","EA",4,7700,30800,0,0,0,0,7700,30800,""]
["6928004","0503208","몰탈바름","외벽,콘크리트바닥,15mm","M2",2,354,{"$f":"TRUNC(F2874*G2874,1)","v":708},13813,{"$f":"TRUNC(F2874*I2874,1)","v":27626},0,{"$f":"TRUNC(F2874*K2874,1)","v":0},{"$f":"TRUNC(G2874+I2874+K2874,1)","v":14167},{"$f":"TRUNC(H2874+J2874+L2874,0)","v":28334},""]
["6928001","0001083","노무비","특별인부","인",3.5,0,0,181293,634525.5,0,0,181293,634525,""]
["6928001","M500000","공구손료","노무비의 2%","식",1,12690.5,12690.5,0,0,12690.5,12690.5,25381,25381,""]
[null,null,"[ 합           계 ]",{"$nulls":4},{"$f":"TRUNC(SUM(H2870:H2876),0)","v":158055},null,{"$f":"TRUNC(SUM(J2870:J2876),0)","v":662151},null,{"$f":"TRUNC(SUM(L2870:L2876),0)","v":12690},null,{"$f":"H2877+J2877+L2877","v":832896}]
[]
[null,null,"6927002  물탱크이설(6TON)  2000x2000x1500  "]
["6928001","5903001","시링테이프","50mm","M",60,700,{"$f":"TRUNC(F2880*G2880,1)","v":42000},0,{"$f":"TRUNC(F2880*I2880,1)","v":0},0,{"$f":"TRUNC(F2880*K2880,1)","v":0},{"$f":"TRUNC(G2880+I2880+K2880,1)","v":700},{"$f":"TRUNC(H2880+J2880+L2880,0)","v":42000},""]
["6928001","5903002","시링테이프","120mm","M",6,1500,9000,0,0,0,0,1500,9000,""]
["6928001","0503202","스텐레스볼트,너트,와셔","M12*45","EA",159,449.40000000000003,71454.600000000006,0,0,0,0,449.4,71454,""]
["6928004","0503208","기초앙카볼트","기초앙카볼트","EA",4,7700,30800,0,0,0,0,7700,30800,""]
["6928004","0503208","몰탈바름","외벽,콘크리트바닥,15mm","M2",3,354,1062,13813,41439,0,0,14167,42501,""]
["6928001","0001083","노무비","특별인부","인",3.5,0,0,181293,634525.5,0,0,181293,634525,""]
["6928001","M500000","공구손료","노무비의 2%","식",1,null,0,0,0,12690.5,12690.5,12690.5,12690,""]
[null,null,"[ 합           계 ]",{"$nulls":4},{"$f":"TRUNC(SUM(H2880:H2886),0)","v":154316},null,{"$f":"TRUNC(SUM(J2880:J2886),0)","v":675964},null,{"$f":"TRUNC(SUM(L2880:L2886),0)","v":12690},null,{"$f":"H2887+J2887+L2887","v":842970}]
[]
[null,null,"6927003  물탱크이설(8TON)  2000x2000x2000  "]
["6928001","5903001","시링테이프","50mm","M",66,700,{"$f":"TRUNC(F2890*G2890,1)","v":46200},0,{"$f":"TRUNC(F2890*I2890,1)","v":0},0,{"$f":"TRUNC(F2890*K2890,1)","v":0},{"$f":"TRUNC(G2890+I2890+K2890,1)","v":700},{"$f":"TRUNC(H2890+J2890+L2890,0)","v":46200},""]
["6928001","5903002","시링테이프","120mm","M",8,1500,12000,0,0,0,0,1500,12000,""]
["6928001","0503202","스텐레스볼트,너트,와셔","M12*45","EA",218,449.40000000000003,97969.2,0,0,0,0,449.4,97969,""]
["6928004","0503208","기초앙카볼트","기초앙카볼트","EA",4,7700,30800,0,0,0,0,7700,30800,""]
["6928004","0503208","몰탈바름","외벽,콘크리트바닥,15mm","M2",4,354,1416,13813,55252,0,0,14167,56668,""]
["6928001","0001083","노무비","특별인부","인",4.7,0,0,181293,852077.1,0,0,181293,852077,""]
["6928001","M500000","공구손료","노무비의 2%","식",1,null,0,0,0,17041.5,17041.5,17041.5,17041,""]
[null,null,"[ 합           계 ]",{"$nulls":4},{"$f":"TRUNC(SUM(H2890:H2896),0)","v":188385},null,{"$f":"TRUNC(SUM(J2890:J2896),0)","v":907329},null,{"$f":"TRUNC(SUM(L2890:L2896),0)","v":17041},null,{"$f":"H2897+J2897+L2897","v":1112755}]
[]
[null,null,"6927004  물탱크이설(12TON)  2000x3000x2000  "]
["6928001","5903001","시링테이프","50mm","M",112,700,{"$f":"TRUNC(F2900*G2900,1)","v":78400},0,{"$f":"TRUNC(F2900*I2900,1)","v":0},0,{"$f":"TRUNC(F2900*K2900,1)","v":0},{"$f":"TRUNC(G2900+I2900+K2900,1)","v":700},{"$f":"TRUNC(H2900+J2900+L2900,0)","v":78400},""]
["6928001","5903002","시링테이프","120mm","M",8,1500,12000,0,0,0,0,1500,12000,""]
["6928001","0503202","스텐레스볼트,너트,와셔","M12*45","EA",285,449.40000000000003,128079,0,0,0,0,449.4,128079,""]
["6928004","0503208","기초앙카볼트","기초앙카볼트","EA",4,7700,30800,0,0,0,0,7700,30800,""]
["6928004","0503208","몰탈바름","외벽,콘크리트바닥,15mm","M2",6,354,2124,13813,82878,0,0,14167,85002,""]
["6928001","0001083","노무비","특별인부","인",4.7,0,0,181293,852077.1,0,0,181293,852077,""]
["6928001","M500000","공구손료","노무비의 2%","식",1,null,0,0,0,17041.5,17041.5,17041.5,17041,""]
[null,null,"[ 합           계 ]",{"$nulls":4},{"$f":"TRUNC(SUM(H2900:H2906),0)","v":251403},null,{"$f":"TRUNC(SUM(J2900:J2906),0)","v":934955},null,{"$f":"TRUNC(SUM(L2900:L2906),0)","v":17041},null,{"$f":"H2907+J2907+L2907","v":1203399}]
[]
[null,null,"6927005  물탱크이설(16TON)  2000x4000x2000  "]
["6928001","5903001","시링테이프","50mm","M",130,700,{"$f":"TRUNC(F2910*G2910,1)","v":91000},0,{"$f":"TRUNC(F2910*I2910,1)","v":0},0,{"$f":"TRUNC(F2910*K2910,1)","v":0},{"$f":"TRUNC(G2910+I2910+K2910,1)","v":700},{"$f":"TRUNC(H2910+J2910+L2910,0)","v":91000},""]
["6928001","5903002","시링테이프","120mm","M",8,1500,12000,0,0,0,0,1500,12000,""]
["6928001","0503202","스텐레스볼트,너트,와셔","M12*45","EA",348,449.40000000000003,156391.20000000001,0,0,0,0,449.4,156391,""]
["6928004","0503208","기초앙카볼트","기초앙카볼트","EA",4,7700,30800,0,0,0,0,7700,30800,""]
["6928004","0503208","몰탈바름","외벽,콘크리트바닥,15mm","M2",6,354,2124,13813,82878,0,0,14167,85002,""]
["6928001","0001083","노무비","특별인부","인",5.8,0,0,181293,1051499.3999999999,0,0,181293,1051499,""]
["6928001","M500000","공구손료","노무비의 2%","식",1,null,0,0,0,21029.9,21029.9,21029.9,21029,""]
[null,null,"[ 합           계 ]",{"$nulls":4},{"$f":"TRUNC(SUM(H2910:H2916),0)","v":292315},null,{"$f":"TRUNC(SUM(J2910:J2916),0)","v":1134377},null,{"$f":"TRUNC(SUM(L2910:L2916),0)","v":21029},null,{"$f":"H2917+J2917+L2917","v":1447721}]
[]
[null,null,"6929001  물탱크 철거(4TON)  1000x2000x2000  "]
["6929001","1770559","물탱크철거","특별인부","인",2.2999999999999998,0,{"$f":"TRUNC(F2920*G2920,1)","v":0},181293,{"$f":"TRUNC(F2920*I2920,1)","v":416973.9},0,{"$f":"TRUNC(F2920*K2920,1)","v":0},{"$f":"TRUNC(G2920+I2920+K2920,1)","v":181293},{"$f":"TRUNC(H2920+J2920+L2920,0)","v":416973},""]
["6929001","1770561","특정폐기물처리(운반포함)","물탱크 4ton","식",1,null,{"$f":"TRUNC(F2921*G2921,1)","v":0},0,{"$f":"TRUNC(F2921*I2921,1)","v":0},220000.00000000003,{"$f":"TRUNC(F2921*K2921,1)","v":220000},{"$f":"TRUNC(G2921+I2921+K2921,1)","v":220000},{"$f":"TRUNC(H2921+J2921+L2921,0)","v":220000},""]
[null,null,"[ 합           계 ]",{"$nulls":4},{"$f":"TRUNC(SUM(H2920:H2921),0)","v":0},null,{"$f":"TRUNC(SUM(J2920:J2921),0)","v":416973},null,{"$f":"TRUNC(SUM(L2920:L2921),0)","v":220000},null,{"$f":"H2922+J2922+L2922","v":636973}]
[]
[null,null,"6929002  물탱크 철거(6TON)  2000x2000x1500  "]
["6929002","1770559","물탱크철거","특별인부","인",3.5,0,{"$f":"TRUNC(F2925*G2925,1)","v":0},181293,{"$f":"TRUNC(F2925*I2925,1)","v":634525.5},0,{"$f":"TRUNC(F2925*K2925,1)","v":0},{"$f":"TRUNC(G2925+I2925+K2925,1)","v":181293},{"$f":"TRUNC(H2925+J2925+L2925,0)","v":634525},""]
["6929002","1770562","특정폐기물처리(운반포함)","물탱크 6ton","식",1,null,{"$f":"TRUNC(F2926*G2926,1)","v":0},0,{"$f":"TRUNC(F2926*I2926,1)","v":0},275000,{"$f":"TRUNC(F2926*K2926,1)","v":275000},{"$f":"TRUNC(G2926+I2926+K2926,1)","v":275000},{"$f":"TRUNC(H2926+J2926+L2926,0)","v":275000},""]
[null,null,"[ 합           계 ]",{"$nulls":4},{"$f":"TRUNC(SUM(H2925:H2926),0)","v":0},null,{"$f":"TRUNC(SUM(J2925:J2926),0)","v":634525},null,{"$f":"TRUNC(SUM(L2925:L2926),0)","v":275000},null,{"$f":"H2927+J2927+L2927","v":909525}]
[]
[null,null,"6929003  물탱크 철거(8TON)  2000x2000x2000  "]
["6929003","1770559","물탱크철거","특별인부","인",3.5,0,{"$f":"TRUNC(F2930*G2930,1)","v":0},181293,{"$f":"TRUNC(F2930*I2930,1)","v":634525.5},0,{"$f":"TRUNC(F2930*K2930,1)","v":0},{"$f":"TRUNC(G2930+I2930+K2930,1)","v":181293},{"$f":"TRUNC(H2930+J2930+L2930,0)","v":634525},""]
["6929003","1770563","특정폐기물처리(운반포함)","물탱크 8ton","식",1,null,{"$f":"TRUNC(F2931*G2931,1)","v":0},0,{"$f":"TRUNC(F2931*I2931,1)","v":0},330000,{"$f":"TRUNC(F2931*K2931,1)","v":330000},{"$f":"TRUNC(G2931+I2931+K2931,1)","v":330000},{"$f":"TRUNC(H2931+J2931+L2931,0)","v":330000},""]
[null,null,"[ 합           계 ]",{"$nulls":4},{"$f":"TRUNC(SUM(H2930:H2931),0)","v":0},null,{"$f":"TRUNC(SUM(J2930:J2931),0)","v":634525},null,{"$f":"TRUNC(SUM(L2930:L2931),0)","v":330000},null,{"$f":"H2932+J2932+L2932","v":964525}]
[]
[null,null,"6929004  물탱크 철거(12TON)  2000x3000x2000  "]
["6929004","1770559","물탱크철거","특별인부","인",4.0999999999999996,0,{"$f":"TRUNC(F2935*G2935,1)","v":0},181293,{"$f":"TRUNC(F2935*I2935,1)","v":743301.3},0,{"$f":"TRUNC(F2935*K2935,1)","v":0},{"$f":"TRUNC(G2935+I2935+K2935,1)","v":181293},{"$f":"TRUNC(H2935+J2935+L2935,0)","v":743301},""]
["6929004","1770564","특정폐기물처리(운반포함)","물탱크 12ton","식",1,null,{"$f":"TRUNC(F2936*G2936,1)","v":0},0,{"$f":"TRUNC(F2936*I2936,1)","v":0},440000.00000000006,{"$f":"TRUNC(F2936*K2936,1)","v":440000},{"$f":"TRUNC(G2936+I2936+K2936,1)","v":440000},{"$f":"TRUNC(H2936+J2936+L2936,0)","v":440000},""]
[null,null,"[ 합           계 ]",{"$nulls":4},{"$f":"TRUNC(SUM(H2935:H2936),0)","v":0},null,{"$f":"TRUNC(SUM(J2935:J2936),0)","v":743301},null,{"$f":"TRUNC(SUM(L2935:L2936),0)","v":440000},null,{"$f":"H2937+J2937+L2937","v":1183301}]
[]
[null,null,"6929004  물탱크 철거(94TON)  "]
[null,null,"물탱크철거","특별인부","인",54,0,{"$f":"TRUNC(F2940*G2940,1)","v":0},181293,{"$f":"TRUNC(F2940*I2940,1)","v":9789822},0,{"$f":"TRUNC(F2940*K2940,1)","v":0},{"$f":"TRUNC(G2940+I2940+K2940,1)","v":181293},{"$f":"TRUNC(H2940+J2940+L2940,0)","v":9789822},"",null,"톤당공량",{"$f":"F2920/4","v":0.57499999999999996}]
[null,null,"특정폐기물처리(운반포함)","물탱크 12ton","식",1,null,{"$f":"TRUNC(F2941*G2941,1)","v":0},0,{"$f":"TRUNC(F2941*I2941,1)","v":0},{"$f":"#REF!","v":{"$error":"#REF!"}},{"$f":"TRUNC(F2941*K2941,1)","v":{"$error":"#REF!"}},{"$f":"TRUNC(G2941+I2941+K2941,1)","v":{"$error":"#REF!"}},{"$f":"TRUNC(H2941+J2941+L2941,0)","v":{"$error":"#REF!"}},"",null,"톤수",94]
[null,null,"[ 합           계 ]",{"$nulls":4},{"$f":"TRUNC(SUM(H2940:H2941),0)","v":0},null,{"$f":"TRUNC(SUM(J2940:J2941),0)","v":9789822},null,{"$f":"TRUNC(SUM(L2940:L2941),0)","v":{"$error":"#REF!"}},null,{"$f":"H2942+J2942+L2942","v":{"$error":"#REF!"}},null,null,"94톤공량",{"$f":"R2940*R2941","v":54.05}]
[{"$nulls":16},"단가문의: 교육청단가표에 있는 연락처"]
[null,null,"6930001  U 볼트,너트  Φ15  개소"]
["6930001","0507040","U 볼트","M10  L15","개",1,171,{"$f":"TRUNC(F2945*G2945,1)","v":171},0,{"$f":"TRUNC(F2945*I2945,1)","v":0},0,{"$f":"TRUNC(F2945*K2945,1)","v":0},{"$f":"TRUNC(G2945+I2945+K2945,1)","v":171},{"$f":"TRUNC(H2945+J2945+L2945,0)","v":171},""]
["6930001","0501804","너트","M10 (3/8\")","EA",2,21.3,{"$f":"TRUNC(F2946*G2946,1)","v":42.6},0,{"$f":"TRUNC(F2946*I2946,1)","v":0},0,{"$f":"TRUNC(F2946*K2946,1)","v":0},{"$f":"TRUNC(G2946+I2946+K2946,1)","v":21.3},{"$f":"TRUNC(H2946+J2946+L2946,0)","v":42},""]
["6930001","0513003","와샤","M10","개",2,9.4,{"$f":"TRUNC(F2947*G2947,1)","v":18.8},0,{"$f":"TRUNC(F2947*I2947,1)","v":0},0,{"$f":"TRUNC(F2947*K2947,1)","v":0},{"$f":"TRUNC(G2947+I2947+K2947,1)","v":9.4},{"$f":"TRUNC(H2947+J2947+L2947,0)","v":18},""]
[null,null,"[ 합           계 ]",{"$nulls":4},{"$f":"TRUNC(SUM(H2945:H2947),0)","v":232},null,{"$f":"TRUNC(SUM(J2945:J2947),0)","v":0},null,{"$f":"TRUNC(SUM(L2945:L2947),0)","v":0},null,{"$f":"H2948+J2948+L2948","v":232}]
[]
[null,null,"6930002  U 볼트,너트  Φ20  개소"]
["6930002","0507041","U 볼트","M10  L20","개",1,183,{"$f":"TRUNC(F2951*G2951,1)","v":183},0,{"$f":"TRUNC(F2951*I2951,1)","v":0},0,{"$f":"TRUNC(F2951*K2951,1)","v":0},{"$f":"TRUNC(G2951+I2951+K2951,1)","v":183},{"$f":"TRUNC(H2951+J2951+L2951,0)","v":183},""]
["6930002","0501804","너트","M10 (3/8\")","EA",2,21.3,{"$f":"TRUNC(F2952*G2952,1)","v":42.6},0,{"$f":"TRUNC(F2952*I2952,1)","v":0},0,{"$f":"TRUNC(F2952*K2952,1)","v":0},{"$f":"TRUNC(G2952+I2952+K2952,1)","v":21.3},{"$f":"TRUNC(H2952+J2952+L2952,0)","v":42},""]
["6930002","0513003","와샤","M10","개",2,9.4,{"$f":"TRUNC(F2953*G2953,1)","v":18.8},0,{"$f":"TRUNC(F2953*I2953,1)","v":0},0,{"$f":"TRUNC(F2953*K2953,1)","v":0},{"$f":"TRUNC(G2953+I2953+K2953,1)","v":9.4},{"$f":"TRUNC(H2953+J2953+L2953,0)","v":18},""]
[null,null,"[ 합           계 ]",{"$nulls":4},{"$f":"TRUNC(SUM(H2951:H2953),0)","v":244},null,{"$f":"TRUNC(SUM(J2951:J2953),0)","v":0},null,{"$f":"TRUNC(SUM(L2951:L2953),0)","v":0},null,{"$f":"H2954+J2954+L2954","v":244}]
[]
[null,null,"6930003  U 볼트,너트  Φ25  개소"]
["6930003","0507042","U 볼트","M10  L25","개",1,194,{"$f":"TRUNC(F2957*G2957,1)","v":194},0,{"$f":"TRUNC(F2957*I2957,1)","v":0},0,{"$f":"TRUNC(F2957*K2957,1)","v":0},{"$f":"TRUNC(G2957+I2957+K2957,1)","v":194},{"$f":"TRUNC(H2957+J2957+L2957,0)","v":194},""]
["6930003","0501804","너트","M10 (3/8\")","EA",2,21.3,{"$f":"TRUNC(F2958*G2958,1)","v":42.6},0,{"$f":"TRUNC(F2958*I2958,1)","v":0},0,{"$f":"TRUNC(F2958*K2958,1)","v":0},{"$f":"TRUNC(G2958+I2958+K2958,1)","v":21.3},{"$f":"TRUNC(H2958+J2958+L2958,0)","v":42},""]
["6930003","0513003","와샤","M10","개",2,9.4,{"$f":"TRUNC(F2959*G2959,1)","v":18.8},0,{"$f":"TRUNC(F2959*I2959,1)","v":0},0,{"$f":"TRUNC(F2959*K2959,1)","v":0},{"$f":"TRUNC(G2959+I2959+K2959,1)","v":9.4},{"$f":"TRUNC(H2959+J2959+L2959,0)","v":18},""]
[null,null,"[ 합           계 ]",{"$nulls":4},{"$f":"TRUNC(SUM(H2957:H2959),0)","v":255},null,{"$f":"TRUNC(SUM(J2957:J2959),0)","v":0},null,{"$f":"TRUNC(SUM(L2957:L2959),0)","v":0},null,{"$f":"H2960+J2960+L2960","v":255}]
[]
[null,null,"6930004  U 볼트,너트  Φ32  개소"]
["6930004","0507043","U 볼트","M10  L30","개",1,207,{"$f":"TRUNC(F2963*G2963,1)","v":207},0,{"$f":"TRUNC(F2963*I2963,1)","v":0},0,{"$f":"TRUNC(F2963*K2963,1)","v":0},{"$f":"TRUNC(G2963+I2963+K2963,1)","v":207},{"$f":"TRUNC(H2963+J2963+L2963,0)","v":207},""]
["6930004","0501804","너트","M10 (3/8\")","EA",2,21.3,{"$f":"TRUNC(F2964*G2964,1)","v":42.6},0,{"$f":"TRUNC(F2964*I2964,1)","v":0},0,{"$f":"TRUNC(F2964*K2964,1)","v":0},{"$f":"TRUNC(G2964+I2964+K2964,1)","v":21.3},{"$f":"TRUNC(H2964+J2964+L2964,0)","v":42},""]
["6930004","0513003","와샤","M10","개",2,9.4,{"$f":"TRUNC(F2965*G2965,1)","v":18.8},0,{"$f":"TRUNC(F2965*I2965,1)","v":0},0,{"$f":"TRUNC(F2965*K2965,1)","v":0},{"$f":"TRUNC(G2965+I2965+K2965,1)","v":9.4},{"$f":"TRUNC(H2965+J2965+L2965,0)","v":18},""]
[null,null,"[ 합           계 ]",{"$nulls":4},{"$f":"TRUNC(SUM(H2963:H2965),0)","v":268},null,{"$f":"TRUNC(SUM(J2963:J2965),0)","v":0},null,{"$f":"TRUNC(SUM(L2963:L2965),0)","v":0},null,{"$f":"H2966+J2966+L2966","v":268}]
[]
[null,null,"6930005  U 볼트,너트  Φ40  개소"]
["6930005","0507044","U 볼트","M10  L40","개",1,220,{"$f":"TRUNC(F2969*G2969,1)","v":220},0,{"$f":"TRUNC(F2969*I2969,1)","v":0},0,{"$f":"TRUNC(F2969*K2969,1)","v":0},{"$f":"TRUNC(G2969+I2969+K2969,1)","v":220},{"$f":"TRUNC(H2969+J2969+L2969,0)","v":220},""]
["6930005","0501804","너트","M10 (3/8\")","EA",2,21.3,{"$f":"TRUNC(F2970*G2970,1)","v":42.6},0,{"$f":"TRUNC(F2970*I2970,1)","v":0},0,{"$f":"TRUNC(F2970*K2970,1)","v":0},{"$f":"TRUNC(G2970+I2970+K2970,1)","v":21.3},{"$f":"TRUNC(H2970+J2970+L2970,0)","v":42},""]
["6930005","0513003","와샤","M10","개",2,9.4,{"$f":"TRUNC(F2971*G2971,1)","v":18.8},0,{"$f":"TRUNC(F2971*I2971,1)","v":0},0,{"$f":"TRUNC(F2971*K2971,1)","v":0},{"$f":"TRUNC(G2971+I2971+K2971,1)","v":9.4},{"$f":"TRUNC(H2971+J2971+L2971,0)","v":18},""]
[null,null,"[ 합           계 ]",{"$nulls":4},{"$f":"TRUNC(SUM(H2969:H2971),0)","v":281},null,{"$f":"TRUNC(SUM(J2969:J2971),0)","v":0},null,{"$f":"TRUNC(SUM(L2969:L2971),0)","v":0},null,{"$f":"H2972+J2972+L2972","v":281}]
[]
[null,null,"6930006  U 볼트,너트  Φ50  개소"]
["6930006","0507045","U 볼트","M10  L50","개",1,244,{"$f":"TRUNC(F2975*G2975,1)","v":244},0,{"$f":"TRUNC(F2975*I2975,1)","v":0},0,{"$f":"TRUNC(F2975*K2975,1)","v":0},{"$f":"TRUNC(G2975+I2975+K2975,1)","v":244},{"$f":"TRUNC(H2975+J2975+L2975,0)","v":244},""]
["6930006","0501804","너트","M10 (3/8\")","EA",2,21.3,{"$f":"TRUNC(F2976*G2976,1)","v":42.6},0,{"$f":"TRUNC(F2976*I2976,1)","v":0},0,{"$f":"TRUNC(F2976*K2976,1)","v":0},{"$f":"TRUNC(G2976+I2976+K2976,1)","v":21.3},{"$f":"TRUNC(H2976+J2976+L2976,0)","v":42},""]
["6930006","0513003","와샤","M10","개",2,9.4,{"$f":"TRUNC(F2977*G2977,1)","v":18.8},0,{"$f":"TRUNC(F2977*I2977,1)","v":0},0,{"$f":"TRUNC(F2977*K2977,1)","v":0},{"$f":"TRUNC(G2977+I2977+K2977,1)","v":9.4},{"$f":"TRUNC(H2977+J2977+L2977,0)","v":18},""]
[null,null,"[ 합           계 ]",{"$nulls":4},{"$f":"TRUNC(SUM(H2975:H2977),0)","v":305},null,{"$f":"TRUNC(SUM(J2975:J2977),0)","v":0},null,{"$f":"TRUNC(SUM(L2975:L2977),0)","v":0},null,{"$f":"H2978+J2978+L2978","v":305}]
[]
[null,null,"6930007  U 볼트,너트  Φ65  개소"]
["6930007","0507046","U 볼트","M10  L60","개",1,269,{"$f":"TRUNC(F2981*G2981,1)","v":269},0,{"$f":"TRUNC(F2981*I2981,1)","v":0},0,{"$f":"TRUNC(F2981*K2981,1)","v":0},{"$f":"TRUNC(G2981+I2981+K2981,1)","v":269},{"$f":"TRUNC(H2981+J2981+L2981,0)","v":269},""]
["6930007","0501804","너트","M10 (3/8\")","EA",2,21.3,{"$f":"TRUNC(F2982*G2982,1)","v":42.6},0,{"$f":"TRUNC(F2982*I2982,1)","v":0},0,{"$f":"TRUNC(F2982*K2982,1)","v":0},{"$f":"TRUNC(G2982+I2982+K2982,1)","v":21.3},{"$f":"TRUNC(H2982+J2982+L2982,0)","v":42},""]
["6930007","0513003","와샤","M10","개",2,9.4,{"$f":"TRUNC(F2983*G2983,1)","v":18.8},0,{"$f":"TRUNC(F2983*I2983,1)","v":0},0,{"$f":"TRUNC(F2983*K2983,1)","v":0},{"$f":"TRUNC(G2983+I2983+K2983,1)","v":9.4},{"$f":"TRUNC(H2983+J2983+L2983,0)","v":18},""]
[null,null,"[ 합           계 ]",{"$nulls":4},{"$f":"TRUNC(SUM(H2981:H2983),0)","v":330},null,{"$f":"TRUNC(SUM(J2981:J2983),0)","v":0},null,{"$f":"TRUNC(SUM(L2981:L2983),0)","v":0},null,{"$f":"H2984+J2984+L2984","v":330}]
[]
[null,null,"6930008  U 볼트,너트  Φ80  개소"]
["6930008","0507063","U 볼트","M10  L80","개",1,293,{"$f":"TRUNC(F2987*G2987,1)","v":293},0,{"$f":"TRUNC(F2987*I2987,1)","v":0},0,{"$f":"TRUNC(F2987*K2987,1)","v":0},{"$f":"TRUNC(G2987+I2987+K2987,1)","v":293},{"$f":"TRUNC(H2987+J2987+L2987,0)","v":293},""]
["6930008","0501805","너트","M10 (3/8\")","EA",2,21.3,{"$f":"TRUNC(F2988*G2988,1)","v":42.6},0,{"$f":"TRUNC(F2988*I2988,1)","v":0},0,{"$f":"TRUNC(F2988*K2988,1)","v":0},{"$f":"TRUNC(G2988+I2988+K2988,1)","v":21.3},{"$f":"TRUNC(H2988+J2988+L2988,0)","v":42},""]
["6930008","0513004","와샤","M10","개",2,9.4,{"$f":"TRUNC(F2989*G2989,1)","v":18.8},0,{"$f":"TRUNC(F2989*I2989,1)","v":0},0,{"$f":"TRUNC(F2989*K2989,1)","v":0},{"$f":"TRUNC(G2989+I2989+K2989,1)","v":9.4},{"$f":"TRUNC(H2989+J2989+L2989,0)","v":18},""]
[null,null,"[ 합           계 ]",{"$nulls":4},{"$f":"TRUNC(SUM(H2987:H2989),0)","v":354},null,{"$f":"TRUNC(SUM(J2987:J2989),0)","v":0},null,{"$f":"TRUNC(SUM(L2987:L2989),0)","v":0},null,{"$f":"H2990+J2990+L2990","v":354}]
[]
[null,null,"6930009  U 볼트,너트  Φ100  개소"]
["6930009","0507064","U 볼트","M12  L100","개",1,844,{"$f":"TRUNC(F2993*G2993,1)","v":844},0,{"$f":"TRUNC(F2993*I2993,1)","v":0},0,{"$f":"TRUNC(F2993*K2993,1)","v":0},{"$f":"TRUNC(G2993+I2993+K2993,1)","v":844},{"$f":"TRUNC(H2993+J2993+L2993,0)","v":844},""]
["6930009","0501805","너트","M12 (1/2\")","EA",2,31.6,{"$f":"TRUNC(F2994*G2994,1)","v":63.2},0,{"$f":"TRUNC(F2994*I2994,1)","v":0},0,{"$f":"TRUNC(F2994*K2994,1)","v":0},{"$f":"TRUNC(G2994+I2994+K2994,1)","v":31.6},{"$f":"TRUNC(H2994+J2994+L2994,0)","v":63},""]
["6930009","0513004","와샤","M12","개",2,16.3,{"$f":"TRUNC(F2995*G2995,1)","v":32.6},0,{"$f":"TRUNC(F2995*I2995,1)","v":0},0,{"$f":"TRUNC(F2995*K2995,1)","v":0},{"$f":"TRUNC(G2995+I2995+K2995,1)","v":16.3},{"$f":"TRUNC(H2995+J2995+L2995,0)","v":32},""]
[null,null,"[ 합           계 ]",{"$nulls":4},{"$f":"TRUNC(SUM(H2993:H2995),0)","v":939},null,{"$f":"TRUNC(SUM(J2993:J2995),0)","v":0},null,{"$f":"TRUNC(SUM(L2993:L2995),0)","v":0},null,{"$f":"H2996+J2996+L2996","v":939}]
[]
[null,null,"6930010  U 볼트,너트  Φ125  개소"]
["6930010","0507065","U 볼트","M12  L130","개",1,1013,{"$f":"TRUNC(F2999*G2999,1)","v":1013},0,{"$f":"TRUNC(F2999*I2999,1)","v":0},0,{"$f":"TRUNC(F2999*K2999,1)","v":0},{"$f":"TRUNC(G2999+I2999+K2999,1)","v":1013},{"$f":"TRUNC(H2999+J2999+L2999,0)","v":1013},""]
["6930010","0501805","너트","M12 (1/2\")","EA",2,31.6,{"$f":"TRUNC(F3000*G3000,1)","v":63.2},0,{"$f":"TRUNC(F3000*I3000,1)","v":0},0,{"$f":"TRUNC(F3000*K3000,1)","v":0},{"$f":"TRUNC(G3000+I3000+K3000,1)","v":31.6},{"$f":"TRUNC(H3000+J3000+L3000,0)","v":63},""]
["6930010","0513004","와샤","M12","개",2,16.3,{"$f":"TRUNC(F3001*G3001,1)","v":32.6},0,{"$f":"TRUNC(F3001*I3001,1)","v":0},0,{"$f":"TRUNC(F3001*K3001,1)","v":0},{"$f":"TRUNC(G3001+I3001+K3001,1)","v":16.3},{"$f":"TRUNC(H3001+J3001+L3001,0)","v":32},""]
[null,null,"[ 합           계 ]",{"$nulls":4},{"$f":"TRUNC(SUM(H2999:H3001),0)","v":1108},null,{"$f":"TRUNC(SUM(J2999:J3001),0)","v":0},null,{"$f":"TRUNC(SUM(L2999:L3001),0)","v":0},null,{"$f":"H3002+J3002+L3002","v":1108}]
[]
[null,null,"6930011  U 볼트,너트   Φ150  개소"]
["6930011","0507066","U 볼트","M12  L150","개",1,1245,{"$f":"TRUNC(F3005*G3005,1)","v":1245},0,{"$f":"TRUNC(F3005*I3005,1)","v":0},0,{"$f":"TRUNC(F3005*K3005,1)","v":0},{"$f":"TRUNC(G3005+I3005+K3005,1)","v":1245},{"$f":"TRUNC(H3005+J3005+L3005,0)","v":1245},""]
["6930011","0501805","너트","M12 (1/2\")","EA",2,31.6,{"$f":"TRUNC(F3006*G3006,1)","v":63.2},0,{"$f":"TRUNC(F3006*I3006,1)","v":0},0,{"$f":"TRUNC(F3006*K3006,1)","v":0},{"$f":"TRUNC(G3006+I3006+K3006,1)","v":31.6},{"$f":"TRUNC(H3006+J3006+L3006,0)","v":63},""]
["6930011","0513004","와샤","M12","개",2,16.3,{"$f":"TRUNC(F3007*G3007,1)","v":32.6},0,{"$f":"TRUNC(F3007*I3007,1)","v":0},0,{"$f":"TRUNC(F3007*K3007,1)","v":0},{"$f":"TRUNC(G3007+I3007+K3007,1)","v":16.3},{"$f":"TRUNC(H3007+J3007+L3007,0)","v":32},""]
[null,null,"[ 합           계 ]",{"$nulls":4},{"$f":"TRUNC(SUM(H3005:H3007),0)","v":1340},null,{"$f":"TRUNC(SUM(J3005:J3007),0)","v":0},null,{"$f":"TRUNC(SUM(L3005:L3007),0)","v":0},null,{"$f":"H3008+J3008+L3008","v":1340}]
[]
[null,null,"6930012  U 볼트,너트   Φ200  개소"]
["6930012","0507093","U 볼트","M16  L200","개",1,2808,{"$f":"TRUNC(F3011*G3011,1)","v":2808},0,{"$f":"TRUNC(F3011*I3011,1)","v":0},0,{"$f":"TRUNC(F3011*K3011,1)","v":0},{"$f":"TRUNC(G3011+I3011+K3011,1)","v":2808},{"$f":"TRUNC(H3011+J3011+L3011,0)","v":2808},""]
["6930012","0501809","너트","M16 (5/8\")","EA",2,61.2,{"$f":"TRUNC(F3012*G3012,1)","v":122.4},0,{"$f":"TRUNC(F3012*I3012,1)","v":0},0,{"$f":"TRUNC(F3012*K3012,1)","v":0},{"$f":"TRUNC(G3012+I3012+K3012,1)","v":61.2},{"$f":"TRUNC(H3012+J3012+L3012,0)","v":122},""]
["6930012","0513008","와샤","M16","개",2,27.3,{"$f":"TRUNC(F3013*G3013,1)","v":54.6},0,{"$f":"TRUNC(F3013*I3013,1)","v":0},0,{"$f":"TRUNC(F3013*K3013,1)","v":0},{"$f":"TRUNC(G3013+I3013+K3013,1)","v":27.3},{"$f":"TRUNC(H3013+J3013+L3013,0)","v":54},""]
[null,null,"[ 합           계 ]",{"$nulls":4},{"$f":"TRUNC(SUM(H3011:H3013),0)","v":2985},null,{"$f":"TRUNC(SUM(J3011:J3013),0)","v":0},null,{"$f":"TRUNC(SUM(L3011:L3013),0)","v":0},null,{"$f":"H3014+J3014+L3014","v":2985}]
[]
[null,null,"6930013  U 볼트,너트  Φ250  개소"]
["6930013","0507094","U 볼트","M16  L250","개",1,3297,{"$f":"TRUNC(F3017*G3017,1)","v":3297},0,{"$f":"TRUNC(F3017*I3017,1)","v":0},0,{"$f":"TRUNC(F3017*K3017,1)","v":0},{"$f":"TRUNC(G3017+I3017+K3017,1)","v":3297},{"$f":"TRUNC(H3017+J3017+L3017,0)","v":3297},""]
["6930013","0501809","너트","M16 (5/8\")","EA",2,61.2,{"$f":"TRUNC(F3018*G3018,1)","v":122.4},0,{"$f":"TRUNC(F3018*I3018,1)","v":0},0,{"$f":"TRUNC(F3018*K3018,1)","v":0},{"$f":"TRUNC(G3018+I3018+K3018,1)","v":61.2},{"$f":"TRUNC(H3018+J3018+L3018,0)","v":122},""]
["6930013","0513008","와샤","M16","개",2,27.3,{"$f":"TRUNC(F3019*G3019,1)","v":54.6},0,{"$f":"TRUNC(F3019*I3019,1)","v":0},0,{"$f":"TRUNC(F3019*K3019,1)","v":0},{"$f":"TRUNC(G3019+I3019+K3019,1)","v":27.3},{"$f":"TRUNC(H3019+J3019+L3019,0)","v":54},""]
[null,null,"[ 합           계 ]",{"$nulls":4},{"$f":"TRUNC(SUM(H3017:H3019),0)","v":3474},null,{"$f":"TRUNC(SUM(J3017:J3019),0)","v":0},null,{"$f":"TRUNC(SUM(L3017:L3019),0)","v":0},null,{"$f":"H3020+J3020+L3020","v":3474}]
[]
[null,null,"6930014  U 볼트,너트  Φ300  개소"]
["6930014","0507095","U 볼트","M16  L300","개",1,4151,{"$f":"TRUNC(F3023*G3023,1)","v":4151},0,{"$f":"TRUNC(F3023*I3023,1)","v":0},0,{"$f":"TRUNC(F3023*K3023,1)","v":0},{"$f":"TRUNC(G3023+I3023+K3023,1)","v":4151},{"$f":"TRUNC(H3023+J3023+L3023,0)","v":4151},""]
["6930014","0501809","너트","M16 (5/8\")","EA",2,61.2,{"$f":"TRUNC(F3024*G3024,1)","v":122.4},0,{"$f":"TRUNC(F3024*I3024,1)","v":0},0,{"$f":"TRUNC(F3024*K3024,1)","v":0},{"$f":"TRUNC(G3024+I3024+K3024,1)","v":61.2},{"$f":"TRUNC(H3024+J3024+L3024,0)","v":122},""]
["6930014","0513008","와샤","M16","개",2,27.3,{"$f":"TRUNC(F3025*G3025,1)","v":54.6},0,{"$f":"TRUNC(F3025*I3025,1)","v":0},0,{"$f":"TRUNC(F3025*K3025,1)","v":0},{"$f":"TRUNC(G3025+I3025+K3025,1)","v":27.3},{"$f":"TRUNC(H3025+J3025+L3025,0)","v":54},""]
[null,null,"[ 합           계 ]",{"$nulls":4},{"$f":"TRUNC(SUM(H3023:H3025),0)","v":4328},null,{"$f":"TRUNC(SUM(J3023:J3025),0)","v":0},null,{"$f":"TRUNC(SUM(L3023:L3025),0)","v":0},null,{"$f":"H3026+J3026+L3026","v":4328}]
[]
[null,null,"6931001  U 볼트,너트 (절연)  Φ15  개소"]
["6931001","0507701","U 볼트 (절연)","M10  L15","개",1,383,{"$f":"TRUNC(F3029*G3029,1)","v":383},0,{"$f":"TRUNC(F3029*I3029,1)","v":0},0,{"$f":"TRUNC(F3029*K3029,1)","v":0},{"$f":"TRUNC(G3029+I3029+K3029,1)","v":383},{"$f":"TRUNC(H3029+J3029+L3029,0)","v":383},""]
["6931001","0501804","너트","M10 (3/8\")","EA",2,21.3,{"$f":"TRUNC(F3030*G3030,1)","v":42.6},0,{"$f":"TRUNC(F3030*I3030,1)","v":0},0,{"$f":"TRUNC(F3030*K3030,1)","v":0},{"$f":"TRUNC(G3030+I3030+K3030,1)","v":21.3},{"$f":"TRUNC(H3030+J3030+L3030,0)","v":42},""]
["6931001","0513003","와샤","M10","개",2,9.4,{"$f":"TRUNC(F3031*G3031,1)","v":18.8},0,{"$f":"TRUNC(F3031*I3031,1)","v":0},0,{"$f":"TRUNC(F3031*K3031,1)","v":0},{"$f":"TRUNC(G3031+I3031+K3031,1)","v":9.4},{"$f":"TRUNC(H3031+J3031+L3031,0)","v":18},""]
[null,null,"[ 합           계 ]",{"$nulls":4},{"$f":"TRUNC(SUM(H3029:H3031),0)","v":444},null,{"$f":"TRUNC(SUM(J3029:J3031),0)","v":0},null,{"$f":"TRUNC(SUM(L3029:L3031),0)","v":0},null,{"$f":"H3032+J3032+L3032","v":444}]
[]
[null,null,"6931002  U 볼트,너트 (절연)  Φ20  개소"]
["6931002","0507702","U 볼트 (절연)","M10  L20","개",1,446,{"$f":"TRUNC(F3035*G3035,1)","v":446},0,{"$f":"TRUNC(F3035*I3035,1)","v":0},0,{"$f":"TRUNC(F3035*K3035,1)","v":0},{"$f":"TRUNC(G3035+I3035+K3035,1)","v":446},{"$f":"TRUNC(H3035+J3035+L3035,0)","v":446},""]
["6931002","0501804","너트","M10 (3/8\")","EA",2,21.3,{"$f":"TRUNC(F3036*G3036,1)","v":42.6},0,{"$f":"TRUNC(F3036*I3036,1)","v":0},0,{"$f":"TRUNC(F3036*K3036,1)","v":0},{"$f":"TRUNC(G3036+I3036+K3036,1)","v":21.3},{"$f":"TRUNC(H3036+J3036+L3036,0)","v":42},""]
["6931002","0513003","와샤","M10","개",2,9.4,{"$f":"TRUNC(F3037*G3037,1)","v":18.8},0,{"$f":"TRUNC(F3037*I3037,1)","v":0},0,{"$f":"TRUNC(F3037*K3037,1)","v":0},{"$f":"TRUNC(G3037+I3037+K3037,1)","v":9.4},{"$f":"TRUNC(H3037+J3037+L3037,0)","v":18},""]
[null,null,"[ 합           계 ]",{"$nulls":4},{"$f":"TRUNC(SUM(H3035:H3037),0)","v":507},null,{"$f":"TRUNC(SUM(J3035:J3037),0)","v":0},null,{"$f":"TRUNC(SUM(L3035:L3037),0)","v":0},null,{"$f":"H3038+J3038+L3038","v":507}]
[]
[null,null,"6931003  U 볼트,너트 (절연)  Φ25  개소"]
["6931003","0507703","U 볼트 (절연)","M10  L25","개",1,485,{"$f":"TRUNC(F3041*G3041,1)","v":485},0,{"$f":"TRUNC(F3041*I3041,1)","v":0},0,{"$f":"TRUNC(F3041*K3041,1)","v":0},{"$f":"TRUNC(G3041+I3041+K3041,1)","v":485},{"$f":"TRUNC(H3041+J3041+L3041,0)","v":485},""]
["6931003","0501804","너트","M10 (3/8\")","EA",2,21.3,{"$f":"TRUNC(F3042*G3042,1)","v":42.6},0,{"$f":"TRUNC(F3042*I3042,1)","v":0},0,{"$f":"TRUNC(F3042*K3042,1)","v":0},{"$f":"TRUNC(G3042+I3042+K3042,1)","v":21.3},{"$f":"TRUNC(H3042+J3042+L3042,0)","v":42},""]
["6931003","0513003","와샤","M10","개",2,9.4,{"$f":"TRUNC(F3043*G3043,1)","v":18.8},0,{"$f":"TRUNC(F3043*I3043,1)","v":0},0,{"$f":"TRUNC(F3043*K3043,1)","v":0},{"$f":"TRUNC(G3043+I3043+K3043,1)","v":9.4},{"$f":"TRUNC(H3043+J3043+L3043,0)","v":18},""]
[null,null,"[ 합           계 ]",{"$nulls":4},{"$f":"TRUNC(SUM(H3041:H3043),0)","v":546},null,{"$f":"TRUNC(SUM(J3041:J3043),0)","v":0},null,{"$f":"TRUNC(SUM(L3041:L3043),0)","v":0},null,{"$f":"H3044+J3044+L3044","v":546}]
[]
[null,null,"6931004  U 볼트,너트 (절연)  Φ32  개소"]
["6931004","0507704","U 볼트 (절연)","M10  L32","개",1,523,{"$f":"TRUNC(F3047*G3047,1)","v":523},0,{"$f":"TRUNC(F3047*I3047,1)","v":0},0,{"$f":"TRUNC(F3047*K3047,1)","v":0},{"$f":"TRUNC(G3047+I3047+K3047,1)","v":523},{"$f":"TRUNC(H3047+J3047+L3047,0)","v":523},""]
["6931004","0501804","너트","M10 (3/8\")","EA",2,21.3,{"$f":"TRUNC(F3048*G3048,1)","v":42.6},0,{"$f":"TRUNC(F3048*I3048,1)","v":0},0,{"$f":"TRUNC(F3048*K3048,1)","v":0},{"$f":"TRUNC(G3048+I3048+K3048,1)","v":21.3},{"$f":"TRUNC(H3048+J3048+L3048,0)","v":42},""]
["6931004","0513003","와샤","M10","개",2,9.4,{"$f":"TRUNC(F3049*G3049,1)","v":18.8},0,{"$f":"TRUNC(F3049*I3049,1)","v":0},0,{"$f":"TRUNC(F3049*K3049,1)","v":0},{"$f":"TRUNC(G3049+I3049+K3049,1)","v":9.4},{"$f":"TRUNC(H3049+J3049+L3049,0)","v":18},""]
[null,null,"[ 합           계 ]",{"$nulls":4},{"$f":"TRUNC(SUM(H3047:H3049),0)","v":584},null,{"$f":"TRUNC(SUM(J3047:J3049),0)","v":0},null,{"$f":"TRUNC(SUM(L3047:L3049),0)","v":0},null,{"$f":"H3050+J3050+L3050","v":584}]
[]
[null,null,"6931005  U 볼트,너트 (절연)  Φ40  개소"]
["6931005","0507705","U 볼트 (절연)","M10  L40","개",1,574,{"$f":"TRUNC(F3053*G3053,1)","v":574},0,{"$f":"TRUNC(F3053*I3053,1)","v":0},0,{"$f":"TRUNC(F3053*K3053,1)","v":0},{"$f":"TRUNC(G3053+I3053+K3053,1)","v":574},{"$f":"TRUNC(H3053+J3053+L3053,0)","v":574},""]
["6931005","0501804","너트","M10 (3/8\")","EA",2,21.3,{"$f":"TRUNC(F3054*G3054,1)","v":42.6},0,{"$f":"TRUNC(F3054*I3054,1)","v":0},0,{"$f":"TRUNC(F3054*K3054,1)","v":0},{"$f":"TRUNC(G3054+I3054+K3054,1)","v":21.3},{"$f":"TRUNC(H3054+J3054+L3054,0)","v":42},""]
["6931005","0513003","와샤","M10","개",2,9.4,{"$f":"TRUNC(F3055*G3055,1)","v":18.8},0,{"$f":"TRUNC(F3055*I3055,1)","v":0},0,{"$f":"TRUNC(F3055*K3055,1)","v":0},{"$f":"TRUNC(G3055+I3055+K3055,1)","v":9.4},{"$f":"TRUNC(H3055+J3055+L3055,0)","v":18},""]
[null,null,"[ 합           계 ]",{"$nulls":4},{"$f":"TRUNC(SUM(H3053:H3055),0)","v":635},null,{"$f":"TRUNC(SUM(J3053:J3055),0)","v":0},null,{"$f":"TRUNC(SUM(L3053:L3055),0)","v":0},null,{"$f":"H3056+J3056+L3056","v":635}]
[]
[null,null,"6931006  U 볼트,너트 (절연)  Φ50  개소"]
["6931006","0507706","U 볼트 (절연)","M10  L50","개",1,663,{"$f":"TRUNC(F3059*G3059,1)","v":663},0,{"$f":"TRUNC(F3059*I3059,1)","v":0},0,{"$f":"TRUNC(F3059*K3059,1)","v":0},{"$f":"TRUNC(G3059+I3059+K3059,1)","v":663},{"$f":"TRUNC(H3059+J3059+L3059,0)","v":663},""]
["6931006","0501804","너트","M10 (3/8\")","EA",2,21.3,{"$f":"TRUNC(F3060*G3060,1)","v":42.6},0,{"$f":"TRUNC(F3060*I3060,1)","v":0},0,{"$f":"TRUNC(F3060*K3060,1)","v":0},{"$f":"TRUNC(G3060+I3060+K3060,1)","v":21.3},{"$f":"TRUNC(H3060+J3060+L3060,0)","v":42},""]
["6931006","0513003","와샤","M10","개",2,9.4,{"$f":"TRUNC(F3061*G3061,1)","v":18.8},0,{"$f":"TRUNC(F3061*I3061,1)","v":0},0,{"$f":"TRUNC(F3061*K3061,1)","v":0},{"$f":"TRUNC(G3061+I3061+K3061,1)","v":9.4},{"$f":"TRUNC(H3061+J3061+L3061,0)","v":18},""]
[null,null,"[ 합           계 ]",{"$nulls":4},{"$f":"TRUNC(SUM(H3059:H3061),0)","v":724},null,{"$f":"TRUNC(SUM(J3059:J3061),0)","v":0},null,{"$f":"TRUNC(SUM(L3059:L3061),0)","v":0},null,{"$f":"H3062+J3062+L3062","v":724}]
[]
[null,null,"6931007  U 볼트,너트 (절연)  Φ65  개소"]
["6931007","0507707","U 볼트 (절연)","M10  L65","개",1,894,{"$f":"TRUNC(F3065*G3065,1)","v":894},0,{"$f":"TRUNC(F3065*I3065,1)","v":0},0,{"$f":"TRUNC(F3065*K3065,1)","v":0},{"$f":"TRUNC(G3065+I3065+K3065,1)","v":894},{"$f":"TRUNC(H3065+J3065+L3065,0)","v":894},""]
["6931007","0501804","너트","M10 (3/8\")","EA",2,21.3,{"$f":"TRUNC(F3066*G3066,1)","v":42.6},0,{"$f":"TRUNC(F3066*I3066,1)","v":0},0,{"$f":"TRUNC(F3066*K3066,1)","v":0},{"$f":"TRUNC(G3066+I3066+K3066,1)","v":21.3},{"$f":"TRUNC(H3066+J3066+L3066,0)","v":42},""]
["6931007","0513003","와샤","M10","개",2,9.4,{"$f":"TRUNC(F3067*G3067,1)","v":18.8},0,{"$f":"TRUNC(F3067*I3067,1)","v":0},0,{"$f":"TRUNC(F3067*K3067,1)","v":0},{"$f":"TRUNC(G3067+I3067+K3067,1)","v":9.4},{"$f":"TRUNC(H3067+J3067+L3067,0)","v":18},""]
[null,null,"[ 합           계 ]",{"$nulls":4},{"$f":"TRUNC(SUM(H3065:H3067),0)","v":955},null,{"$f":"TRUNC(SUM(J3065:J3067),0)","v":0},null,{"$f":"TRUNC(SUM(L3065:L3067),0)","v":0},null,{"$f":"H3068+J3068+L3068","v":955}]
[]
[null,null,"6931008  U 볼트,너트 (절연)  Φ80  개소"]
["6931008","0507708","U 볼트 (절연)","M10  L80","개",1,983,{"$f":"TRUNC(F3071*G3071,1)","v":983},0,{"$f":"TRUNC(F3071*I3071,1)","v":0},0,{"$f":"TRUNC(F3071*K3071,1)","v":0},{"$f":"TRUNC(G3071+I3071+K3071,1)","v":983},{"$f":"TRUNC(H3071+J3071+L3071,0)","v":983},""]
["6931008","0501805","너트","M10 (3/8\")","EA",2,21.3,{"$f":"TRUNC(F3072*G3072,1)","v":42.6},0,{"$f":"TRUNC(F3072*I3072,1)","v":0},0,{"$f":"TRUNC(F3072*K3072,1)","v":0},{"$f":"TRUNC(G3072+I3072+K3072,1)","v":21.3},{"$f":"TRUNC(H3072+J3072+L3072,0)","v":42},""]
["6931008","0513004","와샤","M10","개",2,9.4,{"$f":"TRUNC(F3073*G3073,1)","v":18.8},0,{"$f":"TRUNC(F3073*I3073,1)","v":0},0,{"$f":"TRUNC(F3073*K3073,1)","v":0},{"$f":"TRUNC(G3073+I3073+K3073,1)","v":9.4},{"$f":"TRUNC(H3073+J3073+L3073,0)","v":18},""]
[null,null,"[ 합           계 ]",{"$nulls":4},{"$f":"TRUNC(SUM(H3071:H3073),0)","v":1044},null,{"$f":"TRUNC(SUM(J3071:J3073),0)","v":0},null,{"$f":"TRUNC(SUM(L3071:L3073),0)","v":0},null,{"$f":"H3074+J3074+L3074","v":1044}]
[]
[null,null,"6931009  U 볼트,너트 (절연)  Φ100  개소"]
["6931009","0507709","U 볼트 (절연)","M12  L100","개",1,1149,{"$f":"TRUNC(F3077*G3077,1)","v":1149},0,{"$f":"TRUNC(F3077*I3077,1)","v":0},0,{"$f":"TRUNC(F3077*K3077,1)","v":0},{"$f":"TRUNC(G3077+I3077+K3077,1)","v":1149},{"$f":"TRUNC(H3077+J3077+L3077,0)","v":1149},""]
["6931009","0501805","너트","M12 (1/2\")","EA",2,31.6,{"$f":"TRUNC(F3078*G3078,1)","v":63.2},0,{"$f":"TRUNC(F3078*I3078,1)","v":0},0,{"$f":"TRUNC(F3078*K3078,1)","v":0},{"$f":"TRUNC(G3078+I3078+K3078,1)","v":31.6},{"$f":"TRUNC(H3078+J3078+L3078,0)","v":63},""]
["6931009","0513004","와샤","M12","개",2,16.3,{"$f":"TRUNC(F3079*G3079,1)","v":32.6},0,{"$f":"TRUNC(F3079*I3079,1)","v":0},0,{"$f":"TRUNC(F3079*K3079,1)","v":0},{"$f":"TRUNC(G3079+I3079+K3079,1)","v":16.3},{"$f":"TRUNC(H3079+J3079+L3079,0)","v":32},""]
[null,null,"[ 합           계 ]",{"$nulls":4},{"$f":"TRUNC(SUM(H3077:H3079),0)","v":1244},null,{"$f":"TRUNC(SUM(J3077:J3079),0)","v":0},null,{"$f":"TRUNC(SUM(L3077:L3079),0)","v":0},null,{"$f":"H3080+J3080+L3080","v":1244}]
[]
[null,null,"6931010  U 볼트,너트 (절연)  Φ125  개소"]
["6931010","0507710","U 볼트 (절연)","M12  L125","개",1,2362,{"$f":"TRUNC(F3083*G3083,1)","v":2362},0,{"$f":"TRUNC(F3083*I3083,1)","v":0},0,{"$f":"TRUNC(F3083*K3083,1)","v":0},{"$f":"TRUNC(G3083+I3083+K3083,1)","v":2362},{"$f":"TRUNC(H3083+J3083+L3083,0)","v":2362},""]
["6931010","0501805","너트","M12 (1/2\")","EA",2,31.6,{"$f":"TRUNC(F3084*G3084,1)","v":63.2},0,{"$f":"TRUNC(F3084*I3084,1)","v":0},0,{"$f":"TRUNC(F3084*K3084,1)","v":0},{"$f":"TRUNC(G3084+I3084+K3084,1)","v":31.6},{"$f":"TRUNC(H3084+J3084+L3084,0)","v":63},""]
["6931010","0513004","와샤","M12","개",2,16.3,{"$f":"TRUNC(F3085*G3085,1)","v":32.6},0,{"$f":"TRUNC(F3085*I3085,1)","v":0},0,{"$f":"TRUNC(F3085*K3085,1)","v":0},{"$f":"TRUNC(G3085+I3085+K3085,1)","v":16.3},{"$f":"TRUNC(H3085+J3085+L3085,0)","v":32},""]
[null,null,"[ 합           계 ]",{"$nulls":4},{"$f":"TRUNC(SUM(H3083:H3085),0)","v":2457},null,{"$f":"TRUNC(SUM(J3083:J3085),0)","v":0},null,{"$f":"TRUNC(SUM(L3083:L3085),0)","v":0},null,{"$f":"H3086+J3086+L3086","v":2457}]
[]
[null,null,"6931011  U 볼트,너트 (절연)  Φ150  개소"]
["6931011","0507711","U 볼트 (절연)","M12  L150","개",1,2809,{"$f":"TRUNC(F3089*G3089,1)","v":2809},0,{"$f":"TRUNC(F3089*I3089,1)","v":0},0,{"$f":"TRUNC(F3089*K3089,1)","v":0},{"$f":"TRUNC(G3089+I3089+K3089,1)","v":2809},{"$f":"TRUNC(H3089+J3089+L3089,0)","v":2809},""]
["6931011","0501805","너트","M12 (1/2\")","EA",2,31.6,{"$f":"TRUNC(F3090*G3090,1)","v":63.2},0,{"$f":"TRUNC(F3090*I3090,1)","v":0},0,{"$f":"TRUNC(F3090*K3090,1)","v":0},{"$f":"TRUNC(G3090+I3090+K3090,1)","v":31.6},{"$f":"TRUNC(H3090+J3090+L3090,0)","v":63},""]
["6931011","0513004","와샤","M12","개",2,16.3,{"$f":"TRUNC(F3091*G3091,1)","v":32.6},0,{"$f":"TRUNC(F3091*I3091,1)","v":0},0,{"$f":"TRUNC(F3091*K3091,1)","v":0},{"$f":"TRUNC(G3091+I3091+K3091,1)","v":16.3},{"$f":"TRUNC(H3091+J3091+L3091,0)","v":32},""]
[null,null,"[ 합           계 ]",{"$nulls":4},{"$f":"TRUNC(SUM(H3089:H3091),0)","v":2904},null,{"$f":"TRUNC(SUM(J3089:J3091),0)","v":0},null,{"$f":"TRUNC(SUM(L3089:L3091),0)","v":0},null,{"$f":"H3092+J3092+L3092","v":2904}]
[]
[null,null,"6931012  U 볼트,너트 (절연)  Φ200  개소"]
["6931012","0507712","U 볼트 (절연)","M16  L200","개",1,3638,{"$f":"TRUNC(F3095*G3095,1)","v":3638},0,{"$f":"TRUNC(F3095*I3095,1)","v":0},0,{"$f":"TRUNC(F3095*K3095,1)","v":0},{"$f":"TRUNC(G3095+I3095+K3095,1)","v":3638},{"$f":"TRUNC(H3095+J3095+L3095,0)","v":3638},""]
["6931012","0501809","너트","M16 (5/8\")","EA",2,61.2,{"$f":"TRUNC(F3096*G3096,1)","v":122.4},0,{"$f":"TRUNC(F3096*I3096,1)","v":0},0,{"$f":"TRUNC(F3096*K3096,1)","v":0},{"$f":"TRUNC(G3096+I3096+K3096,1)","v":61.2},{"$f":"TRUNC(H3096+J3096+L3096,0)","v":122},""]
["6931012","0513008","와샤","M16","개",2,27.3,{"$f":"TRUNC(F3097*G3097,1)","v":54.6},0,{"$f":"TRUNC(F3097*I3097,1)","v":0},0,{"$f":"TRUNC(F3097*K3097,1)","v":0},{"$f":"TRUNC(G3097+I3097+K3097,1)","v":27.3},{"$f":"TRUNC(H3097+J3097+L3097,0)","v":54},""]
[null,null,"[ 합           계 ]",{"$nulls":4},{"$f":"TRUNC(SUM(H3095:H3097),0)","v":3815},null,{"$f":"TRUNC(SUM(J3095:J3097),0)","v":0},null,{"$f":"TRUNC(SUM(L3095:L3097),0)","v":0},null,{"$f":"H3098+J3098+L3098","v":3815}]
[]
[null,null,"6931013  U 볼트,너트 (절연)  Φ250  개소"]
["6931013","0507713","U 볼트 (절연)","M16  L250","개",1,4086,{"$f":"TRUNC(F3101*G3101,1)","v":4086},0,{"$f":"TRUNC(F3101*I3101,1)","v":0},0,{"$f":"TRUNC(F3101*K3101,1)","v":0},{"$f":"TRUNC(G3101+I3101+K3101,1)","v":4086},{"$f":"TRUNC(H3101+J3101+L3101,0)","v":4086},""]
["6931013","0501809","너트","M16 (5/8\")","EA",2,61.2,{"$f":"TRUNC(F3102*G3102,1)","v":122.4},0,{"$f":"TRUNC(F3102*I3102,1)","v":0},0,{"$f":"TRUNC(F3102*K3102,1)","v":0},{"$f":"TRUNC(G3102+I3102+K3102,1)","v":61.2},{"$f":"TRUNC(H3102+J3102+L3102,0)","v":122},""]
["6931013","0513008","와샤","M16","개",2,27.3,{"$f":"TRUNC(F3103*G3103,1)","v":54.6},0,{"$f":"TRUNC(F3103*I3103,1)","v":0},0,{"$f":"TRUNC(F3103*K3103,1)","v":0},{"$f":"TRUNC(G3103+I3103+K3103,1)","v":27.3},{"$f":"TRUNC(H3103+J3103+L3103,0)","v":54},""]
[null,null,"[ 합           계 ]",{"$nulls":4},{"$f":"TRUNC(SUM(H3101:H3103),0)","v":4263},null,{"$f":"TRUNC(SUM(J3101:J3103),0)","v":0},null,{"$f":"TRUNC(SUM(L3101:L3103),0)","v":0},null,{"$f":"H3104+J3104+L3104","v":4263}]
[]
[null,null,"6931014  U 볼트,너트 (절연)  Φ300  개소"]
["6931014","0507714","U 볼트 (절연)","M16  L300","개",1,5235,{"$f":"TRUNC(F3107*G3107,1)","v":5235},0,{"$f":"TRUNC(F3107*I3107,1)","v":0},0,{"$f":"TRUNC(F3107*K3107,1)","v":0},{"$f":"TRUNC(G3107+I3107+K3107,1)","v":5235},{"$f":"TRUNC(H3107+J3107+L3107,0)","v":5235},""]
["6931014","0501809","너트","M16 (5/8\")","EA",2,61.2,{"$f":"TRUNC(F3108*G3108,1)","v":122.4},0,{"$f":"TRUNC(F3108*I3108,1)","v":0},0,{"$f":"TRUNC(F3108*K3108,1)","v":0},{"$f":"TRUNC(G3108+I3108+K3108,1)","v":61.2},{"$f":"TRUNC(H3108+J3108+L3108,0)","v":122},""]
["6931014","0513008","와샤","M16","개",2,27.3,{"$f":"TRUNC(F3109*G3109,1)","v":54.6},0,{"$f":"TRUNC(F3109*I3109,1)","v":0},0,{"$f":"TRUNC(F3109*K3109,1)","v":0},{"$f":"TRUNC(G3109+I3109+K3109,1)","v":27.3},{"$f":"TRUNC(H3109+J3109+L3109,0)","v":54},""]
[null,null,"[ 합           계 ]",{"$nulls":4},{"$f":"TRUNC(SUM(H3107:H3109),0)","v":5412},null,{"$f":"TRUNC(SUM(J3107:J3109),0)","v":0},null,{"$f":"TRUNC(SUM(L3107:L3109),0)","v":0},null,{"$f":"H3110+J3110+L3110","v":5412}]
[]
[null,null,"6932001  코아구멍뚫기 (T=150mm) - 바닥  D25  개소"]
["6932001","1770557","코아드릴","6\"","HR",0.28000000000000003,0,{"$f":"TRUNC(F3113*G3113,1)","v":0},0,{"$f":"TRUNC(F3113*I3113,1)","v":0},370.7,{"$f":"TRUNC(F3113*K3113,1)","v":103.7},{"$f":"TRUNC(G3113+I3113+K3113,1)","v":370.7},{"$f":"TRUNC(H3113+J3113+L3113,0)","v":103},""]
["6932001","0001040","노무비","착암공","인",9.6000000000000002E-2,0,{"$f":"TRUNC(F3114*G3114,1)","v":0},174178,{"$f":"TRUNC(F3114*I3114,1)","v":16721},0,{"$f":"TRUNC(F3114*K3114,1)","v":0},{"$f":"TRUNC(G3114+I3114+K3114,1)","v":174178},{"$f":"TRUNC(H3114+J3114+L3114,0)","v":16721},""]
["6932001","0001040","노무비","보통인부","인",9.6000000000000002E-2,0,{"$f":"TRUNC(F3115*G3115,1)","v":0},144481,{"$f":"TRUNC(F3115*I3115,1)","v":13870.1},0,{"$f":"TRUNC(F3115*K3115,1)","v":0},{"$f":"TRUNC(G3115+I3115+K3115,1)","v":144481},{"$f":"TRUNC(H3115+J3115+L3115,0)","v":13870},""]
[null,null,"[ 합           계 ]",{"$nulls":4},{"$f":"TRUNC(SUM(H3113:H3115),0)","v":0},null,{"$f":"TRUNC(SUM(J3113:J3115),0)","v":30591},null,{"$f":"TRUNC(SUM(L3113:L3115),0)","v":103},null,{"$f":"H3116+J3116+L3116","v":30694}]
[]
[null,null,"6932002  코아구멍뚫기 (T=150mm) - 바닥  D50  개소"]
["6932002","1770557","코아드릴","6\"","HR",0.43,0,{"$f":"TRUNC(F3119*G3119,1)","v":0},0,{"$f":"TRUNC(F3119*I3119,1)","v":0},370.7,{"$f":"TRUNC(F3119*K3119,1)","v":159.4},{"$f":"TRUNC(G3119+I3119+K3119,1)","v":370.7},{"$f":"TRUNC(H3119+J3119+L3119,0)","v":159},""]
["6932002","0001040","노무비","착암공","인",0.11899999999999999,0,{"$f":"TRUNC(F3120*G3120,1)","v":0},174178,{"$f":"TRUNC(F3120*I3120,1)","v":20727.099999999999},0,{"$f":"TRUNC(F3120*K3120,1)","v":0},{"$f":"TRUNC(G3120+I3120+K3120,1)","v":174178},{"$f":"TRUNC(H3120+J3120+L3120,0)","v":20727},""]
["6932002","0001040","노무비","보통인부","인",0.11899999999999999,0,{"$f":"TRUNC(F3121*G3121,1)","v":0},144481,{"$f":"TRUNC(F3121*I3121,1)","v":17193.2},0,{"$f":"TRUNC(F3121*K3121,1)","v":0},{"$f":"TRUNC(G3121+I3121+K3121,1)","v":144481},{"$f":"TRUNC(H3121+J3121+L3121,0)","v":17193},""]
[null,null,"[ 합           계 ]",{"$nulls":4},{"$f":"TRUNC(SUM(H3119:H3121),0)","v":0},null,{"$f":"TRUNC(SUM(J3119:J3121),0)","v":37920},null,{"$f":"TRUNC(SUM(L3119:L3121),0)","v":159},null,{"$f":"H3122+J3122+L3122","v":38079}]
[]
[null,null,"6932003  코아구멍뚫기 (T=150mm) - 바닥  D75  개소"]
["6932003","1770557","코아드릴","6\"","HR",0.57999999999999996,0,{"$f":"TRUNC(F3125*G3125,1)","v":0},0,{"$f":"TRUNC(F3125*I3125,1)","v":0},370.7,{"$f":"TRUNC(F3125*K3125,1)","v":215},{"$f":"TRUNC(G3125+I3125+K3125,1)","v":370.7},{"$f":"TRUNC(H3125+J3125+L3125,0)","v":215},""]
["6932003","0001040","노무비","착암공","인",0.14199999999999999,0,{"$f":"TRUNC(F3126*G3126,1)","v":0},174178,{"$f":"TRUNC(F3126*I3126,1)","v":24733.200000000001},0,{"$f":"TRUNC(F3126*K3126,1)","v":0},{"$f":"TRUNC(G3126+I3126+K3126,1)","v":174178},{"$f":"TRUNC(H3126+J3126+L3126,0)","v":24733},""]
["6932002","0001040","노무비","보통인부","인",0.14199999999999999,0,{"$f":"TRUNC(F3127*G3127,1)","v":0},144481,{"$f":"TRUNC(F3127*I3127,1)","v":20516.3},0,{"$f":"TRUNC(F3127*K3127,1)","v":0},{"$f":"TRUNC(G3127+I3127+K3127,1)","v":144481},{"$f":"TRUNC(H3127+J3127+L3127,0)","v":20516},""]
[null,null,"[ 합           계 ]",{"$nulls":4},{"$f":"TRUNC(SUM(H3125:H3127),0)","v":0},null,{"$f":"TRUNC(SUM(J3125:J3127),0)","v":45249},null,{"$f":"TRUNC(SUM(L3125:L3127),0)","v":215},null,{"$f":"H3128+J3128+L3128","v":45464}]
[]
[null,null,"6932004  코아구멍뚫기 (T=150mm) - 바닥  D100  개소"]
["6932004","1770557","코아드릴","6\"","HR",0.73,0,{"$f":"TRUNC(F3131*G3131,1)","v":0},0,{"$f":"TRUNC(F3131*I3131,1)","v":0},370.7,{"$f":"TRUNC(F3131*K3131,1)","v":270.60000000000002},{"$f":"TRUNC(G3131+I3131+K3131,1)","v":370.7},{"$f":"TRUNC(H3131+J3131+L3131,0)","v":270},""]
["6932004","0001040","노무비","착암공","인",0.16500000000000001,0,{"$f":"TRUNC(F3132*G3132,1)","v":0},174178,{"$f":"TRUNC(F3132*I3132,1)","v":28739.3},0,{"$f":"TRUNC(F3132*K3132,1)","v":0},{"$f":"TRUNC(G3132+I3132+K3132,1)","v":174178},{"$f":"TRUNC(H3132+J3132+L3132,0)","v":28739},""]
["6932002","0001040","노무비","보통인부","인",0.16500000000000001,0,{"$f":"TRUNC(F3133*G3133,1)","v":0},144481,{"$f":"TRUNC(F3133*I3133,1)","v":23839.3},0,{"$f":"TRUNC(F3133*K3133,1)","v":0},{"$f":"TRUNC(G3133+I3133+K3133,1)","v":144481},{"$f":"TRUNC(H3133+J3133+L3133,0)","v":23839},""]
[null,null,"[ 합           계 ]",{"$nulls":4},{"$f":"TRUNC(SUM(H3131:H3133),0)","v":0},null,{"$f":"TRUNC(SUM(J3131:J3133),0)","v":52578},null,{"$f":"TRUNC(SUM(L3131:L3133),0)","v":270},null,{"$f":"H3134+J3134+L3134","v":52848}]
[]
[null,null,"6932005  코아구멍뚫기 (T=150mm) - 바닥  D150  개소"]
["6932005","1770557","코아드릴","6\"","HR",1.03,0,{"$f":"TRUNC(F3137*G3137,1)","v":0},0,{"$f":"TRUNC(F3137*I3137,1)","v":0},370.7,{"$f":"TRUNC(F3137*K3137,1)","v":381.8},{"$f":"TRUNC(G3137+I3137+K3137,1)","v":370.7},{"$f":"TRUNC(H3137+J3137+L3137,0)","v":381},""]
["6932005","0001040","노무비","착암공","인",0.21,0,{"$f":"TRUNC(F3138*G3138,1)","v":0},174178,{"$f":"TRUNC(F3138*I3138,1)","v":36577.300000000003},0,{"$f":"TRUNC(F3138*K3138,1)","v":0},{"$f":"TRUNC(G3138+I3138+K3138,1)","v":174178},{"$f":"TRUNC(H3138+J3138+L3138,0)","v":36577},""]
["6932002","0001040","노무비","보통인부","인",0.21,0,{"$f":"TRUNC(F3139*G3139,1)","v":0},144481,{"$f":"TRUNC(F3139*I3139,1)","v":30341},0,{"$f":"TRUNC(F3139*K3139,1)","v":0},{"$f":"TRUNC(G3139+I3139+K3139,1)","v":144481},{"$f":"TRUNC(H3139+J3139+L3139,0)","v":30341},""]
[null,null,"[ 합           계 ]",{"$nulls":4},{"$f":"TRUNC(SUM(H3137:H3139),0)","v":0},null,{"$f":"TRUNC(SUM(J3137:J3139),0)","v":66918},null,{"$f":"TRUNC(SUM(L3137:L3139),0)","v":381},null,{"$f":"H3140+J3140+L3140","v":67299}]
[]
[null,null,"6932006  코아구멍뚫기 (T=150mm) - 바닥  D200  개소"]
["6932006","1770558","코아드릴","10\"","HR",1.33,0,{"$f":"TRUNC(F3143*G3143,1)","v":0},0,{"$f":"TRUNC(F3143*I3143,1)","v":0},523.6,{"$f":"TRUNC(F3143*K3143,1)","v":696.3},{"$f":"TRUNC(G3143+I3143+K3143,1)","v":523.6},{"$f":"TRUNC(H3143+J3143+L3143,0)","v":696},""]
["6932006","0001040","노무비","착암공","인",0.252,0,{"$f":"TRUNC(F3144*G3144,1)","v":0},174178,{"$f":"TRUNC(F3144*I3144,1)","v":43892.800000000003},0,{"$f":"TRUNC(F3144*K3144,1)","v":0},{"$f":"TRUNC(G3144+I3144+K3144,1)","v":174178},{"$f":"TRUNC(H3144+J3144+L3144,0)","v":43892},""]
["6932002","0001040","노무비","보통인부","인",0.252,0,{"$f":"TRUNC(F3145*G3145,1)","v":0},144481,{"$f":"TRUNC(F3145*I3145,1)","v":36409.199999999997},0,{"$f":"TRUNC(F3145*K3145,1)","v":0},{"$f":"TRUNC(G3145+I3145+K3145,1)","v":144481},{"$f":"TRUNC(H3145+J3145+L3145,0)","v":36409},""]
[null,null,"[ 합           계 ]",{"$nulls":4},{"$f":"TRUNC(SUM(H3143:H3145),0)","v":0},null,{"$f":"TRUNC(SUM(J3143:J3145),0)","v":80302},null,{"$f":"TRUNC(SUM(L3143:L3145),0)","v":696},null,{"$f":"H3146+J3146+L3146","v":80998}]
[]
[null,null,"6932007  코아구멍뚫기 (T=150mm) - 바닥  D250  개소"]
["6932007","1770558","코아드릴","10\"","HR",1.63,0,{"$f":"TRUNC(F3149*G3149,1)","v":0},0,{"$f":"TRUNC(F3149*I3149,1)","v":0},523.6,{"$f":"TRUNC(F3149*K3149,1)","v":853.4},{"$f":"TRUNC(G3149+I3149+K3149,1)","v":523.6},{"$f":"TRUNC(H3149+J3149+L3149,0)","v":853},""]
["6932007","0001040","노무비","착암공","인",0.29499999999999998,0,{"$f":"TRUNC(F3150*G3150,1)","v":0},174178,{"$f":"TRUNC(F3150*I3150,1)","v":51382.5},0,{"$f":"TRUNC(F3150*K3150,1)","v":0},{"$f":"TRUNC(G3150+I3150+K3150,1)","v":174178},{"$f":"TRUNC(H3150+J3150+L3150,0)","v":51382},""]
["6932002","0001040","노무비","보통인부","인",0.29499999999999998,0,{"$f":"TRUNC(F3151*G3151,1)","v":0},144481,{"$f":"TRUNC(F3151*I3151,1)","v":42621.8},0,{"$f":"TRUNC(F3151*K3151,1)","v":0},{"$f":"TRUNC(G3151+I3151+K3151,1)","v":144481},{"$f":"TRUNC(H3151+J3151+L3151,0)","v":42621},""]
[null,null,"[ 합           계 ]",{"$nulls":4},{"$f":"TRUNC(SUM(H3149:H3151),0)","v":0},null,{"$f":"TRUNC(SUM(J3149:J3151),0)","v":94004},null,{"$f":"TRUNC(SUM(L3149:L3151),0)","v":853},null,{"$f":"H3152+J3152+L3152","v":94857}]
[]
[null,null,"6932008  코아구멍뚫기 (T=150mm) - 바닥  D300  개소"]
["6932008","1770558","코아드릴","10\"","HR",1.93,0,{"$f":"TRUNC(F3155*G3155,1)","v":0},0,{"$f":"TRUNC(F3155*I3155,1)","v":0},523.6,{"$f":"TRUNC(F3155*K3155,1)","v":1010.5},{"$f":"TRUNC(G3155+I3155+K3155,1)","v":523.6},{"$f":"TRUNC(H3155+J3155+L3155,0)","v":1010},""]
["6932008","0001040","노무비","착암공","인",0.33900000000000002,0,{"$f":"TRUNC(F3156*G3156,1)","v":0},174178,{"$f":"TRUNC(F3156*I3156,1)","v":59046.3},0,{"$f":"TRUNC(F3156*K3156,1)","v":0},{"$f":"TRUNC(G3156+I3156+K3156,1)","v":174178},{"$f":"TRUNC(H3156+J3156+L3156,0)","v":59046},""]
["6932002","0001040","노무비","보통인부","인",0.33900000000000002,0,{"$f":"TRUNC(F3157*G3157,1)","v":0},144481,{"$f":"TRUNC(F3157*I3157,1)","v":48979},0,{"$f":"TRUNC(F3157*K3157,1)","v":0},{"$f":"TRUNC(G3157+I3157+K3157,1)","v":144481},{"$f":"TRUNC(H3157+J3157+L3157,0)","v":48979},""]
[null,null,"[ 합           계 ]",{"$nulls":4},{"$f":"TRUNC(SUM(H3155:H3157),0)","v":0},null,{"$f":"TRUNC(SUM(J3155:J3157),0)","v":108025},null,{"$f":"TRUNC(SUM(L3155:L3157),0)","v":1010},null,{"$f":"H3158+J3158+L3158","v":109035}]
[]
[null,null,"6932001-1  코아구멍뚫기 (T=150mm) - 벽체  D25  개소"]
["6932001","1770557","코아드릴","6\"","HR",0.36,0,{"$f":"TRUNC(F3161*G3161,1)","v":0},0,{"$f":"TRUNC(F3161*I3161,1)","v":0},370.7,{"$f":"TRUNC(F3161*K3161,1)","v":133.4},{"$f":"TRUNC(G3161+I3161+K3161,1)","v":370.7},{"$f":"TRUNC(H3161+J3161+L3161,0)","v":133},""]
["6932001","0001040","노무비","착암공","인",0.123,0,{"$f":"TRUNC(F3162*G3162,1)","v":0},174178,{"$f":"TRUNC(F3162*I3162,1)","v":21423.8},0,{"$f":"TRUNC(F3162*K3162,1)","v":0},{"$f":"TRUNC(G3162+I3162+K3162,1)","v":174178},{"$f":"TRUNC(H3162+J3162+L3162,0)","v":21423},""]
["6932002","0001040","노무비","보통인부","인",0.123,0,{"$f":"TRUNC(F3163*G3163,1)","v":0},144481,{"$f":"TRUNC(F3163*I3163,1)","v":17771.099999999999},0,{"$f":"TRUNC(F3163*K3163,1)","v":0},{"$f":"TRUNC(G3163+I3163+K3163,1)","v":144481},{"$f":"TRUNC(H3163+J3163+L3163,0)","v":17771},""]
[null,null,"[ 합           계 ]",{"$nulls":4},{"$f":"TRUNC(SUM(H3161:H3163),0)","v":0},null,{"$f":"TRUNC(SUM(J3161:J3163),0)","v":39194},null,{"$f":"TRUNC(SUM(L3161:L3163),0)","v":133},null,{"$f":"H3164+J3164+L3164","v":39327}]
[]
[null,null,"6932002-1  코아구멍뚫기 (T=150mm) - 벽체  D50  개소"]
["6932002","1770557","코아드릴","6\"","HR",0.55000000000000004,0,{"$f":"TRUNC(F3167*G3167,1)","v":0},0,{"$f":"TRUNC(F3167*I3167,1)","v":0},370.7,{"$f":"TRUNC(F3167*K3167,1)","v":203.8},{"$f":"TRUNC(G3167+I3167+K3167,1)","v":370.7},{"$f":"TRUNC(H3167+J3167+L3167,0)","v":203},""]
["6932002","0001040","노무비","착암공","인",0.152,0,{"$f":"TRUNC(F3168*G3168,1)","v":0},174178,{"$f":"TRUNC(F3168*I3168,1)","v":26475},0,{"$f":"TRUNC(F3168*K3168,1)","v":0},{"$f":"TRUNC(G3168+I3168+K3168,1)","v":174178},{"$f":"TRUNC(H3168+J3168+L3168,0)","v":26475},""]
["6932002","0001040","노무비","보통인부","인",0.152,0,{"$f":"TRUNC(F3169*G3169,1)","v":0},144481,{"$f":"TRUNC(F3169*I3169,1)","v":21961.1},0,{"$f":"TRUNC(F3169*K3169,1)","v":0},{"$f":"TRUNC(G3169+I3169+K3169,1)","v":144481},{"$f":"TRUNC(H3169+J3169+L3169,0)","v":21961},""]
[null,null,"[ 합           계 ]",{"$nulls":4},{"$f":"TRUNC(SUM(H3167:H3169),0)","v":0},null,{"$f":"TRUNC(SUM(J3167:J3169),0)","v":48436},null,{"$f":"TRUNC(SUM(L3167:L3169),0)","v":203},null,{"$f":"H3170+J3170+L3170","v":48639}]
[]
[null,null,"6932003-1  코아구멍뚫기 (T=150mm) - 벽체  D75  개소"]
["6932003","1770557","코아드릴","6\"","HR",0.75,0,{"$f":"TRUNC(F3173*G3173,1)","v":0},0,{"$f":"TRUNC(F3173*I3173,1)","v":0},370.7,{"$f":"TRUNC(F3173*K3173,1)","v":278},{"$f":"TRUNC(G3173+I3173+K3173,1)","v":370.7},{"$f":"TRUNC(H3173+J3173+L3173,0)","v":278},""]
["6932003","0001040","노무비","착암공","인",0.18099999999999999,0,{"$f":"TRUNC(F3174*G3174,1)","v":0},174178,{"$f":"TRUNC(F3174*I3174,1)","v":31526.2},0,{"$f":"TRUNC(F3174*K3174,1)","v":0},{"$f":"TRUNC(G3174+I3174+K3174,1)","v":174178},{"$f":"TRUNC(H3174+J3174+L3174,0)","v":31526},""]
["6932002","0001040","노무비","보통인부","인",0.18099999999999999,0,{"$f":"TRUNC(F3175*G3175,1)","v":0},144481,{"$f":"TRUNC(F3175*I3175,1)","v":26151},0,{"$f":"TRUNC(F3175*K3175,1)","v":0},{"$f":"TRUNC(G3175+I3175+K3175,1)","v":144481},{"$f":"TRUNC(H3175+J3175+L3175,0)","v":26151},""]
[null,null,"[ 합           계 ]",{"$nulls":4},{"$f":"TRUNC(SUM(H3173:H3175),0)","v":0},null,{"$f":"TRUNC(SUM(J3173:J3175),0)","v":57677},null,{"$f":"TRUNC(SUM(L3173:L3175),0)","v":278},null,{"$f":"H3176+J3176+L3176","v":57955}]
[]
[null,null,"6932004-1  코아구멍뚫기 (T=150mm) - 벽체  D100  개소"]
["6932004","1770557","코아드릴","6\"","HR",0.93,0,{"$f":"TRUNC(F3179*G3179,1)","v":0},0,{"$f":"TRUNC(F3179*I3179,1)","v":0},370.7,{"$f":"TRUNC(F3179*K3179,1)","v":344.7},{"$f":"TRUNC(G3179+I3179+K3179,1)","v":370.7},{"$f":"TRUNC(H3179+J3179+L3179,0)","v":344},""]
["6932004","0001040","노무비","착암공","인",0.21099999999999999,0,{"$f":"TRUNC(F3180*G3180,1)","v":0},174178,{"$f":"TRUNC(F3180*I3180,1)","v":36751.5},0,{"$f":"TRUNC(F3180*K3180,1)","v":0},{"$f":"TRUNC(G3180+I3180+K3180,1)","v":174178},{"$f":"TRUNC(H3180+J3180+L3180,0)","v":36751},""]
["6932002","0001040","노무비","보통인부","인",0.21099999999999999,0,{"$f":"TRUNC(F3181*G3181,1)","v":0},144481,{"$f":"TRUNC(F3181*I3181,1)","v":30485.4},0,{"$f":"TRUNC(F3181*K3181,1)","v":0},{"$f":"TRUNC(G3181+I3181+K3181,1)","v":144481},{"$f":"TRUNC(H3181+J3181+L3181,0)","v":30485},""]
[null,null,"[ 합           계 ]",{"$nulls":4},{"$f":"TRUNC(SUM(H3179:H3181),0)","v":0},null,{"$f":"TRUNC(SUM(J3179:J3181),0)","v":67236},null,{"$f":"TRUNC(SUM(L3179:L3181),0)","v":344},null,{"$f":"H3182+J3182+L3182","v":67580}]
[]
[null,null,"6932005-1  코아구멍뚫기 (T=150mm) - 벽체  D150  개소"]
["6932005","1770557","코아드릴","6\"","HR",1.32,0,{"$f":"TRUNC(F3185*G3185,1)","v":0},0,{"$f":"TRUNC(F3185*I3185,1)","v":0},370.7,{"$f":"TRUNC(F3185*K3185,1)","v":489.3},{"$f":"TRUNC(G3185+I3185+K3185,1)","v":370.7},{"$f":"TRUNC(H3185+J3185+L3185,0)","v":489},""]
["6932005","0001040","노무비","착암공","인",0.26800000000000002,0,{"$f":"TRUNC(F3186*G3186,1)","v":0},174178,{"$f":"TRUNC(F3186*I3186,1)","v":46679.7},0,{"$f":"TRUNC(F3186*K3186,1)","v":0},{"$f":"TRUNC(G3186+I3186+K3186,1)","v":174178},{"$f":"TRUNC(H3186+J3186+L3186,0)","v":46679},""]
["6932002","0001040","노무비","보통인부","인",0.26800000000000002,0,{"$f":"TRUNC(F3187*G3187,1)","v":0},144481,{"$f":"TRUNC(F3187*I3187,1)","v":38720.9},0,{"$f":"TRUNC(F3187*K3187,1)","v":0},{"$f":"TRUNC(G3187+I3187+K3187,1)","v":144481},{"$f":"TRUNC(H3187+J3187+L3187,0)","v":38720},""]
[null,null,"[ 합           계 ]",{"$nulls":4},{"$f":"TRUNC(SUM(H3185:H3187),0)","v":0},null,{"$f":"TRUNC(SUM(J3185:J3187),0)","v":85400},null,{"$f":"TRUNC(SUM(L3185:L3187),0)","v":489},null,{"$f":"H3188+J3188+L3188","v":85889}]
[]
[null,null,"6932006-1  코아구멍뚫기 (T=150mm) - 벽체  D200  개소"]
["6932006","1770558","코아드릴","10\"","HR",1.71,0,{"$f":"TRUNC(F3191*G3191,1)","v":0},0,{"$f":"TRUNC(F3191*I3191,1)","v":0},523.6,{"$f":"TRUNC(F3191*K3191,1)","v":895.3},{"$f":"TRUNC(G3191+I3191+K3191,1)","v":523.6},{"$f":"TRUNC(H3191+J3191+L3191,0)","v":895},""]
["6932006","0001040","노무비","착암공","인",0.32200000000000001,0,{"$f":"TRUNC(F3192*G3192,1)","v":0},174178,{"$f":"TRUNC(F3192*I3192,1)","v":56085.3},0,{"$f":"TRUNC(F3192*K3192,1)","v":0},{"$f":"TRUNC(G3192+I3192+K3192,1)","v":174178},{"$f":"TRUNC(H3192+J3192+L3192,0)","v":56085},""]
["6932002","0001040","노무비","보통인부","인",0.32200000000000001,0,{"$f":"TRUNC(F3193*G3193,1)","v":0},144481,{"$f":"TRUNC(F3193*I3193,1)","v":46522.8},0,{"$f":"TRUNC(F3193*K3193,1)","v":0},{"$f":"TRUNC(G3193+I3193+K3193,1)","v":144481},{"$f":"TRUNC(H3193+J3193+L3193,0)","v":46522},""]
[null,null,"[ 합           계 ]",{"$nulls":4},{"$f":"TRUNC(SUM(H3191:H3193),0)","v":0},null,{"$f":"TRUNC(SUM(J3191:J3193),0)","v":102608},null,{"$f":"TRUNC(SUM(L3191:L3193),0)","v":895},null,{"$f":"H3194+J3194+L3194","v":103503}]
[]
[null,null,"6932007-1  코아구멍뚫기 (T=150mm) - 벽체  D250  개소"]
["6932007","1770558","코아드릴","10\"","HR",2.09,0,{"$f":"TRUNC(F3197*G3197,1)","v":0},0,{"$f":"TRUNC(F3197*I3197,1)","v":0},523.6,{"$f":"TRUNC(F3197*K3197,1)","v":1094.3},{"$f":"TRUNC(G3197+I3197+K3197,1)","v":523.6},{"$f":"TRUNC(H3197+J3197+L3197,0)","v":1094},""]
["6932007","0001040","노무비","착암공","인",0.377,0,{"$f":"TRUNC(F3198*G3198,1)","v":0},174178,{"$f":"TRUNC(F3198*I3198,1)","v":65665.100000000006},0,{"$f":"TRUNC(F3198*K3198,1)","v":0},{"$f":"TRUNC(G3198+I3198+K3198,1)","v":174178},{"$f":"TRUNC(H3198+J3198+L3198,0)","v":65665},""]
["6932002","0001040","노무비","보통인부","인",0.377,0,{"$f":"TRUNC(F3199*G3199,1)","v":0},144481,{"$f":"TRUNC(F3199*I3199,1)","v":54469.3},0,{"$f":"TRUNC(F3199*K3199,1)","v":0},{"$f":"TRUNC(G3199+I3199+K3199,1)","v":144481},{"$f":"TRUNC(H3199+J3199+L3199,0)","v":54469},""]
[null,null,"[ 합           계 ]",{"$nulls":4},{"$f":"TRUNC(SUM(H3197:H3199),0)","v":0},null,{"$f":"TRUNC(SUM(J3197:J3199),0)","v":120134},null,{"$f":"TRUNC(SUM(L3197:L3199),0)","v":1094},null,{"$f":"H3200+J3200+L3200","v":121228}]
[]
[null,null,"6932008-1  코아구멍뚫기 (T=150mm) - 벽체  D300  개소"]
["6932008","1770558","코아드릴","10\"","HR",2.4700000000000002,0,{"$f":"TRUNC(F3203*G3203,1)","v":0},0,{"$f":"TRUNC(F3203*I3203,1)","v":0},523.6,{"$f":"TRUNC(F3203*K3203,1)","v":1293.2},{"$f":"TRUNC(G3203+I3203+K3203,1)","v":523.6},{"$f":"TRUNC(H3203+J3203+L3203,0)","v":1293},""]
["6932008","0001040","노무비","착암공","인",0.434,0,{"$f":"TRUNC(F3204*G3204,1)","v":0},174178,{"$f":"TRUNC(F3204*I3204,1)","v":75593.2},0,{"$f":"TRUNC(F3204*K3204,1)","v":0},{"$f":"TRUNC(G3204+I3204+K3204,1)","v":174178},{"$f":"TRUNC(H3204+J3204+L3204,0)","v":75593},""]
["6932002","0001040","노무비","보통인부","인",0.434,0,{"$f":"TRUNC(F3205*G3205,1)","v":0},144481,{"$f":"TRUNC(F3205*I3205,1)","v":62704.7},0,{"$f":"TRUNC(F3205*K3205,1)","v":0},{"$f":"TRUNC(G3205+I3205+K3205,1)","v":144481},{"$f":"TRUNC(H3205+J3205+L3205,0)","v":62704},""]
[null,null,"[ 합           계 ]",{"$nulls":4},{"$f":"TRUNC(SUM(H3203:H3205),0)","v":0},null,{"$f":"TRUNC(SUM(J3203:J3205),0)","v":138297},null,{"$f":"TRUNC(SUM(L3203:L3205),0)","v":1293},null,{"$f":"H3206+J3206+L3206","v":139590}]
[]
[null,null,"6933001  조목스크린  SUS 700*500  개소"]
["6933001","0201901","스텐환봉 (STS304)","D5","kg",3,4500,{"$f":"TRUNC(F3209*G3209,1)","v":13500},0,{"$f":"TRUNC(F3209*I3209,1)","v":0},0,{"$f":"TRUNC(F3209*K3209,1)","v":0},{"$f":"TRUNC(G3209+I3209+K3209,1)","v":4500},{"$f":"TRUNC(H3209+J3209+L3209,0)","v":13500},""]
["6933001","0201902","스텐환봉 (STS304)","D10","kg",5,4350,{"$f":"TRUNC(F3210*G3210,1)","v":21750},0,{"$f":"TRUNC(F3210*I3210,1)","v":0},0,{"$f":"TRUNC(F3210*K3210,1)","v":0},{"$f":"TRUNC(G3210+I3210+K3210,1)","v":4350},{"$f":"TRUNC(H3210+J3210+L3210,0)","v":21750},""]
["6933001","0104809","앵글(스텐)","40x40x4t","kg",8,4230,{"$f":"TRUNC(F3211*G3211,1)","v":33840},0,{"$f":"TRUNC(F3211*I3211,1)","v":0},0,{"$f":"TRUNC(F3211*K3211,1)","v":0},{"$f":"TRUNC(G3211+I3211+K3211,1)","v":4230},{"$f":"TRUNC(H3211+J3211+L3211,0)","v":33840},""]
["6933001","6922003","잡철물제작설치(스텐)","간단","TON",1.6E-2,256753,{"$f":"TRUNC(F3212*G3212,1)","v":4108},6415534,{"$f":"TRUNC(F3212*I3212,1)","v":102648.5},130247,{"$f":"TRUNC(F3212*K3212,1)","v":2083.9},{"$f":"TRUNC(G3212+I3212+K3212,1)","v":6802534},{"$f":"TRUNC(H3212+J3212+L3212,0)","v":108840},""]
[null,null,"[ 합           계 ]",{"$nulls":4},{"$f":"TRUNC(SUM(H3209:H3212),0)","v":73198},null,{"$f":"TRUNC(SUM(J3209:J3212),0)","v":102648},null,{"$f":"TRUNC(SUM(L3209:L3212),0)","v":2083},null,{"$f":"H3213+J3213+L3213","v":177929}]
[]
[null,null,"6933002  세목스크린  SUS 700*500  개소"]
["6933002","0201901","스텐환봉 (STS304)","D5","kg",5,4500,{"$f":"TRUNC(F3216*G3216,1)","v":22500},0,{"$f":"TRUNC(F3216*I3216,1)","v":0},0,{"$f":"TRUNC(F3216*K3216,1)","v":0},{"$f":"TRUNC(G3216+I3216+K3216,1)","v":4500},{"$f":"TRUNC(H3216+J3216+L3216,0)","v":22500},""]
["6933002","0201902","스텐환봉 (STS304)","D10","kg",5,4350,{"$f":"TRUNC(F3217*G3217,1)","v":21750},0,{"$f":"TRUNC(F3217*I3217,1)","v":0},0,{"$f":"TRUNC(F3217*K3217,1)","v":0},{"$f":"TRUNC(G3217+I3217+K3217,1)","v":4350},{"$f":"TRUNC(H3217+J3217+L3217,0)","v":21750},""]
["6933002","0104809","앵글(스텐)","40x40x4t","kg",8,4230,{"$f":"TRUNC(F3218*G3218,1)","v":33840},0,{"$f":"TRUNC(F3218*I3218,1)","v":0},0,{"$f":"TRUNC(F3218*K3218,1)","v":0},{"$f":"TRUNC(G3218+I3218+K3218,1)","v":4230},{"$f":"TRUNC(H3218+J3218+L3218,0)","v":33840},""]
["6933002","6922003","잡철물제작설치(스텐)","간단","TON",1.7999999999999999E-2,256753,{"$f":"TRUNC(F3219*G3219,1)","v":4621.5},6415534,{"$f":"TRUNC(F3219*I3219,1)","v":115479.6},130247,{"$f":"TRUNC(F3219*K3219,1)","v":2344.4},{"$f":"TRUNC(G3219+I3219+K3219,1)","v":6802534},{"$f":"TRUNC(H3219+J3219+L3219,0)","v":122445},""]
[null,null,"[ 합           계 ]",{"$nulls":4},{"$f":"TRUNC(SUM(H3216:H3219),0)","v":82711},null,{"$f":"TRUNC(SUM(J3216:J3219),0)","v":115479},null,{"$f":"TRUNC(SUM(L3216:L3219),0)","v":2344},null,{"$f":"H3220+J3220+L3220","v":200534}]
[]
[null,null,"6933003  맨홀두껑  SUS 1600*800  개소"]
["6933003","0201201","STS 강판","5T","kg",50.8,3440,{"$f":"TRUNC(F3223*G3223,1)","v":174752},0,{"$f":"TRUNC(F3223*I3223,1)","v":0},0,{"$f":"TRUNC(F3223*K3223,1)","v":0},{"$f":"TRUNC(G3223+I3223+K3223,1)","v":3440},{"$f":"TRUNC(H3223+J3223+L3223,0)","v":174752},""]
["6933003","0104812","앵글(스텐)","50x50x5t","kg",22.4,4230,{"$f":"TRUNC(F3224*G3224,1)","v":94752},0,{"$f":"TRUNC(F3224*I3224,1)","v":0},0,{"$f":"TRUNC(F3224*K3224,1)","v":0},{"$f":"TRUNC(G3224+I3224+K3224,1)","v":4230},{"$f":"TRUNC(H3224+J3224+L3224,0)","v":94752},""]
["6933003","6922003","잡철물제작설치(스텐)","간단","TON",7.3200000000000001E-2,256753,{"$f":"TRUNC(F3225*G3225,1)","v":18794.3},6415534,{"$f":"TRUNC(F3225*I3225,1)","v":469617},130247,{"$f":"TRUNC(F3225*K3225,1)","v":9534},{"$f":"TRUNC(G3225+I3225+K3225,1)","v":6802534},{"$f":"TRUNC(H3225+J3225+L3225,0)","v":497945},""]
[null,null,"[ 합           계 ]",{"$nulls":4},{"$f":"TRUNC(SUM(H3223:H3225),0)","v":288298},null,{"$f":"TRUNC(SUM(J3223:J3225),0)","v":469617},null,{"$f":"TRUNC(SUM(L3223:L3225),0)","v":9534},null,{"$f":"H3226+J3226+L3226","v":767449}]
[]
[null,null,"6933004  맨홀두껑  SUS 1200*600  개소"]
["6933004","0201201","STS 강판","5T","kg",28.5,3440,{"$f":"TRUNC(F3229*G3229,1)","v":98040},0,{"$f":"TRUNC(F3229*I3229,1)","v":0},0,{"$f":"TRUNC(F3229*K3229,1)","v":0},{"$f":"TRUNC(G3229+I3229+K3229,1)","v":3440},{"$f":"TRUNC(H3229+J3229+L3229,0)","v":98040},""]
["6933004","0104812","앵글(스텐)","50x50x5t","kg",16.8,4230,{"$f":"TRUNC(F3230*G3230,1)","v":71064},0,{"$f":"TRUNC(F3230*I3230,1)","v":0},0,{"$f":"TRUNC(F3230*K3230,1)","v":0},{"$f":"TRUNC(G3230+I3230+K3230,1)","v":4230},{"$f":"TRUNC(H3230+J3230+L3230,0)","v":71064},""]
["6933004","6922003","잡철물제작설치(스텐)","간단","TON",4.53E-2,256753,{"$f":"TRUNC(F3231*G3231,1)","v":11630.9},6415534,{"$f":"TRUNC(F3231*I3231,1)","v":290623.59999999998},130247,{"$f":"TRUNC(F3231*K3231,1)","v":5900.1},{"$f":"TRUNC(G3231+I3231+K3231,1)","v":6802534},{"$f":"TRUNC(H3231+J3231+L3231,0)","v":308154},""]
[null,null,"[ 합           계 ]",{"$nulls":4},{"$f":"TRUNC(SUM(H3229:H3231),0)","v":180734},null,{"$f":"TRUNC(SUM(J3229:J3231),0)","v":290623},null,{"$f":"TRUNC(SUM(L3229:L3231),0)","v":5900},null,{"$f":"H3232+J3232+L3232","v":477257}]
[]
[null,null,"6933005  맨홀두껑  SUS 1000*600  개소"]
["6933005","0201201","STS 강판","5T","kg",23.8,3440,{"$f":"TRUNC(F3235*G3235,1)","v":81872},0,{"$f":"TRUNC(F3235*I3235,1)","v":0},0,{"$f":"TRUNC(F3235*K3235,1)","v":0},{"$f":"TRUNC(G3235+I3235+K3235,1)","v":3440},{"$f":"TRUNC(H3235+J3235+L3235,0)","v":81872},""]
["6933005","0104812","앵글(스텐)","50x50x5t","kg",12.8,4230,{"$f":"TRUNC(F3236*G3236,1)","v":54144},0,{"$f":"TRUNC(F3236*I3236,1)","v":0},0,{"$f":"TRUNC(F3236*K3236,1)","v":0},{"$f":"TRUNC(G3236+I3236+K3236,1)","v":4230},{"$f":"TRUNC(H3236+J3236+L3236,0)","v":54144},""]
["6933005","6922003","잡철물제작설치(스텐)","간단","TON",3.6600000000000001E-2,256753,{"$f":"TRUNC(F3237*G3237,1)","v":9397.1},6415534,{"$f":"TRUNC(F3237*I3237,1)","v":234808.5},130247,{"$f":"TRUNC(F3237*K3237,1)","v":4767},{"$f":"TRUNC(G3237+I3237+K3237,1)","v":6802534},{"$f":"TRUNC(H3237+J3237+L3237,0)","v":248972},""]
[null,null,"[ 합           계 ]",{"$nulls":4},{"$f":"TRUNC(SUM(H3235:H3237),0)","v":145413},null,{"$f":"TRUNC(SUM(J3235:J3237),0)","v":234808},null,{"$f":"TRUNC(SUM(L3235:L3237),0)","v":4767},null,{"$f":"H3238+J3238+L3238","v":384988}]
[]
[null,null,"6933006  맨홀두껑  SUS 600*700  개소"]
["6933006","0201201","STS 강판","5T","kg",16.7,3440,{"$f":"TRUNC(F3241*G3241,1)","v":57448},0,{"$f":"TRUNC(F3241*I3241,1)","v":0},0,{"$f":"TRUNC(F3241*K3241,1)","v":0},{"$f":"TRUNC(G3241+I3241+K3241,1)","v":3440},{"$f":"TRUNC(H3241+J3241+L3241,0)","v":57448},""]
["6933006","0104812","앵글(스텐)","50x50x5t","kg",10.4,4230,{"$f":"TRUNC(F3242*G3242,1)","v":43992},0,{"$f":"TRUNC(F3242*I3242,1)","v":0},0,{"$f":"TRUNC(F3242*K3242,1)","v":0},{"$f":"TRUNC(G3242+I3242+K3242,1)","v":4230},{"$f":"TRUNC(H3242+J3242+L3242,0)","v":43992},""]
["6933006","6922003","잡철물제작설치(스텐)","간단","TON",2.7100000000000003E-2,256753,{"$f":"TRUNC(F3243*G3243,1)","v":6958},6415534,{"$f":"TRUNC(F3243*I3243,1)","v":173860.9},130247,{"$f":"TRUNC(F3243*K3243,1)","v":3529.6},{"$f":"TRUNC(G3243+I3243+K3243,1)","v":6802534},{"$f":"TRUNC(H3243+J3243+L3243,0)","v":184348},""]
[null,null,"[ 합           계 ]",{"$nulls":4},{"$f":"TRUNC(SUM(H3241:H3243),0)","v":108398},null,{"$f":"TRUNC(SUM(J3241:J3243),0)","v":173860},null,{"$f":"TRUNC(SUM(L3241:L3243),0)","v":3529},null,{"$f":"H3244+J3244+L3244","v":285787}]
[]
[null,null,"6933007  에어헷다  D150*2000(80m3/day)  SET"]
["6933007","5003202","SUS관","D200x3T","m",2,66780,{"$f":"TRUNC(F3247*G3247,1)","v":133560},0,{"$f":"TRUNC(F3247*I3247,1)","v":0},0,{"$f":"TRUNC(F3247*K3247,1)","v":0},{"$f":"TRUNC(G3247+I3247+K3247,1)","v":66780},{"$f":"TRUNC(H3247+J3247+L3247,0)","v":133560},""]
["6933007","6913011","스텐용접합후렌지","D150","개소",2,62278,124556,0,0,0,0,62278,124556,""]
["6933007","5115381","SUS맹후렌지 (10KG)","D150","EA",2,68800,137600,0,0,0,0,68800,137600,""]
["6933007","6930013","U 볼트,너트","M250","개소",2,3474,6948,0,0,0,0,3474,6948,""]
["6933007","0104712","앵글","50x50x5t","kg",15,1180,17700,0,0,0,0,1180,17700,""]
["6933007","6906009","스텐관용접","D100","개소",1,6381,6381,38527,38527,770,770,45678,45678,""]
["6933007","6906006","스텐관용접","D50","개소",1,1692,1692,22839,22839,456,456,24987,24987,""]
["6933007","0001112","노무비","용접공(일반)","인",1.6,0,0,230706,369129.6,0,0,230706,369129,""]
["6933007","0001029","노무비","배관공","인",0.45,0,0,202212,90995.4,0,0,202212,90995,""]
["6933007","0001084","노무비","보통인부","인",0.45,0,0,144481,65016.4,0,0,144481,65016,""]
[null,null,"[ 합           계 ]",{"$nulls":4},{"$f":"TRUNC(SUM(H3247:H3256),0)","v":428437},null,{"$f":"TRUNC(SUM(J3247:J3256),0)","v":586507},null,{"$f":"TRUNC(SUM(L3247:L3256),0)","v":1226},null,{"$f":"H3257+J3257+L3257","v":1016170}]
[]
[null,null,"6933008  소포펌프설치  D50*1HP  대"]
["6933008","6620660","수중펌프","D50*1HP","대",1,780000,{"$f":"TRUNC(F3260*G3260,1)","v":780000},0,{"$f":"TRUNC(F3260*I3260,1)","v":0},0,{"$f":"TRUNC(F3260*K3260,1)","v":0},{"$f":"TRUNC(G3260+I3260+K3260,1)","v":780000},{"$f":"TRUNC(H3260+J3260+L3260,0)","v":780000},""]
["6933008","6620661","자동탈착","D50","대",1,300000,{"$f":"TRUNC(F3261*G3261,1)","v":300000},0,{"$f":"TRUNC(F3261*I3261,1)","v":0},0,{"$f":"TRUNC(F3261*K3261,1)","v":0},{"$f":"TRUNC(G3261+I3261+K3261,1)","v":300000},{"$f":"TRUNC(H3261+J3261+L3261,0)","v":300000},""]
["6933008","0001098","노무비","기계설비공","인",1.46,0,{"$f":"TRUNC(F3262*G3262,1)","v":0},194812,{"$f":"TRUNC(F3262*I3262,1)","v":284425.5},0,{"$f":"TRUNC(F3262*K3262,1)","v":0},{"$f":"TRUNC(G3262+I3262+K3262,1)","v":194812},{"$f":"TRUNC(H3262+J3262+L3262,0)","v":284425},""]
["6933008","0001084","노무비","보통인부","인",1.03,0,{"$f":"TRUNC(F3263*G3263,1)","v":0},144481,{"$f":"TRUNC(F3263*I3263,1)","v":148815.4},0,{"$f":"TRUNC(F3263*K3263,1)","v":0},{"$f":"TRUNC(G3263+I3263+K3263,1)","v":144481},{"$f":"TRUNC(H3263+J3263+L3263,0)","v":148815},""]
[null,null,"[ 합           계 ]",{"$nulls":4},{"$f":"TRUNC(SUM(H3260:H3263),0)","v":1080000},null,{"$f":"TRUNC(SUM(J3260:J3263),0)","v":433240},null,{"$f":"TRUNC(SUM(L3260:L3263),0)","v":0},null,{"$f":"H3264+J3264+L3264","v":1513240}]
[]
[null,null,"6933009  정류시설  PVC D250  SET"]
["6933009","5006040","PVC관 (VG2)","D250","m",7,26820,{"$f":"TRUNC(F3267*G3267,1)","v":187740},0,{"$f":"TRUNC(F3267*I3267,1)","v":0},0,{"$f":"TRUNC(F3267*K3267,1)","v":0},{"$f":"TRUNC(G3267+I3267+K3267,1)","v":26820},{"$f":"TRUNC(H3267+J3267+L3267,0)","v":187740},""]
["6933009","5108236","PVC티 (DTS)","D250","EA",2,53700,{"$f":"TRUNC(F3268*G3268,1)","v":107400},0,{"$f":"TRUNC(F3268*I3268,1)","v":0},0,{"$f":"TRUNC(F3268*K3268,1)","v":0},{"$f":"TRUNC(G3268+I3268+K3268,1)","v":53700},{"$f":"TRUNC(H3268+J3268+L3268,0)","v":107400},""]
["6933009","0001029","노무비","배관공","인",0.32700000000000001,0,{"$f":"TRUNC(F3269*G3269,1)","v":0},202212,{"$f":"TRUNC(F3269*I3269,1)","v":66123.3},0,{"$f":"TRUNC(F3269*K3269,1)","v":0},{"$f":"TRUNC(G3269+I3269+K3269,1)","v":202212},{"$f":"TRUNC(H3269+J3269+L3269,0)","v":66123},""]
["6933009","0001084","노무비","보통인부","인",9.7000000000000003E-2,0,{"$f":"TRUNC(F3270*G3270,1)","v":0},144481,{"$f":"TRUNC(F3270*I3270,1)","v":14014.6},0,{"$f":"TRUNC(F3270*K3270,1)","v":0},{"$f":"TRUNC(G3270+I3270+K3270,1)","v":144481},{"$f":"TRUNC(H3270+J3270+L3270,0)","v":14014},""]
[null,null,"[ 합           계 ]",{"$nulls":4},{"$f":"TRUNC(SUM(H3267:H3270),0)","v":295140},null,{"$f":"TRUNC(SUM(J3267:J3270),0)","v":80137},null,{"$f":"TRUNC(SUM(L3267:L3270),0)","v":0},null,{"$f":"H3271+J3271+L3271","v":375277}]
[]
[null,null,"6933010  염소주입통  PVC D125*2M  SET"]
["6933010","5006037","PVC관 (VG2)","D125","m",2,7530,{"$f":"TRUNC(F3274*G3274,1)","v":15060},0,{"$f":"TRUNC(F3274*I3274,1)","v":0},0,{"$f":"TRUNC(F3274*K3274,1)","v":0},{"$f":"TRUNC(G3274+I3274+K3274,1)","v":7530},{"$f":"TRUNC(H3274+J3274+L3274,0)","v":15060},""]
["6933010","5109581","PVC C.O. (DTS)","D125","EA",1,2550,{"$f":"TRUNC(F3275*G3275,1)","v":2550},0,{"$f":"TRUNC(F3275*I3275,1)","v":0},0,{"$f":"TRUNC(F3275*K3275,1)","v":0},{"$f":"TRUNC(G3275+I3275+K3275,1)","v":2550},{"$f":"TRUNC(H3275+J3275+L3275,0)","v":2550},""]
["6933010","0001029","노무비","배관공","인",0.436,0,{"$f":"TRUNC(F3276*G3276,1)","v":0},202212,{"$f":"TRUNC(F3276*I3276,1)","v":88164.4},0,{"$f":"TRUNC(F3276*K3276,1)","v":0},{"$f":"TRUNC(G3276+I3276+K3276,1)","v":202212},{"$f":"TRUNC(H3276+J3276+L3276,0)","v":88164},""]
["6933010","0001084","노무비","보통인부","인",0.14799999999999999,0,{"$f":"TRUNC(F3277*G3277,1)","v":0},144481,{"$f":"TRUNC(F3277*I3277,1)","v":21383.1},0,{"$f":"TRUNC(F3277*K3277,1)","v":0},{"$f":"TRUNC(G3277+I3277+K3277,1)","v":144481},{"$f":"TRUNC(H3277+J3277+L3277,0)","v":21383},""]
[null,null,"[ 합           계 ]",{"$nulls":4},{"$f":"TRUNC(SUM(H3274:H3277),0)","v":17610},null,{"$f":"TRUNC(SUM(J3274:J3277),0)","v":109547},null,{"$f":"TRUNC(SUM(L3274:L3277),0)","v":0},null,{"$f":"H3278+J3278+L3278","v":127157}]
[]
[null,null,"6933011  유량조정탱크  SUS 900*500*500 3T  SET"]
["6933011","0201202","STS 강판","3T","kg",82.79,3440,{"$f":"TRUNC(F3281*G3281,1)","v":284797.59999999998},0,{"$f":"TRUNC(F3281*I3281,1)","v":0},0,{"$f":"TRUNC(F3281*K3281,1)","v":0},{"$f":"TRUNC(G3281+I3281+K3281,1)","v":3440},{"$f":"TRUNC(H3281+J3281+L3281,0)","v":284797},""]
["6933011","0104812","앵글(스텐)","50x50x5t","kg",14.4,4230,{"$f":"TRUNC(F3282*G3282,1)","v":60912},0,{"$f":"TRUNC(F3282*I3282,1)","v":0},0,{"$f":"TRUNC(F3282*K3282,1)","v":0},{"$f":"TRUNC(G3282+I3282+K3282,1)","v":4230},{"$f":"TRUNC(H3282+J3282+L3282,0)","v":60912},""]
["6933011","6906009","스텐관용접","D100","개소",1,6381,{"$f":"TRUNC(F3283*G3283,1)","v":6381},38527,{"$f":"TRUNC(F3283*I3283,1)","v":38527},770,{"$f":"TRUNC(F3283*K3283,1)","v":770},{"$f":"TRUNC(G3283+I3283+K3283,1)","v":45678},{"$f":"TRUNC(H3283+J3283+L3283,0)","v":45678},""]
["6933011","6906007","스텐관용접","D65","개소",1,3287,{"$f":"TRUNC(F3284*G3284,1)","v":3287},27454,{"$f":"TRUNC(F3284*I3284,1)","v":27454},549,{"$f":"TRUNC(F3284*K3284,1)","v":549},{"$f":"TRUNC(G3284+I3284+K3284,1)","v":31290},{"$f":"TRUNC(H3284+J3284+L3284,0)","v":31290},""]
["6933011","6922003","잡철물제작설치(스텐)","간단","TON",9.7199999999999995E-2,256753,{"$f":"TRUNC(F3285*G3285,1)","v":24956.3},6415534,{"$f":"TRUNC(F3285*I3285,1)","v":623589.9},130247,{"$f":"TRUNC(F3285*K3285,1)","v":12660},{"$f":"TRUNC(G3285+I3285+K3285,1)","v":6802534},{"$f":"TRUNC(H3285+J3285+L3285,0)","v":661206},""]
[null,null,"[ 합           계 ]",{"$nulls":4},{"$f":"TRUNC(SUM(H3281:H3285),0)","v":380333},null,{"$f":"TRUNC(SUM(J3281:J3285),0)","v":689570},null,{"$f":"TRUNC(SUM(L3281:L3285),0)","v":13979},null,{"$f":"H3286+J3286+L3286","v":1083882}]
[]
[null,null,"6934001  가스용PE관 접합 및 부설 (버트융착,전자소켓융착)  D25  개소"]
["6934001","0001029","노무비","배관공","인",8.1000000000000003E-2,0,{"$f":"TRUNC(F3289*G3289,1)","v":0},202212,{"$f":"TRUNC(F3289*I3289,1)","v":16379.1},0,{"$f":"TRUNC(F3289*K3289,1)","v":0},{"$f":"TRUNC(G3289+I3289+K3289,1)","v":202212},{"$f":"TRUNC(H3289+J3289+L3289,0)","v":16379},""]
["6934001","0001084","노무비","보통인부","인",1.9E-2,0,{"$f":"TRUNC(F3290*G3290,1)","v":0},144481,{"$f":"TRUNC(F3290*I3290,1)","v":2745.1},0,{"$f":"TRUNC(F3290*K3290,1)","v":0},{"$f":"TRUNC(G3290+I3290+K3290,1)","v":144481},{"$f":"TRUNC(H3290+J3290+L3290,0)","v":2745},""]
["6934001","1770456","공구손료 및 융착기 경비","노무비의 5%","식",1,0,{"$f":"TRUNC(F3291*G3291,1)","v":0},0,{"$f":"TRUNC(F3291*I3291,1)","v":0},956.2,{"$f":"TRUNC(F3291*K3291,1)","v":956.2},{"$f":"TRUNC(G3291+I3291+K3291,1)","v":956.2},{"$f":"TRUNC(H3291+J3291+L3291,0)","v":956},""]
[null,null,"[ 합           계 ]",{"$nulls":4},{"$f":"TRUNC(SUM(H3289:H3291),0)","v":0},null,{"$f":"TRUNC(SUM(J3289:J3291),0)","v":19124},null,{"$f":"TRUNC(SUM(L3289:L3291),0)","v":956},null,{"$f":"H3292+J3292+L3292","v":20080}]
[]
[null,null,"6934002  가스용PE관 접합 및 부설 (버트융착,전자소켓융착)  D32  개소"]
["6934001","0001029","노무비","배관공","인",9.4E-2,0,{"$f":"TRUNC(F3295*G3295,1)","v":0},202212,{"$f":"TRUNC(F3295*I3295,1)","v":19007.900000000001},0,{"$f":"TRUNC(F3295*K3295,1)","v":0},{"$f":"TRUNC(G3295+I3295+K3295,1)","v":202212},{"$f":"TRUNC(H3295+J3295+L3295,0)","v":19007},""]
["6934001","0001084","노무비","보통인부","인",2.1999999999999999E-2,0,{"$f":"TRUNC(F3296*G3296,1)","v":0},144481,{"$f":"TRUNC(F3296*I3296,1)","v":3178.5},0,{"$f":"TRUNC(F3296*K3296,1)","v":0},{"$f":"TRUNC(G3296+I3296+K3296,1)","v":144481},{"$f":"TRUNC(H3296+J3296+L3296,0)","v":3178},""]
["6934001","1770456","공구손료 및 융착기 경비","노무비의 5%","식",1,0,{"$f":"TRUNC(F3297*G3297,1)","v":0},0,{"$f":"TRUNC(F3297*I3297,1)","v":0},1109.3,{"$f":"TRUNC(F3297*K3297,1)","v":1109.3},{"$f":"TRUNC(G3297+I3297+K3297,1)","v":1109.3},{"$f":"TRUNC(H3297+J3297+L3297,0)","v":1109},""]
[null,null,"[ 합           계 ]",{"$nulls":4},{"$f":"TRUNC(SUM(H3295:H3297),0)","v":0},null,{"$f":"TRUNC(SUM(J3295:J3297),0)","v":22186},null,{"$f":"TRUNC(SUM(L3295:L3297),0)","v":1109},null,{"$f":"H3298+J3298+L3298","v":23295}]
[]
[null,null,"6934003  가스용PE관 접합 및 부설 (버트융착,전자소켓융착)  D40  개소"]
["6934001","0001029","노무비","배관공","인",0.108,0,{"$f":"TRUNC(F3301*G3301,1)","v":0},202212,{"$f":"TRUNC(F3301*I3301,1)","v":21838.799999999999},0,{"$f":"TRUNC(F3301*K3301,1)","v":0},{"$f":"TRUNC(G3301+I3301+K3301,1)","v":202212},{"$f":"TRUNC(H3301+J3301+L3301,0)","v":21838},""]
["6934001","0001084","노무비","보통인부","인",2.5000000000000001E-2,0,{"$f":"TRUNC(F3302*G3302,1)","v":0},144481,{"$f":"TRUNC(F3302*I3302,1)","v":3612},0,{"$f":"TRUNC(F3302*K3302,1)","v":0},{"$f":"TRUNC(G3302+I3302+K3302,1)","v":144481},{"$f":"TRUNC(H3302+J3302+L3302,0)","v":3612},""]
["6934001","1770456","공구손료 및 융착기 경비","노무비의 5%","식",1,0,{"$f":"TRUNC(F3303*G3303,1)","v":0},0,{"$f":"TRUNC(F3303*I3303,1)","v":0},1272.5,{"$f":"TRUNC(F3303*K3303,1)","v":1272.5},{"$f":"TRUNC(G3303+I3303+K3303,1)","v":1272.5},{"$f":"TRUNC(H3303+J3303+L3303,0)","v":1272},""]
[null,null,"[ 합           계 ]",{"$nulls":4},{"$f":"TRUNC(SUM(H3301:H3303),0)","v":0},null,{"$f":"TRUNC(SUM(J3301:J3303),0)","v":25450},null,{"$f":"TRUNC(SUM(L3301:L3303),0)","v":1272},null,{"$f":"H3304+J3304+L3304","v":26722}]
[]
[null,null,"6934004  가스용PE관 접합 및 부설 (버트융착,전자소켓융착)  D50  개소"]
["6934001","0001029","노무비","배관공","인",0.14099999999999999,0,{"$f":"TRUNC(F3307*G3307,1)","v":0},202212,{"$f":"TRUNC(F3307*I3307,1)","v":28511.8},0,{"$f":"TRUNC(F3307*K3307,1)","v":0},{"$f":"TRUNC(G3307+I3307+K3307,1)","v":202212},{"$f":"TRUNC(H3307+J3307+L3307,0)","v":28511},""]
["6934001","0001084","노무비","보통인부","인",3.3000000000000002E-2,0,{"$f":"TRUNC(F3308*G3308,1)","v":0},144481,{"$f":"TRUNC(F3308*I3308,1)","v":4767.8},0,{"$f":"TRUNC(F3308*K3308,1)","v":0},{"$f":"TRUNC(G3308+I3308+K3308,1)","v":144481},{"$f":"TRUNC(H3308+J3308+L3308,0)","v":4767},""]
["6934001","1770456","공구손료 및 융착기 경비","노무비의 5%","식",1,0,{"$f":"TRUNC(F3309*G3309,1)","v":0},0,{"$f":"TRUNC(F3309*I3309,1)","v":0},1663.9,{"$f":"TRUNC(F3309*K3309,1)","v":1663.9},{"$f":"TRUNC(G3309+I3309+K3309,1)","v":1663.9},{"$f":"TRUNC(H3309+J3309+L3309,0)","v":1663},""]
[null,null,"[ 합           계 ]",{"$nulls":4},{"$f":"TRUNC(SUM(H3307:H3309),0)","v":0},null,{"$f":"TRUNC(SUM(J3307:J3309),0)","v":33279},null,{"$f":"TRUNC(SUM(L3307:L3309),0)","v":1663},null,{"$f":"H3310+J3310+L3310","v":34942}]
[]
[null,null,"6934005  가스용PE관 접합 및 부설 (버트융착,전자소켓융착)  D63  개소"]
["6934001","0001029","노무비","배관공","인",0.184,0,{"$f":"TRUNC(F3313*G3313,1)","v":0},202212,{"$f":"TRUNC(F3313*I3313,1)","v":37207},0,{"$f":"TRUNC(F3313*K3313,1)","v":0},{"$f":"TRUNC(G3313+I3313+K3313,1)","v":202212},{"$f":"TRUNC(H3313+J3313+L3313,0)","v":37207},""]
["6934001","0001084","노무비","보통인부","인",4.2999999999999997E-2,0,{"$f":"TRUNC(F3314*G3314,1)","v":0},144481,{"$f":"TRUNC(F3314*I3314,1)","v":6212.6},0,{"$f":"TRUNC(F3314*K3314,1)","v":0},{"$f":"TRUNC(G3314+I3314+K3314,1)","v":144481},{"$f":"TRUNC(H3314+J3314+L3314,0)","v":6212},""]
["6934001","1770456","공구손료 및 융착기 경비","노무비의 5%","식",1,0,{"$f":"TRUNC(F3315*G3315,1)","v":0},0,{"$f":"TRUNC(F3315*I3315,1)","v":0},2170.9,{"$f":"TRUNC(F3315*K3315,1)","v":2170.9},{"$f":"TRUNC(G3315+I3315+K3315,1)","v":2170.9},{"$f":"TRUNC(H3315+J3315+L3315,0)","v":2170},""]
[null,null,"[ 합           계 ]",{"$nulls":4},{"$f":"TRUNC(SUM(H3313:H3315),0)","v":0},null,{"$f":"TRUNC(SUM(J3313:J3315),0)","v":43419},null,{"$f":"TRUNC(SUM(L3313:L3315),0)","v":2170},null,{"$f":"H3316+J3316+L3316","v":45589}]
[]
[null,null,"6934006  가스용PE관 접합 및 부설 (버트융착,전자소켓융착)  D75  개소"]
["6934001","0001029","노무비","배관공","인",0.21,0,{"$f":"TRUNC(F3319*G3319,1)","v":0},202212,{"$f":"TRUNC(F3319*I3319,1)","v":42464.5},0,{"$f":"TRUNC(F3319*K3319,1)","v":0},{"$f":"TRUNC(G3319+I3319+K3319,1)","v":202212},{"$f":"TRUNC(H3319+J3319+L3319,0)","v":42464},""]
["6934001","0001084","노무비","보통인부","인",4.9000000000000002E-2,0,{"$f":"TRUNC(F3320*G3320,1)","v":0},144481,{"$f":"TRUNC(F3320*I3320,1)","v":7079.5},0,{"$f":"TRUNC(F3320*K3320,1)","v":0},{"$f":"TRUNC(G3320+I3320+K3320,1)","v":144481},{"$f":"TRUNC(H3320+J3320+L3320,0)","v":7079},""]
["6934001","1770456","공구손료 및 융착기 경비","노무비의 5%","식",1,0,{"$f":"TRUNC(F3321*G3321,1)","v":0},0,{"$f":"TRUNC(F3321*I3321,1)","v":0},2477.1999999999998,{"$f":"TRUNC(F3321*K3321,1)","v":2477.1999999999998},{"$f":"TRUNC(G3321+I3321+K3321,1)","v":2477.1999999999998},{"$f":"TRUNC(H3321+J3321+L3321,0)","v":2477},""]
[null,null,"[ 합           계 ]",{"$nulls":4},{"$f":"TRUNC(SUM(H3319:H3321),0)","v":0},null,{"$f":"TRUNC(SUM(J3319:J3321),0)","v":49544},null,{"$f":"TRUNC(SUM(L3319:L3321),0)","v":2477},null,{"$f":"H3322+J3322+L3322","v":52021}]
[]
[null,null,"6934007  가스용PE관 접합 및 부설 (버트융착,전자소켓융착)  D90  개소"]
["6934001","0001029","노무비","배관공","인",0.24399999999999999,0,{"$f":"TRUNC(F3325*G3325,1)","v":0},202212,{"$f":"TRUNC(F3325*I3325,1)","v":49339.7},0,{"$f":"TRUNC(F3325*K3325,1)","v":0},{"$f":"TRUNC(G3325+I3325+K3325,1)","v":202212},{"$f":"TRUNC(H3325+J3325+L3325,0)","v":49339},""]
["6934001","0001084","노무비","보통인부","인",5.7000000000000009E-2,0,{"$f":"TRUNC(F3326*G3326,1)","v":0},144481,{"$f":"TRUNC(F3326*I3326,1)","v":8235.4},0,{"$f":"TRUNC(F3326*K3326,1)","v":0},{"$f":"TRUNC(G3326+I3326+K3326,1)","v":144481},{"$f":"TRUNC(H3326+J3326+L3326,0)","v":8235},""]
["6934001","1770456","공구손료 및 융착기 경비","노무비의 5%","식",1,0,{"$f":"TRUNC(F3327*G3327,1)","v":0},0,{"$f":"TRUNC(F3327*I3327,1)","v":0},2878.7,{"$f":"TRUNC(F3327*K3327,1)","v":2878.7},{"$f":"TRUNC(G3327+I3327+K3327,1)","v":2878.7},{"$f":"TRUNC(H3327+J3327+L3327,0)","v":2878},""]
[null,null,"[ 합           계 ]",{"$nulls":4},{"$f":"TRUNC(SUM(H3325:H3327),0)","v":0},null,{"$f":"TRUNC(SUM(J3325:J3327),0)","v":57575},null,{"$f":"TRUNC(SUM(L3325:L3327),0)","v":2878},null,{"$f":"H3328+J3328+L3328","v":60453}]
[]
[null,null,"6934008  가스용PE관 접합 및 부설 (버트융착,전자소켓융착)  D110  개소"]
["6934001","0001029","노무비","배관공","인",0.28799999999999998,0,{"$f":"TRUNC(F3331*G3331,1)","v":0},202212,{"$f":"TRUNC(F3331*I3331,1)","v":58237},0,{"$f":"TRUNC(F3331*K3331,1)","v":0},{"$f":"TRUNC(G3331+I3331+K3331,1)","v":202212},{"$f":"TRUNC(H3331+J3331+L3331,0)","v":58237},""]
["6934001","0001084","노무비","보통인부","인",6.7000000000000004E-2,0,{"$f":"TRUNC(F3332*G3332,1)","v":0},144481,{"$f":"TRUNC(F3332*I3332,1)","v":9680.2000000000007},0,{"$f":"TRUNC(F3332*K3332,1)","v":0},{"$f":"TRUNC(G3332+I3332+K3332,1)","v":144481},{"$f":"TRUNC(H3332+J3332+L3332,0)","v":9680},""]
["6934001","1770456","공구손료 및 융착기 경비","노무비의 5%","식",1,0,{"$f":"TRUNC(F3333*G3333,1)","v":0},0,{"$f":"TRUNC(F3333*I3333,1)","v":0},3395.8,{"$f":"TRUNC(F3333*K3333,1)","v":3395.8},{"$f":"TRUNC(G3333+I3333+K3333,1)","v":3395.8},{"$f":"TRUNC(H3333+J3333+L3333,0)","v":3395},""]
[null,null,"[ 합           계 ]",{"$nulls":4},{"$f":"TRUNC(SUM(H3331:H3333),0)","v":0},null,{"$f":"TRUNC(SUM(J3331:J3333),0)","v":67917},null,{"$f":"TRUNC(SUM(L3331:L3333),0)","v":3395},null,{"$f":"H3334+J3334+L3334","v":71312}]
[]
[null,null,"6934009  가스용PE관 접합 및 부설 (버트융착,전자소켓융착)  D125  개소"]
["6934001","0001029","노무비","배관공","인",0.32200000000000001,0,{"$f":"TRUNC(F3337*G3337,1)","v":0},202212,{"$f":"TRUNC(F3337*I3337,1)","v":65112.2},0,{"$f":"TRUNC(F3337*K3337,1)","v":0},{"$f":"TRUNC(G3337+I3337+K3337,1)","v":202212},{"$f":"TRUNC(H3337+J3337+L3337,0)","v":65112},""]
["6934001","0001084","노무비","보통인부","인",7.4999999999999997E-2,0,{"$f":"TRUNC(F3338*G3338,1)","v":0},144481,{"$f":"TRUNC(F3338*I3338,1)","v":10836},0,{"$f":"TRUNC(F3338*K3338,1)","v":0},{"$f":"TRUNC(G3338+I3338+K3338,1)","v":144481},{"$f":"TRUNC(H3338+J3338+L3338,0)","v":10836},""]
["6934001","1770456","공구손료 및 융착기 경비","노무비의 5%","식",1,0,{"$f":"TRUNC(F3339*G3339,1)","v":0},0,{"$f":"TRUNC(F3339*I3339,1)","v":0},3797.4,{"$f":"TRUNC(F3339*K3339,1)","v":3797.4},{"$f":"TRUNC(G3339+I3339+K3339,1)","v":3797.4},{"$f":"TRUNC(H3339+J3339+L3339,0)","v":3797},""]
[null,null,"[ 합           계 ]",{"$nulls":4},{"$f":"TRUNC(SUM(H3337:H3339),0)","v":0},null,{"$f":"TRUNC(SUM(J3337:J3339),0)","v":75948},null,{"$f":"TRUNC(SUM(L3337:L3339),0)","v":3797},null,{"$f":"H3340+J3340+L3340","v":79745}]
[]
[null,null,"6934010  가스용PE관 접합 및 부설 (버트융착,전자소켓융착)  D140  개소"]
["6934001","0001029","노무비","배관공","인",0.35499999999999998,0,{"$f":"TRUNC(F3343*G3343,1)","v":0},202212,{"$f":"TRUNC(F3343*I3343,1)","v":71785.2},0,{"$f":"TRUNC(F3343*K3343,1)","v":0},{"$f":"TRUNC(G3343+I3343+K3343,1)","v":202212},{"$f":"TRUNC(H3343+J3343+L3343,0)","v":71785},""]
["6934001","0001084","노무비","보통인부","인",8.3000000000000004E-2,0,{"$f":"TRUNC(F3344*G3344,1)","v":0},144481,{"$f":"TRUNC(F3344*I3344,1)","v":11991.9},0,{"$f":"TRUNC(F3344*K3344,1)","v":0},{"$f":"TRUNC(G3344+I3344+K3344,1)","v":144481},{"$f":"TRUNC(H3344+J3344+L3344,0)","v":11991},""]
["6934001","1770456","공구손료 및 융착기 경비","노무비의 5%","식",1,0,{"$f":"TRUNC(F3345*G3345,1)","v":0},0,{"$f":"TRUNC(F3345*I3345,1)","v":0},4188.8,{"$f":"TRUNC(F3345*K3345,1)","v":4188.8},{"$f":"TRUNC(G3345+I3345+K3345,1)","v":4188.8},{"$f":"TRUNC(H3345+J3345+L3345,0)","v":4188},""]
[null,null,"[ 합           계 ]",{"$nulls":4},{"$f":"TRUNC(SUM(H3343:H3345),0)","v":0},null,{"$f":"TRUNC(SUM(J3343:J3345),0)","v":83777},null,{"$f":"TRUNC(SUM(L3343:L3345),0)","v":4188},null,{"$f":"H3346+J3346+L3346","v":87965}]
[]
[null,null,"6934011  가스용PE관 접합 및 부설 (버트융착,전자소켓융착)  D160  개소"]
["6934001","0001029","노무비","배관공","인",0.4,0,{"$f":"TRUNC(F3349*G3349,1)","v":0},202212,{"$f":"TRUNC(F3349*I3349,1)","v":80884.800000000003},0,{"$f":"TRUNC(F3349*K3349,1)","v":0},{"$f":"TRUNC(G3349+I3349+K3349,1)","v":202212},{"$f":"TRUNC(H3349+J3349+L3349,0)","v":80884},""]
["6934001","0001084","노무비","보통인부","인",9.4E-2,0,{"$f":"TRUNC(F3350*G3350,1)","v":0},144481,{"$f":"TRUNC(F3350*I3350,1)","v":13581.2},0,{"$f":"TRUNC(F3350*K3350,1)","v":0},{"$f":"TRUNC(G3350+I3350+K3350,1)","v":144481},{"$f":"TRUNC(H3350+J3350+L3350,0)","v":13581},""]
["6934001","1770456","공구손료 및 융착기 경비","노무비의 5%","식",1,0,{"$f":"TRUNC(F3351*G3351,1)","v":0},0,{"$f":"TRUNC(F3351*I3351,1)","v":0},4723.3,{"$f":"TRUNC(F3351*K3351,1)","v":4723.3},{"$f":"TRUNC(G3351+I3351+K3351,1)","v":4723.3},{"$f":"TRUNC(H3351+J3351+L3351,0)","v":4723},""]
[null,null,"[ 합           계 ]",{"$nulls":4},{"$f":"TRUNC(SUM(H3349:H3351),0)","v":0},null,{"$f":"TRUNC(SUM(J3349:J3351),0)","v":94466},null,{"$f":"TRUNC(SUM(L3349:L3351),0)","v":4723},null,{"$f":"H3352+J3352+L3352","v":99189}]
[]
[null,null,"6934012  가스용PE관 접합 및 부설 (버트융착,전자소켓융착)  D180  개소"]
["6934001","0001029","노무비","배관공","인",0.44400000000000001,0,{"$f":"TRUNC(F3355*G3355,1)","v":0},202212,{"$f":"TRUNC(F3355*I3355,1)","v":89782.1},0,{"$f":"TRUNC(F3355*K3355,1)","v":0},{"$f":"TRUNC(G3355+I3355+K3355,1)","v":202212},{"$f":"TRUNC(H3355+J3355+L3355,0)","v":89782},""]
["6934001","0001084","노무비","보통인부","인",0.104,0,{"$f":"TRUNC(F3356*G3356,1)","v":0},144481,{"$f":"TRUNC(F3356*I3356,1)","v":15026},0,{"$f":"TRUNC(F3356*K3356,1)","v":0},{"$f":"TRUNC(G3356+I3356+K3356,1)","v":144481},{"$f":"TRUNC(H3356+J3356+L3356,0)","v":15026},""]
["6934001","1770456","공구손료 및 융착기 경비","노무비의 5%","식",1,0,{"$f":"TRUNC(F3357*G3357,1)","v":0},0,{"$f":"TRUNC(F3357*I3357,1)","v":0},5240.3999999999996,{"$f":"TRUNC(F3357*K3357,1)","v":5240.3999999999996},{"$f":"TRUNC(G3357+I3357+K3357,1)","v":5240.3999999999996},{"$f":"TRUNC(H3357+J3357+L3357,0)","v":5240},""]
[null,null,"[ 합           계 ]",{"$nulls":4},{"$f":"TRUNC(SUM(H3355:H3357),0)","v":0},null,{"$f":"TRUNC(SUM(J3355:J3357),0)","v":104808},null,{"$f":"TRUNC(SUM(L3355:L3357),0)","v":5240},null,{"$f":"H3358+J3358+L3358","v":110048}]
[]
[null,null,"6934013  액체 침투탐상검사 (P.T)  50A이하  용접개소",{"$nulls":13},"=3.1415*0.05","배관둘레길이"]
["6934011","6302104","PT침투제","","LIT",{"$f":"0.101*0.16","v":1.6160000000000001E-2},15555.555555555555,{"$f":"TRUNC(F3361*G3361,1)","v":251.3},0,{"$f":"TRUNC(F3361*I3361,1)","v":0},0,{"$f":"TRUNC(F3361*K3361,1)","v":0},{"$f":"TRUNC(G3361+I3361+K3361,1)","v":15555.5},{"$f":"TRUNC(H3361+J3361+L3361,0)","v":251},"",null,{"$f":"3.1415*0.05","v":0.15707500000000002}]
["6934011","6302104","PT현상제","","LIT",{"$f":"0.202*0.16","v":3.2320000000000002E-2},12222.222222222223,395,0,0,0,0,12222.2,395,"",null,{"$f":"3.1415*0.05","v":0.15707500000000002}]
["6934011","6302104","PT세척제","","LIT",{"$f":"0.304*0.16","v":4.8640000000000003E-2},8888.8888888888887,432.3,0,0,0,0,8888.7999999999993,432,"",null,0.15707500000000002]
[null,null,"흡수지","23*23cm","장",{"$f":"169.05*0.16","v":27.048000000000002},67.857142857142861,1835.4,0,0,0,0,67.8,1835,null,null,0.15707500000000002]
[null,null,"디스크브러쉬휠","Φ4","개",{"$f":"0.75*0.16","v":0.12},1421,170.5,0,0,0,0,1421,170,null,null,0.15707500000000002]
[null,null,"작업용 비닐마스크",null,"개",{"$f":"1.13*0.16","v":0.18079999999999999},236,42.6,0,0,0,0,236,42,null,null,0.15707500000000002]
[null,null,"마킹펜(메탈용)",null,"개",{"$f":"0.023*0.16","v":3.6800000000000001E-3},500,1.8,0,0,0,0,500,1,null,null,0.15707500000000002]
["6934010","0001106","노무비","중급기술자(기사)","인",{"$f":"0.096*0.16*1.5","v":2.3040000000000001E-2},0,0,219603,5059.6000000000004,0,0,219603,5059,"",null,0.15707500000000002]
["6934010","0001106","노무비","비파괴시험공","인",{"$f":"0.13*0.16*1.5","v":3.1200000000000006E-2},0,0,222653,6946.7,0,0,222653,6946,"",null,0.15707500000000002]
["6934010","0001109","노무비","특별인부","인",{"$f":"0.32*0.16*1.5","v":7.6800000000000007E-2},0,0,181293,13923.3,0,0,181293,13923,"",null,0.15707500000000002]
[null,null,"[ 합           계 ]",{"$nulls":4},{"$f":"TRUNC(SUM(H3361:H3370),0)","v":3128},null,{"$f":"TRUNC(SUM(J3361:J3370),0)","v":25929},null,{"$f":"TRUNC(SUM(L3361:L3370),0)","v":0},null,{"$f":"H3371+J3371+L3371","v":29057}]
[]
[null,null,"6934014  액체 침투탐상검사 (P.T)  80A~100A  용접개소",{"$nulls":13},"=3.1415*0.1","배관둘레길이"]
["6934011","6302104","PT침투제","","LIT",{"$f":"0.101*0.31","v":3.1310000000000004E-2},15555.555555555555,{"$f":"TRUNC(F3374*G3374,1)","v":487},0,{"$f":"TRUNC(F3374*I3374,1)","v":0},0,{"$f":"TRUNC(F3374*K3374,1)","v":0},{"$f":"TRUNC(G3374+I3374+K3374,1)","v":15555.5},{"$f":"TRUNC(H3374+J3374+L3374,0)","v":487},"",null,{"$f":"3.1415*0.1","v":0.31415000000000004}]
["6934011","6302104","PT현상제","","LIT",{"$f":"0.202*0.31","v":6.2620000000000009E-2},12222.222222222223,765.3,0,0,0,0,12222.2,765,"",null,{"$f":"3.1415*0.1","v":0.31415000000000004}]
["6934011","6302104","PT세척제","","LIT",{"$f":"0.304*0.31","v":9.423999999999999E-2},8888.8888888888887,837.6,0,0,0,0,8888.7999999999993,837,"",null,0.31415000000000004]
[null,null,"흡수지","23*23cm","장",{"$f":"169.05*0.31","v":52.405500000000004},67.857142857142861,3556,0,0,0,0,67.8,3556,null,null,0.31415000000000004]
[null,null,"디스크브러쉬휠","Φ4","개",{"$f":"0.75*0.31","v":0.23249999999999998},1421,330.3,0,0,0,0,1421,330,null,null,0.31415000000000004]
[null,null,"작업용 비닐마스크",null,"개",{"$f":"1.13*0.31","v":0.35029999999999994},236,82.6,0,0,0,0,236,82,null,null,0.31415000000000004]
[null,null,"마킹펜(메탈용)",null,"개",{"$f":"0.023*0.31","v":7.1300000000000001E-3},500,3.5,0,0,0,0,500,3,null,null,0.31415000000000004]
["6934010","0001106","노무비","중급기술자(기사)","인",{"$f":"0.096*0.31*1.45","v":4.3152000000000003E-2},0,{"$f":"TRUNC(F3381*G3381,1)","v":0},219603,9476.2999999999993,0,0,{"$f":"TRUNC(G3381+I3381+K3381,1)","v":219603},{"$f":"TRUNC(H3381+J3381+L3381,0)","v":9476},"",null,0.31415000000000004]
["6934010","0001106","노무비","비파괴시험공","인",{"$f":"0.13*0.31*1.45","v":5.8435000000000001E-2},0,{"$f":"TRUNC(F3382*G3382,1)","v":0},222653,13010.7,0,0,{"$f":"TRUNC(G3382+I3382+K3382,1)","v":222653},{"$f":"TRUNC(H3382+J3382+L3382,0)","v":13010},"",null,0.31415000000000004]
["6934010","0001109","노무비","특별인부","인",{"$f":"0.32*0.31*1.45","v":0.14384},0,{"$f":"TRUNC(F3383*G3383,1)","v":0},181293,26077.1,0,0,{"$f":"TRUNC(G3383+I3383+K3383,1)","v":181293},{"$f":"TRUNC(H3383+J3383+L3383,0)","v":26077},"",null,0.31415000000000004]
[null,null,"[ 합           계 ]",{"$nulls":4},{"$f":"TRUNC(SUM(H3374:H3383),0)","v":6062},null,{"$f":"TRUNC(SUM(J3374:J3383),0)","v":48564},null,{"$f":"TRUNC(SUM(L3374:L3383),0)","v":0},null,{"$f":"H3384+J3384+L3384","v":54626}]
[]
[null,null,"6934015  방사선 투과검사 (R.T)   용접개소"]
["6934011","6302101","x-RAY 필름","3⅓*12\"","매",1,1350,{"$f":"TRUNC(F3387*G3387,1)","v":1350},0,{"$f":"TRUNC(F3387*I3387,1)","v":0},0,{"$f":"TRUNC(F3387*K3387,1)","v":0},{"$f":"TRUNC(G3387+I3387+K3387,1)","v":1350},{"$f":"TRUNC(H3387+J3387+L3387,0)","v":1350},""]
["6934011","6302105","연증감지","","조",0.05,8700,435,0,0,0,0,8700,435,""]
["6934011","6302106","필림카세트","3⅓*12\"(고무)","매",2.5000000000000001E-2,3000,75,0,0,0,0,3000,75,""]
["6934011","6302103","RT X-RAY FILM 현상액","","LIT",0.10199999999999999,1210.5263157894738,123.4,0,0,0,0,1210.5,123,""]
["6934011","6302104","RT X-RAY FILM 정착액","","LIT",0.10199999999999999,1210.5263157894738,123.4,0,0,0,0,1210.5,123,""]
["6934011","6302107","정지액","","KG",6.0000000000000001E-3,317,1.9,0,0,0,0,317,1,""]
["6934011","6302108","마킹펜","","개",6.3E-2,500,31.5,0,0,0,0,500,31,""]
["6934011","6302109","마그네틱조크","","개",0.05,40000,2000,0,0,0,0,40000,2000,""]
["6934011","6302110","마스킹테이프","","M",0.254,60,15.2,0,0,0,0,60,15,""]
["6934011","0001105","노무비","중급기술자(기사)","인",9.6000000000000002E-2,0,{"$f":"TRUNC(F3396*G3396,1)","v":0},219603,21081.8,0,0,219603,21081,""]
["6934011","0001106","노무비","비파괴시험공","인",0.192,0,0,222653,42749.3,0,0,222653,42749,""]
["6934011","0001109","노무비","현상원","인",6.4000000000000001E-2,0,0,137759,8816.5,0,0,137759,8816,""]
["6934011","0001083","노무비","특별인부","인",0.192,0,0,181293,34808.199999999997,0,0,181293,34808,""]
[null,null,"[ 합           계 ]",{"$nulls":4},{"$f":"TRUNC(SUM(H3387:H3399),0)","v":4155},null,{"$f":"TRUNC(SUM(J3387:J3399),0)","v":107455},null,{"$f":"TRUNC(SUM(L3387:L3399),0)","v":0},null,{"$f":"H3400+J3400+L3400","v":111610}]
[]
[null,null,"6969001  터파기(인력)  보통토사  0-1M  ㎥ (건축 호표 85 참조) "]
[null,null,"노무비","보통인부","인",0.2,null,{"$f":"TRUNC(F3403*G3403,1)","v":0},144481,{"$f":"TRUNC(F3403*I3403,1)","v":28896.2},null,{"$f":"TRUNC(F3403*K3403,1)","v":0},null,{"$f":"TRUNC(H3403+J3403+L3403,0)","v":28896}]
[null,null,"[ 합           계 ]",{"$nulls":4},{"$f":"TRUNC(SUM(H3403),0)","v":0},null,{"$f":"TRUNC(SUM(J3403),0)","v":28896},null,{"$f":"TRUNC(SUM(L3403),0)","v":0},null,{"$f":"H3404+J3404+L3404","v":28896}]
[]
[null,null,"6969002  되메우기(인력)    ㎥ (건축 호표 1157 참조)"]
[null,null,"노무비","보통인부","인",0.1,null,{"$f":"TRUNC(F3407*G3407,1)","v":0},144481,{"$f":"TRUNC(F3407*I3407,1)","v":14448.1},null,{"$f":"TRUNC(F3407*K3407,1)","v":0},null,{"$f":"TRUNC(H3407+J3407+L3407,0)","v":14448}]
[null,null,"[ 합           계 ]",{"$nulls":4},{"$f":"TRUNC(SUM(H3407),0)","v":0},null,{"$f":"TRUNC(SUM(J3407),0)","v":14448},null,{"$f":"TRUNC(SUM(L3407),0)","v":0},null,{"$f":"H3408+J3408+L3408","v":14448}]
[]
[null,null,"6969003  터파기(백호우 0.2㎥)  보통토사  ㎥ (건축 호표 95 참조)"]
[null,null,"터파기(백호우0.2M3)","토사","M3",1,422,{"$f":"TRUNC(F3411*G3411,1)","v":422},2257,{"$f":"TRUNC(F3411*I3411,1)","v":2257},657,{"$f":"TRUNC(F3411*K3411,1)","v":657},null,{"$f":"TRUNC(H3411+J3411+L3411,0)","v":3336}]
[null,null,"[ 합           계 ]",{"$nulls":4},{"$f":"TRUNC(SUM(H3411),0)","v":422},null,{"$f":"TRUNC(SUM(J3411),0)","v":2257},null,{"$f":"TRUNC(SUM(L3411),0)","v":657},null,{"$f":"H3412+J3412+L3412","v":3336}]
[]
[null,null,"6969004  되메우고다지기(20CM) B/H0.2M3+콤펙타  ㎥ (건축 호표 109 참조)  "]
[null,null,"되메우기/토사, 두께 20cm","보통, 유압식백호 0.2m3+\n플레이트콤팩터 1.5톤","M3",1,475,{"$f":"TRUNC(F3415*G3415,1)","v":475},4698,{"$f":"TRUNC(F3415*I3415,1)","v":4698},490,{"$f":"TRUNC(F3415*K3415,1)","v":490},null,{"$f":"TRUNC(H3415+J3415+L3415,0)","v":5663}]
[null,null,"[ 합           계 ]",{"$nulls":4},{"$f":"TRUNC(SUM(H3415:H3415),0)","v":475},null,{"$f":"TRUNC(SUM(J3415:J3415),0)","v":4698},null,{"$f":"TRUNC(SUM(L3415:L3415),0)","v":490},null,{"$f":"H3416+J3416+L3416","v":5663}]
[]
[null,null,"6969005  폐기물처리   ㎥당 (건축 호표 939~947호 참조 - 폐기물 성상별)"]
[]
[null,null,"6969006  잔토처리  토사,20KM,담프8톤  ㎥당 (건축 호표 115 참조)"]
[null,null,"잔토처리","토사,20KM,담프8톤","M3",1,5334,{"$f":"TRUNC(F3421*G3421,1)","v":5334},11684,{"$f":"TRUNC(F3421*I3421,1)","v":11684},2989,{"$f":"TRUNC(F3421*K3421,1)","v":2989},null,{"$f":"TRUNC(H3421+J3421+L3421,0)","v":20007}]
[null,null,"[ 합           계 ]",{"$nulls":4},{"$f":"TRUNC(SUM(H3421),0)","v":5334},null,{"$f":"TRUNC(SUM(J3421),0)","v":11684},null,{"$f":"TRUNC(SUM(L3421),0)","v":2989},null,{"$f":"H3422+J3422+L3422","v":20007}]
[]
[null,null,"6969007  배수맨홀  700x700x1000, 철판뚜껑 5t포함  개소 (건축 호표 744 참조) "]
[null,null,"인력터파기","보통토사,0-1m","M3",1.39,0,{"$f":"TRUNC(G3425*F3425,1)","v":0},28896,{"$f":"TRUNC(I3425*F3425,1)","v":40165.4},0,{"$f":"TRUNC(K3425*F3425,1)","v":0},{"$f":"TRUNC(G3425+I3425+K3425,1)","v":28896},40165.4,"건축95호"]
[null,null,"CONC인력비빔타설","1:3:6","M3",0.57999999999999996,77560,{"$f":"TRUNC(G3426*F3426,1)","v":44984.800000000003},271355,157385.9,0,0,348915,202370.7,"건축173호"]
[null,null,"되메우기","인력","M3",0.15,0,0,14448,2167.1999999999998,0,0,14448,2167.1999999999998,"건축980호"]
[null,null,"합판 거푸집 설치 및 해체","보통 4회(슬라브), 수직고 7m까지","M2",6.3,9346,58879.8,27904,175795.20000000001,279,1757.7,37529,236432.7,"건축144호"]
[null,null,"이형철근/현장도착도","이형봉강(SD350/400),HD-10","Ton",2.8600000000000004E-2,595000,17017,0,0,0,0,595000,17017,"사급"]
[null,null,"현장 철근 가공 및 조립(10ton미만)","보통(노무비할증15%)","Ton",2.7799999999999998E-2,7930,220.4,967926,26908.3,6685,185.8,{"$f":"TRUNC(G3430+I3430+K3430,1)","v":982541},27314.5,"건축142호"]
[null,null,"배수맨홀뚜껑(철판)","1.2x1.2x5T","개소",1,48105,48105,375114,375114,10283,10283,433502,433502,"건축745호"]
[null,null,"자갈깔기지정","(인력)쇄석 25mm,석분","M3",0.18,43532,7835.7,69145,12446.1,0,0,112677,20281.8,"건축103호"]
[null,null,"시멘트액체방수","벽 2종","M2",2.8,2275,6370,13664,38259.199999999997,409,1145.2,16348,45774.400000000001,"건축423호"]
[null,null,"[ 합           계 ]",{"$nulls":4},{"$f":"TRUNC(SUM(H3425:H3433),0)","v":183412},null,{"$f":"TRUNC(SUM(J3425:J3433),0)","v":828241},null,{"$f":"TRUNC(SUM(L3425:L3433),0)","v":13371},null,{"$f":"H3434+J3434+L3434","v":1025024}]
[]
[null,null,"6969008  물탱크받침대(벽돌위간이몰탈)  1.0B*2700L*1000H  개소 (건축 호표 746 참조)"]
[null,null,"콘크리트벽돌","190*57*90mm, C종2급","천매",0.42699999999999999,70000,{"$f":"TRUNC(F3437*G3437,1)","v":29890},0,{"$f":"TRUNC(F3437*I3437,1)","v":0},0,{"$f":"TRUNC(F3437*K3437,1)","v":0},{"$f":"TRUNC(G3437+I3437+K3437,1)","v":70000},{"$f":"TRUNC(H3437+J3437+L3437,0)","v":29890},"사급"]
[null,null,"1.0B 벽돌쌓기","3.6m 이하,쌓기몰탈별도","M2",0.40200000000000002,0,{"$f":"TRUNC(F3438*G3438,1)","v":0},48144,{"$f":"TRUNC(F3438*I3438,1)","v":19353.8},962,{"$f":"TRUNC(F3438*K3438,1)","v":386.7},{"$f":"TRUNC(G3438+I3438+K3438,1)","v":49106},{"$f":"TRUNC(H3438+J3438+L3438,0)","v":19740},"건축324호"]
[null,null,"벽돌 운반","인력, 5층","천매",0.40200000000000002,0,{"$f":"TRUNC(F3439*G3439,1)","v":0},102334,{"$f":"TRUNC(F3439*I3439,1)","v":41138.199999999997},0,{"$f":"TRUNC(F3439*K3439,1)","v":0},{"$f":"TRUNC(G3439+I3439+K3439,1)","v":102334},{"$f":"TRUNC(H3439+J3439+L3439,0)","v":41138},"건축314호"]
[null,null,"모르타르 배합(비빔품 포함)","배합용적비 1:3","M3",0.13,60500,{"$f":"TRUNC(F3440*G3440,1)","v":7865},91271,{"$f":"TRUNC(F3440*I3440,1)","v":11865.2},0,{"$f":"TRUNC(F3440*K3440,1)","v":0},{"$f":"TRUNC(G3440+I3440+K3440,1)","v":151771},{"$f":"TRUNC(H3440+J3440+L3440,0)","v":19730},"건축646호"]
[null,null,"몰탈바르기,내벽","9mm(초벌), 3.6m 이하","M2",6.3,544,{"$f":"TRUNC(F3441*G3441,1)","v":3427.2},14413,{"$f":"TRUNC(F3441*I3441,1)","v":90801.9},271,{"$f":"TRUNC(F3441*K3441,1)","v":1707.3},{"$f":"TRUNC(G3441+I3441+K3441,1)","v":15228},{"$f":"TRUNC(H3441+J3441+L3441,0)","v":95936},"건축659호"]
[null,null,"[ 합           계 ]",{"$nulls":4},{"$f":"TRUNC(SUM(H3437:H3441),0)","v":41182},null,{"$f":"TRUNC(SUM(J3437:J3441),0)","v":163159},null,{"$f":"TRUNC(SUM(L3437:L3441),0)","v":2094},null,{"$f":"H3442+J3442+L3442","v":206435}]
[]
[null,null,"6969009  콘크리트컷팅  바닥.포장  M당 (건축 호표 836 참조)"]
["6969005","1740003","커터기손료","D:320-400,T:3.2","HR",4.9200000000000001E-2,9985,{"$f":"TRUNC(F3445*G3445,1)","v":491.2},28949,{"$f":"TRUNC(F3445*I3445,1)","v":1424.2},1719,{"$f":"TRUNC(F3445*K3445,1)","v":84.5},{"$f":"TRUNC(G3445+I3445+K3445,1)","v":40653},{"$f":"TRUNC(H3445+J3445+L3445,0)","v":1999}]
["6969005","1740004","블레이드","D320-400mm,t=3.2mm","개",6.1999999999999998E-3,3080,{"$f":"TRUNC(F3446*G3446,1)","v":19},0,{"$f":"TRUNC(F3446*I3446,1)","v":0},0,{"$f":"TRUNC(F3446*K3446,1)","v":0},{"$f":"TRUNC(G3446+I3446+K3446,1)","v":3080},{"$f":"TRUNC(H3446+J3446+L3446,0)","v":19},""]
["6969005","0001084","노무비","보통인부","인",1.5599999999999999E-2,0,{"$f":"TRUNC(F3447*G3447,1)","v":0},144481,{"$f":"TRUNC(F3447*I3447,1)","v":2253.9},0,{"$f":"TRUNC(F3447*K3447,1)","v":0},{"$f":"TRUNC(G3447+I3447+K3447,1)","v":144481},{"$f":"TRUNC(H3447+J3447+L3447,0)","v":2253},""]
["6969005","0001084","노무비","특별인부","인",7.7999999999999988E-3,0,{"$f":"TRUNC(F3448*G3448,1)","v":0},181293,{"$f":"TRUNC(F3448*I3448,1)","v":1414},0,{"$f":"TRUNC(F3448*K3448,1)","v":0},{"$f":"TRUNC(G3448+I3448+K3448,1)","v":181293},{"$f":"TRUNC(H3448+J3448+L3448,0)","v":1414},""]
["6969005","M200000","공구손료","노무비의5%","식",1,0,{"$f":"TRUNC(F3449*G3449,1)","v":0},0,{"$f":"TRUNC(F3449*I3449,1)","v":0},183.39500000000001,{"$f":"TRUNC(F3449*K3449,1)","v":183.3},{"$f":"TRUNC(G3449+I3449+K3449,1)","v":183.3},{"$f":"TRUNC(H3449+J3449+L3449,0)","v":183},""]
[null,null,"[ 합           계 ]",{"$nulls":4},{"$f":"TRUNC(SUM(H3445:H3449),0)","v":510},null,{"$f":"TRUNC(SUM(J3445:J3449),0)","v":5092},null,{"$f":"TRUNC(SUM(L3445:L3449),0)","v":267},null,{"$f":"H3450+J3450+L3450","v":5869}]
[]
[null,null,"6969010  아스콘컷팅  M당 (건축 호표 839 참조)"]
["6969005","1740003","아스팔트포장 절단","1차 절단(철거용), T=5∼75mm","M",1,416.04,{"$f":"TRUNC(F3453*G3453,1)","v":416},1206.2,{"$f":"TRUNC(F3453*I3453,1)","v":1206.2},73,{"$f":"TRUNC(F3453*K3453,1)","v":73},{"$f":"TRUNC(G3453+I3453+K3453,1)","v":1695.2},{"$f":"TRUNC(H3453+J3453+L3453,0)","v":1695}]
[null,null,"[ 합           계 ]",{"$nulls":4},{"$f":"TRUNC(SUM(H3453:H3453),0)","v":416},null,{"$f":"TRUNC(SUM(J3453:J3453),0)","v":1206},null,{"$f":"TRUNC(SUM(L3453:L3453),0)","v":73},null,{"$f":"H3454+J3454+L3454","v":1695}]
[]
[null,null,"6969011  콘크리트포장깨기(무근)  (소형브레이카+공기압축기)  ㎥당 (건축 호표 832~3 참조)"]
["6969006","1740001","공기압축기","3.5M3/분","HR",0.5,9392,{"$f":"TRUNC(F3457*G3457,1)","v":4696},38972,{"$f":"TRUNC(F3457*I3457,1)","v":19486},2088,{"$f":"TRUNC(F3457*K3457,1)","v":1044},{"$f":"TRUNC(G3457+I3457+K3457,1)","v":50452},{"$f":"TRUNC(H3457+J3457+L3457,0)","v":25226},""]
["6969006","1740002","페이브먼트 브레이커 ","25.0kg(55#) ","HR",1,0,{"$f":"TRUNC(F3458*G3458,1)","v":0},0,{"$f":"TRUNC(F3458*I3458,1)","v":0},417,{"$f":"TRUNC(F3458*K3458,1)","v":417},{"$f":"TRUNC(G3458+I3458+K3458,1)","v":417},{"$f":"TRUNC(H3458+J3458+L3458,0)","v":417},""]
["6969006","0001040","노무비","착암공","인",0.56999999999999995,0,{"$f":"TRUNC(F3459*G3459,1)","v":0},174178,{"$f":"TRUNC(F3459*I3459,1)","v":99281.4},0,{"$f":"TRUNC(F3459*K3459,1)","v":0},{"$f":"TRUNC(G3459+I3459+K3459,1)","v":174178},{"$f":"TRUNC(H3459+J3459+L3459,0)","v":99281},""]
["6969006","0001084","노무비","보통인부","인",0.37,0,{"$f":"TRUNC(F3460*G3460,1)","v":0},144481,{"$f":"TRUNC(F3460*I3460,1)","v":53457.9},0,{"$f":"TRUNC(F3460*K3460,1)","v":0},{"$f":"TRUNC(G3460+I3460+K3460,1)","v":144481},{"$f":"TRUNC(H3460+J3460+L3460,0)","v":53457},""]
["6969006","M200000","잡재료비","노무비의1%","식",1,1527.393,{"$f":"TRUNC(F3461*G3461,1)","v":1527.3},0,{"$f":"TRUNC(F3461*I3461,1)","v":0},null,{"$f":"TRUNC(F3461*K3461,1)","v":0},{"$f":"TRUNC(G3461+I3461+K3461,1)","v":1527.3},{"$f":"TRUNC(H3461+J3461+L3461,0)","v":1527},""]
[null,null,"[ 합           계 ]",{"$nulls":4},{"$f":"TRUNC(SUM(H3457:H3461),0)","v":6223},null,{"$f":"TRUNC(SUM(J3457:J3461),0)","v":172225},null,{"$f":"TRUNC(SUM(L3457:L3461),0)","v":1461},null,{"$f":"H3462+J3462+L3462","v":179909}]
[]
[null,null,"6969011  콘크리트포장깨기(무근)  장비(대형브레이카)  ㎥당 (건축 호표 828~829 참조)"]
["6969006","1740001","기계사용","기계경비 제외, 기준 높이 10m","M3",1,792,{"$f":"TRUNC(F3465*G3465,1)","v":792},11807,{"$f":"TRUNC(F3465*I3465,1)","v":11807},0,{"$f":"TRUNC(F3465*K3465,1)","v":0},{"$f":"TRUNC(G3465+I3465+K3465,1)","v":12599},{"$f":"TRUNC(H3465+J3465+L3465,0)","v":12599},""]
["6969006","1740002","굴삭기(무한궤도)","0.7㎥","HR",0.40810000000000002,18482,{"$f":"TRUNC(F3466*G3466,1)","v":7542.5},42267,{"$f":"TRUNC(F3466*I3466,1)","v":17249.099999999999},21332,{"$f":"TRUNC(F3466*K3466,1)","v":8705.5},{"$f":"TRUNC(G3466+I3466+K3466,1)","v":82081},{"$f":"TRUNC(H3466+J3466+L3466,0)","v":33497},""]
["6969006","0001040","대형 브레이커","0.7㎥용","HR",0.40810000000000002,0,{"$f":"TRUNC(F3467*G3467,1)","v":0},0,{"$f":"TRUNC(F3467*I3467,1)","v":0},9944,{"$f":"TRUNC(F3467*K3467,1)","v":4058.1},{"$f":"TRUNC(G3467+I3467+K3467,1)","v":9944},{"$f":"TRUNC(H3467+J3467+L3467,0)","v":4058},""]
["6969006","0001084","대형 브레이커용 치즐 소모량","0.7㎥용, 구조물 헐기","HR",0.40810000000000002,0,{"$f":"TRUNC(F3468*G3468,1)","v":0},0,{"$f":"TRUNC(F3468*I3468,1)","v":0},2230,{"$f":"TRUNC(F3468*K3468,1)","v":910},{"$f":"TRUNC(G3468+I3468+K3468,1)","v":2230},{"$f":"TRUNC(H3468+J3468+L3468,0)","v":910},""]
[null,null,"[ 합           계 ]",{"$nulls":4},{"$f":"TRUNC(SUM(H3465:H3468),0)","v":8334},null,{"$f":"TRUNC(SUM(J3465:J3468),0)","v":29056},null,{"$f":"TRUNC(SUM(L3465:L3468),0)","v":13673},null,{"$f":"H3469+J3469+L3469","v":51063}]
[]
[null,null,"6969012  콘크리트포장깨기(무근)  인력  ㎥당 (건축 호표 825 참조)"]
["6969007","0001117","노무비","할석공","인",2,0,{"$f":"TRUNC(F3472*G3472,1)","v":0},195374,{"$f":"TRUNC(F3472*I3472,1)","v":390748},0,{"$f":"TRUNC(F3472*K3472,1)","v":0},{"$f":"TRUNC(G3472+I3472+K3472,1)","v":195374},{"$f":"TRUNC(H3472+J3472+L3472,0)","v":390748},""]
["6969007","M200000","잡재료","인력품의 5%","식",1,19537.400000000001,{"$f":"TRUNC(F3473*G3473,1)","v":19537.400000000001},0,{"$f":"TRUNC(F3473*I3473,1)","v":0},null,{"$f":"TRUNC(F3473*K3473,1)","v":0},{"$f":"TRUNC(G3473+I3473+K3473,1)","v":19537.400000000001},{"$f":"TRUNC(H3473+J3473+L3473,0)","v":19537},""]
[null,null,"[ 합           계 ]",{"$nulls":4},{"$f":"TRUNC(SUM(H3472:H3473),0)","v":19537},null,{"$f":"TRUNC(SUM(J3472:J3473),0)","v":390748},null,{"$f":"TRUNC(SUM(L3472:L3473),0)","v":0},null,{"$f":"H3474+J3474+L3474","v":410285}]
[]
[null,null,"6969013  보도블럭 철거 및 포장(재사용)  M2당"]
["6969008","2201001","보도블럭","30*30*6cm","매",12,"재사용",null,0,{"$f":"TRUNC(F3477*I3477,1)","v":0},0,{"$f":"TRUNC(F3477*K3477,1)","v":0},null,{"$f":"TRUNC(H3477+J3477+L3477,0)","v":0},""]
["6969008","0903010","모래","t=4cm","㎥",0.04,40000,{"$f":"TRUNC(F3478*G3478,1)","v":1600},0,0,0,0,{"$f":"TRUNC(G3478+I3478+K3478,1)","v":40000},1600,""]
["6969008","0001083","노무비","특별인부","인",3.5999999999999997E-2,0,{"$f":"TRUNC(F3479*G3479,1)","v":0},181293,6526.5,0,0,{"$f":"TRUNC(G3479+I3479+K3479,1)","v":181293},6526,""]
["6969008","0001084","노무비","보통인부","인",4.7E-2,0,{"$f":"TRUNC(F3480*G3480,1)","v":0},144481,6790.6,0,0,{"$f":"TRUNC(G3480+I3480+K3480,1)","v":144481},6790,""]
["6969008","2201002","보도블럭걷어내기","보통인부","인",0.05,0,{"$f":"TRUNC(F3481*G3481,1)","v":0},144481,{"$f":"TRUNC(F3481*I3481,1)","v":7224},0,{"$f":"TRUNC(F3481*K3481,1)","v":0},{"$f":"TRUNC(G3481+I3481+K3481,1)","v":144481},{"$f":"TRUNC(H3481+J3481+L3481,0)","v":7224},"건축918호"]
["6969008","M200000","공구손료","노무비의3%","식",1,0,{"$f":"TRUNC(F3482*G3482,1)","v":0},0,0,616.23299999999995,616.20000000000005,{"$f":"TRUNC(G3482+I3482+K3482,1)","v":616.20000000000005},616,""]
[null,null,"[ 합           계 ]",{"$nulls":4},{"$f":"TRUNC(SUM(H3477:H3482),0)","v":1600},null,{"$f":"TRUNC(SUM(J3477:J3482),0)","v":20541},null,{"$f":"TRUNC(SUM(L3477:L3482),0)","v":616},null,{"$f":"H3483+J3483+L3483","v":22757}]
[]
[null,null,"6969014  콘크리트인력비빔타설(1:3:6)  ㎥당 (건축 호표 142 참조)"]
["6969009","0906003","시멘트","40KG/포","kg",220,132.5,{"$f":"TRUNC(F3486*G3486,1)","v":29150},0,{"$f":"TRUNC(F3486*I3486,1)","v":0},0,{"$f":"TRUNC(F3486*K3486,1)","v":0},{"$f":"TRUNC(G3486+I3486+K3486,1)","v":132.5},{"$f":"TRUNC(H3486+J3486+L3486,0)","v":29150},""]
["6969009","0903011","모래(운반포함)","낙동사","㎥",0.47,38000,{"$f":"TRUNC(F3487*G3487,1)","v":17860},0,{"$f":"TRUNC(F3487*I3487,1)","v":0},0,{"$f":"TRUNC(F3487*K3487,1)","v":0},{"$f":"TRUNC(G3487+I3487+K3487,1)","v":38000},{"$f":"TRUNC(H3487+J3487+L3487,0)","v":17860},""]
["6969009","0903012","쇄석자갈","쇄석자갈, 부산, 도착도, 25mm","㎥",0.94,32500,{"$f":"TRUNC(F3488*G3488,1)","v":30550},0,{"$f":"TRUNC(F3488*I3488,1)","v":0},0,{"$f":"TRUNC(F3488*K3488,1)","v":0},{"$f":"TRUNC(G3488+I3488+K3488,1)","v":32500},{"$f":"TRUNC(H3488+J3488+L3488,0)","v":30550},""]
["6969009","0001026","인력비빔 콘크리트 타설","무근구조물","㎥",1,0,{"$f":"TRUNC(F3489*G3489,1)","v":0},271355,{"$f":"TRUNC(F3489*I3489,1)","v":271355},0,{"$f":"TRUNC(F3489*K3489,1)","v":0},{"$f":"TRUNC(G3489+I3489+K3489,1)","v":271355},{"$f":"TRUNC(H3489+J3489+L3489,0)","v":271355},""]
[null,null,"[ 합           계 ]",{"$nulls":4},{"$f":"TRUNC(SUM(H3486:H3489),0)","v":77560},null,{"$f":"TRUNC(SUM(J3486:J3489),0)","v":271355},null,{"$f":"TRUNC(SUM(L3486:L3489),0)","v":0},null,{"$f":"H3490+J3490+L3490","v":348915}]
[]
[null,null,"6969014-1  콘크리트기계비빔타설(1:3:6)  ㎥당 (건축 호표 145 참조)"]
["6969009","0906003","시멘트","40KG/포","kg",220,132.5,{"$f":"TRUNC(F3493*G3493,1)","v":29150},0,{"$f":"TRUNC(F3493*I3493,1)","v":0},0,{"$f":"TRUNC(F3493*K3493,1)","v":0},{"$f":"TRUNC(G3493+I3493+K3493,1)","v":132.5},{"$f":"TRUNC(H3493+J3493+L3493,0)","v":29150},""]
["6969009","0903011","모래(운반포함)","낙동사","㎥",0.47,38000,{"$f":"TRUNC(F3494*G3494,1)","v":17860},0,{"$f":"TRUNC(F3494*I3494,1)","v":0},0,{"$f":"TRUNC(F3494*K3494,1)","v":0},{"$f":"TRUNC(G3494+I3494+K3494,1)","v":38000},{"$f":"TRUNC(H3494+J3494+L3494,0)","v":17860},""]
["6969009","0903012","쇄석자갈","쇄석자갈, 부산, 도착도, 25mm","㎥",0.94,32500,{"$f":"TRUNC(F3495*G3495,1)","v":30550},0,{"$f":"TRUNC(F3495*I3495,1)","v":0},0,{"$f":"TRUNC(F3495*K3495,1)","v":0},{"$f":"TRUNC(G3495+I3495+K3495,1)","v":32500},{"$f":"TRUNC(H3495+J3495+L3495,0)","v":30550},""]
["6969009","0001026","기계비빔 콘크리트 타설","무근구조물","㎥",1,0,{"$f":"TRUNC(F3496*G3496,1)","v":0},87432,{"$f":"TRUNC(F3496*I3496,1)","v":87432},0,{"$f":"TRUNC(F3496*K3496,1)","v":0},{"$f":"TRUNC(G3496+I3496+K3496,1)","v":87432},{"$f":"TRUNC(H3496+J3496+L3496,0)","v":87432},""]
[null,null,"[ 합           계 ]",{"$nulls":4},{"$f":"TRUNC(SUM(H3493:H3496),0)","v":77560},null,{"$f":"TRUNC(SUM(J3493:J3496),0)","v":87432},null,{"$f":"TRUNC(SUM(L3493:L3496),0)","v":0},null,{"$f":"H3497+J3497+L3497","v":164992}]
[]
[null,null,"6969015  아스팔트표층공(인력) 아스콘포장 5CM  M2당"]
["6969015","0903024","아스팔트(유제)","RS(C)-4","KG",0.35,900,{"$f":"TRUNC(F3500*G3500,1)","v":315},null,{"$f":"TRUNC(F3500*I3500,1)","v":0},0,{"$f":"TRUNC(F3500*K3500,1)","v":0},{"$f":"TRUNC(G3500+I3500+K3500,1)","v":900},{"$f":"TRUNC(H3500+J3500+L3500,0)","v":315},""]
["6969015","2004001","아스콘","#78","TON",0.115,65000,7475,null,0,0,0,65000,7475,""]
["6969015","2004001","플레이트콤펙타","1.5톤","HR",2.7000000000000003E-2,1822,49.1,28902,780.3,612,16.5,31336,845,"토목중기",null,"=8/300=0.027"]
[null,null,"진동로울러(핸드가이더식)","0.7TON","HR",2.7000000000000003E-2,3451,93.1,28902,780.3,1680,45.3,34033,918,"토목중기"]
[null,null,"로우더(타이어)","0.57m3","HR",2.7000000000000003E-2,6996,188.8,42200,1139.4000000000001,7394,199.6,56590,1527,"토목중기"]
[null,null,"살수차(물탱크)","5,500ℓ","HR",2.7000000000000003E-2,16783,453.1,36655,989.6,8821,238.1,62259,1680,"토목중기"]
["6969015","2004001","노무비","포장공","인",{"$f":"(1/300)*1.5","v":5.0000000000000001E-3},null,0,215034,1075.0999999999999,0,0,215034,1075,""]
["6969015","2004001","노무비","보통인부(포설,다짐)","인",{"$f":"((1/300)*2)*1.5","v":0.01},null,0,144481,1444.8,0,0,144481,1444,""]
[null,null,"[ 합           계 ]",{"$nulls":4},{"$f":"TRUNC(SUM(H3500:H3507),0)","v":8574},null,{"$f":"TRUNC(SUM(J3500:J3507),0)","v":6209},null,{"$f":"TRUNC(SUM(L3500:L3507),0)","v":499},null,{"$f":"H3508+J3508+L3508","v":15282}]
[]
[null,null,"6969015-1  아스콘포장철거 (소형브레이카+공기압축기)  ㎥당 (건축 호표 833 참조)"]
["6969015","0903024","페이브먼트 브레이커","25.0kg(55#)","HR",2.1,0,{"$f":"TRUNC(F3511*G3511,1)","v":0},null,{"$f":"TRUNC(F3511*I3511,1)","v":0},417,{"$f":"TRUNC(F3511*K3511,1)","v":875.7},{"$f":"TRUNC(G3511+I3511+K3511,1)","v":417},{"$f":"TRUNC(H3511+J3511+L3511,0)","v":875},""]
["6969015","2004001","공기압축기(이동식)","3.5㎥/min","HR",1.05,9392,{"$f":"TRUNC(F3512*G3512,1)","v":9861.6},38972,{"$f":"TRUNC(F3512*I3512,1)","v":40920.6},2088,{"$f":"TRUNC(F3512*K3512,1)","v":2192.4},{"$f":"TRUNC(G3512+I3512+K3512,1)","v":50452},{"$f":"TRUNC(H3512+J3512+L3512,0)","v":52974},""]
["6969015","2004001","착암공","일반공사 직종","인",0.59499999999999997,0,{"$f":"TRUNC(F3513*G3513,1)","v":0},174178,{"$f":"TRUNC(F3513*I3513,1)","v":103635.9},null,{"$f":"TRUNC(F3513*K3513,1)","v":0},{"$f":"TRUNC(G3513+I3513+K3513,1)","v":174178},{"$f":"TRUNC(H3513+J3513+L3513,0)","v":103635}]
[null,null,"보통인부","일반공사 직종","인",0.41,0,{"$f":"TRUNC(F3514*G3514,1)","v":0},144481,{"$f":"TRUNC(F3514*I3514,1)","v":59237.2},null,{"$f":"TRUNC(F3514*K3514,1)","v":0},{"$f":"TRUNC(G3514+I3514+K3514,1)","v":144481},{"$f":"TRUNC(H3514+J3514+L3514,0)","v":59237}]
[null,null,"잡재료","인력품의 1%","식",1,1628.7,{"$f":"TRUNC(F3515*G3515,1)","v":1628.7},null,{"$f":"TRUNC(F3515*I3515,1)","v":0},null,{"$f":"TRUNC(F3515*K3515,1)","v":0},{"$f":"TRUNC(G3515+I3515+K3515,1)","v":1628.7},{"$f":"TRUNC(H3515+J3515+L3515,0)","v":1628}]
[null,null,"[ 합           계 ]",{"$nulls":4},{"$f":"TRUNC(SUM(H3511:H3515),0)","v":11490},null,{"$f":"TRUNC(SUM(J3511:J3515),0)","v":203793},null,{"$f":"TRUNC(SUM(L3511:L3515),0)","v":3068},null,{"$f":"H3516+J3516+L3516","v":218351}]
[]
[null,null,"6969015-2  아스콘포장철거 (대형브레이카)  ㎥당 (건축 호표 829 참조)"]
["6969015","0903024","굴삭기(무한궤도)","0.7㎥","HR",0.1087,18482,{"$f":"TRUNC(F3519*G3519,1)","v":2008.9},42267,{"$f":"TRUNC(F3519*I3519,1)","v":4594.3999999999996},21332,{"$f":"TRUNC(F3519*K3519,1)","v":2318.6999999999998},{"$f":"TRUNC(G3519+I3519+K3519,1)","v":82081},{"$f":"TRUNC(H3519+J3519+L3519,0)","v":8922},""]
["6969015","2004001","대형 브레이커","0.7㎥용","HR",0.1087,0,{"$f":"TRUNC(F3520*G3520,1)","v":0},null,{"$f":"TRUNC(F3520*I3520,1)","v":0},9944,{"$f":"TRUNC(F3520*K3520,1)","v":1080.9000000000001},{"$f":"TRUNC(G3520+I3520+K3520,1)","v":9944},{"$f":"TRUNC(H3520+J3520+L3520,0)","v":1080},""]
[null,null,"보통인부","일반공사 직종","인",1.3500000000000002E-2,0,{"$f":"TRUNC(F3521*G3521,1)","v":0},144481,{"$f":"TRUNC(F3521*I3521,1)","v":1950.4},null,{"$f":"TRUNC(F3521*K3521,1)","v":0},{"$f":"TRUNC(G3521+I3521+K3521,1)","v":144481},{"$f":"TRUNC(H3521+J3521+L3521,0)","v":1950}]
[null,null,"[ 합           계 ]",{"$nulls":4},{"$f":"TRUNC(SUM(H3519:H3521),0)","v":2008},null,{"$f":"TRUNC(SUM(J3519:J3521),0)","v":6544},null,{"$f":"TRUNC(SUM(L3519:L3521),0)","v":3399},null,{"$f":"H3522+J3522+L3522","v":11951}]
[]
[null,null,"6969016  기계.장비기초(H=200mm)  1㎡당 (10㎡이하 소단위)"]
["6969009","0906003","시멘트","40KG/포","kg",{"$f":"F3486/5","v":44},132.5,{"$f":"TRUNC(F3525*G3525,1)","v":5830},0,{"$f":"TRUNC(F3525*I3525,1)","v":0},0,{"$f":"TRUNC(F3525*K3525,1)","v":0},{"$f":"TRUNC(G3525+I3525+K3525,1)","v":132.5},{"$f":"TRUNC(H3525+J3525+L3525,0)","v":5830},""]
["6969009","0903011","모래","모래, 부산, 도착도","㎥",{"$f":"F3487/5","v":9.4E-2},35000,3290,0,0,0,0,35000,3290,""]
["6969009","0903012","자갈(쇄석 25mm, 운반포함)",null,"㎥",{"$f":"F3488/5","v":0.188},20000,3760,0,0,0,0,20000,3760,""]
[null,null,"합판 거푸집 설치 및 해체",{"$f":"D3428","v":"보통 4회(슬라브), 수직고 7m까지"},"㎡",{"$f":"(4*1)/5","v":0.8},9346,7476.8,27904,22323.200000000001,279,223.2,37529,30023]
["6969009","0001026","인력비빔 콘크리트 타설","무근구조물, 소규모50%할증","㎥",{"$f":"($F$3489/5)*1.5","v":0.30000000000000004},null,0,271355,{"$f":"TRUNC(F3529*I3529,1)","v":81406.5},0,0,271355,81406,""]
[null,null,"공구손료","노무비의 2%","식",1,null,0,0,0,1628.13,1628.1,1628.1,1628]
[null,null,"[ 합           계 ]",{"$nulls":4},{"$f":"TRUNC(SUM(H3525:H3530),0)","v":20356},null,{"$f":"TRUNC(SUM(J3525:J3530),0)","v":103729},null,{"$f":"TRUNC(SUM(L3525:L3530),0)","v":1851},null,{"$f":"H3531+J3531+L3531","v":125936}]
[]
[null,null,"6969017  모래부설   ㎥  (건축 호표 132 참조)"]
["6969010","0903010","모래","모래, 부산, 도착도","㎥",1.2,40000,{"$f":"TRUNC(F3534*G3534,1)","v":48000},0,{"$f":"TRUNC(F3534*I3534,1)","v":0},0,{"$f":"TRUNC(F3534*K3534,1)","v":0},{"$f":"TRUNC(G3534+I3534+K3534,1)","v":40000},{"$f":"TRUNC(H3534+J3534+L3534,0)","v":48000},""]
["6969010","0001084","노무비","보통인부","인",0.4,0,{"$f":"TRUNC(F3535*G3535,1)","v":0},144481,{"$f":"TRUNC(F3535*I3535,1)","v":57792.4},0,{"$f":"TRUNC(F3535*K3535,1)","v":0},{"$f":"TRUNC(G3535+I3535+K3535,1)","v":144481},{"$f":"TRUNC(H3535+J3535+L3535,0)","v":57792},""]
["6969010","M500000","기구손료","인력품의 2%","식",1,null,{"$f":"TRUNC(F3536*G3536,1)","v":0},0,{"$f":"TRUNC(F3536*I3536,1)","v":0},1155.8,{"$f":"TRUNC(F3536*K3536,1)","v":1155.8},{"$f":"TRUNC(G3536+I3536+K3536,1)","v":1155.8},{"$f":"TRUNC(H3536+J3536+L3536,0)","v":1155},""]
[null,null,"[ 합           계 ]",{"$nulls":4},{"$f":"TRUNC(SUM(H3534:H3536),0)","v":48000},null,{"$f":"TRUNC(SUM(J3534:J3536),0)","v":57792},null,{"$f":"TRUNC(SUM(L3534:L3536),0)","v":1155},null,{"$f":"H3537+J3537+L3537","v":106947}]
[]
[null,null,"6969018  방수맨홀뚜껑 800*800 (STS 3t)  개소"]
[null,null,"스텐레스강판","STS 304 3.0T","㎡",1.0920000000000001,81904.761904761908,{"$f":"TRUNC(F3540*G3540,1)","v":89440},null,{"$f":"TRUNC(F3540*I3540,1)","v":0},null,{"$f":"TRUNC(F3540*K3540,1)","v":0},{"$f":"TRUNC(G3540+I3540+K3540,1)","v":81904.7},{"$f":"TRUNC(H3540+J3540+L3540,0)","v":89440}]
[null,null,"앵글","STS 304 50*50*3T","kg",10.281000000000001,4230,{"$f":"TRUNC(F3541*G3541,1)","v":43488.6},null,{"$f":"TRUNC(F3541*I3541,1)","v":0},null,{"$f":"TRUNC(F3541*K3541,1)","v":0},{"$f":"TRUNC(G3541+I3541+K3541,1)","v":4230},{"$f":"TRUNC(H3541+J3541+L3541,0)","v":43488}]
[null,null,"잡철물제작설치","간단, 스텐레스용","Ton",3.4090000000000002E-2,256753,{"$f":"TRUNC(F3542*G3542,1)","v":8752.7000000000007},6415534,{"$f":"TRUNC(F3542*I3542,1)","v":218705.5},130247,{"$f":"TRUNC(F3542*K3542,1)","v":4440.1000000000004},{"$f":"TRUNC(G3542+I3542+K3542,1)","v":6802534},{"$f":"TRUNC(H3542+J3542+L3542,0)","v":231898}]
[null,null,"스텐레스경첩",null,"개",2,5900,{"$f":"TRUNC(F3543*G3543,1)","v":11800},null,{"$f":"TRUNC(F3543*I3543,1)","v":0},null,{"$f":"TRUNC(F3543*K3543,1)","v":0},{"$f":"TRUNC(G3543+I3543+K3543,1)","v":5900},{"$f":"TRUNC(H3543+J3543+L3543,0)","v":11800}]
[null,null,"[ 합           계 ]",{"$nulls":4},{"$f":"SUM(H3540:H3543)","v":153481.30000000002},null,{"$f":"SUM(J3540:J3543)","v":218705.5},null,{"$f":"SUM(L3540:L3543)","v":4440.1000000000004},null,{"$f":"H3544+J3544+L3544","v":376626.9}]
[]
[null,null,"6969019  MDF판넬 제작.설치  M2당"]
[null,null,"MDF(중밀도섬유판)","4x8x12T","㎡",1.2,6113.9478634775596,{"$f":"TRUNC(F3547*G3547,1)","v":7336.7},null,{"$f":"TRUNC(F3547*I3547,1)","v":0},null,{"$f":"TRUNC(F3547*K3547,1)","v":0},null,{"$f":"TRUNC(H3547+J3547+L3547,0)","v":7336}]
[null,null,"못",null,"kg",0.06,987,{"$f":"TRUNC(F3548*G3548,1)","v":59.2},null,{"$f":"TRUNC(F3548*I3548,1)","v":0},null,{"$f":"TRUNC(F3548*K3548,1)","v":0},null,{"$f":"TRUNC(H3548+J3548+L3548,0)","v":59}]
[null,null,"각재","30x30x3600","재",3,1700,5100,null,0,null,0,null,5100]
[null,null,"잡자재비","재료의 3%","식",1,374.87699999999995,{"$f":"TRUNC(F3550*G3550,1)","v":374.8},null,{"$f":"TRUNC(F3550*I3550,1)","v":0},null,{"$f":"TRUNC(F3550*K3550,1)","v":0},null,374]
[null,null,"수성도장","MDF판넬외부 2회","M2",1,595,595,10709,10709,214,214,null,11518]
[null,null,"노무비","건축목공","인",0.27200000000000002,null,0,225210,61257.1,null,0,null,61257]
[null,null,"노무비","보통인부","인",2.4E-2,null,0,144481,3467.5,null,0,null,3467]
[null,null,"공구손료","노무비의 2%","식",1,null,0,null,null,1294.4000000000001,1294.4000000000001,null,1294]
[null,null,"[ 합           계 ]",{"$nulls":4},{"$f":"TRUNC(SUM(H3547:H3554),1)","v":13465.7},null,{"$f":"TRUNC(SUM(J3547:J3554),1)","v":75433.600000000006},null,{"$f":"TRUNC(SUM(L3547:L3554),1)","v":1508.4},null,90407]
[]
[null,null,"6969020  폐기물처리비  폐콘크리트  톤"]
[null,null,"폐기물처리비","폐콘크리트","Ton",1,null,{"$f":"TRUNC(F3558*G3558,1)","v":0},null,{"$f":"TRUNC(F3558*I3558,1)","v":0},24337,{"$f":"TRUNC(F3558*K3558,1)","v":24337},null,{"$f":"TRUNC(H3558+J3558+L3558,0)","v":24337}]
[null,null,"[ 합           계 ]",{"$nulls":4},{"$f":"TRUNC(SUM(H3558:H3558),1)","v":0},null,{"$f":"TRUNC(SUM(J3558:J3558),1)","v":0},null,{"$f":"TRUNC(SUM(L3558:L3558),1)","v":24337},null,{"$f":"TRUNC(H3559+J3559+L3559,0)","v":24337}]
[]
[null,null,"6969021  폐기물처리비  폐아스팔트콘크리트  톤"]
[null,null,"폐기물처리비","폐아스팔트콘크리트","Ton",1,null,{"$f":"TRUNC(F3562*G3562,1)","v":0},null,{"$f":"TRUNC(F3562*I3562,1)","v":0},25939,{"$f":"TRUNC(F3562*K3562,1)","v":25939},null,{"$f":"TRUNC(H3562+J3562+L3562,0)","v":25939}]
[null,null,"[ 합           계 ]",{"$nulls":4},{"$f":"TRUNC(SUM(H3562:H3562),1)","v":0},null,{"$f":"TRUNC(SUM(J3562:J3562),1)","v":0},null,{"$f":"TRUNC(SUM(L3562:L3562),1)","v":25939},null,{"$f":"TRUNC(H3563+J3563+L3563,0)","v":25939}]
[]
[null,null,"6969022  폐기물처리비  폐벽돌,폐블럭  톤"]
[null,null,"폐기물처리비","폐벽돌,폐블럭","Ton",1,null,{"$f":"TRUNC(F3566*G3566,1)","v":0},null,{"$f":"TRUNC(F3566*I3566,1)","v":0},41951,{"$f":"TRUNC(F3566*K3566,1)","v":41951},null,{"$f":"TRUNC(H3566+J3566+L3566,0)","v":41951}]
[null,null,"[ 합           계 ]",{"$nulls":4},{"$f":"TRUNC(SUM(H3566:H3566),1)","v":0},null,{"$f":"TRUNC(SUM(J3566:J3566),1)","v":0},null,{"$f":"TRUNC(SUM(L3566:L3566),1)","v":41951},null,{"$f":"TRUNC(H3567+J3567+L3567,0)","v":41951}]
[]
[null,null,"6920601  관보온(APS카바) 50TxD15  M당"]
["6920601","6101501","발포폴리에틸렌보온통(50T)","D15","M",1.05,7662,{"$f":"TRUNC(F3570*G3570,1)","v":8045.1},0,{"$f":"TRUNC(F3570*I3570,1)","v":0},0,{"$f":"TRUNC(F3570*K3570,1)","v":0},{"$f":"TRUNC(G3570+I3570+K3570,1)","v":7662},{"$f":"TRUNC(H3570+J3570+L3570,0)","v":8045},""]
["6920601","M300000","소모품비","보온재의 3%","식",1,241.3,241.3,0,0,0,0,241.3,241,""]
["6920601","0110610","APS카바","0.4T","M",1,1205,1205,0,0,0,0,1205,1205,""]
["6920601","0001032","노무비","보온공","인",4.5999999999999999E-2,0,0,183071,8421.2000000000007,0,0,183071,8421,"",null,"보온공",{"$f":"0.04","v":0.04},1.1499999999999999,{"$f":"R3573*S3573","v":4.5999999999999999E-2}]
["6920601","0001032","노무비","보통인부","인",3.5000000000000005E-3,0,0,144481,505.6,0,0,144481,505,"",null,"보통인부",3.0000000000000001E-3,1.1499999999999999,{"$f":"R3574*S3574","v":3.4499999999999999E-3}]
["6920601","M500000","공구손료","노무비의 2%","식",1,null,0,0,0,178.5,178.5,178.5,178,""]
[null,null,"[ 합           계 ]",{"$nulls":4},{"$f":"TRUNC(SUM(H3570:H3575),0)","v":9491},null,{"$f":"TRUNC(SUM(J3570:J3575),0)","v":8926},null,{"$f":"TRUNC(SUM(L3570:L3575),0)","v":178},null,{"$f":"H3576+J3576+L3576","v":18595}]
[]
[null,null,"6920602  관보온(APS카바)  50TxD20  M당"]
["6920602","6101502","발포폴리에틸렌보온통(50T)","D20","M",1.05,8005,{"$f":"TRUNC(F3579*G3579,1)","v":8405.2000000000007},0,{"$f":"TRUNC(F3579*I3579,1)","v":0},0,{"$f":"TRUNC(F3579*K3579,1)","v":0},{"$f":"TRUNC(G3579+I3579+K3579,1)","v":8005},{"$f":"TRUNC(H3579+J3579+L3579,0)","v":8405},""]
["6920602","M300000","소모품비","보온재의 3%","식",1,252.1,252.1,0,0,0,0,252.1,252,""]
["6920602","0110610","APS카바","0.4T","M",1,1395,1395,0,0,0,0,1395,1395,""]
["6920602","0001032","노무비","보온공","인",5.3000000000000005E-2,0,0,183071,9702.7000000000007,0,0,183071,9702,"",null,"보온공",4.5999999999999999E-2,1.1499999999999999,{"$f":"R3582*S3582","v":5.2899999999999996E-2}]
["6920601","0001032","노무비","보통인부","인",3.5000000000000005E-3,0,0,144481,505.6,0,0,144481,505,"",null,"보통인부",3.0000000000000001E-3,1.1499999999999999,{"$f":"R3583*S3583","v":3.4499999999999999E-3}]
["6920602","M500000","공구손료","노무비의 2%","식",1,null,0,0,0,204.1,204.1,204.1,204,""]
[null,null,"[ 합           계 ]",{"$nulls":4},{"$f":"TRUNC(SUM(H3579:H3584),0)","v":10052},null,{"$f":"TRUNC(SUM(J3579:J3584),0)","v":10208},null,{"$f":"TRUNC(SUM(L3579:L3584),0)","v":204},null,{"$f":"H3585+J3585+L3585","v":20464}]
[]
[null,null,"6920603  관보온(APS카바)  50TxD25  M당"]
["6920603","6101503","발포폴리에틸렌보온통(50T)","D25","M",1.05,8682,{"$f":"TRUNC(F3588*G3588,1)","v":9116.1},0,{"$f":"TRUNC(F3588*I3588,1)","v":0},0,{"$f":"TRUNC(F3588*K3588,1)","v":0},{"$f":"TRUNC(G3588+I3588+K3588,1)","v":8682},{"$f":"TRUNC(H3588+J3588+L3588,0)","v":9116},""]
["6920603","M300000","소모품비","보온재의 3%","식",1,273.39999999999998,273.39999999999998,0,0,0,0,273.39999999999998,273,""]
["6920603","0110610","APS카바","0.4T","M",1,1450,1450,0,0,0,0,1450,1450,""]
["6920603","0001032","노무비","보온공","인",5.5000000000000007E-2,0,0,183071,10068.9,0,0,183071,10068,"",null,"보온공",4.8000000000000001E-2,1.1499999999999999,{"$f":"R3591*S3591","v":5.5199999999999999E-2}]
["6920601","0001032","노무비","보통인부","인",3.5000000000000005E-3,0,0,144481,505.6,0,0,144481,505,"",null,"보통인부",3.0000000000000001E-3,1.1499999999999999,{"$f":"R3592*S3592","v":3.4499999999999999E-3}]
["6920603","M500000","공구손료","노무비의 2%","식",1,null,0,0,0,211.4,211.4,211.4,211,""]
[null,null,"[ 합           계 ]",{"$nulls":4},{"$f":"TRUNC(SUM(H3588:H3593),0)","v":10839},null,{"$f":"TRUNC(SUM(J3588:J3593),0)","v":10574},null,{"$f":"TRUNC(SUM(L3588:L3593),0)","v":211},null,{"$f":"H3594+J3594+L3594","v":21624}]
[]
[null,null,"6920604  관보온(APS카바)  50TxD32  M당"]
["6920604","6101504","발포폴리에틸렌보온통(50T)","D32","M",1.05,9056,{"$f":"TRUNC(F3597*G3597,1)","v":9508.7999999999993},0,{"$f":"TRUNC(F3597*I3597,1)","v":0},0,{"$f":"TRUNC(F3597*K3597,1)","v":0},{"$f":"TRUNC(G3597+I3597+K3597,1)","v":9056},{"$f":"TRUNC(H3597+J3597+L3597,0)","v":9508},""]
["6920604","M300000","소모품비","보온재의 3%","식",1,285.2,285.2,0,0,0,0,285.2,285,""]
["6920604","0110610","APS카바","0.4T","M",1,1540,1540,0,0,0,0,1540,1540,""]
["6920604","0001032","노무비","보온공","인",6.3E-2,0,0,183071,11533.4,0,0,183071,11533,"",null,"보온공",5.5000000000000007E-2,1.1499999999999999,{"$f":"R3600*S3600","v":6.3250000000000001E-2}]
["6920601","0001032","노무비","보통인부","인",5.7999999999999996E-3,0,0,144481,837.9,0,0,144481,837,"",null,"보통인부",5.0000000000000001E-3,1.1499999999999999,{"$f":"R3601*S3601","v":5.7499999999999999E-3}]
["6920604","M500000","공구손료","노무비의 2%","식",1,null,0,0,0,247.4,247.4,247.4,247,""]
[null,null,"[ 합           계 ]",{"$nulls":4},{"$f":"TRUNC(SUM(H3597:H3602),0)","v":11334},null,{"$f":"TRUNC(SUM(J3597:J3602),0)","v":12371},null,{"$f":"TRUNC(SUM(L3597:L3602),0)","v":247},null,{"$f":"H3603+J3603+L3603","v":23952}]
[]
[null,null,"6920605  관보온(APS카바)  50TxD40  M당"]
["6920605","6101505","발포폴리에틸렌보온통(50T)","D40","M",1.05,9436,{"$f":"TRUNC(F3606*G3606,1)","v":9907.7999999999993},0,{"$f":"TRUNC(F3606*I3606,1)","v":0},0,{"$f":"TRUNC(F3606*K3606,1)","v":0},{"$f":"TRUNC(G3606+I3606+K3606,1)","v":9436},{"$f":"TRUNC(H3606+J3606+L3606,0)","v":9907},""]
["6920605","M300000","소모품비","보온재의 3%","식",1,297.2,297.2,0,0,0,0,297.2,297,""]
["6920605","0110610","APS카바","0.4T","M",1,1605,1605,0,0,0,0,1605,1605,""]
["6920605","0001032","노무비","보온공","인",7.3999999999999996E-2,0,0,183071,13547.2,0,0,183071,13547,"",null,"보온공",6.4000000000000001E-2,1.1499999999999999,{"$f":"R3609*S3609","v":7.3599999999999999E-2}]
["6920601","0001032","노무비","보통인부","인",5.7999999999999996E-3,0,0,144481,837.9,0,0,144481,837,"",null,"보통인부",5.0000000000000001E-3,1.1499999999999999,{"$f":"R3610*S3610","v":5.7499999999999999E-3}]
["6920605","M500000","공구손료","노무비의 2%","식",1,null,0,0,0,287.7,287.7,287.7,287,""]
[null,null,"[ 합           계 ]",{"$nulls":4},{"$f":"TRUNC(SUM(H3606:H3611),0)","v":11810},null,{"$f":"TRUNC(SUM(J3606:J3611),0)","v":14385},null,{"$f":"TRUNC(SUM(L3606:L3611),0)","v":287},null,{"$f":"H3612+J3612+L3612","v":26482}]
[]
[null,null,"6920606  관보온(APS카바)  50TxD50  M당"]
["6920606","6101506","발포폴리에틸렌보온통(50T)","D50","M",1.05,9867,{"$f":"TRUNC(F3615*G3615,1)","v":10360.299999999999},0,{"$f":"TRUNC(F3615*I3615,1)","v":0},0,{"$f":"TRUNC(F3615*K3615,1)","v":0},{"$f":"TRUNC(G3615+I3615+K3615,1)","v":9867},{"$f":"TRUNC(H3615+J3615+L3615,0)","v":10360},""]
["6920606","M300000","소모품비","보온재의 3%","식",1,310.8,310.8,0,0,0,0,310.8,310,""]
["6920606","0110610","APS카바","0.4T","M",1,1700,1700,0,0,0,0,1700,1700,""]
["6920606","0001032","노무비","보온공","인",8.5999999999999993E-2,0,0,183071,15744.1,0,0,183071,15744,"",null,"보온공",7.4999999999999997E-2,1.1499999999999999,{"$f":"R3618*S3618","v":8.6249999999999993E-2}]
["6920601","0001032","노무비","보통인부","인",6.8999999999999999E-3,0,0,144481,996.9,0,0,144481,996,"",null,"보통인부",6.0000000000000001E-3,1.1499999999999999,{"$f":"R3619*S3619","v":6.8999999999999999E-3}]
["6920606","M500000","공구손료","노무비의 2%","식",1,null,0,0,0,334.8,334.8,334.8,334,""]
[null,null,"[ 합           계 ]",{"$nulls":4},{"$f":"TRUNC(SUM(H3615:H3620),0)","v":12371},null,{"$f":"TRUNC(SUM(J3615:J3620),0)","v":16741},null,{"$f":"TRUNC(SUM(L3615:L3620),0)","v":334},null,{"$f":"H3621+J3621+L3621","v":29446}]
[]
[null,null,"6920607  관보온(APS카바)  50TxD65  M당"]
["6920607","6101507","발포폴리에틸렌보온통(50T)","D65","M",1.05,10715,{"$f":"TRUNC(F3624*G3624,1)","v":11250.7},0,{"$f":"TRUNC(F3624*I3624,1)","v":0},0,{"$f":"TRUNC(F3624*K3624,1)","v":0},{"$f":"TRUNC(G3624+I3624+K3624,1)","v":10715},{"$f":"TRUNC(H3624+J3624+L3624,0)","v":11250},""]
["6920607","M300000","소모품비","보온재의 3%","식",1,337.5,337.5,0,0,0,0,337.5,337,""]
["6920607","0110610","APS카바","0.4T","M",1,1855,1855,0,0,0,0,1855,1855,""]
["6920607","0001032","노무비","보온공","인",9.1999999999999998E-2,0,0,183071,16842.5,0,0,183071,16842,"",null,"보온공",0.08,1.1499999999999999,{"$f":"R3627*S3627","v":9.1999999999999998E-2}]
["6920601","0001032","노무비","보통인부","인",8.0999999999999996E-3,0,0,144481,1170.2,0,0,144481,1170,"",null,"보통인부",7.000000000000001E-3,1.1499999999999999,{"$f":"R3628*S3628","v":8.0499999999999999E-3}]
["6920607","M500000","공구손료","노무비의 2%","식",1,null,0,0,0,360.2,360.2,360.2,360,""]
[null,null,"[ 합           계 ]",{"$nulls":4},{"$f":"TRUNC(SUM(H3624:H3629),0)","v":13443},null,{"$f":"TRUNC(SUM(J3624:J3629),0)","v":18012},null,{"$f":"TRUNC(SUM(L3624:L3629),0)","v":360},null,{"$f":"H3630+J3630+L3630","v":31815}]
[]
[null,null,"6920608  관보온(APS카바)  50TxD80  M당"]
["6920608","6101508","발포폴리에틸렌보온통(50T)","D80","M",1.05,11700,{"$f":"TRUNC(F3633*G3633,1)","v":12285},0,{"$f":"TRUNC(F3633*I3633,1)","v":0},0,{"$f":"TRUNC(F3633*K3633,1)","v":0},{"$f":"TRUNC(G3633+I3633+K3633,1)","v":11700},{"$f":"TRUNC(H3633+J3633+L3633,0)","v":12285},""]
["6920608","M300000","소모품비","보온재의 3%","식",1,368.5,368.5,0,0,0,0,368.5,368,""]
["6920608","0110610","APS카바","0.4T","M",1,1980,1980,0,0,0,0,1980,1980,""]
["6920608","0001032","노무비","보온공","인",0.106,0,0,183071,19405.5,0,0,183071,19405,"",null,"보온공",9.1999999999999998E-2,1.1499999999999999,{"$f":"R3636*S3636","v":0.10579999999999999}]
["6920601","0001032","노무비","보통인부","인",8.0999999999999996E-3,0,0,144481,1170.2,0,0,144481,1170,"",null,"보통인부",7.000000000000001E-3,1.1499999999999999,{"$f":"R3637*S3637","v":8.0499999999999999E-3}]
["6920608","M500000","공구손료","노무비의 2%","식",1,null,0,0,0,411.5,411.5,411.5,411,""]
[null,null,"[ 합           계 ]",{"$nulls":4},{"$f":"TRUNC(SUM(H3633:H3638),0)","v":14633},null,{"$f":"TRUNC(SUM(J3633:J3638),0)","v":20575},null,{"$f":"TRUNC(SUM(L3633:L3638),0)","v":411},null,{"$f":"H3639+J3639+L3639","v":35619}]
[]
[null,null,"6920609  관보온(APS카바)  50TxD100  M당"]
["6920609","6101509","발포폴리에틸렌보온통(50T)","D100","M",1.05,13533,{"$f":"TRUNC(F3642*G3642,1)","v":14209.6},0,{"$f":"TRUNC(F3642*I3642,1)","v":0},0,{"$f":"TRUNC(F3642*K3642,1)","v":0},{"$f":"TRUNC(G3642+I3642+K3642,1)","v":13533},{"$f":"TRUNC(H3642+J3642+L3642,0)","v":14209},""]
["6920609","M300000","소모품비","보온재의 3%","식",1,426.2,426.2,0,0,0,0,426.2,426,""]
["6920609","0110610","APS카바","0.4T","M",1,2225,2225,0,0,0,0,2225,2225,""]
["6920609","0001032","노무비","보온공","인",0.121,0,0,183071,22151.5,0,0,183071,22151,"",null,"보온공",0.105,1.1499999999999999,{"$f":"R3645*S3645","v":0.12074999999999998}]
["6920601","0001032","노무비","보통인부","인",9.1999999999999998E-3,0,0,144481,1329.2,0,0,144481,1329,"",null,"보통인부",8.0000000000000002E-3,1.1499999999999999,{"$f":"R3646*S3646","v":9.1999999999999998E-3}]
["6920609","M500000","공구손료","노무비의 2%","식",1,null,0,0,0,469.6,469.6,469.6,469,""]
[null,null,"[ 합           계 ]",{"$nulls":4},{"$f":"TRUNC(SUM(H3642:H3647),0)","v":16860},null,{"$f":"TRUNC(SUM(J3642:J3647),0)","v":23480},null,{"$f":"TRUNC(SUM(L3642:L3647),0)","v":469},null,{"$f":"H3648+J3648+L3648","v":40809}]
[]
[null,null,"6920610  관보온(APS카바)  50TxD125  M당"]
["6920610","6101510","발포폴리에틸렌보온통(50T)","D125","M",1.05,17661,{"$f":"TRUNC(F3651*G3651,1)","v":18544},0,{"$f":"TRUNC(F3651*I3651,1)","v":0},0,{"$f":"TRUNC(F3651*K3651,1)","v":0},{"$f":"TRUNC(G3651+I3651+K3651,1)","v":17661},{"$f":"TRUNC(H3651+J3651+L3651,0)","v":18544},""]
["6920610","M300000","소모품비","보온재의 3%","식",1,556.29999999999995,556.29999999999995,0,0,0,0,556.29999999999995,556,""]
["6920610","0110610","APS카바","0.4T","M",1,2470,2470,0,0,0,0,2470,2470,""]
["6920610","0001032","노무비","보온공","인",0.14499999999999999,0,0,183071,26545.200000000001,0,0,183071,26545,"",null,"보온공",0.126,1.1499999999999999,{"$f":"R3654*S3654","v":0.1449}]
["6920601","0001032","노무비","보통인부","인",1.15E-2,0,0,144481,1661.5,0,0,144481,1661,"",null,"보통인부",0.01,1.1499999999999999,{"$f":"R3655*S3655","v":1.15E-2}]
["6920610","M500000","공구손료","노무비의 2%","식",1,null,0,0,0,564.1,564.1,564.1,564,""]
[null,null,"[ 합           계 ]",{"$nulls":4},{"$f":"TRUNC(SUM(H3651:H3656),0)","v":21570},null,{"$f":"TRUNC(SUM(J3651:J3656),0)","v":28206},null,{"$f":"TRUNC(SUM(L3651:L3656),0)","v":564},null,{"$f":"H3657+J3657+L3657","v":50340}]
[]
[null,null,"6920611  관보온(APS카바)  50TxD150  M당"]
["6920611","6101511","발포폴리에틸렌보온통(50T)","D150","M",1.05,22709,{"$f":"TRUNC(F3660*G3660,1)","v":23844.400000000001},0,{"$f":"TRUNC(F3660*I3660,1)","v":0},0,{"$f":"TRUNC(F3660*K3660,1)","v":0},{"$f":"TRUNC(G3660+I3660+K3660,1)","v":22709},{"$f":"TRUNC(H3660+J3660+L3660,0)","v":23844},""]
["6920611","M300000","소모품비","보온재의 3%","식",1,715.3,715.3,0,0,0,0,715.3,715,""]
["6920611","0110610","APS카바","0.4T","M",1,2270,2270,0,0,0,0,2270,2270,""]
["6920611","0001032","노무비","보온공","인",0.16900000000000001,0,0,183071,30938.9,0,0,183071,30938,"",null,"보온공",0.14699999999999999,1.1499999999999999,{"$f":"R3663*S3663","v":0.16904999999999998}]
["6920601","0001032","노무비","보통인부","인",1.2699999999999999E-2,0,0,144481,1834.9,0,0,144481,1834,"",null,"보통인부",1.0999999999999999E-2,1.1499999999999999,{"$f":"R3664*S3664","v":1.2649999999999998E-2}]
["6920611","M500000","공구손료","노무비의 2%","식",1,null,0,0,0,655.4,655.4,655.4,655,""]
[null,null,"[ 합           계 ]",{"$nulls":4},{"$f":"TRUNC(SUM(H3660:H3665),0)","v":26829},null,{"$f":"TRUNC(SUM(J3660:J3665),0)","v":32773},null,{"$f":"TRUNC(SUM(L3660:L3665),0)","v":655},null,{"$f":"H3666+J3666+L3666","v":60257}]
[]
[null,null,"6920612  관보온(APS카바)  50TxD200  M당"]
["6920612","6101512","발포폴리에틸렌보온통(50T)","D200","M",1.05,30364,{"$f":"TRUNC(F3669*G3669,1)","v":31882.2},0,{"$f":"TRUNC(F3669*I3669,1)","v":0},0,{"$f":"TRUNC(F3669*K3669,1)","v":0},{"$f":"TRUNC(G3669+I3669+K3669,1)","v":30364},{"$f":"TRUNC(H3669+J3669+L3669,0)","v":31882},""]
["6920612","M300000","소모품비","보온재의 3%","식",1,956.4,956.4,0,0,0,0,956.4,956,""]
["6920612","0110610","APS카바","0.4T","M",1,3205,3205,0,0,0,0,3205,3205,""]
["6920612","0001032","노무비","보온공","인",0.20100000000000001,0,0,183071,36797.199999999997,0,0,183071,36797,"",null,"보온공",0.17499999999999999,1.1499999999999999,{"$f":"R3672*S3672","v":0.20124999999999998}]
["6920601","0001032","노무비","보통인부","인",1.61E-2,0,0,144481,2326.1,0,0,144481,2326,"",null,"보통인부",1.4E-2,1.1499999999999999,{"$f":"R3673*S3673","v":1.61E-2}]
["6920612","M500000","공구손료","노무비의 2%","식",1,null,0,0,0,782.4,782.4,782.4,782,""]
[null,null,"[ 합           계 ]",{"$nulls":4},{"$f":"TRUNC(SUM(H3669:H3674),0)","v":36043},null,{"$f":"TRUNC(SUM(J3669:J3674),0)","v":39123},null,{"$f":"TRUNC(SUM(L3669:L3674),0)","v":782},null,{"$f":"H3675+J3675+L3675","v":75948}]
[]
[null,null,"6969103  배수펌프가대 2대설치기준  조"]
["6969015","0903024","열연강판","3.2t*914*1829","KG",44.8,1130,{"$f":"TRUNC(F3678*G3678,1)","v":50624},0,{"$f":"TRUNC(F3678*I3678,1)","v":0},0,{"$f":"TRUNC(F3678*K3678,1)","v":0},{"$f":"TRUNC(G3678+I3678+K3678,1)","v":1130},{"$f":"TRUNC(H3678+J3678+L3678,0)","v":50624},""]
["6969015","2004001","챤넬","75*40*5t","KG",38.06,960,36537.599999999999,null,0,0,0,960,36537,""]
["6969015","2004001","환봉","D13","KG",0.41599999999999998,870,361.9,null,0,0,0,870,361,""]
["6969015","2004001","힌지(정첩)","100MM","EA",2,154,308,null,0,0,0,154,308,""]
["6969015","2004001","볼트너트","M12*20","EA",8,200,1600,null,0,0,0,200,1600,""]
["6969015","2004001","앵커볼트(1/2\")","M12 L150","EA",6,510,3060,null,0,0,0,510,3060,""]
["6969015","2004001","잡철물제작설치","간단","TON",6.268E-2,109264,6848.6,6415534,402125.6,194403,12185.1,6719201,421159,""]
["6969015","2004001","녹막이페인트칠","2회","M2",2,1648,{"$f":"TRUNC(F3685*G3685,1)","v":3296},7380,14760,147,294,9175,18350,""]
["6969015","2004001","조합페인트칠","철재면2회","M2",1,962,{"$f":"TRUNC(F3686*G3686,1)","v":962},9840,{"$f":"TRUNC(F3686*I3686,1)","v":9840},196,{"$f":"TRUNC(F3686*K3686,1)","v":196},10998,10998,""]
[null,null,"[ 합           계 ]",{"$nulls":4},{"$f":"TRUNC(SUM(H3678:H3686),0)","v":103598},null,{"$f":"TRUNC(SUM(J3678:J3686),0)","v":426725},null,{"$f":"TRUNC(SUM(L3678:L3686),0)","v":12675},null,{"$f":"H3687+J3687+L3687","v":542998}]
[]
[null,null,"6906001-1  스텐관용접(전기용접)  D15  개소"]
["6906001","0206031","용접봉(스텐용)","∮2.6  308L-16","kg",7.000000000000001E-3,10817,{"$f":"TRUNC(F3690*G3690,1)","v":75.7},0,{"$f":"TRUNC(F3690*I3690,1)","v":0},0,{"$f":"TRUNC(F3690*K3690,1)","v":0},{"$f":"TRUNC(G3690+I3690+K3690,1)","v":10817},{"$f":"TRUNC(H3690+J3690+L3690,0)","v":75},""]
["6906001","0803008","소요전력",null,"KWH",4.7E-2,92.9,{"$f":"TRUNC(F3691*G3691,1)","v":4.3},0,{"$f":"TRUNC(F3691*I3691,1)","v":0},0,{"$f":"TRUNC(F3691*K3691,1)","v":0},{"$f":"TRUNC(G3691+I3691+K3691,1)","v":92.9},{"$f":"TRUNC(H3691+J3691+L3691,0)","v":4},""]
["6905012","0001112","노무비","용접공(일반)","인",3.5999999999999997E-2,0,{"$f":"TRUNC(F3692*G3692,1)","v":0},230706,{"$f":"TRUNC(F3692*I3692,1)","v":8305.4},0,{"$f":"TRUNC(F3692*K3692,1)","v":0},{"$f":"TRUNC(G3692+I3692+K3692,1)","v":230706},{"$f":"TRUNC(H3692+J3692+L3692,0)","v":8305},""]
["6905012","M500000","공구손료","노무비의 2%","식",1,null,{"$f":"TRUNC(F3693*G3693,1)","v":0},0,{"$f":"TRUNC(F3693*I3693,1)","v":0},166.1,{"$f":"TRUNC(F3693*K3693,1)","v":166.1},{"$f":"TRUNC(G3693+I3693+K3693,1)","v":166.1},{"$f":"TRUNC(H3693+J3693+L3693,0)","v":166},""]
[null,null,"[ 합           계 ]",{"$nulls":4},{"$f":"TRUNC(SUM(H3690:H3693),0)","v":80},null,{"$f":"TRUNC(SUM(J3690:J3693),0)","v":8305},null,{"$f":"TRUNC(SUM(L3690:L3693),0)","v":166},null,{"$f":"H3694+J3694+L3694","v":8551}]
[]
[null,null,"6906002-1  스텐관용접(전기용접)  D20  개소"]
["6906002","0206031","용접봉(스텐용)","∮2.6  308L-16","kg",1.2999999999999999E-2,10817,{"$f":"TRUNC(F3697*G3697,1)","v":140.6},0,{"$f":"TRUNC(F3697*I3697,1)","v":0},0,{"$f":"TRUNC(F3697*K3697,1)","v":0},{"$f":"TRUNC(G3697+I3697+K3697,1)","v":10817},{"$f":"TRUNC(H3697+J3697+L3697,0)","v":140},""]
["6906002","0803008","소요전력",null,"KWH",5.8999999999999997E-2,92.9,{"$f":"TRUNC(F3698*G3698,1)","v":5.4},0,{"$f":"TRUNC(F3698*I3698,1)","v":0},0,{"$f":"TRUNC(F3698*K3698,1)","v":0},{"$f":"TRUNC(G3698+I3698+K3698,1)","v":92.9},{"$f":"TRUNC(H3698+J3698+L3698,0)","v":5},""]
["6905012","0001112","노무비","용접공(일반)","인",4.2999999999999997E-2,0,{"$f":"TRUNC(F3699*G3699,1)","v":0},230706,{"$f":"TRUNC(F3699*I3699,1)","v":9920.2999999999993},0,{"$f":"TRUNC(F3699*K3699,1)","v":0},{"$f":"TRUNC(G3699+I3699+K3699,1)","v":230706},{"$f":"TRUNC(H3699+J3699+L3699,0)","v":9920},""]
["6905012","M500000","공구손료","노무비의 2%","식",1,null,{"$f":"TRUNC(F3700*G3700,1)","v":0},0,{"$f":"TRUNC(F3700*I3700,1)","v":0},198.4,{"$f":"TRUNC(F3700*K3700,1)","v":198.4},{"$f":"TRUNC(G3700+I3700+K3700,1)","v":198.4},{"$f":"TRUNC(H3700+J3700+L3700,0)","v":198},""]
[null,null,"[ 합           계 ]",{"$nulls":4},{"$f":"TRUNC(SUM(H3697:H3700),0)","v":146},null,{"$f":"TRUNC(SUM(J3697:J3700),0)","v":9920},null,{"$f":"TRUNC(SUM(L3697:L3700),0)","v":198},null,{"$f":"H3701+J3701+L3701","v":10264}]
[]
[null,null,"6906003-1  스텐관용접(전기용접)  D25  개소"]
["6906003","0206031","용접봉(스텐용)","∮2.6  308L-16","kg",0.02,10817,{"$f":"TRUNC(F3704*G3704,1)","v":216.3},0,{"$f":"TRUNC(F3704*I3704,1)","v":0},0,{"$f":"TRUNC(F3704*K3704,1)","v":0},{"$f":"TRUNC(G3704+I3704+K3704,1)","v":10817},{"$f":"TRUNC(H3704+J3704+L3704,0)","v":216},""]
["6906003","0803008","소요전력",null,"KWH",7.3999999999999996E-2,92.9,{"$f":"TRUNC(F3705*G3705,1)","v":6.8},0,{"$f":"TRUNC(F3705*I3705,1)","v":0},0,{"$f":"TRUNC(F3705*K3705,1)","v":0},{"$f":"TRUNC(G3705+I3705+K3705,1)","v":92.9},{"$f":"TRUNC(H3705+J3705+L3705,0)","v":6},""]
["6905012","0001112","노무비","용접공(일반)","인",5.2000000000000005E-2,0,{"$f":"TRUNC(F3706*G3706,1)","v":0},230706,{"$f":"TRUNC(F3706*I3706,1)","v":11996.7},0,{"$f":"TRUNC(F3706*K3706,1)","v":0},{"$f":"TRUNC(G3706+I3706+K3706,1)","v":230706},{"$f":"TRUNC(H3706+J3706+L3706,0)","v":11996},""]
["6905012","M500000","공구손료","노무비의 2%","식",1,null,{"$f":"TRUNC(F3707*G3707,1)","v":0},0,{"$f":"TRUNC(F3707*I3707,1)","v":0},239.9,{"$f":"TRUNC(F3707*K3707,1)","v":239.9},{"$f":"TRUNC(G3707+I3707+K3707,1)","v":239.9},{"$f":"TRUNC(H3707+J3707+L3707,0)","v":239},""]
[null,null,"[ 합           계 ]",{"$nulls":4},{"$f":"TRUNC(SUM(H3704:H3707),0)","v":223},null,{"$f":"TRUNC(SUM(J3704:J3707),0)","v":11996},null,{"$f":"TRUNC(SUM(L3704:L3707),0)","v":239},null,{"$f":"H3708+J3708+L3708","v":12458}]
[]
[null,null,"6906004-1  스텐관용접(전기용접)  D32  개소"]
["6906004","0206031","용접봉(스텐용)","∮2.6  308L-16","kg",0.03,10817,{"$f":"TRUNC(F3711*G3711,1)","v":324.5},0,{"$f":"TRUNC(F3711*I3711,1)","v":0},0,{"$f":"TRUNC(F3711*K3711,1)","v":0},{"$f":"TRUNC(G3711+I3711+K3711,1)","v":10817},{"$f":"TRUNC(H3711+J3711+L3711,0)","v":324},""]
["6906004","0803008","소요전력",null,"KWH",9.2999999999999999E-2,92.9,{"$f":"TRUNC(F3712*G3712,1)","v":8.6},0,{"$f":"TRUNC(F3712*I3712,1)","v":0},0,{"$f":"TRUNC(F3712*K3712,1)","v":0},{"$f":"TRUNC(G3712+I3712+K3712,1)","v":92.9},{"$f":"TRUNC(H3712+J3712+L3712,0)","v":8},""]
["6905012","0001112","노무비","용접공(일반)","인",6.2E-2,0,{"$f":"TRUNC(F3713*G3713,1)","v":0},230706,{"$f":"TRUNC(F3713*I3713,1)","v":14303.7},0,{"$f":"TRUNC(F3713*K3713,1)","v":0},{"$f":"TRUNC(G3713+I3713+K3713,1)","v":230706},{"$f":"TRUNC(H3713+J3713+L3713,0)","v":14303},""]
["6905012","M500000","공구손료","노무비의 2%","식",1,null,{"$f":"TRUNC(F3714*G3714,1)","v":0},0,{"$f":"TRUNC(F3714*I3714,1)","v":0},286,{"$f":"TRUNC(F3714*K3714,1)","v":286},{"$f":"TRUNC(G3714+I3714+K3714,1)","v":286},{"$f":"TRUNC(H3714+J3714+L3714,0)","v":286},""]
[null,null,"[ 합           계 ]",{"$nulls":4},{"$f":"TRUNC(SUM(H3711:H3714),0)","v":333},null,{"$f":"TRUNC(SUM(J3711:J3714),0)","v":14303},null,{"$f":"TRUNC(SUM(L3711:L3714),0)","v":286},null,{"$f":"H3715+J3715+L3715","v":14922}]
[]
[null,null,"6906005-1  스텐관용접(전기용접)  D40  개소"]
["6906005","0206031","용접봉(스텐용)","∮2.6  308L-16","kg",0.04,10817,{"$f":"TRUNC(F3718*G3718,1)","v":432.6},0,{"$f":"TRUNC(F3718*I3718,1)","v":0},0,{"$f":"TRUNC(F3718*K3718,1)","v":0},{"$f":"TRUNC(G3718+I3718+K3718,1)","v":10817},{"$f":"TRUNC(H3718+J3718+L3718,0)","v":432},""]
["6906005","0803008","소요전력",null,"KWH",0.106,92.9,{"$f":"TRUNC(F3719*G3719,1)","v":9.8000000000000007},0,{"$f":"TRUNC(F3719*I3719,1)","v":0},0,{"$f":"TRUNC(F3719*K3719,1)","v":0},{"$f":"TRUNC(G3719+I3719+K3719,1)","v":92.9},{"$f":"TRUNC(H3719+J3719+L3719,0)","v":9},""]
["6905012","0001112","노무비","용접공(일반)","인",7.0000000000000007E-2,0,{"$f":"TRUNC(F3720*G3720,1)","v":0},230706,{"$f":"TRUNC(F3720*I3720,1)","v":16149.4},0,{"$f":"TRUNC(F3720*K3720,1)","v":0},{"$f":"TRUNC(G3720+I3720+K3720,1)","v":230706},{"$f":"TRUNC(H3720+J3720+L3720,0)","v":16149},""]
["6905012","M500000","공구손료","노무비의 2%","식",1,null,{"$f":"TRUNC(F3721*G3721,1)","v":0},0,{"$f":"TRUNC(F3721*I3721,1)","v":0},322.89999999999998,{"$f":"TRUNC(F3721*K3721,1)","v":322.89999999999998},{"$f":"TRUNC(G3721+I3721+K3721,1)","v":322.89999999999998},{"$f":"TRUNC(H3721+J3721+L3721,0)","v":322},""]
[null,null,"[ 합           계 ]",{"$nulls":4},{"$f":"TRUNC(SUM(H3718:H3721),0)","v":442},null,{"$f":"TRUNC(SUM(J3718:J3721),0)","v":16149},null,{"$f":"TRUNC(SUM(L3718:L3721),0)","v":322},null,{"$f":"H3722+J3722+L3722","v":16913}]
[]
[null,null,"6906006-1  스텐관용접(전기용접)  D50  개소"]
["6906006","0206031","용접봉(스텐용)","∮2.6  308L-16","kg",5.5000000000000007E-2,10817,{"$f":"TRUNC(F3725*G3725,1)","v":594.9},0,{"$f":"TRUNC(F3725*I3725,1)","v":0},0,{"$f":"TRUNC(F3725*K3725,1)","v":0},{"$f":"TRUNC(G3725+I3725+K3725,1)","v":10817},{"$f":"TRUNC(H3725+J3725+L3725,0)","v":594},""]
["6906006","0803008","소요전력",null,"KWH",0.13200000000000001,92.9,{"$f":"TRUNC(F3726*G3726,1)","v":12.2},0,{"$f":"TRUNC(F3726*I3726,1)","v":0},0,{"$f":"TRUNC(F3726*K3726,1)","v":0},{"$f":"TRUNC(G3726+I3726+K3726,1)","v":92.9},{"$f":"TRUNC(H3726+J3726+L3726,0)","v":12},""]
["6905012","0001112","노무비","용접공(일반)","인",8.5000000000000006E-2,0,{"$f":"TRUNC(F3727*G3727,1)","v":0},230706,{"$f":"TRUNC(F3727*I3727,1)","v":19610},0,{"$f":"TRUNC(F3727*K3727,1)","v":0},{"$f":"TRUNC(G3727+I3727+K3727,1)","v":230706},{"$f":"TRUNC(H3727+J3727+L3727,0)","v":19610},""]
["6905012","M500000","공구손료","노무비의 2%","식",1,null,{"$f":"TRUNC(F3728*G3728,1)","v":0},0,{"$f":"TRUNC(F3728*I3728,1)","v":0},392.2,{"$f":"TRUNC(F3728*K3728,1)","v":392.2},{"$f":"TRUNC(G3728+I3728+K3728,1)","v":392.2},{"$f":"TRUNC(H3728+J3728+L3728,0)","v":392},""]
[null,null,"[ 합           계 ]",{"$nulls":4},{"$f":"TRUNC(SUM(H3725:H3728),0)","v":607},null,{"$f":"TRUNC(SUM(J3725:J3728),0)","v":19610},null,{"$f":"TRUNC(SUM(L3725:L3728),0)","v":392},null,{"$f":"H3729+J3729+L3729","v":20609}]
[]
[null,null,"6906007-1  스텐관용접(전기용접)  D65  개소"]
["6906007","0206031","용접봉(스텐용)","∮2.6  308L-16","kg",0.16800000000000001,10817,{"$f":"TRUNC(F3732*G3732,1)","v":1817.2},0,{"$f":"TRUNC(F3732*I3732,1)","v":0},0,{"$f":"TRUNC(F3732*K3732,1)","v":0},{"$f":"TRUNC(G3732+I3732+K3732,1)","v":10817},{"$f":"TRUNC(H3732+J3732+L3732,0)","v":1817},""]
["6906007","0803008","소요전력",null,"KWH",0.16700000000000001,92.9,{"$f":"TRUNC(F3733*G3733,1)","v":15.5},0,{"$f":"TRUNC(F3733*I3733,1)","v":0},0,{"$f":"TRUNC(F3733*K3733,1)","v":0},{"$f":"TRUNC(G3733+I3733+K3733,1)","v":92.9},{"$f":"TRUNC(H3733+J3733+L3733,0)","v":15},""]
["6905012","0001112","노무비","용접공(일반)","인",0.105,0,{"$f":"TRUNC(F3734*G3734,1)","v":0},230706,{"$f":"TRUNC(F3734*I3734,1)","v":24224.1},0,{"$f":"TRUNC(F3734*K3734,1)","v":0},{"$f":"TRUNC(G3734+I3734+K3734,1)","v":230706},{"$f":"TRUNC(H3734+J3734+L3734,0)","v":24224},""]
["6905012","M500000","공구손료","노무비의 2%","식",1,null,{"$f":"TRUNC(F3735*G3735,1)","v":0},0,{"$f":"TRUNC(F3735*I3735,1)","v":0},484.4,{"$f":"TRUNC(F3735*K3735,1)","v":484.4},{"$f":"TRUNC(G3735+I3735+K3735,1)","v":484.4},{"$f":"TRUNC(H3735+J3735+L3735,0)","v":484},""]
[null,null,"[ 합           계 ]",{"$nulls":4},{"$f":"TRUNC(SUM(H3732:H3735),0)","v":1832},null,{"$f":"TRUNC(SUM(J3732:J3735),0)","v":24224},null,{"$f":"TRUNC(SUM(L3732:L3735),0)","v":484},null,{"$f":"H3736+J3736+L3736","v":26540}]
[]
[null,null,"6906008-1  스텐관용접(전기용접)  D80  개소"]
["6906008","0206031","용접봉(스텐용)","∮2.6  308L-16","kg",0.21299999999999999,10817,{"$f":"TRUNC(F3739*G3739,1)","v":2304},0,{"$f":"TRUNC(F3739*I3739,1)","v":0},0,{"$f":"TRUNC(F3739*K3739,1)","v":0},{"$f":"TRUNC(G3739+I3739+K3739,1)","v":10817},{"$f":"TRUNC(H3739+J3739+L3739,0)","v":2304},""]
["6906008","0803008","소요전력",null,"KWH",0.33500000000000002,92.9,{"$f":"TRUNC(F3740*G3740,1)","v":31.1},0,{"$f":"TRUNC(F3740*I3740,1)","v":0},0,{"$f":"TRUNC(F3740*K3740,1)","v":0},{"$f":"TRUNC(G3740+I3740+K3740,1)","v":92.9},{"$f":"TRUNC(H3740+J3740+L3740,0)","v":31},""]
["6905012","0001112","노무비","용접공(일반)","인",0.121,0,{"$f":"TRUNC(F3741*G3741,1)","v":0},230706,{"$f":"TRUNC(F3741*I3741,1)","v":27915.4},0,{"$f":"TRUNC(F3741*K3741,1)","v":0},{"$f":"TRUNC(G3741+I3741+K3741,1)","v":230706},{"$f":"TRUNC(H3741+J3741+L3741,0)","v":27915},""]
["6905012","M500000","공구손료","노무비의 2%","식",1,null,{"$f":"TRUNC(F3742*G3742,1)","v":0},0,{"$f":"TRUNC(F3742*I3742,1)","v":0},558.29999999999995,{"$f":"TRUNC(F3742*K3742,1)","v":558.29999999999995},{"$f":"TRUNC(G3742+I3742+K3742,1)","v":558.29999999999995},{"$f":"TRUNC(H3742+J3742+L3742,0)","v":558},""]
[null,null,"[ 합           계 ]",{"$nulls":4},{"$f":"TRUNC(SUM(H3739:H3742),0)","v":2335},null,{"$f":"TRUNC(SUM(J3739:J3742),0)","v":27915},null,{"$f":"TRUNC(SUM(L3739:L3742),0)","v":558},null,{"$f":"H3743+J3743+L3743","v":30808}]
[]
[null,null,"6906009-1  스텐관용접(전기용접)  D100  개소"]
["6906009","0206031","용접봉(스텐용)","∮2.6  308L-16","kg",0.313,10817,{"$f":"TRUNC(F3746*G3746,1)","v":3385.7},0,{"$f":"TRUNC(F3746*I3746,1)","v":0},0,{"$f":"TRUNC(F3746*K3746,1)","v":0},{"$f":"TRUNC(G3746+I3746+K3746,1)","v":10817},{"$f":"TRUNC(H3746+J3746+L3746,0)","v":3385},""]
["6906009","0803008","소요전력",null,"KWH",0.43,92.9,{"$f":"TRUNC(F3747*G3747,1)","v":39.9},0,{"$f":"TRUNC(F3747*I3747,1)","v":0},0,{"$f":"TRUNC(F3747*K3747,1)","v":0},{"$f":"TRUNC(G3747+I3747+K3747,1)","v":92.9},{"$f":"TRUNC(H3747+J3747+L3747,0)","v":39},""]
["6905012","0001112","노무비","용접공(일반)","인",0.152,0,{"$f":"TRUNC(F3748*G3748,1)","v":0},230706,{"$f":"TRUNC(F3748*I3748,1)","v":35067.300000000003},0,{"$f":"TRUNC(F3748*K3748,1)","v":0},{"$f":"TRUNC(G3748+I3748+K3748,1)","v":230706},{"$f":"TRUNC(H3748+J3748+L3748,0)","v":35067},""]
["6905012","M500000","공구손료","노무비의 2%","식",1,null,{"$f":"TRUNC(F3749*G3749,1)","v":0},0,{"$f":"TRUNC(F3749*I3749,1)","v":0},701.3,{"$f":"TRUNC(F3749*K3749,1)","v":701.3},{"$f":"TRUNC(G3749+I3749+K3749,1)","v":701.3},{"$f":"TRUNC(H3749+J3749+L3749,0)","v":701},""]
[null,null,"[ 합           계 ]",{"$nulls":4},{"$f":"TRUNC(SUM(H3746:H3749),0)","v":3425},null,{"$f":"TRUNC(SUM(J3746:J3749),0)","v":35067},null,{"$f":"TRUNC(SUM(L3746:L3749),0)","v":701},null,{"$f":"H3750+J3750+L3750","v":39193}]
[]
[null,null,"6906010-1  스텐관용접(전기용접)  D125  개소"]
["6906010","0206031","용접봉(스텐용)","∮2.6  308L-16","kg",0.443,10817,{"$f":"TRUNC(F3753*G3753,1)","v":4791.8999999999996},0,{"$f":"TRUNC(F3753*I3753,1)","v":0},0,{"$f":"TRUNC(F3753*K3753,1)","v":0},{"$f":"TRUNC(G3753+I3753+K3753,1)","v":10817},{"$f":"TRUNC(H3753+J3753+L3753,0)","v":4791},""]
["6906010","0803008","소요전력",null,"KWH",0.52600000000000002,92.9,{"$f":"TRUNC(F3754*G3754,1)","v":48.8},0,{"$f":"TRUNC(F3754*I3754,1)","v":0},0,{"$f":"TRUNC(F3754*K3754,1)","v":0},{"$f":"TRUNC(G3754+I3754+K3754,1)","v":92.9},{"$f":"TRUNC(H3754+J3754+L3754,0)","v":48},""]
["6905012","0001112","노무비","용접공(일반)","인",0.184,0,{"$f":"TRUNC(F3755*G3755,1)","v":0},230706,{"$f":"TRUNC(F3755*I3755,1)","v":42449.9},0,{"$f":"TRUNC(F3755*K3755,1)","v":0},{"$f":"TRUNC(G3755+I3755+K3755,1)","v":230706},{"$f":"TRUNC(H3755+J3755+L3755,0)","v":42449},""]
["6905012","M500000","공구손료","노무비의 2%","식",1,null,{"$f":"TRUNC(F3756*G3756,1)","v":0},0,{"$f":"TRUNC(F3756*I3756,1)","v":0},848.9,{"$f":"TRUNC(F3756*K3756,1)","v":848.9},{"$f":"TRUNC(G3756+I3756+K3756,1)","v":848.9},{"$f":"TRUNC(H3756+J3756+L3756,0)","v":848},""]
[null,null,"[ 합           계 ]",{"$nulls":4},{"$f":"TRUNC(SUM(H3753:H3756),0)","v":4840},null,{"$f":"TRUNC(SUM(J3753:J3756),0)","v":42449},null,{"$f":"TRUNC(SUM(L3753:L3756),0)","v":848},null,{"$f":"H3757+J3757+L3757","v":48137}]
[]
[null,null,"6906011-1  스텐관용접(전기용접)  D150  개소"]
["6906011","0206031","용접봉(스텐용)","∮2.6  308L-16","kg",0.60099999999999998,10817,{"$f":"TRUNC(F3760*G3760,1)","v":6501},0,{"$f":"TRUNC(F3760*I3760,1)","v":0},0,{"$f":"TRUNC(F3760*K3760,1)","v":0},{"$f":"TRUNC(G3760+I3760+K3760,1)","v":10817},{"$f":"TRUNC(H3760+J3760+L3760,0)","v":6501},""]
["6906011","0803008","소요전력",null,"KWH",0.622,92.9,{"$f":"TRUNC(F3761*G3761,1)","v":57.7},0,{"$f":"TRUNC(F3761*I3761,1)","v":0},0,{"$f":"TRUNC(F3761*K3761,1)","v":0},{"$f":"TRUNC(G3761+I3761+K3761,1)","v":92.9},{"$f":"TRUNC(H3761+J3761+L3761,0)","v":57},""]
["6905012","0001112","노무비","용접공(일반)","인",0.216,0,{"$f":"TRUNC(F3762*G3762,1)","v":0},230706,{"$f":"TRUNC(F3762*I3762,1)","v":49832.4},0,{"$f":"TRUNC(F3762*K3762,1)","v":0},{"$f":"TRUNC(G3762+I3762+K3762,1)","v":230706},{"$f":"TRUNC(H3762+J3762+L3762,0)","v":49832},""]
["6905012","M500000","공구손료","노무비의 2%","식",1,null,{"$f":"TRUNC(F3763*G3763,1)","v":0},0,{"$f":"TRUNC(F3763*I3763,1)","v":0},996.6,{"$f":"TRUNC(F3763*K3763,1)","v":996.6},{"$f":"TRUNC(G3763+I3763+K3763,1)","v":996.6},{"$f":"TRUNC(H3763+J3763+L3763,0)","v":996},""]
[null,null,"[ 합           계 ]",{"$nulls":4},{"$f":"TRUNC(SUM(H3760:H3763),0)","v":6558},null,{"$f":"TRUNC(SUM(J3760:J3763),0)","v":49832},null,{"$f":"TRUNC(SUM(L3760:L3763),0)","v":996},null,{"$f":"H3764+J3764+L3764","v":57386}]
[]
[null,null,"6934001-1 강관나사접합 D20  개소"]
[null,null,"테프론테이프","3/16X3m","M",0.34300000000000003,40,{"$f":"TRUNC(F3767*G3767,1)","v":13.7},null,{"$f":"TRUNC(F3767*I3767,1)","v":0},0,{"$f":"TRUNC(F3767*K3767,1)","v":0},{"$f":"TRUNC(G3767+I3767+K3767,1)","v":40},{"$f":"H3767+J3767+L3767","v":13.7},""]
[null,null,"콤파운드","비초산계","g",3,60,{"$f":"TRUNC(F3768*G3768,1)","v":180},null,{"$f":"TRUNC(F3768*I3768,1)","v":0},0,{"$f":"TRUNC(F3768*K3768,1)","v":0},60,180,""]
[null,null,"노무비","배관공","인",6.0999999999999999E-2,0,{"$f":"TRUNC(F3769*G3769,1)","v":0},202212,{"$f":"TRUNC(F3769*I3769,1)","v":12334.9},0,{"$f":"TRUNC(F3769*K3769,1)","v":0},202212,12334.9,""]
[null,null,"노무비","보통인부","인",1.7000000000000001E-2,0,{"$f":"TRUNC(F3770*G3770,1)","v":0},144481,{"$f":"TRUNC(F3770*I3770,1)","v":2456.1},0,{"$f":"TRUNC(F3770*K3770,1)","v":0},144481,2456.1,""]
[null,null,"공구손료","노무비의 2%","식",1,null,{"$f":"TRUNC(F3771*G3771,1)","v":0},0,0,295.8,{"$f":"TRUNC(F3771*K3771,1)","v":295.8},295.8,295.8,""]
[null,null,"[ 합           계 ]",{"$nulls":4},{"$f":"TRUNC(SUM(H3767:H3771),0)","v":193},null,{"$f":"TRUNC(SUM(J3767:J3771),0)","v":14791},null,{"$f":"TRUNC(SUM(L3767:L3771),0)","v":295},0,15279]
[]
[null,null,"6934002-1 강관나사접합 D25  개소"]
[null,null,"테프론테이프","3/16X3m","M",0.43,40,{"$f":"TRUNC(F3775*G3775,1)","v":17.2},null,{"$f":"TRUNC(F3775*I3775,1)","v":0},0,{"$f":"TRUNC(F3775*K3775,1)","v":0},{"$f":"TRUNC(G3775+I3775+K3775,1)","v":40},{"$f":"H3775+J3775+L3775","v":17.2},""]
[null,null,"콤파운드","비초산계","g",4.2,60,{"$f":"TRUNC(F3776*G3776,1)","v":252},null,{"$f":"TRUNC(F3776*I3776,1)","v":0},0,{"$f":"TRUNC(F3776*K3776,1)","v":0},60,252,""]
[null,null,"노무비","배관공","인",8.6999999999999994E-2,0,{"$f":"TRUNC(F3777*G3777,1)","v":0},202212,{"$f":"TRUNC(F3777*I3777,1)","v":17592.400000000001},0,{"$f":"TRUNC(F3777*K3777,1)","v":0},202212,17592.400000000001,""]
[null,null,"노무비","보통인부","인",2.4E-2,0,{"$f":"TRUNC(F3778*G3778,1)","v":0},144481,{"$f":"TRUNC(F3778*I3778,1)","v":3467.5},0,{"$f":"TRUNC(F3778*K3778,1)","v":0},144481,3467.5,""]
[null,null,"공구손료","노무비의 2%","식",1,null,{"$f":"TRUNC(F3779*G3779,1)","v":0},0,0,421.1,{"$f":"TRUNC(F3779*K3779,1)","v":421.1},421.1,421.1,""]
[null,null,"[ 합           계 ]",{"$nulls":4},{"$f":"TRUNC(SUM(H3775:H3779),0)","v":269},null,{"$f":"TRUNC(SUM(J3775:J3779),0)","v":21059},null,{"$f":"TRUNC(SUM(L3775:L3779),0)","v":421},0,21749]
[]
[null,null,"6934003-1 강관나사접합 D32  개소"]
[null,null,"테프론테이프","3/16X3m","M",0.53800000000000003,40,{"$f":"TRUNC(F3783*G3783,1)","v":21.5},null,{"$f":"TRUNC(F3783*I3783,1)","v":0},0,{"$f":"TRUNC(F3783*K3783,1)","v":0},{"$f":"TRUNC(G3783+I3783+K3783,1)","v":40},{"$f":"H3783+J3783+L3783","v":21.5},""]
[null,null,"콤파운드","비초산계","g",5.8,60,{"$f":"TRUNC(F3784*G3784,1)","v":348},null,{"$f":"TRUNC(F3784*I3784,1)","v":0},0,{"$f":"TRUNC(F3784*K3784,1)","v":0},60,348,""]
[null,null,"노무비","배관공","인",0.109,0,{"$f":"TRUNC(F3785*G3785,1)","v":0},202212,{"$f":"TRUNC(F3785*I3785,1)","v":22041.1},0,{"$f":"TRUNC(F3785*K3785,1)","v":0},202212,22041.1,""]
[null,null,"노무비","보통인부","인",0.03,0,{"$f":"TRUNC(F3786*G3786,1)","v":0},144481,{"$f":"TRUNC(F3786*I3786,1)","v":4334.3999999999996},0,{"$f":"TRUNC(F3786*K3786,1)","v":0},144481,4334.3999999999996,""]
[null,null,"공구손료","노무비의 2%","식",1,null,{"$f":"TRUNC(F3787*G3787,1)","v":0},0,0,527.5,{"$f":"TRUNC(F3787*K3787,1)","v":527.5},527.5,527.5,""]
[null,null,"[ 합           계 ]",{"$nulls":4},{"$f":"TRUNC(SUM(H3783:H3787),0)","v":369},null,{"$f":"TRUNC(SUM(J3783:J3787),0)","v":26375},null,{"$f":"TRUNC(SUM(L3783:L3787),0)","v":527},0,27271]
[]
[null,null,"6934004-1 강관나사접합 D40  개소"]
[null,null,"테프론테이프","3/16X3m","M",0.78700000000000003,40,{"$f":"TRUNC(F3791*G3791,1)","v":31.4},null,{"$f":"TRUNC(F3791*I3791,1)","v":0},0,{"$f":"TRUNC(F3791*K3791,1)","v":0},{"$f":"TRUNC(G3791+I3791+K3791,1)","v":40},{"$f":"H3791+J3791+L3791","v":31.4},""]
[null,null,"콤파운드","비초산계","g",7.3,60,{"$f":"TRUNC(F3792*G3792,1)","v":438},null,{"$f":"TRUNC(F3792*I3792,1)","v":0},0,{"$f":"TRUNC(F3792*K3792,1)","v":0},60,438,""]
[null,null,"노무비","배관공","인",0.123,0,{"$f":"TRUNC(F3793*G3793,1)","v":0},202212,{"$f":"TRUNC(F3793*I3793,1)","v":24872},0,{"$f":"TRUNC(F3793*K3793,1)","v":0},202212,24872,""]
[null,null,"노무비","보통인부","인",3.4000000000000002E-2,0,{"$f":"TRUNC(F3794*G3794,1)","v":0},144481,{"$f":"TRUNC(F3794*I3794,1)","v":4912.3},0,{"$f":"TRUNC(F3794*K3794,1)","v":0},144481,4912.3,""]
[null,null,"공구손료","노무비의 2%","식",1,null,{"$f":"TRUNC(F3795*G3795,1)","v":0},0,0,595.6,{"$f":"TRUNC(F3795*K3795,1)","v":595.6},595.6,595.6,""]
[null,null,"[ 합           계 ]",{"$nulls":4},{"$f":"TRUNC(SUM(H3791:H3795),0)","v":469},null,{"$f":"TRUNC(SUM(J3791:J3795),0)","v":29784},null,{"$f":"TRUNC(SUM(L3791:L3795),0)","v":595},0,30848]
[]
[null,null,"6934005-1 강관나사접합 D50  개소"]
[null,null,"테프론테이프","3/16X3m","M",0.95099999999999996,40,{"$f":"TRUNC(F3799*G3799,1)","v":38},null,{"$f":"TRUNC(F3799*I3799,1)","v":0},0,{"$f":"TRUNC(F3799*K3799,1)","v":0},{"$f":"TRUNC(G3799+I3799+K3799,1)","v":40},{"$f":"H3799+J3799+L3799","v":38},""]
[null,null,"콤파운드","비초산계","g",10.6,60,{"$f":"TRUNC(F3800*G3800,1)","v":636},null,{"$f":"TRUNC(F3800*I3800,1)","v":0},0,{"$f":"TRUNC(F3800*K3800,1)","v":0},60,636,""]
[null,null,"노무비","배관공","인",0.16800000000000001,0,{"$f":"TRUNC(F3801*G3801,1)","v":0},202212,{"$f":"TRUNC(F3801*I3801,1)","v":33971.599999999999},0,{"$f":"TRUNC(F3801*K3801,1)","v":0},202212,33971.599999999999,""]
[null,null,"노무비","보통인부","인",4.5999999999999999E-2,0,{"$f":"TRUNC(F3802*G3802,1)","v":0},144481,{"$f":"TRUNC(F3802*I3802,1)","v":6646.1},0,{"$f":"TRUNC(F3802*K3802,1)","v":0},144481,6646.1,""]
[null,null,"공구손료","노무비의 2%","식",1,null,{"$f":"TRUNC(F3803*G3803,1)","v":0},0,0,812.3,{"$f":"TRUNC(F3803*K3803,1)","v":812.3},812.3,812.3,""]
[null,null,"[ 합           계 ]",{"$nulls":4},{"$f":"TRUNC(SUM(H3799:H3803),0)","v":674},null,{"$f":"TRUNC(SUM(J3799:J3803),0)","v":40617},null,{"$f":"TRUNC(SUM(L3799:L3803),0)","v":812},0,42103]
[]
[null,null,"6904006-1  가스강관용접  D50  개소"]
["6904006","0206002","용접봉(연강용)","∮3.2  CS-200  KSE-4301","kg",4.9000000000000002E-2,2836,{"$f":"TRUNC(F3807*G3807,1)","v":138.9},0,{"$f":"TRUNC(F3807*I3807,1)","v":0},0,{"$f":"TRUNC(F3807*K3807,1)","v":0},{"$f":"TRUNC(G3807+I3807+K3807,1)","v":2836},{"$f":"TRUNC(H3807+J3807+L3807,0)","v":138},""]
["6904006","0805023","전력(4kw이상.1년초과)*","사용요금(그밖의 철)","kwh",0.13200000000000001,92.9,{"$f":"TRUNC(F3808*G3808,1)","v":12.2},0,{"$f":"TRUNC(F3808*I3808,1)","v":0},0,{"$f":"TRUNC(F3808*K3808,1)","v":0},{"$f":"TRUNC(G3808+I3808+K3808,1)","v":92.9},{"$f":"TRUNC(H3808+J3808+L3808,0)","v":12},""]
["6905001","0001112","노무비","플렌트용접공","인",8.5000000000000006E-2,0,{"$f":"TRUNC(F3809*G3809,1)","v":0},240972,{"$f":"TRUNC(F3809*I3809,1)","v":20482.599999999999},0,{"$f":"TRUNC(F3809*K3809,1)","v":0},{"$f":"TRUNC(G3809+I3809+K3809,1)","v":240972},{"$f":"TRUNC(H3809+J3809+L3809,0)","v":20482},""]
["6905001","M500000","공구손료","노무비의 2%","식",1,null,{"$f":"TRUNC(F3810*G3810,1)","v":0},0,{"$f":"TRUNC(F3810*I3810,1)","v":0},409.6,{"$f":"TRUNC(F3810*K3810,1)","v":409.6},{"$f":"TRUNC(G3810+I3810+K3810,1)","v":409.6},{"$f":"TRUNC(H3810+J3810+L3810,0)","v":409},""]
[null,null,"[ 합           계 ]",{"$nulls":4},{"$f":"TRUNC(SUM(H3807:H3810),0)","v":151},null,{"$f":"TRUNC(SUM(J3807:J3810),0)","v":20482},null,{"$f":"TRUNC(SUM(L3807:L3810),0)","v":409},null,{"$f":"H3811+J3811+L3811","v":21042}]
[]
[null,null,"6904007-1  가스강관용접  D65  개소"]
["6904007","0206002","용접봉(연강용)","∮3.2  CS-200  KSE-4301","kg",0.15,2836,{"$f":"TRUNC(F3814*G3814,1)","v":425.4},0,{"$f":"TRUNC(F3814*I3814,1)","v":0},0,{"$f":"TRUNC(F3814*K3814,1)","v":0},{"$f":"TRUNC(G3814+I3814+K3814,1)","v":2836},{"$f":"TRUNC(H3814+J3814+L3814,0)","v":425},""]
["6904007","0805023","전력(4kw이상.1년초과)*","사용요금(그밖의 철)","kwh",0.16700000000000001,92.9,{"$f":"TRUNC(F3815*G3815,1)","v":15.5},0,{"$f":"TRUNC(F3815*I3815,1)","v":0},0,{"$f":"TRUNC(F3815*K3815,1)","v":0},{"$f":"TRUNC(G3815+I3815+K3815,1)","v":92.9},{"$f":"TRUNC(H3815+J3815+L3815,0)","v":15},""]
["6905001","0001112","노무비","플렌트용접공","인",0.105,0,{"$f":"TRUNC(F3816*G3816,1)","v":0},240972,{"$f":"TRUNC(F3816*I3816,1)","v":25302},0,{"$f":"TRUNC(F3816*K3816,1)","v":0},{"$f":"TRUNC(G3816+I3816+K3816,1)","v":240972},{"$f":"TRUNC(H3816+J3816+L3816,0)","v":25302},""]
["6905001","M500000","공구손료","노무비의 2%","식",1,null,{"$f":"TRUNC(F3817*G3817,1)","v":0},0,{"$f":"TRUNC(F3817*I3817,1)","v":0},506,{"$f":"TRUNC(F3817*K3817,1)","v":506},{"$f":"TRUNC(G3817+I3817+K3817,1)","v":506},{"$f":"TRUNC(H3817+J3817+L3817,0)","v":506},""]
[null,null,"[ 합           계 ]",{"$nulls":4},{"$f":"TRUNC(SUM(H3814:H3817),0)","v":440},null,{"$f":"TRUNC(SUM(J3814:J3817),0)","v":25302},null,{"$f":"TRUNC(SUM(L3814:L3817),0)","v":506},null,{"$f":"H3818+J3818+L3818","v":26248}]
[]
[null,null,"6904008-1  가스강관용접  D80  개소"]
["6904008","0206002","용접봉(연강용)","∮3.2  CS-200  KSE-4301","kg",0.19,2836,{"$f":"TRUNC(F3821*G3821,1)","v":538.79999999999995},0,{"$f":"TRUNC(F3821*I3821,1)","v":0},0,{"$f":"TRUNC(F3821*K3821,1)","v":0},{"$f":"TRUNC(G3821+I3821+K3821,1)","v":2836},{"$f":"TRUNC(H3821+J3821+L3821,0)","v":538},""]
["6904008","0805023","전력(4kw이상.1년초과)*","사용요금(그밖의 철)","kwh",0.33500000000000002,92.9,{"$f":"TRUNC(F3822*G3822,1)","v":31.1},0,{"$f":"TRUNC(F3822*I3822,1)","v":0},0,{"$f":"TRUNC(F3822*K3822,1)","v":0},{"$f":"TRUNC(G3822+I3822+K3822,1)","v":92.9},{"$f":"TRUNC(H3822+J3822+L3822,0)","v":31},""]
["6905001","0001112","노무비","플렌트용접공","인",0.121,0,{"$f":"TRUNC(F3823*G3823,1)","v":0},240972,{"$f":"TRUNC(F3823*I3823,1)","v":29157.599999999999},0,{"$f":"TRUNC(F3823*K3823,1)","v":0},{"$f":"TRUNC(G3823+I3823+K3823,1)","v":240972},{"$f":"TRUNC(H3823+J3823+L3823,0)","v":29157},""]
["6905001","M500000","공구손료","노무비의 2%","식",1,null,{"$f":"TRUNC(F3824*G3824,1)","v":0},0,{"$f":"TRUNC(F3824*I3824,1)","v":0},583.1,{"$f":"TRUNC(F3824*K3824,1)","v":583.1},{"$f":"TRUNC(G3824+I3824+K3824,1)","v":583.1},{"$f":"TRUNC(H3824+J3824+L3824,0)","v":583},""]
[null,null,"[ 합           계 ]",{"$nulls":4},{"$f":"TRUNC(SUM(H3821:H3824),0)","v":569},null,{"$f":"TRUNC(SUM(J3821:J3824),0)","v":29157},null,{"$f":"TRUNC(SUM(L3821:L3824),0)","v":583},null,{"$f":"H3825+J3825+L3825","v":30309}]
[]
[null,null,"6904009-1  가스강관용접  D100  개소"]
["6904009","0206002","용접봉(연강용)","∮3.2  CS-200  KSE-4301","kg",0.28000000000000003,2836,{"$f":"TRUNC(F3828*G3828,1)","v":794},0,{"$f":"TRUNC(F3828*I3828,1)","v":0},0,{"$f":"TRUNC(F3828*K3828,1)","v":0},{"$f":"TRUNC(G3828+I3828+K3828,1)","v":2836},{"$f":"TRUNC(H3828+J3828+L3828,0)","v":794},""]
["6904009","0805023","전력(4kw이상.1년초과)*","사용요금(그밖의 철)","kwh",0.43,92.9,{"$f":"TRUNC(F3829*G3829,1)","v":39.9},0,{"$f":"TRUNC(F3829*I3829,1)","v":0},0,{"$f":"TRUNC(F3829*K3829,1)","v":0},{"$f":"TRUNC(G3829+I3829+K3829,1)","v":92.9},{"$f":"TRUNC(H3829+J3829+L3829,0)","v":39},""]
["6905001","0001112","노무비","플렌트용접공","인",0.152,0,{"$f":"TRUNC(F3830*G3830,1)","v":0},240972,{"$f":"TRUNC(F3830*I3830,1)","v":36627.699999999997},0,{"$f":"TRUNC(F3830*K3830,1)","v":0},{"$f":"TRUNC(G3830+I3830+K3830,1)","v":240972},{"$f":"TRUNC(H3830+J3830+L3830,0)","v":36627},""]
["6905001","M500000","공구손료","노무비의 2%","식",1,null,{"$f":"TRUNC(F3831*G3831,1)","v":0},0,{"$f":"TRUNC(F3831*I3831,1)","v":0},732.5,{"$f":"TRUNC(F3831*K3831,1)","v":732.5},{"$f":"TRUNC(G3831+I3831+K3831,1)","v":732.5},{"$f":"TRUNC(H3831+J3831+L3831,0)","v":732},""]
[null,null,"[ 합           계 ]",{"$nulls":4},{"$f":"TRUNC(SUM(H3828:H3831),0)","v":833},null,{"$f":"TRUNC(SUM(J3828:J3831),0)","v":36627},null,{"$f":"TRUNC(SUM(L3828:L3831),0)","v":732},null,{"$f":"H3832+J3832+L3832","v":38192}]
[]
[null,null,"6969022  옥내소화전함설치(기존벽체철거후신설:200) 개소당"]
[null,null,"시멘트 벽돌","2급","천매",0.2,70000,{"$f":"TRUNC(F3835*G3835,1)","v":14000},0,{"$f":"TRUNC(F3835*I3835,1)","v":0},0,{"$f":"TRUNC(F3835*K3835,1)","v":0},{"$f":"TRUNC(G3835+I3835+K3835,1)","v":70000},{"$f":"TRUNC(H3835+J3835+L3835,0)","v":14000},""]
[null,null,"1.0B 벽돌 쌓기 3.6m 이하","쌓기몰탈별도","M2",1,null,{"$f":"TRUNC(F3836*G3836,1)","v":0},48144,48144,962,962,49106,{"$f":"TRUNC(H3836+J3836+L3836,0)","v":49106},"건축324호"]
[null,null,"벽돌 기계 소운반","트럭크레인 15TON","천매",0.2,1983,396.6,9827,1965.4,8761,1752.2,20571,4114,"건축317호"]
[null,null,"시멘트 몰탈","배합용적비'1:3","M3",0.2,60500,12100,91271,18254.2,0,0,151771,30354,"건축658호"]
[null,null,"몰탈 바름","3.6m 이하 2회","M2",1.19,null,0,19305,22972.9,386,459.3,19691,23432,"건축671호"]
[null,null,"방수몰탈바름","벽,21mm","M2",2,0,0,22444,44888,448,896,22892,45784,"건축1073호"]
[null,null,"내부 수성페인트칠","로우러칠2회,바탕처리포함","M2",1.19,678,806.8,7057,8397.7999999999993,141,167.7,7876,9372]
[null,null,"벽돌 및 콘크리트 컷팅",null,"M",4.5,941,{"$f":"TRUNC(F3842*G3842,1)","v":4234.5},10055,45247.5,84,378,11080,49860,"건축931호"]
[null,null,"벽돌벽 철거","소형브레이카+공기압축기","M3",0.3,3050,{"$f":"TRUNC(F3843*G3843,1)","v":915},80818,24245.4,732,219.6,84600,25380,"건축926호"]
[null,null,"폐기물처리","건설폐재류","TON",0.3,null,{"$f":"TRUNC(F3844*G3844,1)","v":0},null,0,41951,12585.3,41951,12585,""]
[null,null,"노무비","배관공","인",0.75,null,{"$f":"TRUNC(F3845*G3845,1)","v":0},202212,{"$f":"TRUNC(F3845*I3845,1)","v":151659},null,0,{"$f":"TRUNC(G3845+I3845+K3845,1)","v":202212},151659,""]
[null,null,"공구손료","노무비의 2%","식",1,null,{"$f":"TRUNC(F3846*G3846,1)","v":0},null,null,3033.18,3033.1,null,3033]
[null,null,"[ 합           계 ]",{"$nulls":4},{"$f":"TRUNC(SUM(H3835:H3846),0)","v":32452},null,{"$f":"TRUNC(SUM(J3835:J3846),0)","v":365774},null,{"$f":"TRUNC(SUM(L3835:L3846),0)","v":20453},null,{"$f":"H3847+J3847+L3847","v":418679}]
[]
[null,null,"6969023  옥내소화전함철거후 벽체마감  개소당"]
[null,null,"시멘트 벽돌","2급","천매",0.2,70000,{"$f":"TRUNC(F3850*G3850,1)","v":14000},0,{"$f":"TRUNC(F3850*I3850,1)","v":0},0,{"$f":"TRUNC(F3850*K3850,1)","v":0},{"$f":"TRUNC(G3850+I3850+K3850,1)","v":70000},{"$f":"TRUNC(H3850+J3850+L3850,0)","v":14000},""]
[null,null,"1.0B 벽돌 쌓기 3.6m 이하","쌓기몰탈별도","M2",1,null,0,48144,48144,962,{"$f":"TRUNC(F3851*K3851,1)","v":962},49106,{"$f":"TRUNC(H3851+J3851+L3851,0)","v":49106},"건축324호"]
[null,null,"벽돌 기계 소운반",{"$f":"D3837","v":"트럭크레인 15TON"},"천매",0.2,1983,396.6,9827,1965.4,8761,{"$f":"TRUNC(F3852*K3852,1)","v":1752.2},20571,{"$f":"TRUNC(H3852+J3852+L3852,0)","v":4114},"건축317호"]
[null,null,"시멘트 몰탈","배합용적비'1:3","M3",0.05,60500,3025,91271,4563.5,0,0,151771,7588,"건축658호"]
[null,null,"몰탈 바름","3.6m 이하 2회","M2",1.19,0,0,19305,22972.9,386,459.3,19691,23432,"건축671호"]
[null,null,"방수몰탈바름","벽,20mm이하","M2",2,0,0,22444,44888,448,896,22892,45784,"건축1073호"]
[null,null,"내부 수성페인트칠","로우러칠2회,바탕처리포함","M2",1.19,678,806.8,7057,8397.7999999999993,141,167.7,7876,9372]
[null,null,"벽돌 및 콘크리트 컷팅",null,"M",4.0999999999999996,941,3858.1,10055,41225.5,84,344.4,11080,45428,"건축931호"]
[null,null,"노무비","배관공","인",0.75,null,0,202212,151659,null,{"$f":"TRUNC(F3858*K3858,1)","v":0},202212,{"$f":"TRUNC(H3858+J3858+L3858,0)","v":151659},""]
[null,null,"공구손료","노무비의 2%","식",1,null,0,null,null,3033.18,{"$f":"TRUNC(F3859*K3859,1)","v":3033.1},null,{"$f":"TRUNC(H3859+J3859+L3859,0)","v":3033}]
[null,null,"[ 합           계 ]",{"$nulls":4},{"$f":"TRUNC(SUM(H3848:H3859),0)","v":22086},null,{"$f":"TRUNC(SUM(J3850:J3859),0)","v":323816},null,{"$f":"TRUNC(SUM(L3850:L3859),0)","v":7614},null,{"$f":"H3860+J3860+L3860","v":353516}]
[]
[null,null,"6969024  자분탐상검사 (M.T)    개소"]
["6904009","0805023","노무비","고급품질관리원","인",0.3,null,{"$f":"TRUNC(F3863*G3863,1)","v":0},178915,{"$f":"TRUNC(F3863*I3863,1)","v":53674.5},0,{"$f":"TRUNC(F3863*K3863,1)","v":0},{"$f":"TRUNC(G3863+I3863+K3863,1)","v":178915},{"$f":"TRUNC(H3863+J3863+L3863,0)","v":53674},""]
["6905001","0001112","노무비","초급품질관리원","인",0.15,0,{"$f":"TRUNC(F3864*G3864,1)","v":0},137759,{"$f":"TRUNC(F3864*I3864,1)","v":20663.8},0,{"$f":"TRUNC(F3864*K3864,1)","v":0},{"$f":"TRUNC(G3864+I3864+K3864,1)","v":137759},{"$f":"TRUNC(H3864+J3864+L3864,0)","v":20663},""]
[null,null,"[ 합           계 ]",{"$nulls":4},{"$f":"TRUNC(SUM(H3863:H3864),0)","v":0},null,{"$f":"TRUNC(SUM(J3863:J3864),0)","v":74338},null,{"$f":"TRUNC(SUM(L3863:L3864),0)","v":0},null,{"$f":"H3865+J3865+L3865","v":74338}]
[]
[null,null,"6969201  PVC스리브설치 - 바닥용  D15  개소"]
[null,null,"PVC VG2관","D35","m",0.3,990,{"$f":"TRUNC(F3868*G3868,1)","v":297},0,{"$f":"TRUNC(F3868*I3868,1)","v":0},0,{"$f":"TRUNC(F3868*K3868,1)","v":0},{"$f":"TRUNC(G3868+I3868+K3868,1)","v":990},{"$f":"TRUNC(H3868+J3868+L3868,0)","v":297},""]
[null,null,"노무비","배관공","인",4.2999999999999997E-2,0,{"$f":"TRUNC(F3869*G3869,1)","v":0},202212,{"$f":"TRUNC(F3869*I3869,1)","v":8695.1},0,{"$f":"TRUNC(F3869*K3869,1)","v":0},{"$f":"TRUNC(G3869+I3869+K3869,1)","v":202212},{"$f":"TRUNC(H3869+J3869+L3869,0)","v":8695},""]
[null,null,"노무비","보통인부","인",2.1999999999999999E-2,0,{"$f":"TRUNC(F3870*G3870,1)","v":0},144481,{"$f":"TRUNC(F3870*I3870,1)","v":3178.5},0,{"$f":"TRUNC(F3870*K3870,1)","v":0},{"$f":"TRUNC(G3870+I3870+K3870,1)","v":144481},{"$f":"TRUNC(H3870+J3870+L3870,0)","v":3178},""]
[null,null,"공구손료","노무비의 2%","식",1,null,{"$f":"TRUNC(F3871*G3871,1)","v":0},0,{"$f":"TRUNC(F3871*I3871,1)","v":0},237.4,{"$f":"TRUNC(F3871*K3871,1)","v":237.4},{"$f":"TRUNC(G3871+I3871+K3871,1)","v":237.4},{"$f":"TRUNC(H3871+J3871+L3871,0)","v":237},""]
[null,null,"[ 합           계 ]",{"$nulls":4},{"$f":"TRUNC(SUM(H3868:H3871),0)","v":297},null,{"$f":"TRUNC(SUM(J3868:J3871),0)","v":11873},null,{"$f":"TRUNC(SUM(L3868:L3871),0)","v":237},null,{"$f":"TRUNC(H3872+J3872+L3872,0)","v":12407}]
[]
[null,null,"6969202  PVC스리브설치 - 바닥용  D20  개소"]
[null,null,"PVC VG2관","D35","m",0.3,990,{"$f":"TRUNC(F3875*G3875,1)","v":297},0,{"$f":"TRUNC(F3875*I3875,1)","v":0},0,{"$f":"TRUNC(F3875*K3875,1)","v":0},{"$f":"TRUNC(G3875+I3875+K3875,1)","v":990},{"$f":"TRUNC(H3875+J3875+L3875,0)","v":297},""]
[null,null,"노무비","배관공","인",4.2999999999999997E-2,0,{"$f":"TRUNC(F3876*G3876,1)","v":0},202212,{"$f":"TRUNC(F3876*I3876,1)","v":8695.1},0,{"$f":"TRUNC(F3876*K3876,1)","v":0},{"$f":"TRUNC(G3876+I3876+K3876,1)","v":202212},{"$f":"TRUNC(H3876+J3876+L3876,0)","v":8695},""]
[null,null,"노무비","보통인부","인",2.1999999999999999E-2,0,{"$f":"TRUNC(F3877*G3877,1)","v":0},144481,{"$f":"TRUNC(F3877*I3877,1)","v":3178.5},0,{"$f":"TRUNC(F3877*K3877,1)","v":0},{"$f":"TRUNC(G3877+I3877+K3877,1)","v":144481},{"$f":"TRUNC(H3877+J3877+L3877,0)","v":3178},""]
[null,null,"공구손료","노무비의 2%","식",1,null,{"$f":"TRUNC(F3878*G3878,1)","v":0},0,{"$f":"TRUNC(F3878*I3878,1)","v":0},237.4,{"$f":"TRUNC(F3878*K3878,1)","v":237.4},{"$f":"TRUNC(G3878+I3878+K3878,1)","v":237.4},{"$f":"TRUNC(H3878+J3878+L3878,0)","v":237},""]
[null,null,"[ 합           계 ]",{"$nulls":4},{"$f":"TRUNC(SUM(H3875:H3878),0)","v":297},null,{"$f":"TRUNC(SUM(J3875:J3878),0)","v":11873},null,{"$f":"TRUNC(SUM(L3875:L3878),0)","v":237},null,{"$f":"TRUNC(H3879+J3879+L3879,0)","v":12407}]
[]
[null,null,"6969203  PVC스리브설치 - 바닥용  D25  개소"]
[null,null,"PVC VG2관","D40","m",0.3,1135,{"$f":"TRUNC(F3882*G3882,1)","v":340.5},0,{"$f":"TRUNC(F3882*I3882,1)","v":0},0,{"$f":"TRUNC(F3882*K3882,1)","v":0},{"$f":"TRUNC(G3882+I3882+K3882,1)","v":1135},{"$f":"TRUNC(H3882+J3882+L3882,0)","v":340},""]
[null,null,"노무비","배관공","인",4.2999999999999997E-2,0,{"$f":"TRUNC(F3883*G3883,1)","v":0},202212,{"$f":"TRUNC(F3883*I3883,1)","v":8695.1},0,{"$f":"TRUNC(F3883*K3883,1)","v":0},{"$f":"TRUNC(G3883+I3883+K3883,1)","v":202212},{"$f":"TRUNC(H3883+J3883+L3883,0)","v":8695},""]
[null,null,"노무비","보통인부","인",2.1999999999999999E-2,0,{"$f":"TRUNC(F3884*G3884,1)","v":0},144481,{"$f":"TRUNC(F3884*I3884,1)","v":3178.5},0,{"$f":"TRUNC(F3884*K3884,1)","v":0},{"$f":"TRUNC(G3884+I3884+K3884,1)","v":144481},{"$f":"TRUNC(H3884+J3884+L3884,0)","v":3178},""]
[null,null,"공구손료","노무비의 2%","식",1,null,{"$f":"TRUNC(F3885*G3885,1)","v":0},0,{"$f":"TRUNC(F3885*I3885,1)","v":0},237.4,{"$f":"TRUNC(F3885*K3885,1)","v":237.4},{"$f":"TRUNC(G3885+I3885+K3885,1)","v":237.4},{"$f":"TRUNC(H3885+J3885+L3885,0)","v":237},""]
[null,null,"[ 합           계 ]",{"$nulls":4},{"$f":"TRUNC(SUM(H3882:H3885),0)","v":340},null,{"$f":"TRUNC(SUM(J3882:J3885),0)","v":11873},null,{"$f":"TRUNC(SUM(L3882:L3885),0)","v":237},null,{"$f":"TRUNC(H3886+J3886+L3886,0)","v":12450}]
[]
[null,null,"6969204  PVC스리브설치 - 바닥용  D32  개소"]
[null,null,"PVC VG2관","D50","m",0.3,1430,{"$f":"TRUNC(F3889*G3889,1)","v":429},0,{"$f":"TRUNC(F3889*I3889,1)","v":0},0,{"$f":"TRUNC(F3889*K3889,1)","v":0},{"$f":"TRUNC(G3889+I3889+K3889,1)","v":1430},{"$f":"TRUNC(H3889+J3889+L3889,0)","v":429},""]
[null,null,"노무비","배관공","인",4.2999999999999997E-2,0,{"$f":"TRUNC(F3890*G3890,1)","v":0},202212,{"$f":"TRUNC(F3890*I3890,1)","v":8695.1},0,{"$f":"TRUNC(F3890*K3890,1)","v":0},{"$f":"TRUNC(G3890+I3890+K3890,1)","v":202212},{"$f":"TRUNC(H3890+J3890+L3890,0)","v":8695},""]
[null,null,"노무비","보통인부","인",2.1999999999999999E-2,0,{"$f":"TRUNC(F3891*G3891,1)","v":0},144481,{"$f":"TRUNC(F3891*I3891,1)","v":3178.5},0,{"$f":"TRUNC(F3891*K3891,1)","v":0},{"$f":"TRUNC(G3891+I3891+K3891,1)","v":144481},{"$f":"TRUNC(H3891+J3891+L3891,0)","v":3178},""]
[null,null,"공구손료","노무비의 2%","식",1,null,{"$f":"TRUNC(F3892*G3892,1)","v":0},0,{"$f":"TRUNC(F3892*I3892,1)","v":0},237.4,{"$f":"TRUNC(F3892*K3892,1)","v":237.4},{"$f":"TRUNC(G3892+I3892+K3892,1)","v":237.4},{"$f":"TRUNC(H3892+J3892+L3892,0)","v":237},""]
[null,null,"[ 합           계 ]",{"$nulls":4},{"$f":"TRUNC(SUM(H3889:H3892),0)","v":429},null,{"$f":"TRUNC(SUM(J3889:J3892),0)","v":11873},null,{"$f":"TRUNC(SUM(L3889:L3892),0)","v":237},null,{"$f":"TRUNC(H3893+J3893+L3893,0)","v":12539}]
[]
[null,null,"6969205  PVC스리브설치 - 바닥용  D40  개소"]
[null,null,"PVC VG2관","D50","m",0.3,1430,{"$f":"TRUNC(F3896*G3896,1)","v":429},0,{"$f":"TRUNC(F3896*I3896,1)","v":0},0,{"$f":"TRUNC(F3896*K3896,1)","v":0},{"$f":"TRUNC(G3896+I3896+K3896,1)","v":1430},{"$f":"TRUNC(H3896+J3896+L3896,0)","v":429},""]
[null,null,"노무비","배관공","인",4.2999999999999997E-2,0,{"$f":"TRUNC(F3897*G3897,1)","v":0},202212,{"$f":"TRUNC(F3897*I3897,1)","v":8695.1},0,{"$f":"TRUNC(F3897*K3897,1)","v":0},{"$f":"TRUNC(G3897+I3897+K3897,1)","v":202212},{"$f":"TRUNC(H3897+J3897+L3897,0)","v":8695},""]
[null,null,"노무비","보통인부","인",2.1999999999999999E-2,0,{"$f":"TRUNC(F3898*G3898,1)","v":0},144481,{"$f":"TRUNC(F3898*I3898,1)","v":3178.5},0,{"$f":"TRUNC(F3898*K3898,1)","v":0},{"$f":"TRUNC(G3898+I3898+K3898,1)","v":144481},{"$f":"TRUNC(H3898+J3898+L3898,0)","v":3178},""]
[null,null,"공구손료","노무비의 2%","식",1,null,{"$f":"TRUNC(F3899*G3899,1)","v":0},0,{"$f":"TRUNC(F3899*I3899,1)","v":0},237.4,{"$f":"TRUNC(F3899*K3899,1)","v":237.4},{"$f":"TRUNC(G3899+I3899+K3899,1)","v":237.4},{"$f":"TRUNC(H3899+J3899+L3899,0)","v":237},""]
[null,null,"[ 합           계 ]",{"$nulls":4},{"$f":"TRUNC(SUM(H3896:H3899),0)","v":429},null,{"$f":"TRUNC(SUM(J3896:J3899),0)","v":11873},null,{"$f":"TRUNC(SUM(L3896:L3899),0)","v":237},null,{"$f":"TRUNC(H3900+J3900+L3900,0)","v":12539}]
[]
[null,null,"6969206  PVC스리브설치 - 바닥용  D50  개소"]
[null,null,"PVC VG2관","D75","m",0.3,3192,{"$f":"TRUNC(F3903*G3903,1)","v":957.6},0,{"$f":"TRUNC(F3903*I3903,1)","v":0},0,{"$f":"TRUNC(F3903*K3903,1)","v":0},{"$f":"TRUNC(G3903+I3903+K3903,1)","v":3192},{"$f":"TRUNC(H3903+J3903+L3903,0)","v":957},""]
[null,null,"노무비","배관공","인",4.2999999999999997E-2,0,{"$f":"TRUNC(F3904*G3904,1)","v":0},202212,{"$f":"TRUNC(F3904*I3904,1)","v":8695.1},0,{"$f":"TRUNC(F3904*K3904,1)","v":0},{"$f":"TRUNC(G3904+I3904+K3904,1)","v":202212},{"$f":"TRUNC(H3904+J3904+L3904,0)","v":8695},""]
[null,null,"노무비","보통인부","인",2.1999999999999999E-2,0,{"$f":"TRUNC(F3905*G3905,1)","v":0},144481,{"$f":"TRUNC(F3905*I3905,1)","v":3178.5},0,{"$f":"TRUNC(F3905*K3905,1)","v":0},{"$f":"TRUNC(G3905+I3905+K3905,1)","v":144481},{"$f":"TRUNC(H3905+J3905+L3905,0)","v":3178},""]
[null,null,"공구손료","노무비의 2%","식",1,null,{"$f":"TRUNC(F3906*G3906,1)","v":0},0,{"$f":"TRUNC(F3906*I3906,1)","v":0},237.4,{"$f":"TRUNC(F3906*K3906,1)","v":237.4},{"$f":"TRUNC(G3906+I3906+K3906,1)","v":237.4},{"$f":"TRUNC(H3906+J3906+L3906,0)","v":237},""]
[null,null,"[ 합           계 ]",{"$nulls":4},{"$f":"TRUNC(SUM(H3903:H3906),0)","v":957},null,{"$f":"TRUNC(SUM(J3903:J3906),0)","v":11873},null,{"$f":"TRUNC(SUM(L3903:L3906),0)","v":237},null,{"$f":"TRUNC(H3907+J3907+L3907,0)","v":13067}]
[]
[null,null,"6969207  PVC스리브설치 - 바닥용  D65  개소"]
[null,null,"PVC VG2관","D75","m",0.3,3192,{"$f":"TRUNC(F3910*G3910,1)","v":957.6},0,{"$f":"TRUNC(F3910*I3910,1)","v":0},0,{"$f":"TRUNC(F3910*K3910,1)","v":0},{"$f":"TRUNC(G3910+I3910+K3910,1)","v":3192},{"$f":"TRUNC(H3910+J3910+L3910,0)","v":957},""]
[null,null,"노무비","배관공","인",5.5000000000000007E-2,0,{"$f":"TRUNC(F3911*G3911,1)","v":0},202212,{"$f":"TRUNC(F3911*I3911,1)","v":11121.6},0,{"$f":"TRUNC(F3911*K3911,1)","v":0},{"$f":"TRUNC(G3911+I3911+K3911,1)","v":202212},{"$f":"TRUNC(H3911+J3911+L3911,0)","v":11121},""]
[null,null,"노무비","보통인부","인",2.9000000000000005E-2,0,{"$f":"TRUNC(F3912*G3912,1)","v":0},144481,{"$f":"TRUNC(F3912*I3912,1)","v":4189.8999999999996},0,{"$f":"TRUNC(F3912*K3912,1)","v":0},{"$f":"TRUNC(G3912+I3912+K3912,1)","v":144481},{"$f":"TRUNC(H3912+J3912+L3912,0)","v":4189},""]
[null,null,"공구손료","노무비의 2%","식",1,null,{"$f":"TRUNC(F3913*G3913,1)","v":0},0,{"$f":"TRUNC(F3913*I3913,1)","v":0},306.2,{"$f":"TRUNC(F3913*K3913,1)","v":306.2},{"$f":"TRUNC(G3913+I3913+K3913,1)","v":306.2},{"$f":"TRUNC(H3913+J3913+L3913,0)","v":306},""]
[null,null,"[ 합           계 ]",{"$nulls":4},{"$f":"TRUNC(SUM(H3910:H3913),0)","v":957},null,{"$f":"TRUNC(SUM(J3910:J3913),0)","v":15311},null,{"$f":"TRUNC(SUM(L3910:L3913),0)","v":306},null,{"$f":"TRUNC(H3914+J3914+L3914,0)","v":16574}]
[]
[null,null,"6969208  PVC스리브설치 - 바닥용  D80  개소"]
[null,null,"PVC VG2관","D100","m",0.3,4772,{"$f":"TRUNC(F3917*G3917,1)","v":1431.6},0,{"$f":"TRUNC(F3917*I3917,1)","v":0},0,{"$f":"TRUNC(F3917*K3917,1)","v":0},{"$f":"TRUNC(G3917+I3917+K3917,1)","v":4772},{"$f":"TRUNC(H3917+J3917+L3917,0)","v":1431},""]
[null,null,"노무비","배관공","인",5.5000000000000007E-2,0,{"$f":"TRUNC(F3918*G3918,1)","v":0},202212,{"$f":"TRUNC(F3918*I3918,1)","v":11121.6},0,{"$f":"TRUNC(F3918*K3918,1)","v":0},{"$f":"TRUNC(G3918+I3918+K3918,1)","v":202212},{"$f":"TRUNC(H3918+J3918+L3918,0)","v":11121},""]
[null,null,"노무비","보통인부","인",2.9000000000000005E-2,0,{"$f":"TRUNC(F3919*G3919,1)","v":0},144481,{"$f":"TRUNC(F3919*I3919,1)","v":4189.8999999999996},0,{"$f":"TRUNC(F3919*K3919,1)","v":0},{"$f":"TRUNC(G3919+I3919+K3919,1)","v":144481},{"$f":"TRUNC(H3919+J3919+L3919,0)","v":4189},""]
[null,null,"공구손료","노무비의 2%","식",1,null,{"$f":"TRUNC(F3920*G3920,1)","v":0},0,{"$f":"TRUNC(F3920*I3920,1)","v":0},306.2,{"$f":"TRUNC(F3920*K3920,1)","v":306.2},{"$f":"TRUNC(G3920+I3920+K3920,1)","v":306.2},{"$f":"TRUNC(H3920+J3920+L3920,0)","v":306},""]
[null,null,"[ 합           계 ]",{"$nulls":4},{"$f":"TRUNC(SUM(H3917:H3920),0)","v":1431},null,{"$f":"TRUNC(SUM(J3917:J3920),0)","v":15311},null,{"$f":"TRUNC(SUM(L3917:L3920),0)","v":306},null,{"$f":"TRUNC(H3921+J3921+L3921,0)","v":17048}]
[]
[null,null,"6969209  PVC스리브설치 - 바닥용  D100  개소"]
[null,null,"PVC VG2관","D125","m",0.3,7530,{"$f":"TRUNC(F3924*G3924,1)","v":2259},0,{"$f":"TRUNC(F3924*I3924,1)","v":0},0,{"$f":"TRUNC(F3924*K3924,1)","v":0},{"$f":"TRUNC(G3924+I3924+K3924,1)","v":7530},{"$f":"TRUNC(H3924+J3924+L3924,0)","v":2259},""]
[null,null,"노무비","배관공","인",5.5000000000000007E-2,null,{"$f":"TRUNC(F3925*G3925,1)","v":0},202212,{"$f":"TRUNC(F3925*I3925,1)","v":11121.6},0,{"$f":"TRUNC(F3925*K3925,1)","v":0},{"$f":"TRUNC(G3925+I3925+K3925,1)","v":202212},{"$f":"TRUNC(H3925+J3925+L3925,0)","v":11121},""]
[null,null,"노무비","보통인부","인",2.9000000000000005E-2,0,{"$f":"TRUNC(F3926*G3926,1)","v":0},144481,{"$f":"TRUNC(F3926*I3926,1)","v":4189.8999999999996},0,{"$f":"TRUNC(F3926*K3926,1)","v":0},{"$f":"TRUNC(G3926+I3926+K3926,1)","v":144481},{"$f":"TRUNC(H3926+J3926+L3926,0)","v":4189},""]
[null,null,"공구손료","노무비의 2%","식",1,null,{"$f":"TRUNC(F3927*G3927,1)","v":0},0,{"$f":"TRUNC(F3927*I3927,1)","v":0},306.2,{"$f":"TRUNC(F3927*K3927,1)","v":306.2},{"$f":"TRUNC(G3927+I3927+K3927,1)","v":306.2},{"$f":"TRUNC(H3927+J3927+L3927,0)","v":306},""]
[null,null,"[ 합           계 ]",{"$nulls":4},{"$f":"TRUNC(SUM(H3924:H3927),0)","v":2259},null,{"$f":"TRUNC(SUM(J3924:J3927),0)","v":15311},null,{"$f":"TRUNC(SUM(L3924:L3927),0)","v":306},null,{"$f":"TRUNC(H3928+J3928+L3928,0)","v":17876}]
[]
[null,null,"6969210  PVC스리브설치 - 바닥용  D125  개소"]
[null,null,"PVC VG2관","D150","m",0.3,10827,{"$f":"TRUNC(F3931*G3931,1)","v":3248.1},0,{"$f":"TRUNC(F3931*I3931,1)","v":0},0,{"$f":"TRUNC(F3931*K3931,1)","v":0},{"$f":"TRUNC(G3931+I3931+K3931,1)","v":10827},{"$f":"TRUNC(H3931+J3931+L3931,0)","v":3248},""]
[null,null,"노무비","배관공","인",6.6000000000000003E-2,0,{"$f":"TRUNC(F3932*G3932,1)","v":0},202212,{"$f":"TRUNC(F3932*I3932,1)","v":13345.9},0,{"$f":"TRUNC(F3932*K3932,1)","v":0},{"$f":"TRUNC(G3932+I3932+K3932,1)","v":202212},{"$f":"TRUNC(H3932+J3932+L3932,0)","v":13345},""]
[null,null,"노무비","보통인부","인",3.5000000000000003E-2,0,{"$f":"TRUNC(F3933*G3933,1)","v":0},144481,{"$f":"TRUNC(F3933*I3933,1)","v":5056.8},0,{"$f":"TRUNC(F3933*K3933,1)","v":0},{"$f":"TRUNC(G3933+I3933+K3933,1)","v":144481},{"$f":"TRUNC(H3933+J3933+L3933,0)","v":5056},""]
[null,null,"공구손료","노무비의 2%","식",1,null,{"$f":"TRUNC(F3934*G3934,1)","v":0},0,{"$f":"TRUNC(F3934*I3934,1)","v":0},368,{"$f":"TRUNC(F3934*K3934,1)","v":368},{"$f":"TRUNC(G3934+I3934+K3934,1)","v":368},{"$f":"TRUNC(H3934+J3934+L3934,0)","v":368},""]
[null,null,"[ 합           계 ]",{"$nulls":4},{"$f":"TRUNC(SUM(H3931:H3934),0)","v":3248},null,{"$f":"TRUNC(SUM(J3931:J3934),0)","v":18402},null,{"$f":"TRUNC(SUM(L3931:L3934),0)","v":368},null,{"$f":"TRUNC(H3935+J3935+L3935,0)","v":22018}]
[]
[null,null,"6969211  PVC스리브설치 - 바닥용  D150  개소"]
[null,null,"PVC VG2관","D200","m",0.3,18057,{"$f":"TRUNC(F3938*G3938,1)","v":5417.1},0,{"$f":"TRUNC(F3938*I3938,1)","v":0},0,{"$f":"TRUNC(F3938*K3938,1)","v":0},{"$f":"TRUNC(G3938+I3938+K3938,1)","v":18057},{"$f":"TRUNC(H3938+J3938+L3938,0)","v":5417},""]
[null,null,"노무비","배관공","인",6.6000000000000003E-2,0,{"$f":"TRUNC(F3939*G3939,1)","v":0},202212,{"$f":"TRUNC(F3939*I3939,1)","v":13345.9},0,{"$f":"TRUNC(F3939*K3939,1)","v":0},{"$f":"TRUNC(G3939+I3939+K3939,1)","v":202212},{"$f":"TRUNC(H3939+J3939+L3939,0)","v":13345},""]
[null,null,"노무비","보통인부","인",3.5000000000000003E-2,0,{"$f":"TRUNC(F3940*G3940,1)","v":0},144481,{"$f":"TRUNC(F3940*I3940,1)","v":5056.8},0,{"$f":"TRUNC(F3940*K3940,1)","v":0},{"$f":"TRUNC(G3940+I3940+K3940,1)","v":144481},{"$f":"TRUNC(H3940+J3940+L3940,0)","v":5056},""]
[null,null,"공구손료","노무비의 2%","식",1,null,{"$f":"TRUNC(F3941*G3941,1)","v":0},0,{"$f":"TRUNC(F3941*I3941,1)","v":0},368,{"$f":"TRUNC(F3941*K3941,1)","v":368},{"$f":"TRUNC(G3941+I3941+K3941,1)","v":368},{"$f":"TRUNC(H3941+J3941+L3941,0)","v":368},""]
[null,null,"[ 합           계 ]",{"$nulls":4},{"$f":"TRUNC(SUM(H3938:H3941),0)","v":5417},null,{"$f":"TRUNC(SUM(J3938:J3941),0)","v":18402},null,{"$f":"TRUNC(SUM(L3938:L3941),0)","v":368},null,{"$f":"TRUNC(H3942+J3942+L3942,0)","v":24187}]
[]
[null,null,"6969212  PVC스리브설치 - 바닥용  D200  개소"]
[null,null,"PVC VG2관","D250","m",0.3,26820,{"$f":"TRUNC(F3945*G3945,1)","v":8046},0,{"$f":"TRUNC(F3945*I3945,1)","v":0},0,{"$f":"TRUNC(F3945*K3945,1)","v":0},{"$f":"TRUNC(G3945+I3945+K3945,1)","v":26820},{"$f":"TRUNC(H3945+J3945+L3945,0)","v":8046},""]
[null,null,"노무비","배관공","인",7.6999999999999999E-2,0,{"$f":"TRUNC(F3946*G3946,1)","v":0},202212,{"$f":"TRUNC(F3946*I3946,1)","v":15570.3},0,{"$f":"TRUNC(F3946*K3946,1)","v":0},{"$f":"TRUNC(G3946+I3946+K3946,1)","v":202212},{"$f":"TRUNC(H3946+J3946+L3946,0)","v":15570},""]
[null,null,"노무비","보통인부","인",4.1000000000000002E-2,0,{"$f":"TRUNC(F3947*G3947,1)","v":0},144481,{"$f":"TRUNC(F3947*I3947,1)","v":5923.7},0,{"$f":"TRUNC(F3947*K3947,1)","v":0},{"$f":"TRUNC(G3947+I3947+K3947,1)","v":144481},{"$f":"TRUNC(H3947+J3947+L3947,0)","v":5923},""]
[null,null,"공구손료","노무비의 2%","식",1,null,{"$f":"TRUNC(F3948*G3948,1)","v":0},0,{"$f":"TRUNC(F3948*I3948,1)","v":0},429.8,{"$f":"TRUNC(F3948*K3948,1)","v":429.8},{"$f":"TRUNC(G3948+I3948+K3948,1)","v":429.8},{"$f":"TRUNC(H3948+J3948+L3948,0)","v":429},""]
[null,null,"[ 합           계 ]",{"$nulls":4},{"$f":"TRUNC(SUM(H3945:H3948),0)","v":8046},null,{"$f":"TRUNC(SUM(J3945:J3948),0)","v":21494},null,{"$f":"TRUNC(SUM(L3945:L3948),0)","v":429},null,{"$f":"TRUNC(H3949+J3949+L3949,0)","v":29969}]
[]
[null,null,"6969213  PVC스리브설치 - 바닥용 D250  개소"]
[null,null,"PVC VG2관","D300","m",0.3,37652,{"$f":"TRUNC(F3952*G3952,1)","v":11295.6},0,{"$f":"TRUNC(F3952*I3952,1)","v":0},0,{"$f":"TRUNC(F3952*K3952,1)","v":0},{"$f":"TRUNC(G3952+I3952+K3952,1)","v":37652},{"$f":"TRUNC(H3952+J3952+L3952,0)","v":11295},""]
[null,null,"노무비","배관공","인",7.6999999999999999E-2,0,{"$f":"TRUNC(F3953*G3953,1)","v":0},202212,{"$f":"TRUNC(F3953*I3953,1)","v":15570.3},0,{"$f":"TRUNC(F3953*K3953,1)","v":0},{"$f":"TRUNC(G3953+I3953+K3953,1)","v":202212},{"$f":"TRUNC(H3953+J3953+L3953,0)","v":15570},""]
[null,null,"노무비","보통인부","인",4.1000000000000002E-2,0,{"$f":"TRUNC(F3954*G3954,1)","v":0},144481,{"$f":"TRUNC(F3954*I3954,1)","v":5923.7},0,{"$f":"TRUNC(F3954*K3954,1)","v":0},{"$f":"TRUNC(G3954+I3954+K3954,1)","v":144481},{"$f":"TRUNC(H3954+J3954+L3954,0)","v":5923},""]
[null,null,"공구손료","노무비의 2%","식",1,null,{"$f":"TRUNC(F3955*G3955,1)","v":0},0,{"$f":"TRUNC(F3955*I3955,1)","v":0},429.8,{"$f":"TRUNC(F3955*K3955,1)","v":429.8},{"$f":"TRUNC(G3955+I3955+K3955,1)","v":429.8},{"$f":"TRUNC(H3955+J3955+L3955,0)","v":429},""]
[null,null,"[ 합           계 ]",{"$nulls":4},{"$f":"TRUNC(SUM(H3952:H3955),0)","v":11295},null,{"$f":"TRUNC(SUM(J3952:J3955),0)","v":21494},null,{"$f":"TRUNC(SUM(L3952:L3955),0)","v":429},null,{"$f":"TRUNC(H3956+J3956+L3956,0)","v":33218}]
[]
[null,null,"6969214  PVC스리브설치 - 바닥용  D300  개소"]
[null,null,"PVC VG2관","D300","m",0.3,37652,{"$f":"TRUNC(F3959*G3959,1)","v":11295.6},0,{"$f":"TRUNC(F3959*I3959,1)","v":0},0,{"$f":"TRUNC(F3959*K3959,1)","v":0},{"$f":"TRUNC(G3959+I3959+K3959,1)","v":37652},{"$f":"TRUNC(H3959+J3959+L3959,0)","v":11295},""]
[null,null,"노무비","배관공","인",8.8999999999999996E-2,0,{"$f":"TRUNC(F3960*G3960,1)","v":0},202212,{"$f":"TRUNC(F3960*I3960,1)","v":17996.8},0,{"$f":"TRUNC(F3960*K3960,1)","v":0},{"$f":"TRUNC(G3960+I3960+K3960,1)","v":202212},{"$f":"TRUNC(H3960+J3960+L3960,0)","v":17996},""]
[null,null,"노무비","보통인부","인",4.7E-2,0,{"$f":"TRUNC(F3961*G3961,1)","v":0},144481,{"$f":"TRUNC(F3961*I3961,1)","v":6790.6},0,{"$f":"TRUNC(F3961*K3961,1)","v":0},{"$f":"TRUNC(G3961+I3961+K3961,1)","v":144481},{"$f":"TRUNC(H3961+J3961+L3961,0)","v":6790},""]
[null,null,"공구손료","노무비의 2%","식",1,null,{"$f":"TRUNC(F3962*G3962,1)","v":0},0,{"$f":"TRUNC(F3962*I3962,1)","v":0},495.7,{"$f":"TRUNC(F3962*K3962,1)","v":495.7},{"$f":"TRUNC(G3962+I3962+K3962,1)","v":495.7},{"$f":"TRUNC(H3962+J3962+L3962,0)","v":495},""]
[null,null,"[ 합           계 ]",{"$nulls":4},{"$f":"TRUNC(SUM(H3959:H3962),0)","v":11295},null,{"$f":"TRUNC(SUM(J3959:J3962),0)","v":24787},null,{"$f":"TRUNC(SUM(L3959:L3962),0)","v":495},null,{"$f":"TRUNC(H3963+J3963+L3963,0)","v":36577}]
[]
[null,null,"6969215  PVC스리브설치 - 벽체용  D15  개소"]
[null,null,"PVC VG2관","D35","m",0.3,990,{"$f":"TRUNC(F3966*G3966,1)","v":297},0,{"$f":"TRUNC(F3966*I3966,1)","v":0},0,{"$f":"TRUNC(F3966*K3966,1)","v":0},{"$f":"TRUNC(G3966+I3966+K3966,1)","v":990},{"$f":"TRUNC(H3966+J3966+L3966,0)","v":297},""]
[null,null,"노무비","배관공","인",0.06,0,{"$f":"TRUNC(F3967*G3967,1)","v":0},202212,{"$f":"TRUNC(F3967*I3967,1)","v":12132.7},0,{"$f":"TRUNC(F3967*K3967,1)","v":0},{"$f":"TRUNC(G3967+I3967+K3967,1)","v":202212},{"$f":"TRUNC(H3967+J3967+L3967,0)","v":12132},""]
[null,null,"노무비","보통인부","인",1.2E-2,0,{"$f":"TRUNC(F3968*G3968,1)","v":0},144481,{"$f":"TRUNC(F3968*I3968,1)","v":1733.7},0,{"$f":"TRUNC(F3968*K3968,1)","v":0},{"$f":"TRUNC(G3968+I3968+K3968,1)","v":144481},{"$f":"TRUNC(H3968+J3968+L3968,0)","v":1733},""]
[null,null,"공구손료","노무비의 2%","식",1,null,{"$f":"TRUNC(F3969*G3969,1)","v":0},0,{"$f":"TRUNC(F3969*I3969,1)","v":0},277.3,{"$f":"TRUNC(F3969*K3969,1)","v":277.3},{"$f":"TRUNC(G3969+I3969+K3969,1)","v":277.3},{"$f":"TRUNC(H3969+J3969+L3969,0)","v":277},""]
[null,null,"[ 합           계 ]",{"$nulls":4},{"$f":"TRUNC(SUM(H3966:H3969),0)","v":297},null,{"$f":"TRUNC(SUM(J3966:J3969),0)","v":13866},null,{"$f":"TRUNC(SUM(L3966:L3969),0)","v":277},null,{"$f":"TRUNC(H3970+J3970+L3970,0)","v":14440}]
[]
[null,null,"6969216  PVC스리브설치 - 벽체용  D20  개소"]
[null,null,"PVC VG2관","D35","m",0.3,990,{"$f":"TRUNC(F3973*G3973,1)","v":297},0,{"$f":"TRUNC(F3973*I3973,1)","v":0},0,{"$f":"TRUNC(F3973*K3973,1)","v":0},{"$f":"TRUNC(G3973+I3973+K3973,1)","v":990},{"$f":"TRUNC(H3973+J3973+L3973,0)","v":297},""]
[null,null,"노무비","배관공","인",0.06,0,{"$f":"TRUNC(F3974*G3974,1)","v":0},202212,{"$f":"TRUNC(F3974*I3974,1)","v":12132.7},0,{"$f":"TRUNC(F3974*K3974,1)","v":0},{"$f":"TRUNC(G3974+I3974+K3974,1)","v":202212},{"$f":"TRUNC(H3974+J3974+L3974,0)","v":12132},""]
[null,null,"노무비","보통인부","인",1.2E-2,0,{"$f":"TRUNC(F3975*G3975,1)","v":0},144481,{"$f":"TRUNC(F3975*I3975,1)","v":1733.7},0,{"$f":"TRUNC(F3975*K3975,1)","v":0},{"$f":"TRUNC(G3975+I3975+K3975,1)","v":144481},{"$f":"TRUNC(H3975+J3975+L3975,0)","v":1733},""]
[null,null,"공구손료","노무비의 2%","식",1,null,{"$f":"TRUNC(F3976*G3976,1)","v":0},0,{"$f":"TRUNC(F3976*I3976,1)","v":0},277.3,{"$f":"TRUNC(F3976*K3976,1)","v":277.3},{"$f":"TRUNC(G3976+I3976+K3976,1)","v":277.3},{"$f":"TRUNC(H3976+J3976+L3976,0)","v":277},""]
[null,null,"[ 합           계 ]",{"$nulls":4},{"$f":"TRUNC(SUM(H3973:H3976),0)","v":297},null,{"$f":"TRUNC(SUM(J3973:J3976),0)","v":13866},null,{"$f":"TRUNC(SUM(L3973:L3976),0)","v":277},null,{"$f":"TRUNC(H3977+J3977+L3977,0)","v":14440}]
[]
[null,null,"6969217  PVC스리브설치 - 벽체용  D25  개소"]
[null,null,"PVC VG2관","D40","m",0.3,1135,{"$f":"TRUNC(F3980*G3980,1)","v":340.5},0,{"$f":"TRUNC(F3980*I3980,1)","v":0},0,{"$f":"TRUNC(F3980*K3980,1)","v":0},{"$f":"TRUNC(G3980+I3980+K3980,1)","v":1135},{"$f":"TRUNC(H3980+J3980+L3980,0)","v":340},""]
[null,null,"노무비","배관공","인",0.06,0,{"$f":"TRUNC(F3981*G3981,1)","v":0},202212,{"$f":"TRUNC(F3981*I3981,1)","v":12132.7},0,{"$f":"TRUNC(F3981*K3981,1)","v":0},{"$f":"TRUNC(G3981+I3981+K3981,1)","v":202212},{"$f":"TRUNC(H3981+J3981+L3981,0)","v":12132},""]
[null,null,"노무비","보통인부","인",1.2E-2,0,{"$f":"TRUNC(F3982*G3982,1)","v":0},144481,{"$f":"TRUNC(F3982*I3982,1)","v":1733.7},0,{"$f":"TRUNC(F3982*K3982,1)","v":0},{"$f":"TRUNC(G3982+I3982+K3982,1)","v":144481},{"$f":"TRUNC(H3982+J3982+L3982,0)","v":1733},""]
[null,null,"공구손료","노무비의 2%","식",1,null,{"$f":"TRUNC(F3983*G3983,1)","v":0},0,{"$f":"TRUNC(F3983*I3983,1)","v":0},277.3,{"$f":"TRUNC(F3983*K3983,1)","v":277.3},{"$f":"TRUNC(G3983+I3983+K3983,1)","v":277.3},{"$f":"TRUNC(H3983+J3983+L3983,0)","v":277},""]
[null,null,"[ 합           계 ]",{"$nulls":4},{"$f":"TRUNC(SUM(H3980:H3983),0)","v":340},null,{"$f":"TRUNC(SUM(J3980:J3983),0)","v":13866},null,{"$f":"TRUNC(SUM(L3980:L3983),0)","v":277},null,{"$f":"TRUNC(H3984+J3984+L3984,0)","v":14483}]
[]
[null,null,"6969218  PVC스리브설치 - 벽체용  D32  개소"]
[null,null,"PVC VG2관","D50","m",0.3,1430,{"$f":"TRUNC(F3987*G3987,1)","v":429},0,{"$f":"TRUNC(F3987*I3987,1)","v":0},0,{"$f":"TRUNC(F3987*K3987,1)","v":0},{"$f":"TRUNC(G3987+I3987+K3987,1)","v":1430},{"$f":"TRUNC(H3987+J3987+L3987,0)","v":429},""]
[null,null,"노무비","배관공","인",0.06,0,{"$f":"TRUNC(F3988*G3988,1)","v":0},202212,{"$f":"TRUNC(F3988*I3988,1)","v":12132.7},0,{"$f":"TRUNC(F3988*K3988,1)","v":0},{"$f":"TRUNC(G3988+I3988+K3988,1)","v":202212},{"$f":"TRUNC(H3988+J3988+L3988,0)","v":12132},""]
[null,null,"노무비","보통인부","인",1.2E-2,0,{"$f":"TRUNC(F3989*G3989,1)","v":0},144481,{"$f":"TRUNC(F3989*I3989,1)","v":1733.7},0,{"$f":"TRUNC(F3989*K3989,1)","v":0},{"$f":"TRUNC(G3989+I3989+K3989,1)","v":144481},{"$f":"TRUNC(H3989+J3989+L3989,0)","v":1733},""]
[null,null,"공구손료","노무비의 2%","식",1,null,{"$f":"TRUNC(F3990*G3990,1)","v":0},0,{"$f":"TRUNC(F3990*I3990,1)","v":0},277.3,{"$f":"TRUNC(F3990*K3990,1)","v":277.3},{"$f":"TRUNC(G3990+I3990+K3990,1)","v":277.3},{"$f":"TRUNC(H3990+J3990+L3990,0)","v":277},""]
[null,null,"[ 합           계 ]",{"$nulls":4},{"$f":"TRUNC(SUM(H3987:H3990),0)","v":429},null,{"$f":"TRUNC(SUM(J3987:J3990),0)","v":13866},null,{"$f":"TRUNC(SUM(L3987:L3990),0)","v":277},null,{"$f":"TRUNC(H3991+J3991+L3991,0)","v":14572}]
[]
[null,null,"6969219  PVC스리브설치 - 벽체용  D40  개소"]
[null,null,"PVC VG2관","D50","m",0.3,1430,{"$f":"TRUNC(F3994*G3994,1)","v":429},0,{"$f":"TRUNC(F3994*I3994,1)","v":0},0,{"$f":"TRUNC(F3994*K3994,1)","v":0},{"$f":"TRUNC(G3994+I3994+K3994,1)","v":1430},{"$f":"TRUNC(H3994+J3994+L3994,0)","v":429},""]
[null,null,"노무비","배관공","인",0.06,0,{"$f":"TRUNC(F3995*G3995,1)","v":0},202212,{"$f":"TRUNC(F3995*I3995,1)","v":12132.7},0,{"$f":"TRUNC(F3995*K3995,1)","v":0},{"$f":"TRUNC(G3995+I3995+K3995,1)","v":202212},{"$f":"TRUNC(H3995+J3995+L3995,0)","v":12132},""]
[null,null,"노무비","보통인부","인",1.2E-2,0,{"$f":"TRUNC(F3996*G3996,1)","v":0},144481,{"$f":"TRUNC(F3996*I3996,1)","v":1733.7},0,{"$f":"TRUNC(F3996*K3996,1)","v":0},{"$f":"TRUNC(G3996+I3996+K3996,1)","v":144481},{"$f":"TRUNC(H3996+J3996+L3996,0)","v":1733},""]
[null,null,"공구손료","노무비의 2%","식",1,null,{"$f":"TRUNC(F3997*G3997,1)","v":0},0,{"$f":"TRUNC(F3997*I3997,1)","v":0},277.3,{"$f":"TRUNC(F3997*K3997,1)","v":277.3},{"$f":"TRUNC(G3997+I3997+K3997,1)","v":277.3},{"$f":"TRUNC(H3997+J3997+L3997,0)","v":277},""]
[null,null,"[ 합           계 ]",{"$nulls":4},{"$f":"TRUNC(SUM(H3994:H3997),0)","v":429},null,{"$f":"TRUNC(SUM(J3994:J3997),0)","v":13866},null,{"$f":"TRUNC(SUM(L3994:L3997),0)","v":277},null,{"$f":"TRUNC(H3998+J3998+L3998,0)","v":14572}]
[]
[null,null,"6969220  PVC스리브설치 - 벽체용  D50  개소"]
[null,null,"PVC VG2관","D75","m",0.3,3192,{"$f":"TRUNC(F4001*G4001,1)","v":957.6},0,{"$f":"TRUNC(F4001*I4001,1)","v":0},0,{"$f":"TRUNC(F4001*K4001,1)","v":0},{"$f":"TRUNC(G4001+I4001+K4001,1)","v":3192},{"$f":"TRUNC(H4001+J4001+L4001,0)","v":957},""]
[null,null,"노무비","배관공","인",0.06,0,{"$f":"TRUNC(F4002*G4002,1)","v":0},202212,{"$f":"TRUNC(F4002*I4002,1)","v":12132.7},0,{"$f":"TRUNC(F4002*K4002,1)","v":0},{"$f":"TRUNC(G4002+I4002+K4002,1)","v":202212},{"$f":"TRUNC(H4002+J4002+L4002,0)","v":12132},""]
[null,null,"노무비","보통인부","인",1.2E-2,0,{"$f":"TRUNC(F4003*G4003,1)","v":0},144481,{"$f":"TRUNC(F4003*I4003,1)","v":1733.7},0,{"$f":"TRUNC(F4003*K4003,1)","v":0},{"$f":"TRUNC(G4003+I4003+K4003,1)","v":144481},{"$f":"TRUNC(H4003+J4003+L4003,0)","v":1733},""]
[null,null,"공구손료","노무비의 2%","식",1,null,{"$f":"TRUNC(F4004*G4004,1)","v":0},0,{"$f":"TRUNC(F4004*I4004,1)","v":0},277.3,{"$f":"TRUNC(F4004*K4004,1)","v":277.3},{"$f":"TRUNC(G4004+I4004+K4004,1)","v":277.3},{"$f":"TRUNC(H4004+J4004+L4004,0)","v":277},""]
[null,null,"[ 합           계 ]",{"$nulls":4},{"$f":"TRUNC(SUM(H4001:H4004),0)","v":957},null,{"$f":"TRUNC(SUM(J4001:J4004),0)","v":13866},null,{"$f":"TRUNC(SUM(L4001:L4004),0)","v":277},null,{"$f":"TRUNC(H4005+J4005+L4005,0)","v":15100}]
[]
[null,null,"6969221  PVC스리브설치 - 벽체용  D65  개소"]
[null,null,"PVC VG2관","D75","m",0.3,3192,{"$f":"TRUNC(F4008*G4008,1)","v":957.6},0,{"$f":"TRUNC(F4008*I4008,1)","v":0},0,{"$f":"TRUNC(F4008*K4008,1)","v":0},{"$f":"TRUNC(G4008+I4008+K4008,1)","v":3192},{"$f":"TRUNC(H4008+J4008+L4008,0)","v":957},""]
[null,null,"노무비","배관공","인",6.9000000000000006E-2,0,{"$f":"TRUNC(F4009*G4009,1)","v":0},202212,{"$f":"TRUNC(F4009*I4009,1)","v":13952.6},0,{"$f":"TRUNC(F4009*K4009,1)","v":0},{"$f":"TRUNC(G4009+I4009+K4009,1)","v":202212},{"$f":"TRUNC(H4009+J4009+L4009,0)","v":13952},""]
[null,null,"노무비","보통인부","인",1.7999999999999999E-2,0,{"$f":"TRUNC(F4010*G4010,1)","v":0},144481,{"$f":"TRUNC(F4010*I4010,1)","v":2600.6},0,{"$f":"TRUNC(F4010*K4010,1)","v":0},{"$f":"TRUNC(G4010+I4010+K4010,1)","v":144481},{"$f":"TRUNC(H4010+J4010+L4010,0)","v":2600},""]
[null,null,"공구손료","노무비의 2%","식",1,null,{"$f":"TRUNC(F4011*G4011,1)","v":0},0,{"$f":"TRUNC(F4011*I4011,1)","v":0},331,{"$f":"TRUNC(F4011*K4011,1)","v":331},{"$f":"TRUNC(G4011+I4011+K4011,1)","v":331},{"$f":"TRUNC(H4011+J4011+L4011,0)","v":331},""]
[null,null,"[ 합           계 ]",{"$nulls":4},{"$f":"TRUNC(SUM(H4008:H4011),0)","v":957},null,{"$f":"TRUNC(SUM(J4008:J4011),0)","v":16553},null,{"$f":"TRUNC(SUM(L4008:L4011),0)","v":331},null,{"$f":"TRUNC(H4012+J4012+L4012,0)","v":17841}]
[]
[null,null,"6969222  PVC스리브설치 - 벽체용  D80  개소"]
[null,null,"PVC VG2관","D100","m",0.3,4772,{"$f":"TRUNC(F4015*G4015,1)","v":1431.6},0,{"$f":"TRUNC(F4015*I4015,1)","v":0},0,{"$f":"TRUNC(F4015*K4015,1)","v":0},{"$f":"TRUNC(G4015+I4015+K4015,1)","v":4772},{"$f":"TRUNC(H4015+J4015+L4015,0)","v":1431},""]
[null,null,"노무비","배관공","인",6.9000000000000006E-2,0,{"$f":"TRUNC(F4016*G4016,1)","v":0},202212,{"$f":"TRUNC(F4016*I4016,1)","v":13952.6},0,{"$f":"TRUNC(F4016*K4016,1)","v":0},{"$f":"TRUNC(G4016+I4016+K4016,1)","v":202212},{"$f":"TRUNC(H4016+J4016+L4016,0)","v":13952},""]
[null,null,"노무비","보통인부","인",1.7999999999999999E-2,0,{"$f":"TRUNC(F4017*G4017,1)","v":0},144481,{"$f":"TRUNC(F4017*I4017,1)","v":2600.6},0,{"$f":"TRUNC(F4017*K4017,1)","v":0},{"$f":"TRUNC(G4017+I4017+K4017,1)","v":144481},{"$f":"TRUNC(H4017+J4017+L4017,0)","v":2600},""]
[null,null,"공구손료","노무비의 2%","식",1,null,{"$f":"TRUNC(F4018*G4018,1)","v":0},0,{"$f":"TRUNC(F4018*I4018,1)","v":0},331,{"$f":"TRUNC(F4018*K4018,1)","v":331},{"$f":"TRUNC(G4018+I4018+K4018,1)","v":331},{"$f":"TRUNC(H4018+J4018+L4018,0)","v":331},""]
[null,null,"[ 합           계 ]",{"$nulls":4},{"$f":"TRUNC(SUM(H4015:H4018),0)","v":1431},null,{"$f":"TRUNC(SUM(J4015:J4018),0)","v":16553},null,{"$f":"TRUNC(SUM(L4015:L4018),0)","v":331},null,{"$f":"TRUNC(H4019+J4019+L4019,0)","v":18315}]
[]
[null,null,"6969223  PVC스리브설치 - 벽체용  D100  개소"]
[null,null,"PVC VG2관","D125","m",0.3,7530,{"$f":"TRUNC(F4022*G4022,1)","v":2259},0,{"$f":"TRUNC(F4022*I4022,1)","v":0},0,{"$f":"TRUNC(F4022*K4022,1)","v":0},{"$f":"TRUNC(G4022+I4022+K4022,1)","v":7530},{"$f":"TRUNC(H4022+J4022+L4022,0)","v":2259},""]
[null,null,"노무비","배관공","인",6.9000000000000006E-2,0,{"$f":"TRUNC(F4023*G4023,1)","v":0},202212,{"$f":"TRUNC(F4023*I4023,1)","v":13952.6},0,{"$f":"TRUNC(F4023*K4023,1)","v":0},{"$f":"TRUNC(G4023+I4023+K4023,1)","v":202212},{"$f":"TRUNC(H4023+J4023+L4023,0)","v":13952},""]
[null,null,"노무비","보통인부","인",1.7999999999999999E-2,0,{"$f":"TRUNC(F4024*G4024,1)","v":0},144481,{"$f":"TRUNC(F4024*I4024,1)","v":2600.6},0,{"$f":"TRUNC(F4024*K4024,1)","v":0},{"$f":"TRUNC(G4024+I4024+K4024,1)","v":144481},{"$f":"TRUNC(H4024+J4024+L4024,0)","v":2600},""]
[null,null,"공구손료","노무비의 2%","식",1,null,{"$f":"TRUNC(F4025*G4025,1)","v":0},0,{"$f":"TRUNC(F4025*I4025,1)","v":0},331,{"$f":"TRUNC(F4025*K4025,1)","v":331},{"$f":"TRUNC(G4025+I4025+K4025,1)","v":331},{"$f":"TRUNC(H4025+J4025+L4025,0)","v":331},""]
[null,null,"[ 합           계 ]",{"$nulls":4},{"$f":"TRUNC(SUM(H4022:H4025),0)","v":2259},null,{"$f":"TRUNC(SUM(J4022:J4025),0)","v":16553},null,{"$f":"TRUNC(SUM(L4022:L4025),0)","v":331},null,{"$f":"TRUNC(H4026+J4026+L4026,0)","v":19143}]
[]
[null,null,"6969224  PVC스리브설치 - 벽체용  D125  개소"]
[null,null,"PVC VG2관","D150","m",0.3,10827,{"$f":"TRUNC(F4029*G4029,1)","v":3248.1},0,{"$f":"TRUNC(F4029*I4029,1)","v":0},0,{"$f":"TRUNC(F4029*K4029,1)","v":0},{"$f":"TRUNC(G4029+I4029+K4029,1)","v":10827},{"$f":"TRUNC(H4029+J4029+L4029,0)","v":3248},""]
[null,null,"노무비","배관공","인",8.5000000000000006E-2,0,{"$f":"TRUNC(F4030*G4030,1)","v":0},202212,{"$f":"TRUNC(F4030*I4030,1)","v":17188},0,{"$f":"TRUNC(F4030*K4030,1)","v":0},{"$f":"TRUNC(G4030+I4030+K4030,1)","v":202212},{"$f":"TRUNC(H4030+J4030+L4030,0)","v":17188},""]
[null,null,"노무비","보통인부","인",2.9000000000000005E-2,0,{"$f":"TRUNC(F4031*G4031,1)","v":0},144481,{"$f":"TRUNC(F4031*I4031,1)","v":4189.8999999999996},0,{"$f":"TRUNC(F4031*K4031,1)","v":0},{"$f":"TRUNC(G4031+I4031+K4031,1)","v":144481},{"$f":"TRUNC(H4031+J4031+L4031,0)","v":4189},""]
[null,null,"공구손료","노무비의 2%","식",1,null,{"$f":"TRUNC(F4032*G4032,1)","v":0},0,{"$f":"TRUNC(F4032*I4032,1)","v":0},427.5,{"$f":"TRUNC(F4032*K4032,1)","v":427.5},{"$f":"TRUNC(G4032+I4032+K4032,1)","v":427.5},{"$f":"TRUNC(H4032+J4032+L4032,0)","v":427},""]
[null,null,"[ 합           계 ]",{"$nulls":4},{"$f":"TRUNC(SUM(H4029:H4032),0)","v":3248},null,{"$f":"TRUNC(SUM(J4029:J4032),0)","v":21377},null,{"$f":"TRUNC(SUM(L4029:L4032),0)","v":427},null,{"$f":"TRUNC(H4033+J4033+L4033,0)","v":25052}]
[]
[null,null,"6969225  PVC스리브설치 - 벽체용  D150  개소"]
[null,null,"PVC VG2관","D200","m",0.3,18057,{"$f":"TRUNC(F4036*G4036,1)","v":5417.1},0,{"$f":"TRUNC(F4036*I4036,1)","v":0},0,{"$f":"TRUNC(F4036*K4036,1)","v":0},{"$f":"TRUNC(G4036+I4036+K4036,1)","v":18057},{"$f":"TRUNC(H4036+J4036+L4036,0)","v":5417},""]
[null,null,"노무비","배관공","인",8.5000000000000006E-2,0,{"$f":"TRUNC(F4037*G4037,1)","v":0},202212,{"$f":"TRUNC(F4037*I4037,1)","v":17188},0,{"$f":"TRUNC(F4037*K4037,1)","v":0},{"$f":"TRUNC(G4037+I4037+K4037,1)","v":202212},{"$f":"TRUNC(H4037+J4037+L4037,0)","v":17188},""]
[null,null,"노무비","보통인부","인",2.9000000000000005E-2,0,{"$f":"TRUNC(F4038*G4038,1)","v":0},144481,{"$f":"TRUNC(F4038*I4038,1)","v":4189.8999999999996},0,{"$f":"TRUNC(F4038*K4038,1)","v":0},{"$f":"TRUNC(G4038+I4038+K4038,1)","v":144481},{"$f":"TRUNC(H4038+J4038+L4038,0)","v":4189},""]
[null,null,"공구손료","노무비의 2%","식",1,null,{"$f":"TRUNC(F4039*G4039,1)","v":0},0,{"$f":"TRUNC(F4039*I4039,1)","v":0},427.5,{"$f":"TRUNC(F4039*K4039,1)","v":427.5},{"$f":"TRUNC(G4039+I4039+K4039,1)","v":427.5},{"$f":"TRUNC(H4039+J4039+L4039,0)","v":427},""]
[null,null,"[ 합           계 ]",{"$nulls":4},{"$f":"TRUNC(SUM(H4036:H4039),0)","v":5417},null,{"$f":"TRUNC(SUM(J4036:J4039),0)","v":21377},null,{"$f":"TRUNC(SUM(L4036:L4039),0)","v":427},null,{"$f":"TRUNC(H4040+J4040+L4040,0)","v":27221}]
[]
[null,null,"6969226  PVC스리브설치 - 벽체용  D200  개소"]
[null,null,"PVC VG2관","D250","m",0.3,26820,{"$f":"TRUNC(F4043*G4043,1)","v":8046},0,{"$f":"TRUNC(F4043*I4043,1)","v":0},0,{"$f":"TRUNC(F4043*K4043,1)","v":0},{"$f":"TRUNC(G4043+I4043+K4043,1)","v":26820},{"$f":"TRUNC(H4043+J4043+L4043,0)","v":8046},""]
[null,null,"노무비","배관공","인",0.104,0,{"$f":"TRUNC(F4044*G4044,1)","v":0},202212,{"$f":"TRUNC(F4044*I4044,1)","v":21030},0,{"$f":"TRUNC(F4044*K4044,1)","v":0},{"$f":"TRUNC(G4044+I4044+K4044,1)","v":202212},{"$f":"TRUNC(H4044+J4044+L4044,0)","v":21030},""]
[null,null,"노무비","보통인부","인",4.7E-2,0,{"$f":"TRUNC(F4045*G4045,1)","v":0},144481,{"$f":"TRUNC(F4045*I4045,1)","v":6790.6},0,{"$f":"TRUNC(F4045*K4045,1)","v":0},{"$f":"TRUNC(G4045+I4045+K4045,1)","v":144481},{"$f":"TRUNC(H4045+J4045+L4045,0)","v":6790},""]
[null,null,"공구손료","노무비의 2%","식",1,null,{"$f":"TRUNC(F4046*G4046,1)","v":0},0,{"$f":"TRUNC(F4046*I4046,1)","v":0},556.4,{"$f":"TRUNC(F4046*K4046,1)","v":556.4},{"$f":"TRUNC(G4046+I4046+K4046,1)","v":556.4},{"$f":"TRUNC(H4046+J4046+L4046,0)","v":556},""]
[null,null,"[ 합           계 ]",{"$nulls":4},{"$f":"TRUNC(SUM(H4043:H4046),0)","v":8046},null,{"$f":"TRUNC(SUM(J4043:J4046),0)","v":27820},null,{"$f":"TRUNC(SUM(L4043:L4046),0)","v":556},null,{"$f":"TRUNC(H4047+J4047+L4047,0)","v":36422}]
[]
[null,null,"6969227  PVC스리브설치 - 벽체용 D250  개소"]
[null,null,"PVC VG2관","D300","m",0.3,37652,{"$f":"TRUNC(F4050*G4050,1)","v":11295.6},0,{"$f":"TRUNC(F4050*I4050,1)","v":0},0,{"$f":"TRUNC(F4050*K4050,1)","v":0},{"$f":"TRUNC(G4050+I4050+K4050,1)","v":37652},{"$f":"TRUNC(H4050+J4050+L4050,0)","v":11295},""]
[null,null,"노무비","배관공","인",0.104,0,{"$f":"TRUNC(F4051*G4051,1)","v":0},202212,{"$f":"TRUNC(F4051*I4051,1)","v":21030},0,{"$f":"TRUNC(F4051*K4051,1)","v":0},{"$f":"TRUNC(G4051+I4051+K4051,1)","v":202212},{"$f":"TRUNC(H4051+J4051+L4051,0)","v":21030},""]
[null,null,"노무비","보통인부","인",4.7E-2,0,{"$f":"TRUNC(F4052*G4052,1)","v":0},144481,{"$f":"TRUNC(F4052*I4052,1)","v":6790.6},0,{"$f":"TRUNC(F4052*K4052,1)","v":0},{"$f":"TRUNC(G4052+I4052+K4052,1)","v":144481},{"$f":"TRUNC(H4052+J4052+L4052,0)","v":6790},""]
[null,null,"공구손료","노무비의 2%","식",1,null,{"$f":"TRUNC(F4053*G4053,1)","v":0},0,{"$f":"TRUNC(F4053*I4053,1)","v":0},556.4,{"$f":"TRUNC(F4053*K4053,1)","v":556.4},{"$f":"TRUNC(G4053+I4053+K4053,1)","v":556.4},{"$f":"TRUNC(H4053+J4053+L4053,0)","v":556},""]
[null,null,"[ 합           계 ]",{"$nulls":4},{"$f":"TRUNC(SUM(H4050:H4053),0)","v":11295},null,{"$f":"TRUNC(SUM(J4050:J4053),0)","v":27820},null,{"$f":"TRUNC(SUM(L4050:L4053),0)","v":556},null,{"$f":"TRUNC(H4054+J4054+L4054,0)","v":39671}]
[]
[null,null,"6969228  PVC스리브설치 - 벽체용  D300  개소"]
[null,null,"PVC VG2관","D300","m",0.3,37652,{"$f":"TRUNC(F4057*G4057,1)","v":11295.6},0,{"$f":"TRUNC(F4057*I4057,1)","v":0},0,{"$f":"TRUNC(F4057*K4057,1)","v":0},{"$f":"TRUNC(G4057+I4057+K4057,1)","v":37652},{"$f":"TRUNC(H4057+J4057+L4057,0)","v":11295},""]
[null,null,"노무비","배관공","인",0.124,0,{"$f":"TRUNC(F4058*G4058,1)","v":0},202212,{"$f":"TRUNC(F4058*I4058,1)","v":25074.2},0,{"$f":"TRUNC(F4058*K4058,1)","v":0},{"$f":"TRUNC(G4058+I4058+K4058,1)","v":202212},{"$f":"TRUNC(H4058+J4058+L4058,0)","v":25074},""]
[null,null,"노무비","보통인부","인",7.1999999999999995E-2,0,{"$f":"TRUNC(F4059*G4059,1)","v":0},144481,{"$f":"TRUNC(F4059*I4059,1)","v":10402.6},0,{"$f":"TRUNC(F4059*K4059,1)","v":0},{"$f":"TRUNC(G4059+I4059+K4059,1)","v":144481},{"$f":"TRUNC(H4059+J4059+L4059,0)","v":10402},""]
[null,null,"공구손료","노무비의 2%","식",1,null,{"$f":"TRUNC(F4060*G4060,1)","v":0},0,{"$f":"TRUNC(F4060*I4060,1)","v":0},709.5,{"$f":"TRUNC(F4060*K4060,1)","v":709.5},{"$f":"TRUNC(G4060+I4060+K4060,1)","v":709.5},{"$f":"TRUNC(H4060+J4060+L4060,0)","v":709},""]
[null,null,"[ 합           계 ]",{"$nulls":4},{"$f":"TRUNC(SUM(H4057:H4060),0)","v":11295},null,{"$f":"TRUNC(SUM(J4057:J4060),0)","v":35476},null,{"$f":"TRUNC(SUM(L4057:L4060),0)","v":709},null,{"$f":"TRUNC(H4061+J4061+L4061,0)","v":47480}]
[]
[null,null,"6917001-1  강관스리브(지수판제외)설치 - 바닥용/내화충진재  D15  개소"]
[null,null,"백관 (SPP)","D25","m",0.3,4240,{"$f":"TRUNC(F4064*G4064,1)","v":1272},0,{"$f":"TRUNC(F4064*I4064,1)","v":0},0,{"$f":"TRUNC(F4064*K4064,1)","v":0},{"$f":"TRUNC(G4064+I4064+K4064,1)","v":4240},{"$f":"TRUNC(H4064+J4064+L4064,0)","v":1272},""]
[null,null,"강관절단","D25","개소",1,19,{"$f":"TRUNC(F4065*G4065,1)","v":19},642,642,12,12,673,673,""]
[null,null,"코킹콤파운드","","kg",8.4000000000000005E-2,5000,420,0,0,0,0,5000,420,""]
[null,null,"내화충진재","","kg",2.8000000000000004E-2,32000,896,null,0,null,0,32000,896,""]
[null,null,"노무비","배관공","인",4.2999999999999997E-2,0,0,202212,8695.1,0,0,202212,8695,""]
[null,null,"노무비","보통인부","인",2.1999999999999999E-2,0,0,144481,3178.5,0,0,144481,3178,""]
[null,null,"공구손료","노무비의 2%","식",1,null,0,0,0,237.4,237.4,{"$f":"TRUNC(G4070+I4070+K4070,1)","v":237.4},237,""]
[null,null,"[ 합           계 ]",{"$nulls":4},{"$f":"TRUNC(SUM(H4064:H4070),0)","v":2607},null,{"$f":"TRUNC(SUM(J4064:J4070),0)","v":12515},null,{"$f":"TRUNC(SUM(L4064:L4070),0)","v":249},null,15371]
[]
[null,null,"6917002-1  강관스리브(지수판제외)설치 - 바닥용/내화충진재  D20  개소"]
[null,null,"백관 (SPP)","D32","m",0.3,5460,{"$f":"TRUNC(F4074*G4074,1)","v":1638},0,{"$f":"TRUNC(F4074*I4074,1)","v":0},0,{"$f":"TRUNC(F4074*K4074,1)","v":0},{"$f":"TRUNC(G4074+I4074+K4074,1)","v":5460},{"$f":"TRUNC(H4074+J4074+L4074,0)","v":1638},""]
[null,null,"강관절단","D32","개소",1,22,{"$f":"TRUNC(F4075*G4075,1)","v":22},642,642,12,{"$f":"TRUNC(F4075*K4075,1)","v":12},{"$f":"TRUNC(G4075+I4075+K4075,1)","v":676},676,""]
[null,null,"코킹콤파운드","","kg",8.4000000000000005E-2,5000,420,0,0,0,0,5000,420,""]
[null,null,"내화충진재","","kg",2.8000000000000004E-2,32000,896,null,0,null,0,32000,896,""]
[null,null,"노무비","배관공","인",4.2999999999999997E-2,0,0,202212,8695.1,0,0,202212,8695,""]
[null,null,"노무비","보통인부","인",2.1999999999999999E-2,0,0,144481,3178.5,0,0,144481,3178,""]
[null,null,"공구손료","노무비의 2%","식",1,null,0,null,0,237.4,237.4,237.4,237,""]
[null,null,"[ 합           계 ]",{"$nulls":4},{"$f":"TRUNC(SUM(H4074:H4080),0)","v":2976},null,{"$f":"TRUNC(SUM(J4074:J4080),0)","v":12515},null,{"$f":"TRUNC(SUM(L4074:L4080),0)","v":249},null,15740]
[]
[null,null,"6917003-1  강관스리브(지수판제외)설치 - 바닥용/내화충진재  D25  개소"]
[null,null,"백관 (SPP)","D40","m",0.3,6260,{"$f":"TRUNC(F4084*G4084,1)","v":1878},0,{"$f":"TRUNC(F4084*I4084,1)","v":0},0,{"$f":"TRUNC(F4084*K4084,1)","v":0},{"$f":"TRUNC(G4084+I4084+K4084,1)","v":6260},{"$f":"TRUNC(H4084+J4084+L4084,0)","v":1878},""]
[null,null,"강관절단","D40","개소",1,26,{"$f":"TRUNC(F4085*G4085,1)","v":26},873,873,17,{"$f":"TRUNC(F4085*K4085,1)","v":17},{"$f":"TRUNC(G4085+I4085+K4085,1)","v":916},916,""]
[null,null,"코킹콤파운드","","kg",0.12,5000,600,0,0,0,0,5000,600,""]
[null,null,"내화충진재","","kg",0.04,32000,1280,null,0,null,0,32000,1280,""]
[null,null,"노무비","배관공","인",4.2999999999999997E-2,0,0,202212,8695.1,0,0,202212,8695,""]
[null,null,"노무비","보통인부","인",2.1999999999999999E-2,0,0,144481,3178.5,0,0,144481,3178,""]
[null,null,"공구손료","노무비의 2%","식",1,null,0,null,0,237.4,237.4,237.4,237,""]
[null,null,"[ 합           계 ]",{"$nulls":4},{"$f":"TRUNC(SUM(H4084:H4090),0)","v":3784},null,{"$f":"TRUNC(SUM(J4084:J4090),0)","v":12746},null,{"$f":"TRUNC(SUM(L4084:L4090),0)","v":254},null,16784]
[]
[null,null,"6917004-1  강관스리브(지수판제외)설치 - 바닥용/내화충진재  D32  개소"]
[null,null,"백관 (SPP)","D50","m",0.3,8840,{"$f":"TRUNC(F4094*G4094,1)","v":2652},0,{"$f":"TRUNC(F4094*I4094,1)","v":0},0,{"$f":"TRUNC(F4094*K4094,1)","v":0},{"$f":"TRUNC(G4094+I4094+K4094,1)","v":8840},{"$f":"TRUNC(H4094+J4094+L4094,0)","v":2652},""]
[null,null,"강관절단","D50","개소",1,31,{"$f":"TRUNC(F4095*G4095,1)","v":31},873,873,17,{"$f":"TRUNC(F4095*K4095,1)","v":17},{"$f":"TRUNC(G4095+I4095+K4095,1)","v":921},921,""]
[null,null,"코킹콤파운드","","kg",0.19,5000,950,0,0,0,0,5000,950,""]
[null,null,"내화충진재","","kg",6.3E-2,32000,2016,null,0,null,0,32000,2016,""]
[null,null,"노무비","배관공","인",4.2999999999999997E-2,0,0,202212,8695.1,0,0,202212,8695,""]
[null,null,"노무비","보통인부","인",2.1999999999999999E-2,0,0,144481,3178.5,0,0,144481,3178,""]
[null,null,"공구손료","노무비의 2%","식",1,null,0,null,0,237.4,237.4,237.4,237,""]
[null,null,"[ 합           계 ]",{"$nulls":4},{"$f":"TRUNC(SUM(H4094:H4100),0)","v":5649},null,{"$f":"TRUNC(SUM(J4094:J4100),0)","v":12746},null,{"$f":"TRUNC(SUM(L4094:L4100),0)","v":254},null,18649]
[]
[null,null,"6917005-1  강관스리브(지수판제외)설치 - 바닥용/내화충진재  D40  개소"]
[null,null,"백관 (SPP)","D50","m",0.3,8840,{"$f":"TRUNC(F4104*G4104,1)","v":2652},0,{"$f":"TRUNC(F4104*I4104,1)","v":0},0,{"$f":"TRUNC(F4104*K4104,1)","v":0},{"$f":"TRUNC(G4104+I4104+K4104,1)","v":8840},{"$f":"TRUNC(H4104+J4104+L4104,0)","v":2652},""]
[null,null,"강관절단","D50","개소",1,31,{"$f":"TRUNC(F4105*G4105,1)","v":31},873,873,17,{"$f":"TRUNC(F4105*K4105,1)","v":17},{"$f":"TRUNC(G4105+I4105+K4105,1)","v":921},921,""]
[null,null,"코킹콤파운드","","kg",0.2,5000,1000,0,0,0,0,5000,1000,""]
[null,null,"내화충진재","","kg",6.6000000000000003E-2,32000,2112,null,0,null,0,32000,2112,""]
[null,null,"노무비","배관공","인",4.2999999999999997E-2,0,0,202212,8695.1,0,0,202212,8695,""]
[null,null,"노무비","보통인부","인",2.1999999999999999E-2,0,0,144481,3178.5,0,0,144481,3178,""]
[null,null,"공구손료","노무비의 2%","식",1,null,0,null,0,237.4,237.4,237.4,237,""]
[null,null,"[ 합           계 ]",{"$nulls":4},{"$f":"TRUNC(SUM(H4104:H4110),0)","v":5795},null,{"$f":"TRUNC(SUM(J4104:J4110),0)","v":12746},null,{"$f":"TRUNC(SUM(L4104:L4110),0)","v":254},null,18795]
[]
[null,null,"6917006-1  강관스리브(지수판제외)설치 - 바닥용/내화충진재  D50  개소"]
[null,null,"백관 (SPP)","D65","m",0.3,11290,{"$f":"TRUNC(F4114*G4114,1)","v":3387},0,{"$f":"TRUNC(F4114*I4114,1)","v":0},0,{"$f":"TRUNC(F4114*K4114,1)","v":0},{"$f":"TRUNC(G4114+I4114+K4114,1)","v":11290},{"$f":"TRUNC(H4114+J4114+L4114,0)","v":3387},""]
[null,null,"강관절단","D65","개소",1,39,{"$f":"TRUNC(F4115*G4115,1)","v":39},1285,1285,25,{"$f":"TRUNC(F4115*K4115,1)","v":25},{"$f":"TRUNC(G4115+I4115+K4115,1)","v":1349},1349,""]
[null,null,"코킹콤파운드","","kg",0.25,5000,1250,0,0,0,0,5000,1250,""]
[null,null,"내화충진재","","kg",8.3000000000000004E-2,32000,2656,null,0,null,0,32000,2656,""]
[null,null,"노무비","배관공","인",4.2999999999999997E-2,0,0,202212,8695.1,0,0,202212,8695,""]
[null,null,"노무비","보통인부","인",2.1999999999999999E-2,0,0,144481,3178.5,0,0,144481,3178,""]
[null,null,"공구손료","노무비의 2%","식",1,null,0,null,0,237.4,237.4,237.4,237,""]
[null,null,"[ 합           계 ]",{"$nulls":4},{"$f":"TRUNC(SUM(H4114:H4120),0)","v":7332},null,{"$f":"TRUNC(SUM(J4114:J4120),0)","v":13158},null,{"$f":"TRUNC(SUM(L4114:L4120),0)","v":262},null,20752]
[]
[null,null,"6917007-1  강관스리브(지수판제외)설치 - 바닥용/내화충진재  D65  개소"]
[null,null,"백관 (SPP)","D80","m",0.3,14670,{"$f":"TRUNC(F4124*G4124,1)","v":4401},0,{"$f":"TRUNC(F4124*I4124,1)","v":0},0,{"$f":"TRUNC(F4124*K4124,1)","v":0},{"$f":"TRUNC(G4124+I4124+K4124,1)","v":14670},{"$f":"TRUNC(H4124+J4124+L4124,0)","v":4401},""]
[null,null,"강관절단","D80","개소",1,51,{"$f":"TRUNC(F4125*G4125,1)","v":51},1516,1516,30,{"$f":"TRUNC(F4125*K4125,1)","v":30},{"$f":"TRUNC(G4125+I4125+K4125,1)","v":1597},1597,""]
[null,null,"코킹콤파운드","","kg",0.38800000000000001,5000,1940,0,0,0,0,5000,1940,""]
[null,null,"내화충진재","","kg",0.129,32000,4128,null,0,null,0,32000,4128,""]
[null,null,"노무비","배관공","인",5.5000000000000007E-2,0,0,202212,11121.6,0,0,202212,11121,""]
[null,null,"노무비","보통인부","인",2.9000000000000005E-2,0,0,144481,4189.8999999999996,0,0,144481,4189,""]
[null,null,"공구손료","노무비의 2%","식",1,null,0,null,0,306.2,306.2,306.2,306,""]
[null,null,"[ 합           계 ]",{"$nulls":4},{"$f":"TRUNC(SUM(H4124:H4130),0)","v":10520},null,{"$f":"TRUNC(SUM(J4124:J4130),0)","v":16827},null,{"$f":"TRUNC(SUM(L4124:L4130),0)","v":336},null,27683]
[]
[null,null,"6917008-1  강관스리브(지수판제외)설치 - 바닥용/내화충진재  D80  개소"]
[null,null,"백관 (SPP)","D100","m",0.3,21040,{"$f":"TRUNC(F4134*G4134,1)","v":6312},0,{"$f":"TRUNC(F4134*I4134,1)","v":0},0,{"$f":"TRUNC(F4134*K4134,1)","v":0},{"$f":"TRUNC(G4134+I4134+K4134,1)","v":21040},{"$f":"TRUNC(H4134+J4134+L4134,0)","v":6312},""]
[null,null,"강관절단","D100","개소",1,99,{"$f":"TRUNC(F4135*G4135,1)","v":99},2801,2801,56,{"$f":"TRUNC(F4135*K4135,1)","v":56},{"$f":"TRUNC(G4135+I4135+K4135,1)","v":2956},2956,""]
[null,null,"코킹콤파운드","","kg",1.1100000000000001,5000,5550,0,0,0,0,5000,5550,""]
[null,null,"내화충진재","","kg",0.37,32000,11840,null,0,null,0,32000,11840,""]
[null,null,"노무비","배관공","인",5.5000000000000007E-2,0,0,202212,11121.6,0,0,202212,11121,""]
[null,null,"노무비","보통인부","인",2.9000000000000005E-2,0,0,144481,4189.8999999999996,0,0,144481,4189,""]
[null,null,"공구손료","노무비의 2%","식",1,null,0,null,0,306.2,306.2,306.2,306,""]
[null,null,"[ 합           계 ]",{"$nulls":4},{"$f":"TRUNC(SUM(H4134:H4140),0)","v":23801},null,{"$f":"TRUNC(SUM(J4134:J4140),0)","v":18112},null,{"$f":"TRUNC(SUM(L4134:L4140),0)","v":362},null,42275]
[]
[null,null,"6917009-1  강관스리브(지수판제외)설치 - 바닥용/내화충진재  D100  개소"]
[null,null,"백관 (SPP)","D125","m",0.3,27880,{"$f":"TRUNC(F4144*G4144,1)","v":8364},0,{"$f":"TRUNC(F4144*I4144,1)","v":0},0,{"$f":"TRUNC(F4144*K4144,1)","v":0},{"$f":"TRUNC(G4144+I4144+K4144,1)","v":27880},{"$f":"TRUNC(H4144+J4144+L4144,0)","v":8364},""]
[null,null,"강관절단","D125","개소",1,182,{"$f":"TRUNC(F4145*G4145,1)","v":182},3213,3213,64,{"$f":"TRUNC(F4145*K4145,1)","v":64},{"$f":"TRUNC(G4145+I4145+K4145,1)","v":3459},3459,""]
[null,null,"코킹콤파운드","","kg",1.36,5000,6800,0,0,0,0,5000,6800,""]
[null,null,"내화충진재","","kg",0.45300000000000001,32000,14496,null,0,null,0,32000,14496,""]
[null,null,"노무비","배관공","인",5.5000000000000007E-2,0,0,202212,11121.6,0,0,202212,11121,""]
[null,null,"노무비","보통인부","인",2.9000000000000005E-2,0,0,144481,4189.8999999999996,0,0,144481,4189,""]
[null,null,"공구손료","노무비의 2%","식",1,null,0,null,0,306.2,306.2,306.2,306,""]
[null,null,"[ 합           계 ]",{"$nulls":4},{"$f":"TRUNC(SUM(H4144:H4150),0)","v":29842},null,{"$f":"TRUNC(SUM(J4144:J4150),0)","v":18524},null,{"$f":"TRUNC(SUM(L4144:L4150),0)","v":370},null,48736]
[]
[null,null,"6917010-1  강관스리브(지수판제외)설치 - 바닥용/내화충진재  D125  개소"]
[null,null,"백관 (SPP)","D150","m",0.3,33130,{"$f":"TRUNC(F4154*G4154,1)","v":9939},0,{"$f":"TRUNC(F4154*I4154,1)","v":0},0,{"$f":"TRUNC(F4154*K4154,1)","v":0},{"$f":"TRUNC(G4154+I4154+K4154,1)","v":33130},{"$f":"TRUNC(H4154+J4154+L4154,0)","v":9939},""]
[null,null,"강관절단","D150","개소",1,281,{"$f":"TRUNC(F4155*G4155,1)","v":281},4317,4317,86,{"$f":"TRUNC(F4155*K4155,1)","v":86},{"$f":"TRUNC(G4155+I4155+K4155,1)","v":4684},4684,""]
[null,null,"코킹콤파운드","","kg",1.63,5000,8150,0,0,0,0,5000,8150,""]
[null,null,"내화충진재","","kg",0.54300000000000004,32000,17376,null,0,null,0,32000,17376,""]
[null,null,"노무비","배관공","인",6.6000000000000003E-2,0,0,202212,13345.9,0,0,202212,13345,""]
[null,null,"노무비","보통인부","인",3.5000000000000003E-2,0,0,144481,5056.8,0,0,144481,5056,""]
[null,null,"공구손료","노무비의 2%","식",1,null,0,null,0,368,368,368,368,""]
[null,null,"[ 합           계 ]",{"$nulls":4},{"$f":"TRUNC(SUM(H4154:H4160),0)","v":35746},null,{"$f":"TRUNC(SUM(J4154:J4160),0)","v":22719},null,{"$f":"TRUNC(SUM(L4154:L4160),0)","v":454},null,58919]
[]
[null,null,"6917011-1  강관스리브(지수판제외)설치 - 바닥용/내화충진재  D150  개소"]
[null,null,"백관 (SPP)","D200","m",0.3,52440,{"$f":"TRUNC(F4164*G4164,1)","v":15732},0,{"$f":"TRUNC(F4164*I4164,1)","v":0},0,{"$f":"TRUNC(F4164*K4164,1)","v":0},{"$f":"TRUNC(G4164+I4164+K4164,1)","v":52440},{"$f":"TRUNC(H4164+J4164+L4164,0)","v":15732},""]
[null,null,"강관절단","D200","개소",1,463,{"$f":"TRUNC(F4165*G4165,1)","v":463},5191,5191,103,{"$f":"TRUNC(F4165*K4165,1)","v":103},{"$f":"TRUNC(G4165+I4165+K4165,1)","v":5757},5757,""]
[null,null,"코킹콤파운드","","kg",5.14,5000,25700,0,0,0,0,5000,25700,""]
[null,null,"내화충진재","","kg",1.7130000000000001,32000,54816,null,0,null,0,32000,54816,""]
[null,null,"노무비","배관공","인",6.6000000000000003E-2,0,0,202212,13345.9,0,0,202212,13345,""]
[null,null,"노무비","보통인부","인",3.5000000000000003E-2,0,0,144481,5056.8,0,0,144481,5056,""]
[null,null,"공구손료","노무비의 2%","식",1,null,0,null,0,368,368,368,368,""]
[null,null,"[ 합           계 ]",{"$nulls":4},{"$f":"TRUNC(SUM(H4164:H4170),0)","v":96711},null,{"$f":"TRUNC(SUM(J4164:J4170),0)","v":23593},null,{"$f":"TRUNC(SUM(L4164:L4170),0)","v":471},null,120775]
[]
[null,null,"6913003  스텐용접합후렌지(그루브)  D25  개소"]
[null,null,"SUS 후렌지 (10KG)","D25(그루브)","EA",1,{"$f":"#REF!","v":{"$error":"#REF!"}},{"$f":"TRUNC(F4174*G4174,1)","v":{"$error":"#REF!"}},0,{"$f":"TRUNC(F4174*I4174,1)","v":0},0,{"$f":"TRUNC(F4174*K4174,1)","v":0},{"$f":"TRUNC(G4174+I4174+K4174,1)","v":{"$error":"#REF!"}},{"$f":"TRUNC(H4174+J4174+L4174,0)","v":{"$error":"#REF!"}},""]
[null,null,"스텐레스볼트","M12  L60","개",4,398,{"$f":"TRUNC(F4175*G4175,1)","v":1592},0,{"$f":"TRUNC(F4175*I4175,1)","v":0},0,{"$f":"TRUNC(F4175*K4175,1)","v":0},{"$f":"TRUNC(G4175+I4175+K4175,1)","v":398},{"$f":"TRUNC(H4175+J4175+L4175,0)","v":1592},""]
[null,null,"와샤(스텐)","M12","개",8,29.8,{"$f":"TRUNC(F4176*G4176,1)","v":238.4},0,{"$f":"TRUNC(F4176*I4176,1)","v":0},0,{"$f":"TRUNC(F4176*K4176,1)","v":0},{"$f":"TRUNC(G4176+I4176+K4176,1)","v":29.8},{"$f":"TRUNC(H4176+J4176+L4176,0)","v":238},""]
[null,null,"후렌지패킹","3.2MMxD25","EA",1,217,{"$f":"TRUNC(F4177*G4177,1)","v":217},0,{"$f":"TRUNC(F4177*I4177,1)","v":0},0,{"$f":"TRUNC(F4177*K4177,1)","v":0},{"$f":"TRUNC(G4177+I4177+K4177,1)","v":217},{"$f":"TRUNC(H4177+J4177+L4177,0)","v":217},""]
[null,null,"STS 그루브 죠인트","D25","개소",1,{"$f":"#REF!","v":{"$error":"#REF!"}},{"$f":"TRUNC(F4178*G4178,1)","v":{"$error":"#REF!"}},null,{"$f":"TRUNC(F4178*I4178,1)","v":0},null,{"$f":"TRUNC(F4178*K4178,1)","v":0},{"$f":"TRUNC(G4178+I4178+K4178,1)","v":{"$error":"#REF!"}},{"$f":"TRUNC(H4178+J4178+L4178,0)","v":{"$error":"#REF!"}},""]
[null,null,"[ 합           계 ]",{"$nulls":4},{"$f":"TRUNC(SUM(H4174:H4178),0)","v":{"$error":"#REF!"}},null,{"$f":"TRUNC(SUM(J4174:J4178),0)","v":0},null,{"$f":"TRUNC(SUM(L4174:L4178),0)","v":0},null,{"$f":"H4179+J4179+L4179","v":{"$error":"#REF!"}}]
[]
[null,null,"6913004  스텐용접합후렌지(그루브)  D32  개소"]
[null,null,"SUS 후렌지 (10KG)","D32(그루브)","EA",1,{"$f":"#REF!","v":{"$error":"#REF!"}},{"$f":"TRUNC(F4182*G4182,1)","v":{"$error":"#REF!"}},0,{"$f":"TRUNC(F4182*I4182,1)","v":0},0,{"$f":"TRUNC(F4182*K4182,1)","v":0},{"$f":"TRUNC(G4182+I4182+K4182,1)","v":{"$error":"#REF!"}},{"$f":"TRUNC(H4182+J4182+L4182,0)","v":{"$error":"#REF!"}},""]
[null,null,"스텐레스볼트","M12  L60","개",4,398,{"$f":"TRUNC(F4183*G4183,1)","v":1592},0,{"$f":"TRUNC(F4183*I4183,1)","v":0},0,{"$f":"TRUNC(F4183*K4183,1)","v":0},{"$f":"TRUNC(G4183+I4183+K4183,1)","v":398},{"$f":"TRUNC(H4183+J4183+L4183,0)","v":1592},""]
[null,null,"와샤(스텐)","M12","개",8,29.8,{"$f":"TRUNC(F4184*G4184,1)","v":238.4},0,{"$f":"TRUNC(F4184*I4184,1)","v":0},0,{"$f":"TRUNC(F4184*K4184,1)","v":0},{"$f":"TRUNC(G4184+I4184+K4184,1)","v":29.8},{"$f":"TRUNC(H4184+J4184+L4184,0)","v":238},""]
[null,null,"후렌지패킹","3.2MMxD32","EA",1,279,{"$f":"TRUNC(F4185*G4185,1)","v":279},0,{"$f":"TRUNC(F4185*I4185,1)","v":0},0,{"$f":"TRUNC(F4185*K4185,1)","v":0},{"$f":"TRUNC(G4185+I4185+K4185,1)","v":279},{"$f":"TRUNC(H4185+J4185+L4185,0)","v":279},""]
[null,null,"STS 그루브 죠인트","D32","개소",1,{"$f":"#REF!","v":{"$error":"#REF!"}},{"$f":"TRUNC(F4186*G4186,1)","v":{"$error":"#REF!"}},null,{"$f":"TRUNC(F4186*I4186,1)","v":0},null,{"$f":"TRUNC(F4186*K4186,1)","v":0},{"$f":"TRUNC(G4186+I4186+K4186,1)","v":{"$error":"#REF!"}},{"$f":"TRUNC(H4186+J4186+L4186,0)","v":{"$error":"#REF!"}},""]
[null,null,"[ 합           계 ]",{"$nulls":4},{"$f":"TRUNC(SUM(H4182:H4186),0)","v":{"$error":"#REF!"}},null,{"$f":"TRUNC(SUM(J4182:J4186),0)","v":0},null,{"$f":"TRUNC(SUM(L4182:L4186),0)","v":0},null,{"$f":"H4187+J4187+L4187","v":{"$error":"#REF!"}}]
[]
[null,null,"6913005  스텐용접합후렌지(그루브)  D40  개소"]
[null,null,"SUS 후렌지 (10KG)","D40(그루브)","EA",1,{"$f":"#REF!","v":{"$error":"#REF!"}},{"$f":"TRUNC(F4190*G4190,1)","v":{"$error":"#REF!"}},0,{"$f":"TRUNC(F4190*I4190,1)","v":0},0,{"$f":"TRUNC(F4190*K4190,1)","v":0},{"$f":"TRUNC(G4190+I4190+K4190,1)","v":{"$error":"#REF!"}},{"$f":"TRUNC(H4190+J4190+L4190,0)","v":{"$error":"#REF!"}},""]
[null,null,"스텐레스볼트","M12  L60","개",4,398,{"$f":"TRUNC(F4191*G4191,1)","v":1592},0,{"$f":"TRUNC(F4191*I4191,1)","v":0},0,{"$f":"TRUNC(F4191*K4191,1)","v":0},{"$f":"TRUNC(G4191+I4191+K4191,1)","v":398},{"$f":"TRUNC(H4191+J4191+L4191,0)","v":1592},""]
[null,null,"와샤(스텐)","M12","개",8,29.8,{"$f":"TRUNC(F4192*G4192,1)","v":238.4},0,{"$f":"TRUNC(F4192*I4192,1)","v":0},0,{"$f":"TRUNC(F4192*K4192,1)","v":0},{"$f":"TRUNC(G4192+I4192+K4192,1)","v":29.8},{"$f":"TRUNC(H4192+J4192+L4192,0)","v":238},""]
[null,null,"후렌지패킹","3.2MMxD40","EA",1,323,{"$f":"TRUNC(F4193*G4193,1)","v":323},0,{"$f":"TRUNC(F4193*I4193,1)","v":0},0,{"$f":"TRUNC(F4193*K4193,1)","v":0},{"$f":"TRUNC(G4193+I4193+K4193,1)","v":323},{"$f":"TRUNC(H4193+J4193+L4193,0)","v":323},""]
[null,null,"STS 그루브 죠인트","D40","개소",1,{"$f":"#REF!","v":{"$error":"#REF!"}},{"$f":"TRUNC(F4194*G4194,1)","v":{"$error":"#REF!"}},null,{"$f":"TRUNC(F4194*I4194,1)","v":0},null,{"$f":"TRUNC(F4194*K4194,1)","v":0},{"$f":"TRUNC(G4194+I4194+K4194,1)","v":{"$error":"#REF!"}},{"$f":"TRUNC(H4194+J4194+L4194,0)","v":{"$error":"#REF!"}},""]
[null,null,"[ 합           계 ]",{"$nulls":4},{"$f":"TRUNC(SUM(H4190:H4194),0)","v":{"$error":"#REF!"}},null,{"$f":"TRUNC(SUM(J4190:J4194),0)","v":0},null,{"$f":"TRUNC(SUM(L4190:L4194),0)","v":0},null,{"$f":"H4195+J4195+L4195","v":{"$error":"#REF!"}}]
[]
[null,null,"6913006  스텐용접합후렌지(그루브)  D50  개소"]
[null,null,"SUS 후렌지 (10KG)","D50(그루브)","EA",1,{"$f":"#REF!","v":{"$error":"#REF!"}},{"$f":"TRUNC(F4198*G4198,1)","v":{"$error":"#REF!"}},0,{"$f":"TRUNC(F4198*I4198,1)","v":0},0,{"$f":"TRUNC(F4198*K4198,1)","v":0},{"$f":"TRUNC(G4198+I4198+K4198,1)","v":{"$error":"#REF!"}},{"$f":"TRUNC(H4198+J4198+L4198,0)","v":{"$error":"#REF!"}},""]
[null,null,"스텐레스볼트","M12  L60","개",4,398,{"$f":"TRUNC(F4199*G4199,1)","v":1592},0,{"$f":"TRUNC(F4199*I4199,1)","v":0},0,{"$f":"TRUNC(F4199*K4199,1)","v":0},{"$f":"TRUNC(G4199+I4199+K4199,1)","v":398},{"$f":"TRUNC(H4199+J4199+L4199,0)","v":1592},""]
[null,null,"와샤(스텐)","M12","개",8,29.8,{"$f":"TRUNC(F4200*G4200,1)","v":238.4},0,{"$f":"TRUNC(F4200*I4200,1)","v":0},0,{"$f":"TRUNC(F4200*K4200,1)","v":0},{"$f":"TRUNC(G4200+I4200+K4200,1)","v":29.8},{"$f":"TRUNC(H4200+J4200+L4200,0)","v":238},""]
[null,null,"후렌지패킹","3.2MMxD50","EA",1,436,{"$f":"TRUNC(F4201*G4201,1)","v":436},0,{"$f":"TRUNC(F4201*I4201,1)","v":0},0,{"$f":"TRUNC(F4201*K4201,1)","v":0},{"$f":"TRUNC(G4201+I4201+K4201,1)","v":436},{"$f":"TRUNC(H4201+J4201+L4201,0)","v":436},""]
[null,null,"STS 그루브 죠인트","D50","개소",1,{"$f":"#REF!","v":{"$error":"#REF!"}},{"$f":"TRUNC(F4202*G4202,1)","v":{"$error":"#REF!"}},null,{"$f":"TRUNC(F4202*I4202,1)","v":0},null,{"$f":"TRUNC(F4202*K4202,1)","v":0},{"$f":"TRUNC(G4202+I4202+K4202,1)","v":{"$error":"#REF!"}},{"$f":"TRUNC(H4202+J4202+L4202,0)","v":{"$error":"#REF!"}},""]
[null,null,"[ 합           계 ]",{"$nulls":4},{"$f":"TRUNC(SUM(H4198:H4202),0)","v":{"$error":"#REF!"}},null,{"$f":"TRUNC(SUM(J4198:J4202),0)","v":0},null,{"$f":"TRUNC(SUM(L4198:L4202),0)","v":0},null,{"$f":"H4203+J4203+L4203","v":{"$error":"#REF!"}}]
[]
[null,null,"6913007  스텐용접합후렌지(그루브)  D65  개소"]
[null,null,"SUS 후렌지 (10KG)","D65(그루브)","EA",1,{"$f":"#REF!","v":{"$error":"#REF!"}},{"$f":"TRUNC(F4206*G4206,1)","v":{"$error":"#REF!"}},0,{"$f":"TRUNC(F4206*I4206,1)","v":0},0,{"$f":"TRUNC(F4206*K4206,1)","v":0},{"$f":"TRUNC(G4206+I4206+K4206,1)","v":{"$error":"#REF!"}},{"$f":"TRUNC(H4206+J4206+L4206,0)","v":{"$error":"#REF!"}},""]
[null,null,"스텐레스볼트","M12  L60","개",4,398,{"$f":"TRUNC(F4207*G4207,1)","v":1592},0,{"$f":"TRUNC(F4207*I4207,1)","v":0},0,{"$f":"TRUNC(F4207*K4207,1)","v":0},{"$f":"TRUNC(G4207+I4207+K4207,1)","v":398},{"$f":"TRUNC(H4207+J4207+L4207,0)","v":1592},""]
[null,null,"와샤(스텐)","M12","개",8,29.8,{"$f":"TRUNC(F4208*G4208,1)","v":238.4},0,{"$f":"TRUNC(F4208*I4208,1)","v":0},0,{"$f":"TRUNC(F4208*K4208,1)","v":0},{"$f":"TRUNC(G4208+I4208+K4208,1)","v":29.8},{"$f":"TRUNC(H4208+J4208+L4208,0)","v":238},""]
[null,null,"후렌지패킹","3.2MMxD65","EA",1,{"$f":"#REF!","v":{"$error":"#REF!"}},{"$f":"TRUNC(F4209*G4209,1)","v":{"$error":"#REF!"}},0,{"$f":"TRUNC(F4209*I4209,1)","v":0},0,{"$f":"TRUNC(F4209*K4209,1)","v":0},{"$f":"TRUNC(G4209+I4209+K4209,1)","v":{"$error":"#REF!"}},{"$f":"TRUNC(H4209+J4209+L4209,0)","v":{"$error":"#REF!"}},""]
[null,null,"STS 그루브 죠인트","D65","개소",1,null,{"$f":"TRUNC(F4210*G4210,1)","v":0},null,{"$f":"TRUNC(F4210*I4210,1)","v":0},null,{"$f":"TRUNC(F4210*K4210,1)","v":0},{"$f":"TRUNC(G4210+I4210+K4210,1)","v":0},{"$f":"TRUNC(H4210+J4210+L4210,0)","v":0},""]
[null,null,"[ 합           계 ]",{"$nulls":4},{"$f":"TRUNC(SUM(H4206:H4210),0)","v":{"$error":"#REF!"}},null,{"$f":"TRUNC(SUM(J4206:J4210),0)","v":0},null,{"$f":"TRUNC(SUM(L4206:L4210),0)","v":0},null,{"$f":"H4211+J4211+L4211","v":{"$error":"#REF!"}}]
[]
[null,null,"6913008  스텐용접합후렌지(그루브)  D80  개소"]
[null,null,"SUS 후렌지 (10KG)","D80(그루브)","EA",1,{"$f":"#REF!","v":{"$error":"#REF!"}},{"$f":"TRUNC(F4214*G4214,1)","v":{"$error":"#REF!"}},0,{"$f":"TRUNC(F4214*I4214,1)","v":0},0,{"$f":"TRUNC(F4214*K4214,1)","v":0},{"$f":"TRUNC(G4214+I4214+K4214,1)","v":{"$error":"#REF!"}},{"$f":"TRUNC(H4214+J4214+L4214,0)","v":{"$error":"#REF!"}},""]
[null,null,"스텐레스볼트","M12  L70","개",8,445,{"$f":"TRUNC(F4215*G4215,1)","v":3560},0,{"$f":"TRUNC(F4215*I4215,1)","v":0},0,{"$f":"TRUNC(F4215*K4215,1)","v":0},{"$f":"TRUNC(G4215+I4215+K4215,1)","v":445},{"$f":"TRUNC(H4215+J4215+L4215,0)","v":3560},""]
[null,null,"와샤(스텐)","M12","개",16,29.8,{"$f":"TRUNC(F4216*G4216,1)","v":476.8},0,{"$f":"TRUNC(F4216*I4216,1)","v":0},0,{"$f":"TRUNC(F4216*K4216,1)","v":0},{"$f":"TRUNC(G4216+I4216+K4216,1)","v":29.8},{"$f":"TRUNC(H4216+J4216+L4216,0)","v":476},""]
[null,null,"후렌지패킹","3.2MMxD80","EA",1,812,{"$f":"TRUNC(F4217*G4217,1)","v":812},0,{"$f":"TRUNC(F4217*I4217,1)","v":0},0,{"$f":"TRUNC(F4217*K4217,1)","v":0},{"$f":"TRUNC(G4217+I4217+K4217,1)","v":812},{"$f":"TRUNC(H4217+J4217+L4217,0)","v":812},""]
[null,null,"STS 그루브 죠인트","D80","개소",1,{"$f":"#REF!","v":{"$error":"#REF!"}},{"$f":"TRUNC(F4218*G4218,1)","v":{"$error":"#REF!"}},null,{"$f":"TRUNC(F4218*I4218,1)","v":0},null,{"$f":"TRUNC(F4218*K4218,1)","v":0},{"$f":"TRUNC(G4218+I4218+K4218,1)","v":{"$error":"#REF!"}},{"$f":"TRUNC(H4218+J4218+L4218,0)","v":{"$error":"#REF!"}},""]
[null,null,"[ 합           계 ]",{"$nulls":4},{"$f":"TRUNC(SUM(H4214:H4218),0)","v":{"$error":"#REF!"}},null,{"$f":"TRUNC(SUM(J4214:J4218),0)","v":0},null,{"$f":"TRUNC(SUM(L4214:L4218),0)","v":0},null,{"$f":"H4219+J4219+L4219","v":{"$error":"#REF!"}}]
[]
[null,null,"6913009  스텐용접합후렌지(그루브)  D100  개소"]
[null,null,"SUS 후렌지 (10KG)","D100(그루브)","EA",1,{"$f":"#REF!","v":{"$error":"#REF!"}},{"$f":"TRUNC(F4222*G4222,1)","v":{"$error":"#REF!"}},0,{"$f":"TRUNC(F4222*I4222,1)","v":0},0,{"$f":"TRUNC(F4222*K4222,1)","v":0},{"$f":"TRUNC(G4222+I4222+K4222,1)","v":{"$error":"#REF!"}},{"$f":"TRUNC(H4222+J4222+L4222,0)","v":{"$error":"#REF!"}},""]
[null,null,"스텐레스볼트","M12  L70","개",8,445,{"$f":"TRUNC(F4223*G4223,1)","v":3560},0,{"$f":"TRUNC(F4223*I4223,1)","v":0},0,{"$f":"TRUNC(F4223*K4223,1)","v":0},{"$f":"TRUNC(G4223+I4223+K4223,1)","v":445},{"$f":"TRUNC(H4223+J4223+L4223,0)","v":3560},""]
[null,null,"와샤(스텐)","M12","개",16,29.8,{"$f":"TRUNC(F4224*G4224,1)","v":476.8},0,{"$f":"TRUNC(F4224*I4224,1)","v":0},0,{"$f":"TRUNC(F4224*K4224,1)","v":0},{"$f":"TRUNC(G4224+I4224+K4224,1)","v":29.8},{"$f":"TRUNC(H4224+J4224+L4224,0)","v":476},""]
[null,null,"후렌지패킹","3.2MMxD100","EA",1,1341,{"$f":"TRUNC(F4225*G4225,1)","v":1341},0,{"$f":"TRUNC(F4225*I4225,1)","v":0},0,{"$f":"TRUNC(F4225*K4225,1)","v":0},{"$f":"TRUNC(G4225+I4225+K4225,1)","v":1341},{"$f":"TRUNC(H4225+J4225+L4225,0)","v":1341},""]
[null,null,"STS 그루브 죠인트","D100","개소",1,{"$f":"#REF!","v":{"$error":"#REF!"}},{"$f":"TRUNC(F4226*G4226,1)","v":{"$error":"#REF!"}},null,{"$f":"TRUNC(F4226*I4226,1)","v":0},null,{"$f":"TRUNC(F4226*K4226,1)","v":0},{"$f":"TRUNC(G4226+I4226+K4226,1)","v":{"$error":"#REF!"}},{"$f":"TRUNC(H4226+J4226+L4226,0)","v":{"$error":"#REF!"}},""]
[null,null,"[ 합           계 ]",{"$nulls":4},{"$f":"TRUNC(SUM(H4222:H4226),0)","v":{"$error":"#REF!"}},null,{"$f":"TRUNC(SUM(J4222:J4226),0)","v":0},null,{"$f":"TRUNC(SUM(L4222:L4226),0)","v":0},null,{"$f":"H4227+J4227+L4227","v":{"$error":"#REF!"}}]
[]
[null,null,"6913010  스텐용접합후렌지(그루브)   D125  개소"]
[null,null,"SUS 후렌지 (10KG)","D125(그루브)","EA",1,{"$f":"#REF!","v":{"$error":"#REF!"}},{"$f":"TRUNC(F4230*G4230,1)","v":{"$error":"#REF!"}},0,{"$f":"TRUNC(F4230*I4230,1)","v":0},0,{"$f":"TRUNC(F4230*K4230,1)","v":0},{"$f":"TRUNC(G4230+I4230+K4230,1)","v":{"$error":"#REF!"}},{"$f":"TRUNC(H4230+J4230+L4230,0)","v":{"$error":"#REF!"}},""]
[null,null,"스텐레스볼트","M16  L80","개",8,899,{"$f":"TRUNC(F4231*G4231,1)","v":7192},0,{"$f":"TRUNC(F4231*I4231,1)","v":0},0,{"$f":"TRUNC(F4231*K4231,1)","v":0},{"$f":"TRUNC(G4231+I4231+K4231,1)","v":899},{"$f":"TRUNC(H4231+J4231+L4231,0)","v":7192},""]
[null,null,"와샤(스텐)","M18","개",16,86.6,{"$f":"TRUNC(F4232*G4232,1)","v":1385.6},0,{"$f":"TRUNC(F4232*I4232,1)","v":0},0,{"$f":"TRUNC(F4232*K4232,1)","v":0},{"$f":"TRUNC(G4232+I4232+K4232,1)","v":86.6},{"$f":"TRUNC(H4232+J4232+L4232,0)","v":1385},""]
[null,null,"STS 그루브 죠인트","D125","개소",1,{"$f":"#REF!","v":{"$error":"#REF!"}},{"$f":"TRUNC(F4233*G4233,1)","v":{"$error":"#REF!"}},null,{"$f":"TRUNC(F4233*I4233,1)","v":0},null,{"$f":"TRUNC(F4233*K4233,1)","v":0},{"$f":"TRUNC(G4233+I4233+K4233,1)","v":{"$error":"#REF!"}},{"$f":"TRUNC(H4233+J4233+L4233,0)","v":{"$error":"#REF!"}},""]
[null,null,"[ 합           계 ]",{"$nulls":4},{"$f":"TRUNC(SUM(H4230:H4233),0)","v":{"$error":"#REF!"}},null,{"$f":"TRUNC(SUM(J4230:J4233),0)","v":0},null,{"$f":"TRUNC(SUM(L4230:L4233),0)","v":0},null,{"$f":"H4234+J4234+L4234","v":{"$error":"#REF!"}}]
[]
[null,null,"6913011  스텐용접합후렌지(그루브)   D150  개소"]
[null,null,"SUS 후렌지 (10KG)","D150(그루브)","EA",1,{"$f":"#REF!","v":{"$error":"#REF!"}},{"$f":"TRUNC(F4237*G4237,1)","v":{"$error":"#REF!"}},0,{"$f":"TRUNC(F4237*I4237,1)","v":0},0,{"$f":"TRUNC(F4237*K4237,1)","v":0},{"$f":"TRUNC(G4237+I4237+K4237,1)","v":{"$error":"#REF!"}},{"$f":"TRUNC(H4237+J4237+L4237,0)","v":{"$error":"#REF!"}},""]
[null,null,"스텐레스볼트","M16  L80","개",8,899,{"$f":"TRUNC(F4238*G4238,1)","v":7192},0,{"$f":"TRUNC(F4238*I4238,1)","v":0},0,{"$f":"TRUNC(F4238*K4238,1)","v":0},{"$f":"TRUNC(G4238+I4238+K4238,1)","v":899},{"$f":"TRUNC(H4238+J4238+L4238,0)","v":7192},""]
[null,null,"와샤(스텐)","M18","개",16,86.6,{"$f":"TRUNC(F4239*G4239,1)","v":1385.6},0,{"$f":"TRUNC(F4239*I4239,1)","v":0},0,{"$f":"TRUNC(F4239*K4239,1)","v":0},{"$f":"TRUNC(G4239+I4239+K4239,1)","v":86.6},{"$f":"TRUNC(H4239+J4239+L4239,0)","v":1385},""]
[null,null,"STS 그루브 죠인트","D150","개소",1,{"$f":"#REF!","v":{"$error":"#REF!"}},{"$f":"TRUNC(F4240*G4240,1)","v":{"$error":"#REF!"}},null,{"$f":"TRUNC(F4240*I4240,1)","v":0},null,{"$f":"TRUNC(F4240*K4240,1)","v":0},{"$f":"TRUNC(G4240+I4240+K4240,1)","v":{"$error":"#REF!"}},{"$f":"TRUNC(H4240+J4240+L4240,0)","v":{"$error":"#REF!"}},""]
[null,null,"[ 합           계 ]",{"$nulls":4},{"$f":"TRUNC(SUM(H4237:H4240),0)","v":{"$error":"#REF!"}},null,{"$f":"TRUNC(SUM(J4237:J4240),0)","v":0},null,{"$f":"TRUNC(SUM(L4237:L4240),0)","v":0},null,{"$f":"H4241+J4241+L4241","v":{"$error":"#REF!"}}]
[]
[null,null,"518호)천정철거, 철거재 사용,열경화성 수지,300x300 M2"]
[null,null,"열경화성수지천장재","300*300 1.5T","M2",{"$f":"1*10%","v":0.1},46000,{"$f":"TRUNC(F4244*G4244,1)","v":4600}]
[null,null,"건축목공","일반공사 직종","인",1.4999999999999999E-2,null,null,224657,{"$f":"TRUNC(F4245*I4245,1)","v":3369.8}]
[null,null,"보통인부","일반공사 직종","인",0.03,null,null,141096,{"$f":"TRUNC(F4246*I4246,1)","v":4232.8}]
[null,null,"[ 합           계 ]",{"$nulls":4},{"$f":"TRUNC(SUM(H4244:H4246),0)","v":4600},null,{"$f":"TRUNC(SUM(J4244:J4246),0)","v":7602}]
[]
[null,null,"519호표)천정철거, 철거재 사용,열경화성 수지,600x600 M2"]
[null,null,"열경화성수지천장재","300*300 1.5T","M2",{"$f":"1*10%","v":0.1},42000,{"$f":"TRUNC(F4250*G4250,1)","v":4200}]
[null,null,"건축목공","일반공사 직종","인",1.4999999999999999E-2,null,null,224657,{"$f":"TRUNC(F4251*I4251,1)","v":3369.8}]
[null,null,"보통인부","일반공사 직종","인",0.03,null,null,141096,{"$f":"TRUNC(F4252*I4252,1)","v":4232.8}]
[null,null,"[ 합           계 ]",{"$nulls":4},{"$f":"TRUNC(SUM(H4250:H4252),0)","v":4200},null,{"$f":"TRUNC(SUM(J4250:J4252),0)","v":7602}]
[]
[null,null,"520호표)천정철거, 철거재 사용,무석면택스,300x600 M2"]
[null,null,"아미텍스","6*300*600mm","M2",{"$f":"1*10%","v":0.1},4000,{"$f":"TRUNC(F4256*G4256,1)","v":400}]
[null,null,"건축목공","일반공사 직종","인",1.4999999999999999E-2,null,null,224657,{"$f":"TRUNC(F4257*I4257,1)","v":3369.8}]
[null,null,"보통인부","일반공사 직종","인",0.03,null,null,141096,{"$f":"TRUNC(F4258*I4258,1)","v":4232.8}]
[null,null,"[ 합           계 ]",{"$nulls":4},{"$f":"TRUNC(SUM(H4256:H4258),0)","v":400},null,{"$f":"TRUNC(SUM(J4256:J4258),0)","v":7602}]
[]
[null,null,"521호표)천정철거, 철거재 미사용,석고보드, THK=9.5MM*1PLY  M2"]
[null,null,"특별인부","일반공사 직종","인",{"$f":"0.0267*40%","v":1.0680000000000002E-2},null,null,191293,{"$f":"TRUNC(F4262*I4262,1)","v":2043}]
[null,null,"[ 합           계 ]",{"$nulls":4},{"$f":"TRUNC(SUM(H4260:H4262),0)","v":0},null,{"$f":"TRUNC(SUM(J4262),0)","v":2043}]
[]
[null,null,"522호표)천정재 취부,부자재 사용,석고보드, THK=9.5MM*1PLY  M2"]
[null,null,"석고보드","평보드, 방균, 9.5*900*1800mm(㎡)","M2",1.05,2469.13,{"$f":"TRUNC(F4266*G4266,1)","v":2592.5},null,{"$f":"TRUNC(F4266*I4266,1)","v":0}]
[null,null,"못","N65","Kg",3.5000000000000003E-2,1385,{"$f":"TRUNC(F4267*G4267,1)","v":48.4},null,{"$f":"TRUNC(F4267*I4267,1)","v":0}]
[null,null,"접착제","목공용 ","Kg",0.13500000000000001,1200,{"$f":"TRUNC(F4268*G4268,1)","v":162},null,{"$f":"TRUNC(F4268*I4268,1)","v":0}]
[null,null,"특별인부","일반공사 직종","인",{"$f":"0.0267","v":2.6700000000000002E-2},null,null,191293,{"$f":"TRUNC(F4269*I4269,1)","v":5107.5}]
[]
[null,null,"[ 합           계 ]",{"$nulls":4},{"$f":"SUM(H4266:H4270)","v":2802.9},null,{"$f":"SUM(J4266:J4270)","v":5107.5}]
[]
[null,null,"523호표)천정지바름 초배+정배,비닐실크  M2  "]
[null,null,"도배바름","재료비, 비닐벽지, 실크형, B급","M2",1,523,{"$f":"TRUNC(F4274*G4274,1)","v":523},null,{"$f":"TRUNC(F4274*I4274,1)","v":0}]
[null,null,"도배바름","천장","M2",1,null,{"$f":"TRUNC(F4275*G4275,1)","v":0},6897,{"$f":"TRUNC(F4275*I4275,1)","v":6897}]
[null,null,"[ 합           계 ]",{"$nulls":4},{"$f":"SUM(H4274:H4275)","v":523},null,{"$f":"SUM(J4274:J4275)","v":6897}]
[]
[null,null,"523호표)PE필름 보양  M2"]
[null,null,"PE필름","T=0.05","M2",1.1000000000000001,284,{"$f":"TRUNC(F4279*G4279,1)","v":312.39999999999998}]
[null,null,"테이프",null,"M",2,200,{"$f":"TRUNC(F4280*G4280,1)","v":400}]
[null,null,"노무비","보통인부","인",0.01,null,0,144481,{"$f":"TRUNC(F4281*I4281,1)","v":1444.8}]
[null,null,"[ 합           계 ]",{"$nulls":4},{"$f":"SUM(H4279:H4281)","v":712.4},null,{"$f":"SUM(J4279:J4281)","v":1444.8}]
[]
[null,null,"523호표)PE필름 보양보양 철거  M2"]
[null,null,"노무비","보통인부","인",0.01,null,null,{"$f":"I4281","v":144481},{"$f":"TRUNC(F4285*I4285,1)","v":1444.8}]
[null,null,"[ 합           계 ]",{"$nulls":6},{"$f":"SUM(J4285)","v":1444.8}]
[]
[null,null,"523호표)현장정리/ 개수/   M2"]
[null,null,"노무비","보통인부","인",3.5000000000000003E-2,null,null,{"$f":"I4285","v":144481},{"$f":"TRUNC(F4289*I4289,1)","v":5056.8}]
[null,null,"[ 합           계 ]",{"$nulls":6},{"$f":"SUM(J4289)","v":5056.8}]
[]
[]
[null,null,"523호표)내부수평비계(강당내부)  3개월,2단  M2    "]
[null,null,"강관비계","강관비계, 비계파이프, 48.6*2.3mm","M",0.3044,2666.66,811.7,0,0,0,0,2666.6,811.7,""]
[null,null,"강관비계 부속철물","조임철물, 직교 및 가새","개",7.1999999999999998E-3,1200,8.6,0,0,0,0,1200,8.6]
[null,null,"강관비계 부속철물","이음철물, 연결핀","개",0.16320000000000001,873,142.4,0,0,0,0,873,142.4]
[null,null,"안전발판","PSP, 3040*420*3mm","매",4.7E-2,23000,1081,0,0,0,0,23000,1081]
[null,null,"비계공","일반공사 직종","인",5.7599999999999998E-2,0,0,254117,14637.1,0,0,254117,14637.1]
[null,null," [ 합          계 ]","","",null,null,2043,null,14637,null,0,null,16680,""]
[]
[null,null,"523호표)이동식강관말비계  (12m), 3개월  대  "]
[null,null,"비계안정장치","비계안정장치, 비계기본틀, 기둥, 1.2*1.7m","개",0.72,20400,14688,0,0,0,0,20400,14688,""]
[null,null,"비계안정장치","비계안정장치, 가새, 1.2*1.9m","개",0.72,6100,4392,0,0,0,0,6100,4392,""]
[null,null,"비계안정장치","비계안정장치, 수평띠장, 1829mm","개",1.44,14900,21456,0,0,0,0,14900,21456,""]
[null,null,"비계안정장치","비계안정장치, 손잡이기둥","개",0.48,2200,1056,0,0,0,0,2200,1056,""]
[null,null,"비계안정장치","비계안정장치, 손잡이, 1229mm","개",0.24,1200,288,0,0,0,0,1200,288,""]
[null,null,"비계안정장치","비계안정장치, 손잡이, 1829mm","개",0.48,850,408,0,0,0,0,850,408,""]
[null,null,"비계안정장치","비계안정장치, 이음철물, 연결핀","개",1.92,830,1593.6,0,0,0,0,830,1593.6,""]
[null,null,"비계안정장치","비계안정장치, 바퀴","개",0.36,9900,3564,0,0,0,0,9900,3564,""]
[null,null,"비계안정장치","비계안정장치, 쟈키","개",0.36,7200,2592,0,0,0,0,7200,2592,""]
[null,null,"비계안정장치","비계안정장치, 발판, 40*200*2000","장",0.42,16500,6930,0,0,0,0,16500,6930,""]
[null,null,"강관 조립말비계(이동식)설치 및 해체","높이 12m, 노무비","대",1,0,0,416590,416590,0,0,416590,416590,""]
[null,null," [ 합          계 ]","","",null,null,{"$f":"SUM(H4302:H4312)","v":56967.6},null,{"$f":"SUM(J4302:J4312)","v":416590},null,0,null,473557,""]
[]
[null,null,"523호표)강관 조립말비계(이동식)설치 및 해체  높이 12m, 노무비  대  "]
[null,null,"비계공","일반공사 직종","인",1.23,0,0,254117,312563.90000000002,0,0,254117,312563.90000000002,""]
[null,null,"보통인부","일반공사 직종","인",0.72,0,0,144481,104026.3,0,0,144481,104026.3,""]
[null,null," [ 합          계 ]","","",null,null,0,null,{"$f":"SUM(J4316:J4317)","v":416590.2},null,0,null,416590,""]
[]
[]
[null,null,"이동식강관말비계  1단(2m), 3개월  대  토목 2-6-3, 5   ( 호표 29 )"]
[null,null,"비계안정장치","비계안정장치, 비계기본틀, 기둥, 1.2*1.7m","개",0.12,20400,2448,0,0,0,0,20400,2448,""]
[null,null,"비계안정장치","비계안정장치, 가새, 1.2*1.9m","개",0.12,6100,732,0,0,0,0,6100,732,""]
[null,null,"비계안정장치","비계안정장치, 수평띠장, 1829mm","개",0.24,14900,3576,0,0,0,0,14900,3576,""]
[null,null,"비계안정장치","비계안정장치, 손잡이기둥","개",0.24,2200,528,0,0,0,0,2200,528,""]
[null,null,"비계안정장치","비계안정장치, 손잡이, 1229mm","개",0.12,1200,144,0,0,0,0,1200,144,""]
[null,null,"비계안정장치","비계안정장치, 손잡이, 1829mm","개",0.24,850,204,0,0,0,0,850,204,""]
[null,null,"비계안정장치","비계안정장치, 바퀴","개",0.36,9900,3564,0,0,0,0,9900,3564,""]
[null,null,"비계안정장치","비계안정장치, 쟈키","개",0.36,7200,2592,0,0,0,0,7200,2592,""]
[null,null,"비계안정장치","비계안정장치, 발판, 40*200*2000","장",0.42,16500,6930,0,0,0,0,16500,6930,""]
[null,null,"강관 조립말비계(이동식)설치 및 해체","높이 2m, 노무비","대",1,0,0,83756,83756,0,0,83756,83756,""]
[null,null," [ 합          계 ]","","",null,null,20718,null,83756,null,0,null,104474,""]
[]
[null,null,"이동식강관말비계  3단(6m), 3개월  대  토목 2-6-3, 5   ( 호표 31 )"]
[null,null,"비계안정장치","비계안정장치, 비계기본틀, 기둥, 1.2*1.7m","개",0.36,20400,7344,0,0,0,0,20400,7344,""]
[null,null,"비계안정장치","비계안정장치, 가새, 1.2*1.9m","개",0.36,6100,2196,0,0,0,0,6100,2196,""]
[null,null,"비계안정장치","비계안정장치, 수평띠장, 1829mm","개",0.72,14900,10728,0,0,0,0,14900,10728,""]
[null,null,"비계안정장치","비계안정장치, 손잡이기둥","개",0.24,2200,528,0,0,0,0,2200,528,""]
[null,null,"비계안정장치","비계안정장치, 손잡이, 1229mm","개",0.12,1200,144,0,0,0,0,1200,144,""]
[null,null,"비계안정장치","비계안정장치, 손잡이, 1829mm","개",0.24,850,204,0,0,0,0,850,204,""]
[null,null,"비계안정장치","비계안정장치, 이음철물, 연결핀","개",0.96,830,796.8,0,0,0,0,830,796.8,""]
[null,null,"비계안정장치","비계안정장치, 바퀴","개",0.36,9900,3564,0,0,0,0,9900,3564,""]
[null,null,"비계안정장치","비계안정장치, 쟈키","개",0.36,7200,2592,0,0,0,0,7200,2592,""]
[null,null,"비계안정장치","비계안정장치, 발판, 40*200*2000","장",0.42,16500,6930,0,0,0,0,16500,6930,""]
[null,null,"강관 조립말비계(이동식)설치 및 해체","높이 2m, 노무비","대",1,0,0,83756,83756,0,0,83756,83756,""]
[null,null,"강관 조립말비계(이동식)설치 및 해체","높이 4m, 노무비","대",1,0,0,138863,138863,0,0,138863,138863,""]
[null,null," [ 합          계 ]","","",null,null,35026,null,222619,null,0,null,257645,""]
[]
[null,null,"호표)가대설치 300x300 /개"]
[null,null,"STS 앵글","50*50*4T","KG",2.85,{"$f":"#REF!","v":{"$error":"#REF!"}},{"$f":"TRUNC(F4350*G4350,1)","v":{"$error":"#REF!"}},null,{"$f":"TRUNC(F4350*I4350,1)","v":0}]
[null,null,"잡철물제작설치","STS (간단)","KG",2.85,{"$f":"'일위대가목록(21년 하반기)'!$F$340/1000","v":218.50200000000001},622.70000000000005,{"$f":"'일위대가목록(21년 하반기)'!$G$340/1000","v":5109.2809999999999},14561.4,{"$f":"'일위대가목록(21년 하반기)'!$H$340/1000","v":103.83199999999999}]
[null,null,"PVC 관","KS VG2 150A","M",0.3,{"$f":"#REF!","v":{"$error":"#REF!"}},{"$error":"#REF!"},null,0]
[null,null,"콘크리트","(인력)","M3",5.0000000000000001E-3,63460,317.3,203655,1018.2]
[null,null,"잡자재비","관의 4%","식",1,null,0,null,0]
[null,null,"공임","배관공","인",7.0000000000000007E-2,null,0,{"$f":"#REF!","v":{"$error":"#REF!"}},{"$error":"#REF!"}]
[null,null,null,"보통인부","인",0.02,null,0,{"$f":"#REF!","v":{"$error":"#REF!"}},{"$error":"#REF!"}]
[null,null,"공구손료","공임의 2%","식",1,null,0,null,null,{"$f":"TRUNC(J4356+J4355)*2%","v":{"$error":"#REF!"}},{"$f":"TRUNC(F4357*K4357,1)","v":{"$error":"#REF!"}}]
[null,null," [ 합          계 ]",{"$nulls":4},{"$f":"SUM(H4350:H4357)","v":{"$error":"#REF!"}},null,{"$f":"SUM(J4350:J4357)","v":{"$error":"#REF!"}},null,{"$f":"SUM(L4350:L4357)","v":{"$error":"#REF!"}}]
[null,null,"호표)가대설치 600x600 /개"]
[null,null,"STS 앵글","50*50*4T","KG",3.49,{"$f":"#REF!","v":{"$error":"#REF!"}},{"$f":"TRUNC(F4360*G4360,1)","v":{"$error":"#REF!"}},null,{"$f":"TRUNC(F4360*I4360,1)","v":0}]
[null,null,"잡철물제작설치","STS (간단)","KG",3.49,{"$f":"'일위대가목록(21년 하반기)'!$F$340/1000","v":218.50200000000001},762.5,{"$f":"'일위대가목록(21년 하반기)'!$G$340/1000","v":5109.2809999999999},17831.3,{"$f":"'일위대가목록(21년 하반기)'!$H$340/1000","v":103.83199999999999}]
[null,null,"PVC 관","KS VG2 150A","M",0.3,{"$f":"#REF!","v":{"$error":"#REF!"}},{"$error":"#REF!"},null,0]
[null,null,"콘크리트","(인력)","M3",5.0000000000000001E-3,63460,317.3,203655,1018.2]
[null,null,"잡자재비","관의 4%","식",1,null,0,null,0]
[null,null,"공임","배관공","인",7.0000000000000007E-2,null,0,{"$f":"#REF!","v":{"$error":"#REF!"}},{"$error":"#REF!"}]
[null,null,null,"보통인부","인",0.02,null,0,{"$f":"#REF!","v":{"$error":"#REF!"}},{"$error":"#REF!"}]
[null,null,"공구손료","공임의 2%","식",1,null,0,null,null,{"$f":"TRUNC(J4366+J4365)*2%","v":{"$error":"#REF!"}},{"$f":"TRUNC(F4367*K4367,1)","v":{"$error":"#REF!"}}]
[null,null," [ 합          계 ]",{"$nulls":4},{"$f":"SUM(H4360:H4367)","v":{"$error":"#REF!"}},null,{"$f":"SUM(J4360:J4367)","v":{"$error":"#REF!"}},null,{"$f":"SUM(L4360:L4367)","v":{"$error":"#REF!"}}]
[]
[null,null,"에폭시페인트  바닥,롤러칠  M2  건축 17-14   ( 호표 670 )"]
[null,null,"콘크리트·모르타르면 바탕만들기","노무비","M2",1,69,69,2315,2315,0,0,2384,2384,""]
[null,null,"에폭시 페인트칠 재료비(20년 품셈기준)","콘크리트, 시멘트 모르타르용","M2",1,6852,6852,0,0,0,0,6852,6852,""]
[null,null,"에폭시 코팅(롤러칠 노무비)","하도1회, 퍼티 및 연마, 에폭시 페인트 2회칠 기준","M2",1,192,192,9623,9623,0,0,9815,9815,""]
[null,null," [ 합          계 ]","","",null,null,7113,null,11938,null,0,null,19051,""]
[]
[null,null,"폐기물상차비    M3     ( 호표 801 )"]
[null,null,"폐기물상차비","","M3",1,0,0,0,0,3220,3220,3220,3220,""]
[null,null," [ 합          계 ]","","",null,null,0,null,0,null,3220,null,3220,""]
[]
[null,null,"폐기물운반비(덤프15Ton)  30KM이하  톤     ( 호표 814 )"]
[null,null,"폐기물운반비(상차비제외)","30km이하","톤",1,0,0,0,0,13210,13210,13210,13210,""]
[null,null," [ 합          계 ]","","",null,null,0,null,0,null,13210,null,13210,""]
{"$rows_empty":12}
[null,null,"1호표)STS관 설치 250Ax 4.0t /M당"]
[null,null," 스텐레스 관"," 250A x 4.0t","M",1.1000000000000001,{"$f":"#REF!","v":{"$error":"#REF!"}},{"$f":"G4396*F4396","v":{"$error":"#REF!"}},{"$nulls":4},{"$f":"K4396+I4396+G4396","v":{"$error":"#REF!"}},{"$error":"#REF!"}]
[null,null," 잡자재비","관의 3%","식",1,{"$f":"TRUNC(H4396*3%)","v":{"$error":"#REF!"}},{"$error":"#REF!"}]
[null,null," 작 업 부 산 물"," 고 스텐","KG",12.448,{"$f":"#REF!","v":{"$error":"#REF!"}},{"$error":"#REF!"},{"$nulls":4},{"$error":"#REF!"},{"$error":"#REF!"}]
[null,null,"인 건 비"," 배    관    공","인",0.45800000000000002,null,0,{"$f":"#REF!","v":{"$error":"#REF!"}},{"$f":"I4399*F4399","v":{"$error":"#REF!"}},null,null,{"$error":"#REF!"},{"$error":"#REF!"}]
[null,null,"인 건 비"," 보  통  인  부","인",0.187,null,0,{"$f":"#REF!","v":{"$error":"#REF!"}},{"$f":"I4400*F4400","v":{"$error":"#REF!"}},null,null,{"$error":"#REF!"},{"$error":"#REF!"}]
[null,null,"공구손료","공임의 2%","식",1,null,0,null,null,{"$f":"TRUNC(J4400+J4399)*2%","v":{"$error":"#REF!"}},{"$f":"TRUNC(F4401*K4401,1)","v":{"$error":"#REF!"}},{"$error":"#REF!"},{"$error":"#REF!"}]
[null,null," [ 합          계 ]","","",null,null,{"$f":"SUM(H4396:H4401)","v":{"$error":"#REF!"}},null,{"$f":"SUM(J4396:J4401)","v":{"$error":"#REF!"}},null,{"$f":"SUM(L4396:L4401)","v":{"$error":"#REF!"}},null,{"$f":"SUM(N4396:N4401)","v":{"$error":"#REF!"}},""]
[]
[null,null,"2호표)STS관 설치 200Ax 4.0t /M당"]
[null,null," 스텐레스 관"," 200A x 4.0t","M",1.1000000000000001,{"$f":"#REF!","v":{"$error":"#REF!"}},{"$f":"G4405*F4405","v":{"$error":"#REF!"}},{"$nulls":4},{"$f":"K4405+I4405+G4405","v":{"$error":"#REF!"}},{"$error":"#REF!"}]
[null,null," 작 업 부 산 물"," 고 스텐","KG",10.042999999999999,{"$f":"#REF!","v":{"$error":"#REF!"}},{"$f":"G4406*F4406","v":{"$error":"#REF!"}},{"$nulls":4},{"$error":"#REF!"},{"$error":"#REF!"}]
[null,null,"인 건 비"," 배    관    공","인",0.34100000000000003,null,{"$f":"G4407*F4407","v":0},{"$f":"#REF!","v":{"$error":"#REF!"}},{"$f":"I4407*F4407","v":{"$error":"#REF!"}},null,null,{"$error":"#REF!"},{"$error":"#REF!"}]
[null,null,"인 건 비"," 보  통  인  부","인",0.13500000000000001,null,{"$f":"G4408*F4408","v":0},{"$f":"#REF!","v":{"$error":"#REF!"}},{"$f":"I4408*F4408","v":{"$error":"#REF!"}},null,null,{"$error":"#REF!"},{"$error":"#REF!"}]
[null,null,"공구손료","공임의 2%","식",1,null,{"$f":"G4409*F4409","v":0},null,null,{"$f":"TRUNC(J4408+J4407)*2%","v":{"$error":"#REF!"}},{"$f":"TRUNC(F4409*K4409,1)","v":{"$error":"#REF!"}},{"$error":"#REF!"},{"$error":"#REF!"}]
[null,null," [ 합          계 ]","","",null,null,{"$f":"SUM(H4405:H4409)","v":{"$error":"#REF!"}},null,{"$f":"SUM(J4405:J4409)","v":{"$error":"#REF!"}},null,{"$f":"SUM(L4405:L4409)","v":{"$error":"#REF!"}},null,{"$f":"SUM(N4405:N4409)","v":{"$error":"#REF!"}}]
[]
[null,null,"3호표)STS관 설치 150Ax 3.5t /M당"]
[null,null," 스텐레스 관"," 150A x 3.5t","M",1.1000000000000001,{"$f":"#REF!","v":{"$error":"#REF!"}},{"$f":"G4413*F4413","v":{"$error":"#REF!"}},{"$nulls":4},{"$f":"K4413+I4413+G4413","v":{"$error":"#REF!"}},{"$error":"#REF!"}]
[null,null," 작 업 부 산 물"," 고 스텐","KG",7.6369999999999996,{"$f":"#REF!","v":{"$error":"#REF!"}},{"$f":"G4414*F4414","v":{"$error":"#REF!"}},{"$nulls":4},{"$error":"#REF!"},{"$error":"#REF!"}]
[null,null,"인 건 비"," 배    관    공","인",0.24,null,{"$f":"G4415*F4415","v":0},{"$f":"#REF!","v":{"$error":"#REF!"}},{"$f":"I4415*F4415","v":{"$error":"#REF!"}},null,null,{"$error":"#REF!"},{"$error":"#REF!"}]
[null,null,"인 건 비"," 보  통  인  부","인",0.10100000000000001,null,{"$f":"G4416*F4416","v":0},{"$f":"#REF!","v":{"$error":"#REF!"}},{"$f":"I4416*F4416","v":{"$error":"#REF!"}},null,null,{"$error":"#REF!"},{"$error":"#REF!"}]
[null,null,"공구손료","공임의 2%","식",1,null,{"$f":"G4417*F4417","v":0},null,null,{"$f":"TRUNC(J4416+J4415)*2%","v":{"$error":"#REF!"}},{"$f":"TRUNC(F4417*K4417,1)","v":{"$error":"#REF!"}},{"$error":"#REF!"},{"$error":"#REF!"}]
[null,null," [ 합          계 ]","","",null,null,{"$f":"SUM(H4413:H4417)","v":{"$error":"#REF!"}},null,{"$f":"SUM(J4413:J4417)","v":{"$error":"#REF!"}},null,{"$f":"SUM(L4413:L4417)","v":{"$error":"#REF!"}},null,{"$f":"SUM(N4413:N4417)","v":{"$error":"#REF!"}}]
[]
[null,null,"4호표)STS관 설치 80Ax 3.0t /M당"]
[null,null," 스텐레스 관","  80A x 3.0t","M",1.1000000000000001,{"$f":"#REF!","v":{"$error":"#REF!"}},{"$f":"G4421*F4421","v":{"$error":"#REF!"}},{"$nulls":4},{"$f":"K4421+I4421+G4421","v":{"$error":"#REF!"}},{"$error":"#REF!"}]
[null,null," 작 업 부 산 물"," 고 스텐","KG",4.0540000000000003,{"$f":"#REF!","v":{"$error":"#REF!"}},{"$f":"G4422*F4422","v":{"$error":"#REF!"}},{"$nulls":4},{"$error":"#REF!"},{"$error":"#REF!"}]
[null,null,"인 건 비"," 배    관    공","인",0.11,null,{"$f":"G4423*F4423","v":0},{"$f":"#REF!","v":{"$error":"#REF!"}},{"$f":"I4423*F4423","v":{"$error":"#REF!"}},null,null,{"$error":"#REF!"},{"$error":"#REF!"}]
[null,null,"인 건 비"," 보  통  인  부","인",4.4999999999999998E-2,null,{"$f":"G4424*F4424","v":0},{"$f":"#REF!","v":{"$error":"#REF!"}},{"$f":"I4424*F4424","v":{"$error":"#REF!"}},null,null,{"$error":"#REF!"},{"$error":"#REF!"}]
[null,null,"공구손료","공임의 2%","식",1,null,{"$f":"G4425*F4425","v":0},null,null,{"$f":"TRUNC(J4424+J4423)*2%","v":{"$error":"#REF!"}},{"$f":"TRUNC(F4425*K4425,1)","v":{"$error":"#REF!"}},{"$error":"#REF!"},{"$error":"#REF!"}]
[null,null," [ 합          계 ]","","",null,null,{"$f":"SUM(H4421:H4425)","v":{"$error":"#REF!"}},null,{"$f":"SUM(J4421:J4425)","v":{"$error":"#REF!"}},null,{"$f":"SUM(L4421:L4425)","v":{"$error":"#REF!"}},null,{"$f":"SUM(N4421:N4425)","v":{"$error":"#REF!"}}]
[]
[null,null,"5호표)STS관 설치 65Ax 3.0t /M당"]
[null,null," 스텐레스 관","  65A x 3.0t","M",1.1000000000000001,{"$f":"#REF!","v":{"$error":"#REF!"}},{"$f":"G4429*F4429","v":{"$error":"#REF!"}},{"$nulls":4},{"$f":"K4429+I4429+G4429","v":{"$error":"#REF!"}},{"$error":"#REF!"}]
[null,null," 작 업 부 산 물"," 고 스텐","KG",3.29,{"$f":"#REF!","v":{"$error":"#REF!"}},{"$f":"G4430*F4430","v":{"$error":"#REF!"}},{"$nulls":4},{"$error":"#REF!"},{"$error":"#REF!"}]
[null,null,"인 건 비"," 배    관    공","인",9.7000000000000003E-2,null,{"$f":"G4431*F4431","v":0},{"$f":"#REF!","v":{"$error":"#REF!"}},{"$f":"I4431*F4431","v":{"$error":"#REF!"}},null,null,{"$error":"#REF!"},{"$error":"#REF!"}]
[null,null,"인 건 비"," 보  통  인  부","인",0.04,null,{"$f":"G4432*F4432","v":0},{"$f":"#REF!","v":{"$error":"#REF!"}},{"$f":"I4432*F4432","v":{"$error":"#REF!"}},null,null,{"$error":"#REF!"},{"$error":"#REF!"}]
[null,null,"공구손료","공임의 2%","식",1,null,{"$f":"G4433*F4433","v":0},null,null,{"$f":"TRUNC(J4432+J4431)*2%","v":{"$error":"#REF!"}},{"$f":"TRUNC(F4433*K4433,1)","v":{"$error":"#REF!"}},{"$error":"#REF!"},{"$error":"#REF!"}]
[null,null," [ 합          계 ]","","",null,null,{"$f":"SUM(H4429:H4433)","v":{"$error":"#REF!"}},null,{"$f":"SUM(J4429:J4433)","v":{"$error":"#REF!"}},null,{"$f":"SUM(L4429:L4433)","v":{"$error":"#REF!"}},null,{"$f":"SUM(N4429:N4433)","v":{"$error":"#REF!"}}]
[]
[null,null,"6호표)STS 후렌지 250A (합) 10kg /조"]
[null,null,"SUS 후렌지 (10KG)","D250","EA",1,85150,{"$f":"TRUNC(F4437*G4437,1)","v":85150},0,{"$f":"TRUNC(F4437*I4437,1)","v":0},0,{"$f":"TRUNC(F4437*K4437,1)","v":0},{"$f":"TRUNC(G4437+I4437+K4437,1)","v":85150},{"$f":"TRUNC(H4437+J4437+L4437,0)","v":85150},""]
[null,null,"스텐레스볼트","M20  L100","개",12,1851,{"$f":"TRUNC(F4438*G4438,1)","v":22212},0,{"$f":"TRUNC(F4438*I4438,1)","v":0},0,{"$f":"TRUNC(F4438*K4438,1)","v":0},{"$f":"TRUNC(G4438+I4438+K4438,1)","v":1851},{"$f":"TRUNC(H4438+J4438+L4438,0)","v":22212},""]
[null,null,"와샤(스텐)","M20","개",24,100.8,{"$f":"TRUNC(F4439*G4439,1)","v":2419.1999999999998},0,{"$f":"TRUNC(F4439*I4439,1)","v":0},0,{"$f":"TRUNC(F4439*K4439,1)","v":0},{"$f":"TRUNC(G4439+I4439+K4439,1)","v":100.8},{"$f":"TRUNC(H4439+J4439+L4439,0)","v":2419},""]
[null,null,"후렌지패킹","3.2MMxD250","EA",1,3657,{"$f":"TRUNC(F4440*G4440,1)","v":3657},0,{"$f":"TRUNC(F4440*I4440,1)","v":0},0,{"$f":"TRUNC(F4440*K4440,1)","v":0},{"$f":"TRUNC(G4440+I4440+K4440,1)","v":3657},{"$f":"TRUNC(H4440+J4440+L4440,0)","v":3657},""]
[null,null,"스텐관용접","D250","개소",1,28852,{"$f":"TRUNC(F4441*G4441,1)","v":28852},82823,{"$f":"TRUNC(F4441*I4441,1)","v":82823},1656,{"$f":"TRUNC(F4441*K4441,1)","v":1656},{"$f":"TRUNC(G4441+I4441+K4441,1)","v":113331},{"$f":"TRUNC(H4441+J4441+L4441,0)","v":113331},""]
[null,null,"[ 합           계 ]",{"$nulls":4},{"$f":"TRUNC(SUM(H4437:H4441),0)","v":142290},null,{"$f":"TRUNC(SUM(J4437:J4441),0)","v":82823},null,{"$f":"TRUNC(SUM(L4437:L4441),0)","v":1656},null,{"$f":"H4442+J4442+L4442","v":226769}]
[]
[null,null,"7호표)STS 후렌지 200A (합) 10kg /조"]
[null,null,"SUS 후렌지 (10KG)","D200","EA",1,52585,{"$f":"TRUNC(F4445*G4445,1)","v":52585},0,{"$f":"TRUNC(F4445*I4445,1)","v":0},0,{"$f":"TRUNC(F4445*K4445,1)","v":0},{"$f":"TRUNC(G4445+I4445+K4445,1)","v":52585},{"$f":"TRUNC(H4445+J4445+L4445,0)","v":52585},""]
[null,null,"스텐레스볼트","M16  L80","개",12,899,{"$f":"TRUNC(F4446*G4446,1)","v":10788},0,{"$f":"TRUNC(F4446*I4446,1)","v":0},0,{"$f":"TRUNC(F4446*K4446,1)","v":0},{"$f":"TRUNC(G4446+I4446+K4446,1)","v":899},{"$f":"TRUNC(H4446+J4446+L4446,0)","v":10788},""]
[null,null,"와샤(스텐)","M18","개",24,86.6,{"$f":"TRUNC(F4447*G4447,1)","v":2078.4},0,{"$f":"TRUNC(F4447*I4447,1)","v":0},0,{"$f":"TRUNC(F4447*K4447,1)","v":0},{"$f":"TRUNC(G4447+I4447+K4447,1)","v":86.6},{"$f":"TRUNC(H4447+J4447+L4447,0)","v":2078},""]
[null,null,"후렌지패킹","3.2MMxD200","EA",1,2702,{"$f":"TRUNC(F4448*G4448,1)","v":2702},0,{"$f":"TRUNC(F4448*I4448,1)","v":0},0,{"$f":"TRUNC(F4448*K4448,1)","v":0},{"$f":"TRUNC(G4448+I4448+K4448,1)","v":2702},{"$f":"TRUNC(H4448+J4448+L4448,0)","v":2702},""]
[null,null,"스텐관용접","D200","개소",1,20192,{"$f":"TRUNC(F4449*G4449,1)","v":20192},68058,{"$f":"TRUNC(F4449*I4449,1)","v":68058},1361,{"$f":"TRUNC(F4449*K4449,1)","v":1361},{"$f":"TRUNC(G4449+I4449+K4449,1)","v":89611},{"$f":"TRUNC(H4449+J4449+L4449,0)","v":89611},""]
[null,null,"[ 합           계 ]",{"$nulls":4},{"$f":"TRUNC(SUM(H4445:H4449),0)","v":88345},null,{"$f":"TRUNC(SUM(J4445:J4449),0)","v":68058},null,{"$f":"TRUNC(SUM(L4445:L4449),0)","v":1361},null,{"$f":"H4450+J4450+L4450","v":157764}]
[]
[null,null,"8호표)STS 후렌지 150A (합) 10kg /조"]
[null,null,"SUS 후렌지 (10KG)","D150","EA",1,39520,{"$f":"TRUNC(F4453*G4453,1)","v":39520},0,{"$f":"TRUNC(F4453*I4453,1)","v":0},0,{"$f":"TRUNC(F4453*K4453,1)","v":0},{"$f":"TRUNC(G4453+I4453+K4453,1)","v":39520},{"$f":"TRUNC(H4453+J4453+L4453,0)","v":39520},""]
[null,null,"스텐레스볼트","M16  L80","개",8,899,{"$f":"TRUNC(F4454*G4454,1)","v":7192},0,{"$f":"TRUNC(F4454*I4454,1)","v":0},0,{"$f":"TRUNC(F4454*K4454,1)","v":0},{"$f":"TRUNC(G4454+I4454+K4454,1)","v":899},{"$f":"TRUNC(H4454+J4454+L4454,0)","v":7192},""]
[null,null,"와샤(스텐)","M18","개",16,86.6,{"$f":"TRUNC(F4455*G4455,1)","v":1385.6},0,{"$f":"TRUNC(F4455*I4455,1)","v":0},0,{"$f":"TRUNC(F4455*K4455,1)","v":0},{"$f":"TRUNC(G4455+I4455+K4455,1)","v":86.6},{"$f":"TRUNC(H4455+J4455+L4455,0)","v":1385},""]
[null,null,"후렌지패킹","3.2MMxD150","EA",1,2173,{"$f":"TRUNC(F4456*G4456,1)","v":2173},0,{"$f":"TRUNC(F4456*I4456,1)","v":0},0,{"$f":"TRUNC(F4456*K4456,1)","v":0},{"$f":"TRUNC(G4456+I4456+K4456,1)","v":2173},{"$f":"TRUNC(H4456+J4456+L4456,0)","v":2173},""]
[null,null,"스텐관용접","D150","개소",1,12008,{"$f":"TRUNC(F4457*G4457,1)","v":12008},53293,{"$f":"TRUNC(F4457*I4457,1)","v":53293},1065,{"$f":"TRUNC(F4457*K4457,1)","v":1065},{"$f":"TRUNC(G4457+I4457+K4457,1)","v":66366},{"$f":"TRUNC(H4457+J4457+L4457,0)","v":66366},""]
[null,null,"[ 합           계 ]",{"$nulls":4},{"$f":"TRUNC(SUM(H4453:H4457),0)","v":62278},null,{"$f":"TRUNC(SUM(J4453:J4457),0)","v":53293},null,{"$f":"TRUNC(SUM(L4453:L4457),0)","v":1065},null,{"$f":"H4458+J4458+L4458","v":116636}]
[]
[null,null,"9호표)STS 후렌지 80A (합) 10kg /조"]
[null,null,"SUS 후렌지 (10KG)","D80","EA",1,17810,{"$f":"TRUNC(F4461*G4461,1)","v":17810},0,{"$f":"TRUNC(F4461*I4461,1)","v":0},0,{"$f":"TRUNC(F4461*K4461,1)","v":0},{"$f":"TRUNC(G4461+I4461+K4461,1)","v":17810},{"$f":"TRUNC(H4461+J4461+L4461,0)","v":17810},""]
[null,null,"스텐레스볼트","M12  L70","개",8,445,{"$f":"TRUNC(F4462*G4462,1)","v":3560},0,{"$f":"TRUNC(F4462*I4462,1)","v":0},0,{"$f":"TRUNC(F4462*K4462,1)","v":0},{"$f":"TRUNC(G4462+I4462+K4462,1)","v":445},{"$f":"TRUNC(H4462+J4462+L4462,0)","v":3560},""]
[null,null,"와샤(스텐)","M12","개",16,29.8,{"$f":"TRUNC(F4463*G4463,1)","v":476.8},0,{"$f":"TRUNC(F4463*I4463,1)","v":0},0,{"$f":"TRUNC(F4463*K4463,1)","v":0},{"$f":"TRUNC(G4463+I4463+K4463,1)","v":29.8},{"$f":"TRUNC(H4463+J4463+L4463,0)","v":476},""]
[null,null,"후렌지패킹","3.2MMxD80","EA",1,812,{"$f":"TRUNC(F4464*G4464,1)","v":812},0,{"$f":"TRUNC(F4464*I4464,1)","v":0},0,{"$f":"TRUNC(F4464*K4464,1)","v":0},{"$f":"TRUNC(G4464+I4464+K4464,1)","v":812},{"$f":"TRUNC(H4464+J4464+L4464,0)","v":812},""]
[null,null,"스텐관용접","D80","개소",1,4146,{"$f":"TRUNC(F4465*G4465,1)","v":4146},31145,{"$f":"TRUNC(F4465*I4465,1)","v":31145},622,{"$f":"TRUNC(F4465*K4465,1)","v":622},{"$f":"TRUNC(G4465+I4465+K4465,1)","v":35913},{"$f":"TRUNC(H4465+J4465+L4465,0)","v":35913},""]
[null,null,"[ 합           계 ]",{"$nulls":4},{"$f":"TRUNC(SUM(H4461:H4465),0)","v":26804},null,{"$f":"TRUNC(SUM(J4461:J4465),0)","v":31145},null,{"$f":"TRUNC(SUM(L4461:L4465),0)","v":622},null,{"$f":"H4466+J4466+L4466","v":58571}]
[]
[null,null,"10호표)STS 후렌지 65A (합) 10kg /조"]
[null,null,"SUS 후렌지 (10KG)","D65","EA",1,16575,{"$f":"TRUNC(F4469*G4469,1)","v":16575},0,{"$f":"TRUNC(F4469*I4469,1)","v":0},0,{"$f":"TRUNC(F4469*K4469,1)","v":0},{"$f":"TRUNC(G4469+I4469+K4469,1)","v":16575},{"$f":"TRUNC(H4469+J4469+L4469,0)","v":16575},""]
[null,null,"스텐레스볼트","M12  L60","개",4,398,{"$f":"TRUNC(F4470*G4470,1)","v":1592},0,{"$f":"TRUNC(F4470*I4470,1)","v":0},0,{"$f":"TRUNC(F4470*K4470,1)","v":0},{"$f":"TRUNC(G4470+I4470+K4470,1)","v":398},{"$f":"TRUNC(H4470+J4470+L4470,0)","v":1592},""]
[null,null,"와샤(스텐)","M12","개",8,29.8,{"$f":"TRUNC(F4471*G4471,1)","v":238.4},0,{"$f":"TRUNC(F4471*I4471,1)","v":0},0,{"$f":"TRUNC(F4471*K4471,1)","v":0},{"$f":"TRUNC(G4471+I4471+K4471,1)","v":29.8},{"$f":"TRUNC(H4471+J4471+L4471,0)","v":238},""]
[null,null,"후렌지패킹","3.2MMxD65","EA",1,525,{"$f":"TRUNC(F4472*G4472,1)","v":525},0,{"$f":"TRUNC(F4472*I4472,1)","v":0},0,{"$f":"TRUNC(F4472*K4472,1)","v":0},{"$f":"TRUNC(G4472+I4472+K4472,1)","v":525},{"$f":"TRUNC(H4472+J4472+L4472,0)","v":525},""]
[null,null,"스텐관용접","D65","개소",1,3287,{"$f":"TRUNC(F4473*G4473,1)","v":3287},27454,{"$f":"TRUNC(F4473*I4473,1)","v":27454},549,{"$f":"TRUNC(F4473*K4473,1)","v":549},{"$f":"TRUNC(G4473+I4473+K4473,1)","v":31290},{"$f":"TRUNC(H4473+J4473+L4473,0)","v":31290},""]
[null,null,"[ 합           계 ]",{"$nulls":4},{"$f":"TRUNC(SUM(H4469:H4473),0)","v":22217},null,{"$f":"TRUNC(SUM(J4469:J4473),0)","v":27454},null,{"$f":"TRUNC(SUM(L4469:L4473),0)","v":549},null,{"$f":"H4474+J4474+L4474","v":50220}]
[]
[null,null,"11호표)STS 후렌지 250A (조) 10kg /조"]
[null,null,"SUS 후렌지 (10KG)","D250","EA",2,85150,{"$f":"TRUNC(F4477*G4477,1)","v":170300},0,{"$f":"TRUNC(F4477*I4477,1)","v":0},0,{"$f":"TRUNC(F4477*K4477,1)","v":0},{"$f":"TRUNC(G4477+I4477+K4477,1)","v":85150},{"$f":"TRUNC(H4477+J4477+L4477,0)","v":170300},""]
[null,null,"스텐레스볼트","M20  L100","개",12,1851,{"$f":"TRUNC(F4478*G4478,1)","v":22212},0,{"$f":"TRUNC(F4478*I4478,1)","v":0},0,{"$f":"TRUNC(F4478*K4478,1)","v":0},{"$f":"TRUNC(G4478+I4478+K4478,1)","v":1851},{"$f":"TRUNC(H4478+J4478+L4478,0)","v":22212},""]
[null,null,"와샤(스텐)","M20","개",24,100.8,{"$f":"TRUNC(F4479*G4479,1)","v":2419.1999999999998},0,{"$f":"TRUNC(F4479*I4479,1)","v":0},0,{"$f":"TRUNC(F4479*K4479,1)","v":0},{"$f":"TRUNC(G4479+I4479+K4479,1)","v":100.8},{"$f":"TRUNC(H4479+J4479+L4479,0)","v":2419},""]
[null,null,"후렌지패킹","3.2MMxD250","EA",1,3657,{"$f":"TRUNC(F4480*G4480,1)","v":3657},0,{"$f":"TRUNC(F4480*I4480,1)","v":0},0,{"$f":"TRUNC(F4480*K4480,1)","v":0},{"$f":"TRUNC(G4480+I4480+K4480,1)","v":3657},{"$f":"TRUNC(H4480+J4480+L4480,0)","v":3657},""]
[null,null,"스텐관용접","D250","개소",2,28852,{"$f":"TRUNC(F4481*G4481,1)","v":57704},82823,{"$f":"TRUNC(F4481*I4481,1)","v":165646},1656,{"$f":"TRUNC(F4481*K4481,1)","v":3312},{"$f":"TRUNC(G4481+I4481+K4481,1)","v":113331},{"$f":"TRUNC(H4481+J4481+L4481,0)","v":226662},""]
[null,null,"[ 합           계 ]",{"$nulls":4},{"$f":"TRUNC(SUM(H4477:H4481),0)","v":256292},null,{"$f":"TRUNC(SUM(J4477:J4481),0)","v":165646},null,{"$f":"TRUNC(SUM(L4477:L4481),0)","v":3312},null,{"$f":"H4482+J4482+L4482","v":425250}]
[]
[null,null,"12호표)STS 후렌지 25A (조) 10kg /조"]
[null,null,"SUS 후렌지 (10KG)","D25","EA",2,8710,{"$f":"TRUNC(F4485*G4485,1)","v":17420},0,{"$f":"TRUNC(F4485*I4485,1)","v":0},0,{"$f":"TRUNC(F4485*K4485,1)","v":0},{"$f":"TRUNC(G4485+I4485+K4485,1)","v":8710},{"$f":"TRUNC(H4485+J4485+L4485,0)","v":17420},""]
[null,null,"스텐레스볼트","M12  L60","개",4,398,{"$f":"TRUNC(F4486*G4486,1)","v":1592},0,{"$f":"TRUNC(F4486*I4486,1)","v":0},0,{"$f":"TRUNC(F4486*K4486,1)","v":0},{"$f":"TRUNC(G4486+I4486+K4486,1)","v":398},{"$f":"TRUNC(H4486+J4486+L4486,0)","v":1592},""]
[null,null,"와샤(스텐)","M12","개",8,29.8,{"$f":"TRUNC(F4487*G4487,1)","v":238.4},0,{"$f":"TRUNC(F4487*I4487,1)","v":0},0,{"$f":"TRUNC(F4487*K4487,1)","v":0},{"$f":"TRUNC(G4487+I4487+K4487,1)","v":29.8},{"$f":"TRUNC(H4487+J4487+L4487,0)","v":238},""]
[null,null,"후렌지패킹","3.2MMxD25","EA",1,217,{"$f":"TRUNC(F4488*G4488,1)","v":217},0,{"$f":"TRUNC(F4488*I4488,1)","v":0},0,{"$f":"TRUNC(F4488*K4488,1)","v":0},{"$f":"TRUNC(G4488+I4488+K4488,1)","v":217},{"$f":"TRUNC(H4488+J4488+L4488,0)","v":217},""]
[null,null,"스텐관용접","D25","개소",2,769,{"$f":"TRUNC(F4489*G4489,1)","v":1538},15226,{"$f":"TRUNC(F4489*I4489,1)","v":30452},304,{"$f":"TRUNC(F4489*K4489,1)","v":608},{"$f":"TRUNC(G4489+I4489+K4489,1)","v":16299},{"$f":"TRUNC(H4489+J4489+L4489,0)","v":32598},""]
[null,null,"[ 합           계 ]",{"$nulls":4},{"$f":"TRUNC(SUM(H4485:H4489),0)","v":21005},null,{"$f":"TRUNC(SUM(J4485:J4489),0)","v":30452},null,{"$f":"TRUNC(SUM(L4485:L4489),0)","v":608},null,{"$f":"H4490+J4490+L4490","v":52065}]
[]
[null,null,"13호표)STS 용접 250A /개소"]
[null,null,"용접봉(스텐용)","∮2.6  AWSE308L","kg",1.4550000000000001,10817,{"$f":"TRUNC(F4493*G4493,1)","v":15738.7},0,{"$f":"TRUNC(F4493*I4493,1)","v":0},0,{"$f":"TRUNC(F4493*K4493,1)","v":0},{"$f":"TRUNC(G4493+I4493+K4493,1)","v":10817},{"$f":"TRUNC(H4493+J4493+L4493,0)","v":15738},""]
[null,null,"알곤가스","(기체)","ℓ",3060,4.2857142857142856,{"$f":"TRUNC(F4494*G4494,1)","v":13114.2},0,{"$f":"TRUNC(F4494*I4494,1)","v":0},0,{"$f":"TRUNC(F4494*K4494,1)","v":0},{"$f":"TRUNC(G4494+I4494+K4494,1)","v":4.2},{"$f":"TRUNC(H4494+J4494+L4494,0)","v":13114},""]
[null,null,"노무비","용접공(일반)","인",0.35899999999999999,0,{"$f":"TRUNC(F4495*G4495,1)","v":0},230706,{"$f":"TRUNC(F4495*I4495,1)","v":82823.399999999994},0,{"$f":"TRUNC(F4495*K4495,1)","v":0},{"$f":"TRUNC(G4495+I4495+K4495,1)","v":230706},{"$f":"TRUNC(H4495+J4495+L4495,0)","v":82823},""]
[null,null,"공구손료","노무비의 2%","식",1,null,{"$f":"TRUNC(F4496*G4496,1)","v":0},0,{"$f":"TRUNC(F4496*I4496,1)","v":0},1656.4,{"$f":"TRUNC(F4496*K4496,1)","v":1656.4},{"$f":"TRUNC(G4496+I4496+K4496,1)","v":1656.4},{"$f":"TRUNC(H4496+J4496+L4496,0)","v":1656},""]
[null,null,"[ 합           계 ]",{"$nulls":4},{"$f":"TRUNC(SUM(H4493:H4496),0)","v":28852},null,{"$f":"TRUNC(SUM(J4493:J4496),0)","v":82823},null,{"$f":"TRUNC(SUM(L4493:L4496),0)","v":1656},null,{"$f":"H4497+J4497+L4497","v":113331}]
[]
[null,null,"14호표)STS 용접 200A /개소"]
[null,null,"용접봉(스텐용)","∮2.6  AWSE308L","kg",1.0069999999999999,10817,{"$f":"TRUNC(F4500*G4500,1)","v":10892.7},0,{"$f":"TRUNC(F4500*I4500,1)","v":0},0,{"$f":"TRUNC(F4500*K4500,1)","v":0},{"$f":"TRUNC(G4500+I4500+K4500,1)","v":10817},{"$f":"TRUNC(H4500+J4500+L4500,0)","v":10892},""]
[null,null,"알곤가스","(기체)","ℓ",2170,4.2857142857142856,{"$f":"TRUNC(F4501*G4501,1)","v":9300},0,{"$f":"TRUNC(F4501*I4501,1)","v":0},0,{"$f":"TRUNC(F4501*K4501,1)","v":0},{"$f":"TRUNC(G4501+I4501+K4501,1)","v":4.2},{"$f":"TRUNC(H4501+J4501+L4501,0)","v":9300},""]
[null,null,"노무비","용접공(일반)","인",0.29499999999999998,0,{"$f":"TRUNC(F4502*G4502,1)","v":0},230706,{"$f":"TRUNC(F4502*I4502,1)","v":68058.2},0,{"$f":"TRUNC(F4502*K4502,1)","v":0},{"$f":"TRUNC(G4502+I4502+K4502,1)","v":230706},{"$f":"TRUNC(H4502+J4502+L4502,0)","v":68058},""]
[null,null,"공구손료","노무비의 2%","식",1,null,{"$f":"TRUNC(F4503*G4503,1)","v":0},0,{"$f":"TRUNC(F4503*I4503,1)","v":0},1361.1,{"$f":"TRUNC(F4503*K4503,1)","v":1361.1},{"$f":"TRUNC(G4503+I4503+K4503,1)","v":1361.1},{"$f":"TRUNC(H4503+J4503+L4503,0)","v":1361},""]
[null,null,"[ 합           계 ]",{"$nulls":4},{"$f":"TRUNC(SUM(H4500:H4503),0)","v":20192},null,{"$f":"TRUNC(SUM(J4500:J4503),0)","v":68058},null,{"$f":"TRUNC(SUM(L4500:L4503),0)","v":1361},null,{"$f":"H4504+J4504+L4504","v":89611}]
[]
[null,null,"15호표)STS 용접 150A /개소"]
[null,null,"용접봉(스텐용)","∮2.6  AWSE308L","kg",0.60099999999999998,10817,{"$f":"TRUNC(F4507*G4507,1)","v":6501},0,{"$f":"TRUNC(F4507*I4507,1)","v":0},0,{"$f":"TRUNC(F4507*K4507,1)","v":0},{"$f":"TRUNC(G4507+I4507+K4507,1)","v":10817},{"$f":"TRUNC(H4507+J4507+L4507,0)","v":6501},""]
[null,null,"알곤가스","(기체)","ℓ",1285,4.2857142857142856,{"$f":"TRUNC(F4508*G4508,1)","v":5507.1},0,{"$f":"TRUNC(F4508*I4508,1)","v":0},0,{"$f":"TRUNC(F4508*K4508,1)","v":0},{"$f":"TRUNC(G4508+I4508+K4508,1)","v":4.2},{"$f":"TRUNC(H4508+J4508+L4508,0)","v":5507},""]
[null,null,"노무비","용접공(일반)","인",0.23100000000000001,0,{"$f":"TRUNC(F4509*G4509,1)","v":0},230706,{"$f":"TRUNC(F4509*I4509,1)","v":53293},0,{"$f":"TRUNC(F4509*K4509,1)","v":0},{"$f":"TRUNC(G4509+I4509+K4509,1)","v":230706},{"$f":"TRUNC(H4509+J4509+L4509,0)","v":53293},""]
[null,null,"공구손료","노무비의 2%","식",1,null,{"$f":"TRUNC(F4510*G4510,1)","v":0},0,{"$f":"TRUNC(F4510*I4510,1)","v":0},1065.8,{"$f":"TRUNC(F4510*K4510,1)","v":1065.8},{"$f":"TRUNC(G4510+I4510+K4510,1)","v":1065.8},{"$f":"TRUNC(H4510+J4510+L4510,0)","v":1065},""]
[null,null,"[ 합           계 ]",{"$nulls":4},{"$f":"TRUNC(SUM(H4507:H4510),0)","v":12008},null,{"$f":"TRUNC(SUM(J4507:J4510),0)","v":53293},null,{"$f":"TRUNC(SUM(L4507:L4510),0)","v":1065},null,{"$f":"H4511+J4511+L4511","v":66366}]
[]
[null,null,"16호표)STS 용접 80A /개소"]
[null,null,"용접봉(스텐용)","∮2.6  AWSE308L","kg",0.21299999999999999,10817,{"$f":"TRUNC(F4514*G4514,1)","v":2304},0,{"$f":"TRUNC(F4514*I4514,1)","v":0},0,{"$f":"TRUNC(F4514*K4514,1)","v":0},{"$f":"TRUNC(G4514+I4514+K4514,1)","v":10817},{"$f":"TRUNC(H4514+J4514+L4514,0)","v":2304},""]
[null,null,"알곤가스","(기체)","ℓ",430,4.2857142857142856,{"$f":"TRUNC(F4515*G4515,1)","v":1842.8},0,{"$f":"TRUNC(F4515*I4515,1)","v":0},0,{"$f":"TRUNC(F4515*K4515,1)","v":0},{"$f":"TRUNC(G4515+I4515+K4515,1)","v":4.2},{"$f":"TRUNC(H4515+J4515+L4515,0)","v":1842},""]
[null,null,"노무비","용접공(일반)","인",0.13500000000000001,0,{"$f":"TRUNC(F4516*G4516,1)","v":0},230706,{"$f":"TRUNC(F4516*I4516,1)","v":31145.3},0,{"$f":"TRUNC(F4516*K4516,1)","v":0},{"$f":"TRUNC(G4516+I4516+K4516,1)","v":230706},{"$f":"TRUNC(H4516+J4516+L4516,0)","v":31145},""]
[null,null,"공구손료","노무비의 2%","식",1,null,{"$f":"TRUNC(F4517*G4517,1)","v":0},0,{"$f":"TRUNC(F4517*I4517,1)","v":0},622.9,{"$f":"TRUNC(F4517*K4517,1)","v":622.9},{"$f":"TRUNC(G4517+I4517+K4517,1)","v":622.9},{"$f":"TRUNC(H4517+J4517+L4517,0)","v":622},""]
[null,null,"[ 합           계 ]",{"$nulls":4},{"$f":"TRUNC(SUM(H4514:H4517),0)","v":4146},null,{"$f":"TRUNC(SUM(J4514:J4517),0)","v":31145},null,{"$f":"TRUNC(SUM(L4514:L4517),0)","v":622},null,{"$f":"H4518+J4518+L4518","v":35913}]
[]
[null,null,"17호표)STS 용접 65A /개소"]
[null,null,"용접봉(스텐용)","∮2.6  AWSE308L","kg",0.16800000000000001,10817,{"$f":"TRUNC(F4521*G4521,1)","v":1817.2},0,{"$f":"TRUNC(F4521*I4521,1)","v":0},0,{"$f":"TRUNC(F4521*K4521,1)","v":0},{"$f":"TRUNC(G4521+I4521+K4521,1)","v":10817},{"$f":"TRUNC(H4521+J4521+L4521,0)","v":1817},""]
[null,null,"알곤가스","(기체)","ℓ",343,4.2857142857142856,{"$f":"TRUNC(F4522*G4522,1)","v":1470},0,{"$f":"TRUNC(F4522*I4522,1)","v":0},0,{"$f":"TRUNC(F4522*K4522,1)","v":0},{"$f":"TRUNC(G4522+I4522+K4522,1)","v":4.2},{"$f":"TRUNC(H4522+J4522+L4522,0)","v":1470},""]
[null,null,"노무비","용접공(일반)","인",0.11899999999999999,0,{"$f":"TRUNC(F4523*G4523,1)","v":0},230706,{"$f":"TRUNC(F4523*I4523,1)","v":27454},0,{"$f":"TRUNC(F4523*K4523,1)","v":0},{"$f":"TRUNC(G4523+I4523+K4523,1)","v":230706},{"$f":"TRUNC(H4523+J4523+L4523,0)","v":27454},""]
[null,null,"공구손료","노무비의 2%","식",1,null,{"$f":"TRUNC(F4524*G4524,1)","v":0},0,{"$f":"TRUNC(F4524*I4524,1)","v":0},549,{"$f":"TRUNC(F4524*K4524,1)","v":549},{"$f":"TRUNC(G4524+I4524+K4524,1)","v":549},{"$f":"TRUNC(H4524+J4524+L4524,0)","v":549},""]
[null,null,"[ 합           계 ]",{"$nulls":4},{"$f":"TRUNC(SUM(H4521:H4524),0)","v":3287},null,{"$f":"TRUNC(SUM(J4521:J4524),0)","v":27454},null,{"$f":"TRUNC(SUM(L4521:L4524),0)","v":549},null,{"$f":"H4525+J4525+L4525","v":31290}]
[]
[null,null,"18호표)U볼트, 너트 (절연) 250A /EA"]
[null,null,"U 볼트 (절연)","M16  L250","개",1,4086,{"$f":"TRUNC(F4528*G4528,1)","v":4086},0,{"$f":"TRUNC(F4528*I4528,1)","v":0},0,{"$f":"TRUNC(F4528*K4528,1)","v":0},{"$f":"TRUNC(G4528+I4528+K4528,1)","v":4086},{"$f":"TRUNC(H4528+J4528+L4528,0)","v":4086},""]
[null,null,"너트","M16 (5/8\")","EA",2,61.2,{"$f":"TRUNC(F4529*G4529,1)","v":122.4},0,{"$f":"TRUNC(F4529*I4529,1)","v":0},0,{"$f":"TRUNC(F4529*K4529,1)","v":0},{"$f":"TRUNC(G4529+I4529+K4529,1)","v":61.2},{"$f":"TRUNC(H4529+J4529+L4529,0)","v":122},""]
[null,null,"와샤","M16","개",2,27.3,{"$f":"TRUNC(F4530*G4530,1)","v":54.6},0,{"$f":"TRUNC(F4530*I4530,1)","v":0},0,{"$f":"TRUNC(F4530*K4530,1)","v":0},{"$f":"TRUNC(G4530+I4530+K4530,1)","v":27.3},{"$f":"TRUNC(H4530+J4530+L4530,0)","v":54},""]
[null,null,"[ 합           계 ]",{"$nulls":4},{"$f":"TRUNC(SUM(H4528:H4530),0)","v":4263},null,{"$f":"TRUNC(SUM(J4528:J4530),0)","v":0},null,{"$f":"TRUNC(SUM(L4528:L4530),0)","v":0},null,{"$f":"H4531+J4531+L4531","v":4263}]
[]
[null,null,"19호표)U볼트, 너트 (절연) 200A /EA"]
[null,null,"U 볼트 (절연)","M16  L200","개",1,3638,{"$f":"TRUNC(F4534*G4534,1)","v":3638},0,{"$f":"TRUNC(F4534*I4534,1)","v":0},0,{"$f":"TRUNC(F4534*K4534,1)","v":0},{"$f":"TRUNC(G4534+I4534+K4534,1)","v":3638},{"$f":"TRUNC(H4534+J4534+L4534,0)","v":3638},""]
[null,null,"너트","M16 (5/8\")","EA",2,61.2,{"$f":"TRUNC(F4535*G4535,1)","v":122.4},0,{"$f":"TRUNC(F4535*I4535,1)","v":0},0,{"$f":"TRUNC(F4535*K4535,1)","v":0},{"$f":"TRUNC(G4535+I4535+K4535,1)","v":61.2},{"$f":"TRUNC(H4535+J4535+L4535,0)","v":122},""]
[null,null,"와샤","M16","개",2,27.3,{"$f":"TRUNC(F4536*G4536,1)","v":54.6},0,{"$f":"TRUNC(F4536*I4536,1)","v":0},0,{"$f":"TRUNC(F4536*K4536,1)","v":0},{"$f":"TRUNC(G4536+I4536+K4536,1)","v":27.3},{"$f":"TRUNC(H4536+J4536+L4536,0)","v":54},""]
[null,null,"[ 합           계 ]",{"$nulls":4},{"$f":"TRUNC(SUM(H4534:H4536),0)","v":3815},null,{"$f":"TRUNC(SUM(J4534:J4536),0)","v":0},null,{"$f":"TRUNC(SUM(L4534:L4536),0)","v":0},null,{"$f":"H4537+J4537+L4537","v":3815}]
[]
[null,null,"20호표)U볼트, 너트 (절연) 150A /EA"]
[null,null,"U 볼트 (절연)","M12  L150","개",1,2809,{"$f":"TRUNC(F4540*G4540,1)","v":2809},0,{"$f":"TRUNC(F4540*I4540,1)","v":0},0,{"$f":"TRUNC(F4540*K4540,1)","v":0},{"$f":"TRUNC(G4540+I4540+K4540,1)","v":2809},{"$f":"TRUNC(H4540+J4540+L4540,0)","v":2809},""]
[null,null,"너트","M12 (1/2\")","EA",2,31.6,{"$f":"TRUNC(F4541*G4541,1)","v":63.2},0,{"$f":"TRUNC(F4541*I4541,1)","v":0},0,{"$f":"TRUNC(F4541*K4541,1)","v":0},{"$f":"TRUNC(G4541+I4541+K4541,1)","v":31.6},{"$f":"TRUNC(H4541+J4541+L4541,0)","v":63},""]
[null,null,"와샤","M12","개",2,16.3,{"$f":"TRUNC(F4542*G4542,1)","v":32.6},0,{"$f":"TRUNC(F4542*I4542,1)","v":0},0,{"$f":"TRUNC(F4542*K4542,1)","v":0},{"$f":"TRUNC(G4542+I4542+K4542,1)","v":16.3},{"$f":"TRUNC(H4542+J4542+L4542,0)","v":32},""]
[null,null,"[ 합           계 ]",{"$nulls":4},{"$f":"TRUNC(SUM(H4540:H4542),0)","v":2904},null,{"$f":"TRUNC(SUM(J4540:J4542),0)","v":0},null,{"$f":"TRUNC(SUM(L4540:L4542),0)","v":0},null,{"$f":"H4543+J4543+L4543","v":2904}]
[]
[null,null,"21호표)U볼트, 너트 (절연) 80A /EA"]
[null,null,"U 볼트 (절연)","M10  L80","개",1,983,{"$f":"TRUNC(F4546*G4546,1)","v":983},0,{"$f":"TRUNC(F4546*I4546,1)","v":0},0,{"$f":"TRUNC(F4546*K4546,1)","v":0},{"$f":"TRUNC(G4546+I4546+K4546,1)","v":983},{"$f":"TRUNC(H4546+J4546+L4546,0)","v":983},""]
[null,null,"너트","M10 (3/8\")","EA",2,21.3,{"$f":"TRUNC(F4547*G4547,1)","v":42.6},0,{"$f":"TRUNC(F4547*I4547,1)","v":0},0,{"$f":"TRUNC(F4547*K4547,1)","v":0},{"$f":"TRUNC(G4547+I4547+K4547,1)","v":21.3},{"$f":"TRUNC(H4547+J4547+L4547,0)","v":42},""]
[null,null,"와샤","M10","개",2,9.4,{"$f":"TRUNC(F4548*G4548,1)","v":18.8},0,{"$f":"TRUNC(F4548*I4548,1)","v":0},0,{"$f":"TRUNC(F4548*K4548,1)","v":0},{"$f":"TRUNC(G4548+I4548+K4548,1)","v":9.4},{"$f":"TRUNC(H4548+J4548+L4548,0)","v":18},""]
[null,null,"[ 합           계 ]",{"$nulls":4},{"$f":"TRUNC(SUM(H4546:H4548),0)","v":1044},null,{"$f":"TRUNC(SUM(J4546:J4548),0)","v":0},null,{"$f":"TRUNC(SUM(L4546:L4548),0)","v":0},null,{"$f":"H4549+J4549+L4549","v":1044}]
[]
[null,null,"22호표)U볼트, 너트 (절연) 65A /EA"]
[null,null,"U 볼트 (절연)","M10  L65","개",1,894,{"$f":"TRUNC(F4552*G4552,1)","v":894},0,{"$f":"TRUNC(F4552*I4552,1)","v":0},0,{"$f":"TRUNC(F4552*K4552,1)","v":0},{"$f":"TRUNC(G4552+I4552+K4552,1)","v":894},{"$f":"TRUNC(H4552+J4552+L4552,0)","v":894},""]
[null,null,"너트","M10 (3/8\")","EA",2,21.3,{"$f":"TRUNC(F4553*G4553,1)","v":42.6},0,{"$f":"TRUNC(F4553*I4553,1)","v":0},0,{"$f":"TRUNC(F4553*K4553,1)","v":0},{"$f":"TRUNC(G4553+I4553+K4553,1)","v":21.3},{"$f":"TRUNC(H4553+J4553+L4553,0)","v":42},""]
[null,null,"와샤","M10","개",2,9.4,{"$f":"TRUNC(F4554*G4554,1)","v":18.8},0,{"$f":"TRUNC(F4554*I4554,1)","v":0},0,{"$f":"TRUNC(F4554*K4554,1)","v":0},{"$f":"TRUNC(G4554+I4554+K4554,1)","v":9.4},{"$f":"TRUNC(H4554+J4554+L4554,0)","v":18},""]
[null,null,"[ 합           계 ]",{"$nulls":4},{"$f":"TRUNC(SUM(H4552:H4554),0)","v":955},null,{"$f":"TRUNC(SUM(J4552:J4554),0)","v":0},null,{"$f":"TRUNC(SUM(L4552:L4554),0)","v":0},null,{"$f":"H4555+J4555+L4555","v":955}]
[]
[null,null,"23호표)버터플라이 밸브 (수동) 250A /EA"]
[null,null,"버터플라이밸브","250A (수동식)","EA",{"$nulls":7},{"$f":"TRUNC(G4558+I4558+K4558,1)","v":0},0]
[null,null,"인 건 비"," 배    관    공","인",0.61599999999999999,null,null,{"$f":"#REF!","v":{"$error":"#REF!"}},{"$f":"TRUNC(F4559*I4559,1)","v":{"$error":"#REF!"}},null,null,{"$error":"#REF!"},{"$error":"#REF!"}]
[null,null,"인 건 비"," 보  통  인  부","인",0.23,null,{"$f":"TRUNC(F4560*G4560,1)","v":0},148510,{"$f":"TRUNC(F4560*I4560,1)","v":34157.300000000003},null,null,148510,34157.300000000003]
[null,null,"공구손료","공임의 2%","식",1,null,{"$f":"TRUNC(F4561*G4561,1)","v":0},null,null,{"$f":"TRUNC(J4560+J4559)*2%","v":{"$error":"#REF!"}},{"$f":"TRUNC(F4561*K4561,1)","v":{"$error":"#REF!"}},{"$error":"#REF!"},{"$error":"#REF!"}]
[null,null," [ 합          계 ]","","",null,null,{"$f":"TRUNC(SUM(H4558:H4561),0)","v":0},null,{"$f":"TRUNC(SUM(J4558:J4561),0)","v":{"$error":"#REF!"}},null,null,null,{"$f":"H4562+J4562+L4562","v":{"$error":"#REF!"}},""]
[]
[null,null,"24호표)버터플라이 밸브 (수동) 200A /EA"]
[null,null,"버터플라이밸브 ","200A (수동식)","EA",{"$nulls":7},{"$f":"TRUNC(G4565+I4565+K4565,1)","v":0},0]
[null,null,"인 건 비"," 배    관    공","인",0.47099999999999997,null,null,{"$f":"#REF!","v":{"$error":"#REF!"}},{"$f":"TRUNC(F4566*I4566,1)","v":{"$error":"#REF!"}},null,null,{"$error":"#REF!"},{"$error":"#REF!"}]
[null,null,"인 건 비"," 보  통  인  부","인",0.188,null,null,148510,{"$f":"TRUNC(F4567*I4567,1)","v":27919.8},null,null,148510,27919.8]
[null,null,"공구손료","공임의 2%","식",1,null,{"$f":"TRUNC(F4568*G4568,1)","v":0},null,null,{"$f":"TRUNC(J4567+J4566)*2%","v":{"$error":"#REF!"}},{"$f":"TRUNC(F4568*K4568,1)","v":{"$error":"#REF!"}},{"$error":"#REF!"},{"$error":"#REF!"}]
[null,null," [ 합          계 ]","","",null,null,{"$f":"TRUNC(SUM(H4565:H4568),0)","v":0},null,{"$f":"TRUNC(SUM(J4565:J4568),0)","v":{"$error":"#REF!"}},null,null,null,{"$f":"H4569+J4569+L4569","v":{"$error":"#REF!"}},""]
[]
[null,null,"25호표)버터플라이 밸브 (수동) 80A /EA"]
[null,null,"버터플라이밸브 ","80A (수동식)","EA",{"$nulls":7},{"$f":"TRUNC(G4572+I4572+K4572,1)","v":0},0]
[null,null,"인 건 비"," 배    관    공","인",0.14099999999999999,null,null,{"$f":"#REF!","v":{"$error":"#REF!"}},{"$f":"TRUNC(F4573*I4573,1)","v":{"$error":"#REF!"}},null,null,{"$error":"#REF!"},{"$error":"#REF!"}]
[null,null,"인 건 비"," 보  통  인  부","인",8.3000000000000004E-2,null,null,148510,{"$f":"TRUNC(F4574*I4574,1)","v":12326.3},null,null,148510,12326.3]
[null,null,"공구손료","공임의 2%","식",1,null,{"$f":"TRUNC(F4575*G4575,1)","v":0},null,null,{"$f":"TRUNC(J4574+J4573)*2%","v":{"$error":"#REF!"}},{"$f":"TRUNC(F4575*K4575,1)","v":{"$error":"#REF!"}},{"$error":"#REF!"},{"$error":"#REF!"}]
[null,null," [ 합          계 ]","","",null,null,{"$f":"TRUNC(SUM(H4572:H4575),0)","v":0},null,{"$f":"TRUNC(SUM(J4572:J4575),0)","v":{"$error":"#REF!"}},null,null,null,{"$f":"H4576+J4576+L4576","v":{"$error":"#REF!"}},""]
[null,null,"26호표)버터플라이 밸브 (자동) 250A /EA"]
[null,null,"버터플라이밸브 ","250A (자동식)","EA",{"$nulls":7},{"$f":"TRUNC(G4578+I4578+K4578,1)","v":0},0]
[null,null,"인 건 비"," 배    관    공","인",0.61599999999999999,null,null,{"$f":"#REF!","v":{"$error":"#REF!"}},{"$f":"TRUNC(F4579*I4579,1)","v":{"$error":"#REF!"}},null,null,{"$error":"#REF!"},{"$error":"#REF!"}]
[null,null,"인 건 비"," 보  통  인  부","인",0.23,null,null,148510,{"$f":"TRUNC(F4580*I4580,1)","v":34157.300000000003},null,null,148510,34157.300000000003]
[null,null,"공구손료","공임의 2%","식",1,null,{"$f":"TRUNC(F4581*G4581,1)","v":0},null,null,{"$f":"TRUNC(J4580+J4579)*2%","v":{"$error":"#REF!"}},{"$f":"TRUNC(F4581*K4581,1)","v":{"$error":"#REF!"}},{"$error":"#REF!"},{"$error":"#REF!"}]
[null,null," [ 합          계 ]","","",null,null,{"$f":"TRUNC(SUM(H4578:H4581),0)","v":0},null,{"$f":"TRUNC(SUM(J4578:J4581),0)","v":{"$error":"#REF!"}},null,null,null,{"$f":"H4582+J4582+L4582","v":{"$error":"#REF!"}},""]
[null,null,"27호표)버터플라이 밸브 (자동) 150A /EA"]
[null,null,"버터플라이밸브 ","150A (자동식)","EA",{"$nulls":7},{"$f":"TRUNC(G4584+I4584+K4584,1)","v":0},0]
[null,null,"인 건 비"," 배    관    공","인",0.34300000000000003,null,null,{"$f":"#REF!","v":{"$error":"#REF!"}},{"$f":"TRUNC(F4585*I4585,1)","v":{"$error":"#REF!"}},null,null,{"$error":"#REF!"},{"$error":"#REF!"}]
[null,null,"인 건 비"," 보  통  인  부","인",0.14699999999999999,null,null,148510,{"$f":"TRUNC(F4586*I4586,1)","v":21830.9},null,null,148510,21830.9]
[null,null,"공구손료","공임의 2%","식",1,null,{"$f":"TRUNC(F4587*G4587,1)","v":0},null,null,{"$f":"TRUNC(J4586+J4585)*2%","v":{"$error":"#REF!"}},{"$f":"TRUNC(F4587*K4587,1)","v":{"$error":"#REF!"}},{"$error":"#REF!"},{"$error":"#REF!"}]
[null,null," [ 합          계 ]","","",null,null,{"$f":"TRUNC(SUM(H4584:H4587),0)","v":0},null,{"$f":"TRUNC(SUM(J4584:J4587),0)","v":{"$error":"#REF!"}},null,null,null,{"$f":"H4588+J4588+L4588","v":{"$error":"#REF!"}},""]
[]
[null,null,"28호표)버터플라이 밸브 (자동) 65A /EA"]
[null,null,"버터플라이밸브 ","65A (자동식)","EA",{"$nulls":7},{"$f":"TRUNC(G4591+I4591+K4591,1)","v":0},0]
[null,null,"인 건 비"," 배    관    공","인",0.108,null,null,{"$f":"#REF!","v":{"$error":"#REF!"}},{"$f":"TRUNC(F4592*I4592,1)","v":{"$error":"#REF!"}},null,null,{"$error":"#REF!"},{"$error":"#REF!"}]
[null,null,"인 건 비"," 보  통  인  부","인",7.2999999999999995E-2,null,null,148510,{"$f":"TRUNC(F4593*I4593,1)","v":10841.2},null,null,148510,10841.2]
[null,null,"공구손료","공임의 2%","식",1,null,{"$f":"TRUNC(F4594*G4594,1)","v":0},null,null,{"$f":"TRUNC(J4593+J4592)*2%","v":{"$error":"#REF!"}},{"$f":"TRUNC(F4594*K4594,1)","v":{"$error":"#REF!"}},{"$error":"#REF!"},{"$error":"#REF!"}]
[null,null," [ 합          계 ]","","",null,null,{"$f":"TRUNC(SUM(H4591:H4594),0)","v":0},null,{"$f":"TRUNC(SUM(J4591:J4594),0)","v":{"$error":"#REF!"}},null,null,null,{"$f":"H4595+J4595+L4595","v":{"$error":"#REF!"}},""]
[]
[null,null,"29호표)후렉시블 죠인트 250A STS 벨로즈타입 10kg /EA"]
[null,null," 후 렉 시 블 조 인 트"," 250A STS 10KG(F)  ","EA",null,{"$f":"#REF!","v":{"$error":"#REF!"}},{"$f":"TRUNC(F4598*G4598,1)","v":{"$error":"#REF!"}},{"$nulls":4},{"$f":"TRUNC(G4598+I4598+K4598,1)","v":{"$error":"#REF!"}},{"$error":"#REF!"}]
[null,null,"인 건 비"," 배    관    공","인",1.25,null,null,{"$f":"#REF!","v":{"$error":"#REF!"}},{"$f":"TRUNC(F4599*I4599,1)","v":{"$error":"#REF!"}},null,null,{"$error":"#REF!"},{"$error":"#REF!"}]
[null,null,"인 건 비"," 보  통  인  부","인",0.39300000000000002,null,null,{"$f":"#REF!","v":{"$error":"#REF!"}},{"$f":"TRUNC(F4600*I4600,1)","v":{"$error":"#REF!"}},null,null,{"$error":"#REF!"},{"$error":"#REF!"}]
[null,null,"공구손료","공임의 2%","식",1,null,{"$f":"TRUNC(F4601*G4601,1)","v":0},null,null,{"$f":"TRUNC(J4600+J4599)*2%","v":{"$error":"#REF!"}},{"$f":"TRUNC(F4601*K4601,1)","v":{"$error":"#REF!"}},{"$error":"#REF!"},{"$error":"#REF!"}]
[null,null," [ 합          계 ]","","",null,null,{"$f":"TRUNC(SUM(H4598:H4601),0)","v":{"$error":"#REF!"}},null,{"$f":"TRUNC(SUM(J4598:J4601),0)","v":{"$error":"#REF!"}},null,null,null,{"$f":"H4602+J4602+L4602","v":{"$error":"#REF!"}}]
[]
[null,null,"30호표)후렉시블 죠인트 150A STS 벨로즈타입 10kg /EA"]
[null,null," 후 렉 시 블 조 인 트"," 150A STS 10KG(F)  ","EA",null,{"$f":"#REF!","v":{"$error":"#REF!"}},{"$f":"TRUNC(F4605*G4605,1)","v":{"$error":"#REF!"}},{"$nulls":4},{"$f":"TRUNC(G4605+I4605+K4605,1)","v":{"$error":"#REF!"}},{"$error":"#REF!"}]
[null,null,"인 건 비"," 배    관    공","인",0.69599999999999995,null,null,{"$f":"#REF!","v":{"$error":"#REF!"}},{"$f":"TRUNC(F4606*I4606,1)","v":{"$error":"#REF!"}},null,null,{"$error":"#REF!"},{"$error":"#REF!"}]
[null,null,"인 건 비"," 보  통  인  부","인",0.23699999999999999,null,null,{"$f":"#REF!","v":{"$error":"#REF!"}},{"$f":"TRUNC(F4607*I4607,1)","v":{"$error":"#REF!"}},null,null,{"$error":"#REF!"},{"$error":"#REF!"}]
[null,null,"공구손료","공임의 2%","식",1,null,{"$f":"TRUNC(F4608*G4608,1)","v":0},null,null,{"$f":"TRUNC(J4607+J4606)*2%","v":{"$error":"#REF!"}},{"$f":"TRUNC(F4608*K4608,1)","v":{"$error":"#REF!"}},{"$error":"#REF!"},{"$error":"#REF!"}]
[null,null," [ 합          계 ]","","",null,null,{"$f":"TRUNC(SUM(H4605:H4608),0)","v":{"$error":"#REF!"}},null,{"$f":"TRUNC(SUM(J4605:J4608),0)","v":{"$error":"#REF!"}},null,null,null,{"$f":"H4609+J4609+L4609","v":{"$error":"#REF!"}}]